{"text_format":"1","workbook":"xlsx","n_sheets":57,"sheets":["　使い方　","基本情報","給与計算","賞与計算","計算シート","リスト表","税額基本情報","源泉月額表","源泉賞与表","雇用保険料率","北海道","青森","岩手","宮城","秋田","山形","福島","茨城","栃木","群馬","埼玉","千葉","東京","神奈川","新潟","富山","石川","福井","山梨","長野","岐阜","静岡","愛知","三重","滋賀","京都","大阪","兵庫","奈良","和歌山","鳥取","島根","岡山","広島","山口","徳島","香川","愛媛","高知","福岡","佐賀","長崎","熊本","大分","宮崎","鹿児島","沖縄"],"not_rendered":{"charts":0,"images":0,"macros":1,"external_links":0,"defined_names":68,"comments":0,"pivot_tables":0},"unopened":[],"bounds":{"document_bytes":16777216,"sheet_cells":100000,"rows_first":2000,"rows_last":500,"rows_between":2000,"halvings":0,"cell_chars":16384,"cell_head_chars":4096},"cells_cut":0,"cells_raw":0,"read":"whole","date_system":"1900"}

{"sheet":"　使い方　","index":0,"n_rows":19,"n_cols":8,"rows_kept":19,"cut":false,"hidden":false,"merged":[[3,2,3,10],[4,2,4,10],[7,2,7,10],[18,7,18,10],[17,7,17,10],[11,2,11,3],[12,2,12,10],[14,2,14,10]]}
[]
[]
[null,null,"①はじめに"]
[null,null,"本ソフトは給与賞与の「源泉所得税」「雇用保険料」「社会保険料」を自動計算するためのものです。"]
[null,null,"本ソフトは、細心の注意を払って作成しておりますが、計算の正確さを保証するものではありません。使用する際は、自己の責任の下でのご使用をご了承ください。"]
[]
[null,null,"②使い方"]
[null,null,"・「基本情報シート」に基本的情報を入力後、「給与計算シート」と「賞与計算シート」の白い部分に必要事項を入力してください。"]
[null,null,"・保護されている部分は解除が可能です。"]
[]
[null,null,"③賞与に対する社会保険料の計算についての注意事項"]
[]
[null,null,"・健康保険の標準賞与額の一人当たりの上限は年度（4月1日から来年の3月31日まで）の賞与累計額540万円までです。今年度賞与累計額が540万円にさしかかる場合は適宜健康保険の額を修正してください。"]
[]
[null,null,"・厚生年金の標準賞与額の一人あたりの上限は１ヶ月に１５０万円までです。１ヶ月に2回賞与を支給して合計が１５０万円を超える場合は適宜厚生年金の額を修正してください。１回の賞与が１５０万円を超える場合は自動で１５０万円の標準賞与額として厚生年金が計算されます。"]
[]
[]
[null,null,null,null,null,null,null,"酒井会計事務所"]
[null,null,null,null,null,null,null,"http://sakai-ac.com/"]

{"sheet":"基本情報","index":1,"n_rows":54,"n_cols":15,"rows_kept":54,"cut":false,"hidden":false,"merged":[[4,11,5,14],[5,9,6,9],[5,1,6,1],[5,2,6,2],[5,3,6,3],[5,4,6,4],[5,5,6,5],[5,6,5,8],[3,5,3,6],[2,5,2,6],[1,3,1,4],[1,1,1,2],[2,1,2,2],[3,1,3,2],[2,3,2,4],[3,3,3,4]]}
[]
[null,"年月",null,"○○年○○月"]
[null,"営業所の場所",null,"東京"]
[null,"事業の種類",null,"一般の事業"]
[null,null,null,null,null,null,null,null,null,null,null,"社会保険標準報酬月額　参考表"]
[null,"NO.","名前","甲・乙区分","扶養人数","雇用保険\n加入○×","社会保険区分",null,null,"交通費\n手当\n（非課税分）"]
[null,null,null,null,null,null,"標準報酬月額","健康保険","厚生年金",null,null,"標準報酬月額","円以上","～","円未満"]
[null,1,"給与一郎","甲欄",2,"○",560000,"介護保険あり","一般の被保険者",13500,null,{"$f":"リスト表!D4","v":58000},{"$f":"INDIRECT(基本情報!$D$3&\"!G15\")","v":0},"～",{"$f":"INDIRECT(基本情報!$D$3&\"!I15\")","v":63000}]
[null,2,"給与二郎","甲欄",1,"○",300000,"介護保険なし","一般の被保険者",12000,null,{"$f":"リスト表!D5","v":68000},{"$f":"INDIRECT(基本情報!$D$3&\"!G16\")","v":63000},"～",{"$f":"INDIRECT(基本情報!$D$3&\"!I16\")","v":73000}]
[null,3,"給与三郎","乙欄",0,"×",null,null,null,null,null,{"$f":"リスト表!D6","v":78000},{"$f":"INDIRECT(基本情報!$D$3&\"!G17\")","v":73000},"～",{"$f":"INDIRECT(基本情報!$D$3&\"!I17\")","v":83000}]
[null,4,null,null,null,null,null,null,null,null,null,{"$f":"リスト表!D7","v":88000},{"$f":"INDIRECT(基本情報!$D$3&\"!G18\")","v":83000},"～",{"$f":"INDIRECT(基本情報!$D$3&\"!I18\")","v":93000}]
[null,5,null,null,null,null,null,null,null,null,null,{"$f":"リスト表!D8","v":98000},{"$f":"INDIRECT(基本情報!$D$3&\"!G19\")","v":93000},"～",{"$f":"INDIRECT(基本情報!$D$3&\"!I19\")","v":101000}]
[null,6,null,null,null,null,null,null,null,null,null,{"$f":"リスト表!D9","v":104000},{"$f":"INDIRECT(基本情報!$D$3&\"!G20\")","v":101000},"～",{"$f":"INDIRECT(基本情報!$D$3&\"!I20\")","v":107000}]
[null,7,null,null,null,null,null,null,null,null,null,{"$f":"リスト表!D10","v":110000},{"$f":"INDIRECT(基本情報!$D$3&\"!G21\")","v":107000},"～",{"$f":"INDIRECT(基本情報!$D$3&\"!I21\")","v":114000}]
[null,8,null,null,null,null,null,null,null,null,null,{"$f":"リスト表!D11","v":118000},{"$f":"INDIRECT(基本情報!$D$3&\"!G22\")","v":114000},"～",{"$f":"INDIRECT(基本情報!$D$3&\"!I22\")","v":122000}]
[null,9,null,null,null,null,null,null,null,null,null,{"$f":"リスト表!D12","v":126000},{"$f":"INDIRECT(基本情報!$D$3&\"!G23\")","v":122000},"～",{"$f":"INDIRECT(基本情報!$D$3&\"!I23\")","v":130000}]
[null,10,null,null,null,null,null,null,null,null,null,{"$f":"リスト表!D13","v":134000},{"$f":"INDIRECT(基本情報!$D$3&\"!G24\")","v":130000},"～",{"$f":"INDIRECT(基本情報!$D$3&\"!I24\")","v":138000}]
[null,11,null,null,null,null,null,null,null,null,null,{"$f":"リスト表!D14","v":142000},{"$f":"INDIRECT(基本情報!$D$3&\"!G25\")","v":138000},"～",{"$f":"INDIRECT(基本情報!$D$3&\"!I25\")","v":146000}]
[null,12,null,null,null,null,null,null,null,null,null,{"$f":"リスト表!D15","v":150000},{"$f":"INDIRECT(基本情報!$D$3&\"!G26\")","v":146000},"～",{"$f":"INDIRECT(基本情報!$D$3&\"!I26\")","v":155000}]
[null,13,null,null,null,null,null,null,null,null,null,{"$f":"リスト表!D16","v":160000},{"$f":"INDIRECT(基本情報!$D$3&\"!G27\")","v":155000},"～",{"$f":"INDIRECT(基本情報!$D$3&\"!I27\")","v":165000}]
[null,14,null,null,null,null,null,null,null,null,null,{"$f":"リスト表!D17","v":170000},{"$f":"INDIRECT(基本情報!$D$3&\"!G28\")","v":165000},"～",{"$f":"INDIRECT(基本情報!$D$3&\"!I28\")","v":175000}]
[null,15,null,null,null,null,null,null,null,null,null,{"$f":"リスト表!D18","v":180000},{"$f":"INDIRECT(基本情報!$D$3&\"!G29\")","v":175000},"～",{"$f":"INDIRECT(基本情報!$D$3&\"!I29\")","v":185000}]
[null,16,null,null,null,null,null,null,null,null,null,{"$f":"リスト表!D19","v":190000},{"$f":"INDIRECT(基本情報!$D$3&\"!G30\")","v":185000},"～",{"$f":"INDIRECT(基本情報!$D$3&\"!I30\")","v":195000}]
[null,17,null,null,null,null,null,null,null,null,null,{"$f":"リスト表!D20","v":200000},{"$f":"INDIRECT(基本情報!$D$3&\"!G31\")","v":195000},"～",{"$f":"INDIRECT(基本情報!$D$3&\"!I31\")","v":210000}]
[null,18,null,null,null,null,null,null,null,null,null,{"$f":"リスト表!D21","v":220000},{"$f":"INDIRECT(基本情報!$D$3&\"!G32\")","v":210000},"～",{"$f":"INDIRECT(基本情報!$D$3&\"!I32\")","v":230000}]
[null,19,null,null,null,null,null,null,null,null,null,{"$f":"リスト表!D22","v":240000},{"$f":"INDIRECT(基本情報!$D$3&\"!G33\")","v":230000},"～",{"$f":"INDIRECT(基本情報!$D$3&\"!I33\")","v":250000}]
[null,20,null,null,null,null,null,null,null,null,null,{"$f":"リスト表!D23","v":260000},{"$f":"INDIRECT(基本情報!$D$3&\"!G34\")","v":250000},"～",{"$f":"INDIRECT(基本情報!$D$3&\"!I34\")","v":270000}]
[null,21,null,null,null,null,null,null,null,null,null,{"$f":"リスト表!D24","v":280000},{"$f":"INDIRECT(基本情報!$D$3&\"!G35\")","v":270000},"～",{"$f":"INDIRECT(基本情報!$D$3&\"!I35\")","v":290000}]
[null,22,null,null,null,null,null,null,null,null,null,{"$f":"リスト表!D25","v":300000},{"$f":"INDIRECT(基本情報!$D$3&\"!G36\")","v":290000},"～",{"$f":"INDIRECT(基本情報!$D$3&\"!I36\")","v":310000}]
[null,23,null,null,null,null,null,null,null,null,null,{"$f":"リスト表!D26","v":320000},{"$f":"INDIRECT(基本情報!$D$3&\"!G37\")","v":310000},"～",{"$f":"INDIRECT(基本情報!$D$3&\"!I37\")","v":330000}]
[null,24,null,null,null,null,null,null,null,null,null,{"$f":"リスト表!D27","v":340000},{"$f":"INDIRECT(基本情報!$D$3&\"!G38\")","v":330000},"～",{"$f":"INDIRECT(基本情報!$D$3&\"!I38\")","v":350000}]
[null,25,null,null,null,null,null,null,null,null,null,{"$f":"リスト表!D28","v":360000},{"$f":"INDIRECT(基本情報!$D$3&\"!G39\")","v":350000},"～",{"$f":"INDIRECT(基本情報!$D$3&\"!I39\")","v":370000}]
[null,26,null,null,null,null,null,null,null,null,null,{"$f":"リスト表!D29","v":380000},{"$f":"INDIRECT(基本情報!$D$3&\"!G40\")","v":370000},"～",{"$f":"INDIRECT(基本情報!$D$3&\"!I40\")","v":395000}]
[null,27,null,null,null,null,null,null,null,null,null,{"$f":"リスト表!D30","v":410000},{"$f":"INDIRECT(基本情報!$D$3&\"!G41\")","v":395000},"～",{"$f":"INDIRECT(基本情報!$D$3&\"!I41\")","v":425000}]
[null,28,null,null,null,null,null,null,null,null,null,{"$f":"リスト表!D31","v":440000},{"$f":"INDIRECT(基本情報!$D$3&\"!G42\")","v":425000},"～",{"$f":"INDIRECT(基本情報!$D$3&\"!I42\")","v":455000}]
[null,29,null,null,null,null,null,null,null,null,null,{"$f":"リスト表!D32","v":470000},{"$f":"INDIRECT(基本情報!$D$3&\"!G43\")","v":455000},"～",{"$f":"INDIRECT(基本情報!$D$3&\"!I43\")","v":485000}]
[null,30,null,null,null,null,null,null,null,null,null,{"$f":"リスト表!D33","v":500000},{"$f":"INDIRECT(基本情報!$D$3&\"!G44\")","v":485000},"～",{"$f":"INDIRECT(基本情報!$D$3&\"!I44\")","v":515000}]
[null,null,null,null,null,null,null,null,null,null,null,{"$f":"リスト表!D34","v":530000},{"$f":"INDIRECT(基本情報!$D$3&\"!G45\")","v":515000},"～",{"$f":"INDIRECT(基本情報!$D$3&\"!I45\")","v":545000}]
[null,null,null,null,null,null,null,null,null,null,null,{"$f":"リスト表!D35","v":560000},{"$f":"INDIRECT(基本情報!$D$3&\"!G46\")","v":545000},"～",{"$f":"INDIRECT(基本情報!$D$3&\"!I46\")","v":575000}]
[null,null,null,null,null,null,null,null,null,null,null,{"$f":"リスト表!D36","v":590000},{"$f":"INDIRECT(基本情報!$D$3&\"!G47\")","v":575000},"～",{"$f":"INDIRECT(基本情報!$D$3&\"!I47\")","v":605000}]
[null,null,null,null,null,null,null,null,null,null,null,{"$f":"リスト表!D37","v":620000},{"$f":"INDIRECT(基本情報!$D$3&\"!G48\")","v":605000},"～",{"$f":"INDIRECT(基本情報!$D$3&\"!I48\")","v":635000}]
[null,null,null,null,null,null,null,null,null,null,null,{"$f":"リスト表!D38","v":650000},{"$f":"INDIRECT(基本情報!$D$3&\"!G49\")","v":635000},"～",{"$f":"INDIRECT(基本情報!$D$3&\"!I49\")","v":665000}]
[null,null,null,null,null,null,null,null,null,null,null,{"$f":"リスト表!D39","v":680000},{"$f":"INDIRECT(基本情報!$D$3&\"!G50\")","v":665000},"～",{"$f":"INDIRECT(基本情報!$D$3&\"!I50\")","v":695000}]
[null,null,null,null,null,null,null,null,null,null,null,{"$f":"リスト表!D40","v":710000},{"$f":"INDIRECT(基本情報!$D$3&\"!G51\")","v":695000},"～",{"$f":"INDIRECT(基本情報!$D$3&\"!I51\")","v":730000}]
[null,null,null,null,null,null,null,null,null,null,null,{"$f":"リスト表!D41","v":750000},{"$f":"INDIRECT(基本情報!$D$3&\"!G52\")","v":730000},"～",{"$f":"INDIRECT(基本情報!$D$3&\"!I52\")","v":770000}]
[null,null,null,null,null,null,null,null,null,null,null,{"$f":"リスト表!D42","v":790000},{"$f":"INDIRECT(基本情報!$D$3&\"!G53\")","v":770000},"～",{"$f":"INDIRECT(基本情報!$D$3&\"!I53\")","v":810000}]
[null,null,null,null,null,null,null,null,null,null,null,{"$f":"リスト表!D43","v":830000},{"$f":"INDIRECT(基本情報!$D$3&\"!G54\")","v":810000},"～",{"$f":"INDIRECT(基本情報!$D$3&\"!I54\")","v":855000}]
[null,null,null,null,null,null,null,null,null,null,null,{"$f":"リスト表!D44","v":880000},{"$f":"INDIRECT(基本情報!$D$3&\"!G55\")","v":855000},"～",{"$f":"INDIRECT(基本情報!$D$3&\"!I55\")","v":905000}]
[null,null,null,null,null,null,null,null,null,null,null,{"$f":"リスト表!D45","v":930000},{"$f":"INDIRECT(基本情報!$D$3&\"!G56\")","v":905000},"～",{"$f":"INDIRECT(基本情報!$D$3&\"!I56\")","v":955000}]
[null,null,null,null,null,null,null,null,null,null,null,{"$f":"リスト表!D46","v":980000},{"$f":"INDIRECT(基本情報!$D$3&\"!G57\")","v":955000},"～",{"$f":"INDIRECT(基本情報!$D$3&\"!I57\")","v":1005000}]
[null,null,null,null,null,null,null,null,null,null,null,{"$f":"リスト表!D47","v":1030000},{"$f":"INDIRECT(基本情報!$D$3&\"!G58\")","v":1005000},"～",{"$f":"INDIRECT(基本情報!$D$3&\"!I58\")","v":1055000}]
[null,null,null,null,null,null,null,null,null,null,null,{"$f":"リスト表!D48","v":1090000},{"$f":"INDIRECT(基本情報!$D$3&\"!G59\")","v":1055000},"～",{"$f":"INDIRECT(基本情報!$D$3&\"!I59\")","v":1115000}]
[null,null,null,null,null,null,null,null,null,null,null,{"$f":"リスト表!D49","v":1150000},{"$f":"INDIRECT(基本情報!$D$3&\"!G60\")","v":1115000},"～",{"$f":"INDIRECT(基本情報!$D$3&\"!I60\")","v":1175000}]
[null,null,null,null,null,null,null,null,null,null,null,{"$f":"リスト表!D50","v":1210000},{"$f":"INDIRECT(基本情報!$D$3&\"!G61\")","v":1175000},"～"]

{"sheet":"給与計算","index":2,"n_rows":37,"n_cols":17,"rows_kept":37,"cut":false,"hidden":false,"merged":[[5,16,6,16],[5,3,6,3],[5,6,6,6],[5,7,6,7],[5,8,6,8],[5,12,6,12],[5,13,6,13],[5,15,6,15],[5,14,6,14],[2,1,3,2],[1,3,1,5],[1,6,1,9],[5,4,6,4],[5,5,6,5],[1,1,1,2],[5,2,6,2],[5,1,6,1],[5,9,5,11]]}
[]
[null,{"$f":"基本情報!D2","v":"○○年○○月"},null,"給与計算",null,null,"※シートの保護は解除できます。"]
[null,"合計",null,{"$f":"D6","v":"本給"},{"$f":"E6","v":"他手当1\n（課税）"},{"$f":"F6","v":"他手当2\n（課税）"},{"$f":"G6","v":"他手当3\n(課税）"},"他手当4\n（課税）","総支給額",{"$f":"J7","v":"雇用保険"},{"$f":"K7","v":"健康保険"},{"$f":"L7","v":"厚生年金"},"社会保険料控除後の総支給額","源泉所得税",{"$f":"O6","v":"交通費\n手当\n（非課税）"},"差引支給額"]
[null,null,null,{"$f":"SUM(D8:D37)","v":950000},{"$f":"SUM(E8:E37)","v":50000},0,0,0,1000000,4378,47687,75138,872797,29370,25500,868927]
[]
[null,"NO.","名前","本給","他手当1\n（課税）","他手当2\n（課税）","他手当3\n(課税）","他手当4\n（課税）","総支給額","社会保険",null,null,"社会保険料控除後の総支給額","源泉所得税","交通費\n手当\n（非課税）","差引支給額","備考"]
[null,null,null,null,null,null,null,null,null,"雇用保険","健康保険","厚生年金"]
[null,1,{"$f":"IF(基本情報!C8=\"\",\"\",基本情報!C8)","v":"給与一郎"},500000,50000,null,null,null,{"$f":"SUM(D8:H8)","v":550000},{"$f":"IF(基本情報!F8=\"○\",ROUND((I8+O8)*IF(基本情報!$D$4=\"\",0,VLOOKUP(基本情報!$D$4,雇用保険料率!$C:$D,2,0)),0),0)","v":2818},{"$f":"IF(OR(基本情報!$D$3=\"\",基本情報!H8=\"\"),0,HLOOKUP(基本情報!H8,計算シート!$W$4:$Y$34,ROW(計算シート!W5)-3,0))","v":32732},{"$f":"IF(OR(基本情報!$D$3=\"\",基本情報!I8=\"\"),0,HLOOKUP(基本情報!I8,計算シート!$Z$4:$AB$34,ROW(計算シート!W5)-3,0))","v":48927},{"$f":"MAX(I8-J8-K8-L8,0)","v":465523},{"$f":"IF(基本情報!D8=\"\",\"\",HLOOKUP(基本情報!D8,計算シート!$E$4:$G$34,ROW(計算シート!E5)-3,0))","v":15430},{"$f":"IF(ISNUMBER(基本情報!J8),基本情報!J8,0)","v":13500},{"$f":"M8-IF(N8=\"\",0,N8)+O8","v":463593}]
[null,2,{"$f":"IF(基本情報!C9=\"\",\"\",基本情報!C9)","v":"給与二郎"},300000,null,null,null,null,300000,{"$f":"IF(基本情報!F9=\"○\",ROUND((I9+O9)*IF(基本情報!$D$4=\"\",0,VLOOKUP(基本情報!$D$4,雇用保険料率!$C:$D,2,0)),0),0)","v":1560},{"$f":"IF(OR(基本情報!$D$3=\"\",基本情報!H9=\"\"),0,HLOOKUP(基本情報!H9,計算シート!$W$4:$Y$34,ROW(計算シート!W6)-3,0))","v":14955},{"$f":"IF(OR(基本情報!$D$3=\"\",基本情報!I9=\"\"),0,HLOOKUP(基本情報!I9,計算シート!$Z$4:$AB$34,ROW(計算シート!W6)-3,0))","v":26211},{"$f":"MAX(I9-J9-K9-L9,0)","v":257274},{"$f":"IF(基本情報!D9=\"\",\"\",HLOOKUP(基本情報!D9,計算シート!$E$4:$G$34,ROW(計算シート!E6)-3,0))","v":5240},{"$f":"IF(ISNUMBER(基本情報!J9),基本情報!J9,0)","v":12000},{"$f":"M9-IF(N9=\"\",0,N9)+O9","v":264034}]
[null,3,{"$f":"IF(基本情報!C10=\"\",\"\",基本情報!C10)","v":"給与三郎"},150000,null,null,null,null,150000,{"$f":"IF(基本情報!F10=\"○\",ROUND((I10+O10)*IF(基本情報!$D$4=\"\",0,VLOOKUP(基本情報!$D$4,雇用保険料率!$C:$D,2,0)),0),0)","v":0},{"$f":"IF(OR(基本情報!$D$3=\"\",基本情報!H10=\"\"),0,HLOOKUP(基本情報!H10,計算シート!$W$4:$Y$34,ROW(計算シート!W7)-3,0))","v":0},{"$f":"IF(OR(基本情報!$D$3=\"\",基本情報!I10=\"\"),0,HLOOKUP(基本情報!I10,計算シート!$Z$4:$AB$34,ROW(計算シート!W7)-3,0))","v":0},150000,{"$f":"IF(基本情報!D10=\"\",\"\",HLOOKUP(基本情報!D10,計算シート!$E$4:$G$34,ROW(計算シート!E7)-3,0))","v":8700},{"$f":"IF(ISNUMBER(基本情報!J10),基本情報!J10,0)","v":0},141300]
[null,4,{"$f":"IF(基本情報!C11=\"\",\"\",基本情報!C11)","v":""},null,null,null,null,null,0,{"$f":"IF(基本情報!F11=\"○\",ROUND((I11+O11)*IF(基本情報!$D$4=\"\",0,VLOOKUP(基本情報!$D$4,雇用保険料率!$C:$D,2,0)),0),0)","v":0},{"$f":"IF(OR(基本情報!$D$3=\"\",基本情報!H11=\"\"),0,HLOOKUP(基本情報!H11,計算シート!$W$4:$Y$34,ROW(計算シート!W8)-3,0))","v":0},{"$f":"IF(OR(基本情報!$D$3=\"\",基本情報!I11=\"\"),0,HLOOKUP(基本情報!I11,計算シート!$Z$4:$AB$34,ROW(計算シート!W8)-3,0))","v":0},0,{"$f":"IF(基本情報!D11=\"\",\"\",HLOOKUP(基本情報!D11,計算シート!$E$4:$G$34,ROW(計算シート!E8)-3,0))","v":""},{"$f":"IF(ISNUMBER(基本情報!J11),基本情報!J11,0)","v":0},0]
[null,5,{"$f":"IF(基本情報!C12=\"\",\"\",基本情報!C12)","v":""},null,null,null,null,null,0,{"$f":"IF(基本情報!F12=\"○\",ROUND((I12+O12)*IF(基本情報!$D$4=\"\",0,VLOOKUP(基本情報!$D$4,雇用保険料率!$C:$D,2,0)),0),0)","v":0},{"$f":"IF(OR(基本情報!$D$3=\"\",基本情報!H12=\"\"),0,HLOOKUP(基本情報!H12,計算シート!$W$4:$Y$34,ROW(計算シート!W9)-3,0))","v":0},{"$f":"IF(OR(基本情報!$D$3=\"\",基本情報!I12=\"\"),0,HLOOKUP(基本情報!I12,計算シート!$Z$4:$AB$34,ROW(計算シート!W9)-3,0))","v":0},0,{"$f":"IF(基本情報!D12=\"\",\"\",HLOOKUP(基本情報!D12,計算シート!$E$4:$G$34,ROW(計算シート!E9)-3,0))","v":""},{"$f":"IF(ISNUMBER(基本情報!J12),基本情報!J12,0)","v":0},0]
[null,6,{"$f":"IF(基本情報!C13=\"\",\"\",基本情報!C13)","v":""},null,null,null,null,null,0,{"$f":"IF(基本情報!F13=\"○\",ROUND((I13+O13)*IF(基本情報!$D$4=\"\",0,VLOOKUP(基本情報!$D$4,雇用保険料率!$C:$D,2,0)),0),0)","v":0},{"$f":"IF(OR(基本情報!$D$3=\"\",基本情報!H13=\"\"),0,HLOOKUP(基本情報!H13,計算シート!$W$4:$Y$34,ROW(計算シート!W10)-3,0))","v":0},{"$f":"IF(OR(基本情報!$D$3=\"\",基本情報!I13=\"\"),0,HLOOKUP(基本情報!I13,計算シート!$Z$4:$AB$34,ROW(計算シート!W10)-3,0))","v":0},0,{"$f":"IF(基本情報!D13=\"\",\"\",HLOOKUP(基本情報!D13,計算シート!$E$4:$G$34,ROW(計算シート!E10)-3,0))","v":""},{"$f":"IF(ISNUMBER(基本情報!J13),基本情報!J13,0)","v":0},0]
[null,7,{"$f":"IF(基本情報!C14=\"\",\"\",基本情報!C14)","v":""},null,null,null,null,null,0,{"$f":"IF(基本情報!F14=\"○\",ROUND((I14+O14)*IF(基本情報!$D$4=\"\",0,VLOOKUP(基本情報!$D$4,雇用保険料率!$C:$D,2,0)),0),0)","v":0},{"$f":"IF(OR(基本情報!$D$3=\"\",基本情報!H14=\"\"),0,HLOOKUP(基本情報!H14,計算シート!$W$4:$Y$34,ROW(計算シート!W11)-3,0))","v":0},{"$f":"IF(OR(基本情報!$D$3=\"\",基本情報!I14=\"\"),0,HLOOKUP(基本情報!I14,計算シート!$Z$4:$AB$34,ROW(計算シート!W11)-3,0))","v":0},0,{"$f":"IF(基本情報!D14=\"\",\"\",HLOOKUP(基本情報!D14,計算シート!$E$4:$G$34,ROW(計算シート!E11)-3,0))","v":""},{"$f":"IF(ISNUMBER(基本情報!J14),基本情報!J14,0)","v":0},0]
[null,8,{"$f":"IF(基本情報!C15=\"\",\"\",基本情報!C15)","v":""},null,null,null,null,null,0,{"$f":"IF(基本情報!F15=\"○\",ROUND((I15+O15)*IF(基本情報!$D$4=\"\",0,VLOOKUP(基本情報!$D$4,雇用保険料率!$C:$D,2,0)),0),0)","v":0},{"$f":"IF(OR(基本情報!$D$3=\"\",基本情報!H15=\"\"),0,HLOOKUP(基本情報!H15,計算シート!$W$4:$Y$34,ROW(計算シート!W12)-3,0))","v":0},{"$f":"IF(OR(基本情報!$D$3=\"\",基本情報!I15=\"\"),0,HLOOKUP(基本情報!I15,計算シート!$Z$4:$AB$34,ROW(計算シート!W12)-3,0))","v":0},0,{"$f":"IF(基本情報!D15=\"\",\"\",HLOOKUP(基本情報!D15,計算シート!$E$4:$G$34,ROW(計算シート!E12)-3,0))","v":""},{"$f":"IF(ISNUMBER(基本情報!J15),基本情報!J15,0)","v":0},0]
[null,9,{"$f":"IF(基本情報!C16=\"\",\"\",基本情報!C16)","v":""},null,null,null,null,null,0,{"$f":"IF(基本情報!F16=\"○\",ROUND((I16+O16)*IF(基本情報!$D$4=\"\",0,VLOOKUP(基本情報!$D$4,雇用保険料率!$C:$D,2,0)),0),0)","v":0},{"$f":"IF(OR(基本情報!$D$3=\"\",基本情報!H16=\"\"),0,HLOOKUP(基本情報!H16,計算シート!$W$4:$Y$34,ROW(計算シート!W13)-3,0))","v":0},{"$f":"IF(OR(基本情報!$D$3=\"\",基本情報!I16=\"\"),0,HLOOKUP(基本情報!I16,計算シート!$Z$4:$AB$34,ROW(計算シート!W13)-3,0))","v":0},0,{"$f":"IF(基本情報!D16=\"\",\"\",HLOOKUP(基本情報!D16,計算シート!$E$4:$G$34,ROW(計算シート!E13)-3,0))","v":""},{"$f":"IF(ISNUMBER(基本情報!J16),基本情報!J16,0)","v":0},0]
[null,10,{"$f":"IF(基本情報!C17=\"\",\"\",基本情報!C17)","v":""},null,null,null,null,null,0,{"$f":"IF(基本情報!F17=\"○\",ROUND((I17+O17)*IF(基本情報!$D$4=\"\",0,VLOOKUP(基本情報!$D$4,雇用保険料率!$C:$D,2,0)),0),0)","v":0},{"$f":"IF(OR(基本情報!$D$3=\"\",基本情報!H17=\"\"),0,HLOOKUP(基本情報!H17,計算シート!$W$4:$Y$34,ROW(計算シート!W14)-3,0))","v":0},{"$f":"IF(OR(基本情報!$D$3=\"\",基本情報!I17=\"\"),0,HLOOKUP(基本情報!I17,計算シート!$Z$4:$AB$34,ROW(計算シート!W14)-3,0))","v":0},0,{"$f":"IF(基本情報!D17=\"\",\"\",HLOOKUP(基本情報!D17,計算シート!$E$4:$G$34,ROW(計算シート!E14)-3,0))","v":""},{"$f":"IF(ISNUMBER(基本情報!J17),基本情報!J17,0)","v":0},0]
[null,11,{"$f":"IF(基本情報!C18=\"\",\"\",基本情報!C18)","v":""},null,null,null,null,null,0,{"$f":"IF(基本情報!F18=\"○\",ROUND((I18+O18)*IF(基本情報!$D$4=\"\",0,VLOOKUP(基本情報!$D$4,雇用保険料率!$C:$D,2,0)),0),0)","v":0},{"$f":"IF(OR(基本情報!$D$3=\"\",基本情報!H18=\"\"),0,HLOOKUP(基本情報!H18,計算シート!$W$4:$Y$34,ROW(計算シート!W15)-3,0))","v":0},{"$f":"IF(OR(基本情報!$D$3=\"\",基本情報!I18=\"\"),0,HLOOKUP(基本情報!I18,計算シート!$Z$4:$AB$34,ROW(計算シート!W15)-3,0))","v":0},0,{"$f":"IF(基本情報!D18=\"\",\"\",HLOOKUP(基本情報!D18,計算シート!$E$4:$G$34,ROW(計算シート!E15)-3,0))","v":""},{"$f":"IF(ISNUMBER(基本情報!J18),基本情報!J18,0)","v":0},0]
[null,12,{"$f":"IF(基本情報!C19=\"\",\"\",基本情報!C19)","v":""},null,null,null,null,null,0,{"$f":"IF(基本情報!F19=\"○\",ROUND((I19+O19)*IF(基本情報!$D$4=\"\",0,VLOOKUP(基本情報!$D$4,雇用保険料率!$C:$D,2,0)),0),0)","v":0},{"$f":"IF(OR(基本情報!$D$3=\"\",基本情報!H19=\"\"),0,HLOOKUP(基本情報!H19,計算シート!$W$4:$Y$34,ROW(計算シート!W16)-3,0))","v":0},{"$f":"IF(OR(基本情報!$D$3=\"\",基本情報!I19=\"\"),0,HLOOKUP(基本情報!I19,計算シート!$Z$4:$AB$34,ROW(計算シート!W16)-3,0))","v":0},0,{"$f":"IF(基本情報!D19=\"\",\"\",HLOOKUP(基本情報!D19,計算シート!$E$4:$G$34,ROW(計算シート!E16)-3,0))","v":""},{"$f":"IF(ISNUMBER(基本情報!J19),基本情報!J19,0)","v":0},0]
[null,13,{"$f":"IF(基本情報!C20=\"\",\"\",基本情報!C20)","v":""},null,null,null,null,null,0,{"$f":"IF(基本情報!F20=\"○\",ROUND((I20+O20)*IF(基本情報!$D$4=\"\",0,VLOOKUP(基本情報!$D$4,雇用保険料率!$C:$D,2,0)),0),0)","v":0},{"$f":"IF(OR(基本情報!$D$3=\"\",基本情報!H20=\"\"),0,HLOOKUP(基本情報!H20,計算シート!$W$4:$Y$34,ROW(計算シート!W17)-3,0))","v":0},{"$f":"IF(OR(基本情報!$D$3=\"\",基本情報!I20=\"\"),0,HLOOKUP(基本情報!I20,計算シート!$Z$4:$AB$34,ROW(計算シート!W17)-3,0))","v":0},0,{"$f":"IF(基本情報!D20=\"\",\"\",HLOOKUP(基本情報!D20,計算シート!$E$4:$G$34,ROW(計算シート!E17)-3,0))","v":""},{"$f":"IF(ISNUMBER(基本情報!J20),基本情報!J20,0)","v":0},0]
[null,14,{"$f":"IF(基本情報!C21=\"\",\"\",基本情報!C21)","v":""},null,null,null,null,null,0,{"$f":"IF(基本情報!F21=\"○\",ROUND((I21+O21)*IF(基本情報!$D$4=\"\",0,VLOOKUP(基本情報!$D$4,雇用保険料率!$C:$D,2,0)),0),0)","v":0},{"$f":"IF(OR(基本情報!$D$3=\"\",基本情報!H21=\"\"),0,HLOOKUP(基本情報!H21,計算シート!$W$4:$Y$34,ROW(計算シート!W18)-3,0))","v":0},{"$f":"IF(OR(基本情報!$D$3=\"\",基本情報!I21=\"\"),0,HLOOKUP(基本情報!I21,計算シート!$Z$4:$AB$34,ROW(計算シート!W18)-3,0))","v":0},0,{"$f":"IF(基本情報!D21=\"\",\"\",HLOOKUP(基本情報!D21,計算シート!$E$4:$G$34,ROW(計算シート!E18)-3,0))","v":""},{"$f":"IF(ISNUMBER(基本情報!J21),基本情報!J21,0)","v":0},0]
[null,15,{"$f":"IF(基本情報!C22=\"\",\"\",基本情報!C22)","v":""},null,null,null,null,null,0,{"$f":"IF(基本情報!F22=\"○\",ROUND((I22+O22)*IF(基本情報!$D$4=\"\",0,VLOOKUP(基本情報!$D$4,雇用保険料率!$C:$D,2,0)),0),0)","v":0},{"$f":"IF(OR(基本情報!$D$3=\"\",基本情報!H22=\"\"),0,HLOOKUP(基本情報!H22,計算シート!$W$4:$Y$34,ROW(計算シート!W19)-3,0))","v":0},{"$f":"IF(OR(基本情報!$D$3=\"\",基本情報!I22=\"\"),0,HLOOKUP(基本情報!I22,計算シート!$Z$4:$AB$34,ROW(計算シート!W19)-3,0))","v":0},0,{"$f":"IF(基本情報!D22=\"\",\"\",HLOOKUP(基本情報!D22,計算シート!$E$4:$G$34,ROW(計算シート!E19)-3,0))","v":""},{"$f":"IF(ISNUMBER(基本情報!J22),基本情報!J22,0)","v":0},0]
[null,16,{"$f":"IF(基本情報!C23=\"\",\"\",基本情報!C23)","v":""},null,null,null,null,null,0,{"$f":"IF(基本情報!F23=\"○\",ROUND((I23+O23)*IF(基本情報!$D$4=\"\",0,VLOOKUP(基本情報!$D$4,雇用保険料率!$C:$D,2,0)),0),0)","v":0},{"$f":"IF(OR(基本情報!$D$3=\"\",基本情報!H23=\"\"),0,HLOOKUP(基本情報!H23,計算シート!$W$4:$Y$34,ROW(計算シート!W20)-3,0))","v":0},{"$f":"IF(OR(基本情報!$D$3=\"\",基本情報!I23=\"\"),0,HLOOKUP(基本情報!I23,計算シート!$Z$4:$AB$34,ROW(計算シート!W20)-3,0))","v":0},0,{"$f":"IF(基本情報!D23=\"\",\"\",HLOOKUP(基本情報!D23,計算シート!$E$4:$G$34,ROW(計算シート!E20)-3,0))","v":""},{"$f":"IF(ISNUMBER(基本情報!J23),基本情報!J23,0)","v":0},0]
[null,17,{"$f":"IF(基本情報!C24=\"\",\"\",基本情報!C24)","v":""},null,null,null,null,null,0,{"$f":"IF(基本情報!F24=\"○\",ROUND((I24+O24)*IF(基本情報!$D$4=\"\",0,VLOOKUP(基本情報!$D$4,雇用保険料率!$C:$D,2,0)),0),0)","v":0},{"$f":"IF(OR(基本情報!$D$3=\"\",基本情報!H24=\"\"),0,HLOOKUP(基本情報!H24,計算シート!$W$4:$Y$34,ROW(計算シート!W21)-3,0))","v":0},{"$f":"IF(OR(基本情報!$D$3=\"\",基本情報!I24=\"\"),0,HLOOKUP(基本情報!I24,計算シート!$Z$4:$AB$34,ROW(計算シート!W21)-3,0))","v":0},0,{"$f":"IF(基本情報!D24=\"\",\"\",HLOOKUP(基本情報!D24,計算シート!$E$4:$G$34,ROW(計算シート!E21)-3,0))","v":""},{"$f":"IF(ISNUMBER(基本情報!J24),基本情報!J24,0)","v":0},0]
[null,18,{"$f":"IF(基本情報!C25=\"\",\"\",基本情報!C25)","v":""},null,null,null,null,null,0,{"$f":"IF(基本情報!F25=\"○\",ROUND((I25+O25)*IF(基本情報!$D$4=\"\",0,VLOOKUP(基本情報!$D$4,雇用保険料率!$C:$D,2,0)),0),0)","v":0},{"$f":"IF(OR(基本情報!$D$3=\"\",基本情報!H25=\"\"),0,HLOOKUP(基本情報!H25,計算シート!$W$4:$Y$34,ROW(計算シート!W22)-3,0))","v":0},{"$f":"IF(OR(基本情報!$D$3=\"\",基本情報!I25=\"\"),0,HLOOKUP(基本情報!I25,計算シート!$Z$4:$AB$34,ROW(計算シート!W22)-3,0))","v":0},0,{"$f":"IF(基本情報!D25=\"\",\"\",HLOOKUP(基本情報!D25,計算シート!$E$4:$G$34,ROW(計算シート!E22)-3,0))","v":""},{"$f":"IF(ISNUMBER(基本情報!J25),基本情報!J25,0)","v":0},0]
[null,19,{"$f":"IF(基本情報!C26=\"\",\"\",基本情報!C26)","v":""},null,null,null,null,null,0,{"$f":"IF(基本情報!F26=\"○\",ROUND((I26+O26)*IF(基本情報!$D$4=\"\",0,VLOOKUP(基本情報!$D$4,雇用保険料率!$C:$D,2,0)),0),0)","v":0},{"$f":"IF(OR(基本情報!$D$3=\"\",基本情報!H26=\"\"),0,HLOOKUP(基本情報!H26,計算シート!$W$4:$Y$34,ROW(計算シート!W23)-3,0))","v":0},{"$f":"IF(OR(基本情報!$D$3=\"\",基本情報!I26=\"\"),0,HLOOKUP(基本情報!I26,計算シート!$Z$4:$AB$34,ROW(計算シート!W23)-3,0))","v":0},0,{"$f":"IF(基本情報!D26=\"\",\"\",HLOOKUP(基本情報!D26,計算シート!$E$4:$G$34,ROW(計算シート!E23)-3,0))","v":""},{"$f":"IF(ISNUMBER(基本情報!J26),基本情報!J26,0)","v":0},0]
[null,20,{"$f":"IF(基本情報!C27=\"\",\"\",基本情報!C27)","v":""},null,null,null,null,null,0,{"$f":"IF(基本情報!F27=\"○\",ROUND((I27+O27)*IF(基本情報!$D$4=\"\",0,VLOOKUP(基本情報!$D$4,雇用保険料率!$C:$D,2,0)),0),0)","v":0},{"$f":"IF(OR(基本情報!$D$3=\"\",基本情報!H27=\"\"),0,HLOOKUP(基本情報!H27,計算シート!$W$4:$Y$34,ROW(計算シート!W24)-3,0))","v":0},{"$f":"IF(OR(基本情報!$D$3=\"\",基本情報!I27=\"\"),0,HLOOKUP(基本情報!I27,計算シート!$Z$4:$AB$34,ROW(計算シート!W24)-3,0))","v":0},0,{"$f":"IF(基本情報!D27=\"\",\"\",HLOOKUP(基本情報!D27,計算シート!$E$4:$G$34,ROW(計算シート!E24)-3,0))","v":""},{"$f":"IF(ISNUMBER(基本情報!J27),基本情報!J27,0)","v":0},0]
[null,21,{"$f":"IF(基本情報!C28=\"\",\"\",基本情報!C28)","v":""},null,null,null,null,null,0,{"$f":"IF(基本情報!F28=\"○\",ROUND((I28+O28)*IF(基本情報!$D$4=\"\",0,VLOOKUP(基本情報!$D$4,雇用保険料率!$C:$D,2,0)),0),0)","v":0},{"$f":"IF(OR(基本情報!$D$3=\"\",基本情報!H28=\"\"),0,HLOOKUP(基本情報!H28,計算シート!$W$4:$Y$34,ROW(計算シート!W25)-3,0))","v":0},{"$f":"IF(OR(基本情報!$D$3=\"\",基本情報!I28=\"\"),0,HLOOKUP(基本情報!I28,計算シート!$Z$4:$AB$34,ROW(計算シート!W25)-3,0))","v":0},0,{"$f":"IF(基本情報!D28=\"\",\"\",HLOOKUP(基本情報!D28,計算シート!$E$4:$G$34,ROW(計算シート!E25)-3,0))","v":""},{"$f":"IF(ISNUMBER(基本情報!J28),基本情報!J28,0)","v":0},0]
[null,22,{"$f":"IF(基本情報!C29=\"\",\"\",基本情報!C29)","v":""},null,null,null,null,null,0,{"$f":"IF(基本情報!F29=\"○\",ROUND((I29+O29)*IF(基本情報!$D$4=\"\",0,VLOOKUP(基本情報!$D$4,雇用保険料率!$C:$D,2,0)),0),0)","v":0},{"$f":"IF(OR(基本情報!$D$3=\"\",基本情報!H29=\"\"),0,HLOOKUP(基本情報!H29,計算シート!$W$4:$Y$34,ROW(計算シート!W26)-3,0))","v":0},{"$f":"IF(OR(基本情報!$D$3=\"\",基本情報!I29=\"\"),0,HLOOKUP(基本情報!I29,計算シート!$Z$4:$AB$34,ROW(計算シート!W26)-3,0))","v":0},0,{"$f":"IF(基本情報!D29=\"\",\"\",HLOOKUP(基本情報!D29,計算シート!$E$4:$G$34,ROW(計算シート!E26)-3,0))","v":""},{"$f":"IF(ISNUMBER(基本情報!J29),基本情報!J29,0)","v":0},0]
[null,23,{"$f":"IF(基本情報!C30=\"\",\"\",基本情報!C30)","v":""},null,null,null,null,null,0,{"$f":"IF(基本情報!F30=\"○\",ROUND((I30+O30)*IF(基本情報!$D$4=\"\",0,VLOOKUP(基本情報!$D$4,雇用保険料率!$C:$D,2,0)),0),0)","v":0},{"$f":"IF(OR(基本情報!$D$3=\"\",基本情報!H30=\"\"),0,HLOOKUP(基本情報!H30,計算シート!$W$4:$Y$34,ROW(計算シート!W27)-3,0))","v":0},{"$f":"IF(OR(基本情報!$D$3=\"\",基本情報!I30=\"\"),0,HLOOKUP(基本情報!I30,計算シート!$Z$4:$AB$34,ROW(計算シート!W27)-3,0))","v":0},0,{"$f":"IF(基本情報!D30=\"\",\"\",HLOOKUP(基本情報!D30,計算シート!$E$4:$G$34,ROW(計算シート!E27)-3,0))","v":""},{"$f":"IF(ISNUMBER(基本情報!J30),基本情報!J30,0)","v":0},0]
[null,24,{"$f":"IF(基本情報!C31=\"\",\"\",基本情報!C31)","v":""},null,null,null,null,null,0,{"$f":"IF(基本情報!F31=\"○\",ROUND((I31+O31)*IF(基本情報!$D$4=\"\",0,VLOOKUP(基本情報!$D$4,雇用保険料率!$C:$D,2,0)),0),0)","v":0},{"$f":"IF(OR(基本情報!$D$3=\"\",基本情報!H31=\"\"),0,HLOOKUP(基本情報!H31,計算シート!$W$4:$Y$34,ROW(計算シート!W28)-3,0))","v":0},{"$f":"IF(OR(基本情報!$D$3=\"\",基本情報!I31=\"\"),0,HLOOKUP(基本情報!I31,計算シート!$Z$4:$AB$34,ROW(計算シート!W28)-3,0))","v":0},0,{"$f":"IF(基本情報!D31=\"\",\"\",HLOOKUP(基本情報!D31,計算シート!$E$4:$G$34,ROW(計算シート!E28)-3,0))","v":""},{"$f":"IF(ISNUMBER(基本情報!J31),基本情報!J31,0)","v":0},0]
[null,25,{"$f":"IF(基本情報!C32=\"\",\"\",基本情報!C32)","v":""},null,null,null,null,null,0,{"$f":"IF(基本情報!F32=\"○\",ROUND((I32+O32)*IF(基本情報!$D$4=\"\",0,VLOOKUP(基本情報!$D$4,雇用保険料率!$C:$D,2,0)),0),0)","v":0},{"$f":"IF(OR(基本情報!$D$3=\"\",基本情報!H32=\"\"),0,HLOOKUP(基本情報!H32,計算シート!$W$4:$Y$34,ROW(計算シート!W29)-3,0))","v":0},{"$f":"IF(OR(基本情報!$D$3=\"\",基本情報!I32=\"\"),0,HLOOKUP(基本情報!I32,計算シート!$Z$4:$AB$34,ROW(計算シート!W29)-3,0))","v":0},0,{"$f":"IF(基本情報!D32=\"\",\"\",HLOOKUP(基本情報!D32,計算シート!$E$4:$G$34,ROW(計算シート!E29)-3,0))","v":""},{"$f":"IF(ISNUMBER(基本情報!J32),基本情報!J32,0)","v":0},0]
[null,26,{"$f":"IF(基本情報!C33=\"\",\"\",基本情報!C33)","v":""},null,null,null,null,null,0,{"$f":"IF(基本情報!F33=\"○\",ROUND((I33+O33)*IF(基本情報!$D$4=\"\",0,VLOOKUP(基本情報!$D$4,雇用保険料率!$C:$D,2,0)),0),0)","v":0},{"$f":"IF(OR(基本情報!$D$3=\"\",基本情報!H33=\"\"),0,HLOOKUP(基本情報!H33,計算シート!$W$4:$Y$34,ROW(計算シート!W30)-3,0))","v":0},{"$f":"IF(OR(基本情報!$D$3=\"\",基本情報!I33=\"\"),0,HLOOKUP(基本情報!I33,計算シート!$Z$4:$AB$34,ROW(計算シート!W30)-3,0))","v":0},0,{"$f":"IF(基本情報!D33=\"\",\"\",HLOOKUP(基本情報!D33,計算シート!$E$4:$G$34,ROW(計算シート!E30)-3,0))","v":""},{"$f":"IF(ISNUMBER(基本情報!J33),基本情報!J33,0)","v":0},0]
[null,27,{"$f":"IF(基本情報!C34=\"\",\"\",基本情報!C34)","v":""},null,null,null,null,null,0,{"$f":"IF(基本情報!F34=\"○\",ROUND((I34+O34)*IF(基本情報!$D$4=\"\",0,VLOOKUP(基本情報!$D$4,雇用保険料率!$C:$D,2,0)),0),0)","v":0},{"$f":"IF(OR(基本情報!$D$3=\"\",基本情報!H34=\"\"),0,HLOOKUP(基本情報!H34,計算シート!$W$4:$Y$34,ROW(計算シート!W31)-3,0))","v":0},{"$f":"IF(OR(基本情報!$D$3=\"\",基本情報!I34=\"\"),0,HLOOKUP(基本情報!I34,計算シート!$Z$4:$AB$34,ROW(計算シート!W31)-3,0))","v":0},0,{"$f":"IF(基本情報!D34=\"\",\"\",HLOOKUP(基本情報!D34,計算シート!$E$4:$G$34,ROW(計算シート!E31)-3,0))","v":""},{"$f":"IF(ISNUMBER(基本情報!J34),基本情報!J34,0)","v":0},0]
[null,28,{"$f":"IF(基本情報!C35=\"\",\"\",基本情報!C35)","v":""},null,null,null,null,null,0,{"$f":"IF(基本情報!F35=\"○\",ROUND((I35+O35)*IF(基本情報!$D$4=\"\",0,VLOOKUP(基本情報!$D$4,雇用保険料率!$C:$D,2,0)),0),0)","v":0},{"$f":"IF(OR(基本情報!$D$3=\"\",基本情報!H35=\"\"),0,HLOOKUP(基本情報!H35,計算シート!$W$4:$Y$34,ROW(計算シート!W32)-3,0))","v":0},{"$f":"IF(OR(基本情報!$D$3=\"\",基本情報!I35=\"\"),0,HLOOKUP(基本情報!I35,計算シート!$Z$4:$AB$34,ROW(計算シート!W32)-3,0))","v":0},0,{"$f":"IF(基本情報!D35=\"\",\"\",HLOOKUP(基本情報!D35,計算シート!$E$4:$G$34,ROW(計算シート!E32)-3,0))","v":""},{"$f":"IF(ISNUMBER(基本情報!J35),基本情報!J35,0)","v":0},0]
[null,29,{"$f":"IF(基本情報!C36=\"\",\"\",基本情報!C36)","v":""},null,null,null,null,null,0,{"$f":"IF(基本情報!F36=\"○\",ROUND((I36+O36)*IF(基本情報!$D$4=\"\",0,VLOOKUP(基本情報!$D$4,雇用保険料率!$C:$D,2,0)),0),0)","v":0},{"$f":"IF(OR(基本情報!$D$3=\"\",基本情報!H36=\"\"),0,HLOOKUP(基本情報!H36,計算シート!$W$4:$Y$34,ROW(計算シート!W33)-3,0))","v":0},{"$f":"IF(OR(基本情報!$D$3=\"\",基本情報!I36=\"\"),0,HLOOKUP(基本情報!I36,計算シート!$Z$4:$AB$34,ROW(計算シート!W33)-3,0))","v":0},0,{"$f":"IF(基本情報!D36=\"\",\"\",HLOOKUP(基本情報!D36,計算シート!$E$4:$G$34,ROW(計算シート!E33)-3,0))","v":""},{"$f":"IF(ISNUMBER(基本情報!J36),基本情報!J36,0)","v":0},0]
[null,30,{"$f":"IF(基本情報!C37=\"\",\"\",基本情報!C37)","v":""},null,null,null,null,null,0,{"$f":"IF(基本情報!F37=\"○\",ROUND((I37+O37)*IF(基本情報!$D$4=\"\",0,VLOOKUP(基本情報!$D$4,雇用保険料率!$C:$D,2,0)),0),0)","v":0},{"$f":"IF(OR(基本情報!$D$3=\"\",基本情報!H37=\"\"),0,HLOOKUP(基本情報!H37,計算シート!$W$4:$Y$34,ROW(計算シート!W34)-3,0))","v":0},{"$f":"IF(OR(基本情報!$D$3=\"\",基本情報!I37=\"\"),0,HLOOKUP(基本情報!I37,計算シート!$Z$4:$AB$34,ROW(計算シート!W34)-3,0))","v":0},0,{"$f":"IF(基本情報!D37=\"\",\"\",HLOOKUP(基本情報!D37,計算シート!$E$4:$G$34,ROW(計算シート!E34)-3,0))","v":""},{"$f":"IF(ISNUMBER(基本情報!J37),基本情報!J37,0)","v":0},0]

{"sheet":"賞与計算","index":3,"n_rows":37,"n_cols":13,"rows_kept":37,"cut":false,"hidden":false,"merged":[[1,1,1,2],[2,1,3,2],[5,6,5,8],[5,2,6,2],[5,3,6,3],[5,4,6,4],[5,5,6,5],[2,4,3,4],[1,4,1,7],[5,12,6,12],[5,11,6,11],[5,1,6,1],[5,9,6,9],[5,10,6,10]]}
[]
[null,{"$f":"基本情報!D2","v":"○○年○○月"},null,null,"※シートの保護は解除できます。"]
[null,"賞与計算",null,null,"合計",{"$f":"F6","v":"賞与金額"},{"$f":"G7","v":"雇用保険"},{"$f":"H7","v":"健康保険"},{"$f":"I7","v":"厚生年金"},{"$f":"J6","v":"社会保険料控除後の総支給額"},{"$f":"K6","v":"源泉所得税"},{"$f":"L6","v":"差引支給額"}]
[null,null,null,null,null,{"$f":"SUM(F8:F37)","v":950000},{"$f":"SUM(G8:G37)","v":4250},46672,74264,824814,83161,741653]
[]
[null,"NO.","名前","前月の社会保険料控除後の給与","税率","賞与金額","社会保険",null,null,"社会保険料控除後の総支給額","源泉所得税","差引支給額","備考"]
[null,null,null,null,null,null,"雇用保険","健康保険","厚生年金"]
[null,1,{"$f":"IF(基本情報!C8=\"\",\"\",基本情報!C8)","v":"給与一郎"},465523,{"$f":"IF(D8=\"\",0,IF(基本情報!D8=\"\",0,IF(基本情報!D8=\"甲欄\",IF(基本情報!E8>7,計算シート!U5,HLOOKUP(基本情報!E8,計算シート!$N$4:$V$34,ROW(計算シート!N5)-3,0))&\"%\",計算シート!V5&\"%\")))","v":"14.294%"},500000,{"$f":"IF(基本情報!F8=\"○\",ROUND((F8)*IF(基本情報!$D$4=\"\",0,VLOOKUP(基本情報!$D$4,雇用保険料率!$C:$D,2,0)),0),0)","v":2500},{"$f":"IF(OR(基本情報!$D$3=\"\",基本情報!H8=\"\"),0,HLOOKUP(基本情報!H8,計算シート!$AE$4:$AG$34,ROW(計算シート!AE5)-3,0))","v":29225},{"$f":"IF(OR(基本情報!$D$3=\"\",基本情報!I8=\"\"),0,HLOOKUP(基本情報!I8,計算シート!$AH$4:$AJ$34,ROW(計算シート!AE5)-3,0))","v":43685},{"$f":"F8-G8-H8-I8","v":424590},{"$f":"IF(D8=\"\",\"\",ROUNDDOWN(E8*J8,0))","v":60690},{"$f":"J8-IF(K8=\"\",0,K8)","v":363900}]
[null,2,{"$f":"IF(基本情報!C9=\"\",\"\",基本情報!C9)","v":"給与二郎"},257274,{"$f":"IF(D9=\"\",0,IF(基本情報!D9=\"\",0,IF(基本情報!D9=\"甲欄\",IF(基本情報!E9>7,計算シート!U6,HLOOKUP(基本情報!E9,計算シート!$N$4:$V$34,ROW(計算シート!N6)-3,0))&\"%\",計算シート!V6&\"%\")))","v":"4.084%"},350000,{"$f":"IF(基本情報!F9=\"○\",ROUND((F9)*IF(基本情報!$D$4=\"\",0,VLOOKUP(基本情報!$D$4,雇用保険料率!$C:$D,2,0)),0),0)","v":1750},{"$f":"IF(OR(基本情報!$D$3=\"\",基本情報!H9=\"\"),0,HLOOKUP(基本情報!H9,計算シート!$AE$4:$AG$34,ROW(計算シート!AE6)-3,0))","v":17447},{"$f":"IF(OR(基本情報!$D$3=\"\",基本情報!I9=\"\"),0,HLOOKUP(基本情報!I9,計算シート!$AH$4:$AJ$34,ROW(計算シート!AE6)-3,0))","v":30579},300224,12261,{"$f":"J9-IF(K9=\"\",0,K9)","v":287963}]
[null,3,{"$f":"IF(基本情報!C10=\"\",\"\",基本情報!C10)","v":"給与三郎"},150000,{"$f":"IF(D10=\"\",0,IF(基本情報!D10=\"\",0,IF(基本情報!D10=\"甲欄\",IF(基本情報!E10>7,計算シート!U7,HLOOKUP(基本情報!E10,計算シート!$N$4:$V$34,ROW(計算シート!N7)-3,0))&\"%\",計算シート!V7&\"%\")))","v":"10.21%"},100000,{"$f":"IF(基本情報!F10=\"○\",ROUND((F10)*IF(基本情報!$D$4=\"\",0,VLOOKUP(基本情報!$D$4,雇用保険料率!$C:$D,2,0)),0),0)","v":0},{"$f":"IF(OR(基本情報!$D$3=\"\",基本情報!H10=\"\"),0,HLOOKUP(基本情報!H10,計算シート!$AE$4:$AG$34,ROW(計算シート!AE7)-3,0))","v":0},{"$f":"IF(OR(基本情報!$D$3=\"\",基本情報!I10=\"\"),0,HLOOKUP(基本情報!I10,計算シート!$AH$4:$AJ$34,ROW(計算シート!AE7)-3,0))","v":0},100000,10210,89790]
[null,4,{"$f":"IF(基本情報!C11=\"\",\"\",基本情報!C11)","v":""},null,{"$f":"IF(D11=\"\",0,IF(基本情報!D11=\"\",0,IF(基本情報!D11=\"甲欄\",IF(基本情報!E11>7,計算シート!U8,HLOOKUP(基本情報!E11,計算シート!$N$4:$V$34,ROW(計算シート!N8)-3,0))&\"%\",計算シート!V8&\"%\")))","v":0},null,{"$f":"IF(基本情報!F11=\"○\",ROUND((F11)*IF(基本情報!$D$4=\"\",0,VLOOKUP(基本情報!$D$4,雇用保険料率!$C:$D,2,0)),0),0)","v":0},{"$f":"IF(OR(基本情報!$D$3=\"\",基本情報!H11=\"\"),0,HLOOKUP(基本情報!H11,計算シート!$AE$4:$AG$34,ROW(計算シート!AE8)-3,0))","v":0},{"$f":"IF(OR(基本情報!$D$3=\"\",基本情報!I11=\"\"),0,HLOOKUP(基本情報!I11,計算シート!$AH$4:$AJ$34,ROW(計算シート!AE8)-3,0))","v":0},0,"",0]
[null,5,{"$f":"IF(基本情報!C12=\"\",\"\",基本情報!C12)","v":""},null,{"$f":"IF(D12=\"\",0,IF(基本情報!D12=\"\",0,IF(基本情報!D12=\"甲欄\",IF(基本情報!E12>7,計算シート!U9,HLOOKUP(基本情報!E12,計算シート!$N$4:$V$34,ROW(計算シート!N9)-3,0))&\"%\",計算シート!V9&\"%\")))","v":0},null,{"$f":"IF(基本情報!F12=\"○\",ROUND((F12)*IF(基本情報!$D$4=\"\",0,VLOOKUP(基本情報!$D$4,雇用保険料率!$C:$D,2,0)),0),0)","v":0},{"$f":"IF(OR(基本情報!$D$3=\"\",基本情報!H12=\"\"),0,HLOOKUP(基本情報!H12,計算シート!$AE$4:$AG$34,ROW(計算シート!AE9)-3,0))","v":0},{"$f":"IF(OR(基本情報!$D$3=\"\",基本情報!I12=\"\"),0,HLOOKUP(基本情報!I12,計算シート!$AH$4:$AJ$34,ROW(計算シート!AE9)-3,0))","v":0},0,"",0]
[null,6,{"$f":"IF(基本情報!C13=\"\",\"\",基本情報!C13)","v":""},null,{"$f":"IF(D13=\"\",0,IF(基本情報!D13=\"\",0,IF(基本情報!D13=\"甲欄\",IF(基本情報!E13>7,計算シート!U10,HLOOKUP(基本情報!E13,計算シート!$N$4:$V$34,ROW(計算シート!N10)-3,0))&\"%\",計算シート!V10&\"%\")))","v":0},null,{"$f":"IF(基本情報!F13=\"○\",ROUND((F13)*IF(基本情報!$D$4=\"\",0,VLOOKUP(基本情報!$D$4,雇用保険料率!$C:$D,2,0)),0),0)","v":0},{"$f":"IF(OR(基本情報!$D$3=\"\",基本情報!H13=\"\"),0,HLOOKUP(基本情報!H13,計算シート!$AE$4:$AG$34,ROW(計算シート!AE10)-3,0))","v":0},{"$f":"IF(OR(基本情報!$D$3=\"\",基本情報!I13=\"\"),0,HLOOKUP(基本情報!I13,計算シート!$AH$4:$AJ$34,ROW(計算シート!AE10)-3,0))","v":0},0,"",0]
[null,7,{"$f":"IF(基本情報!C14=\"\",\"\",基本情報!C14)","v":""},null,{"$f":"IF(D14=\"\",0,IF(基本情報!D14=\"\",0,IF(基本情報!D14=\"甲欄\",IF(基本情報!E14>7,計算シート!U11,HLOOKUP(基本情報!E14,計算シート!$N$4:$V$34,ROW(計算シート!N11)-3,0))&\"%\",計算シート!V11&\"%\")))","v":0},null,{"$f":"IF(基本情報!F14=\"○\",ROUND((F14)*IF(基本情報!$D$4=\"\",0,VLOOKUP(基本情報!$D$4,雇用保険料率!$C:$D,2,0)),0),0)","v":0},{"$f":"IF(OR(基本情報!$D$3=\"\",基本情報!H14=\"\"),0,HLOOKUP(基本情報!H14,計算シート!$AE$4:$AG$34,ROW(計算シート!AE11)-3,0))","v":0},{"$f":"IF(OR(基本情報!$D$3=\"\",基本情報!I14=\"\"),0,HLOOKUP(基本情報!I14,計算シート!$AH$4:$AJ$34,ROW(計算シート!AE11)-3,0))","v":0},0,"",0]
[null,8,{"$f":"IF(基本情報!C15=\"\",\"\",基本情報!C15)","v":""},null,{"$f":"IF(D15=\"\",0,IF(基本情報!D15=\"\",0,IF(基本情報!D15=\"甲欄\",IF(基本情報!E15>7,計算シート!U12,HLOOKUP(基本情報!E15,計算シート!$N$4:$V$34,ROW(計算シート!N12)-3,0))&\"%\",計算シート!V12&\"%\")))","v":0},null,{"$f":"IF(基本情報!F15=\"○\",ROUND((F15)*IF(基本情報!$D$4=\"\",0,VLOOKUP(基本情報!$D$4,雇用保険料率!$C:$D,2,0)),0),0)","v":0},{"$f":"IF(OR(基本情報!$D$3=\"\",基本情報!H15=\"\"),0,HLOOKUP(基本情報!H15,計算シート!$AE$4:$AG$34,ROW(計算シート!AE12)-3,0))","v":0},{"$f":"IF(OR(基本情報!$D$3=\"\",基本情報!I15=\"\"),0,HLOOKUP(基本情報!I15,計算シート!$AH$4:$AJ$34,ROW(計算シート!AE12)-3,0))","v":0},0,"",0]
[null,9,{"$f":"IF(基本情報!C16=\"\",\"\",基本情報!C16)","v":""},null,{"$f":"IF(D16=\"\",0,IF(基本情報!D16=\"\",0,IF(基本情報!D16=\"甲欄\",IF(基本情報!E16>7,計算シート!U13,HLOOKUP(基本情報!E16,計算シート!$N$4:$V$34,ROW(計算シート!N13)-3,0))&\"%\",計算シート!V13&\"%\")))","v":0},null,{"$f":"IF(基本情報!F16=\"○\",ROUND((F16)*IF(基本情報!$D$4=\"\",0,VLOOKUP(基本情報!$D$4,雇用保険料率!$C:$D,2,0)),0),0)","v":0},{"$f":"IF(OR(基本情報!$D$3=\"\",基本情報!H16=\"\"),0,HLOOKUP(基本情報!H16,計算シート!$AE$4:$AG$34,ROW(計算シート!AE13)-3,0))","v":0},{"$f":"IF(OR(基本情報!$D$3=\"\",基本情報!I16=\"\"),0,HLOOKUP(基本情報!I16,計算シート!$AH$4:$AJ$34,ROW(計算シート!AE13)-3,0))","v":0},0,"",0]
[null,10,{"$f":"IF(基本情報!C17=\"\",\"\",基本情報!C17)","v":""},null,{"$f":"IF(D17=\"\",0,IF(基本情報!D17=\"\",0,IF(基本情報!D17=\"甲欄\",IF(基本情報!E17>7,計算シート!U14,HLOOKUP(基本情報!E17,計算シート!$N$4:$V$34,ROW(計算シート!N14)-3,0))&\"%\",計算シート!V14&\"%\")))","v":0},null,{"$f":"IF(基本情報!F17=\"○\",ROUND((F17)*IF(基本情報!$D$4=\"\",0,VLOOKUP(基本情報!$D$4,雇用保険料率!$C:$D,2,0)),0),0)","v":0},{"$f":"IF(OR(基本情報!$D$3=\"\",基本情報!H17=\"\"),0,HLOOKUP(基本情報!H17,計算シート!$AE$4:$AG$34,ROW(計算シート!AE14)-3,0))","v":0},{"$f":"IF(OR(基本情報!$D$3=\"\",基本情報!I17=\"\"),0,HLOOKUP(基本情報!I17,計算シート!$AH$4:$AJ$34,ROW(計算シート!AE14)-3,0))","v":0},0,"",0]
[null,11,{"$f":"IF(基本情報!C18=\"\",\"\",基本情報!C18)","v":""},null,{"$f":"IF(D18=\"\",0,IF(基本情報!D18=\"\",0,IF(基本情報!D18=\"甲欄\",IF(基本情報!E18>7,計算シート!U15,HLOOKUP(基本情報!E18,計算シート!$N$4:$V$34,ROW(計算シート!N15)-3,0))&\"%\",計算シート!V15&\"%\")))","v":0},null,{"$f":"IF(基本情報!F18=\"○\",ROUND((F18)*IF(基本情報!$D$4=\"\",0,VLOOKUP(基本情報!$D$4,雇用保険料率!$C:$D,2,0)),0),0)","v":0},{"$f":"IF(OR(基本情報!$D$3=\"\",基本情報!H18=\"\"),0,HLOOKUP(基本情報!H18,計算シート!$AE$4:$AG$34,ROW(計算シート!AE15)-3,0))","v":0},{"$f":"IF(OR(基本情報!$D$3=\"\",基本情報!I18=\"\"),0,HLOOKUP(基本情報!I18,計算シート!$AH$4:$AJ$34,ROW(計算シート!AE15)-3,0))","v":0},0,"",0]
[null,12,{"$f":"IF(基本情報!C19=\"\",\"\",基本情報!C19)","v":""},null,{"$f":"IF(D19=\"\",0,IF(基本情報!D19=\"\",0,IF(基本情報!D19=\"甲欄\",IF(基本情報!E19>7,計算シート!U16,HLOOKUP(基本情報!E19,計算シート!$N$4:$V$34,ROW(計算シート!N16)-3,0))&\"%\",計算シート!V16&\"%\")))","v":0},null,{"$f":"IF(基本情報!F19=\"○\",ROUND((F19)*IF(基本情報!$D$4=\"\",0,VLOOKUP(基本情報!$D$4,雇用保険料率!$C:$D,2,0)),0),0)","v":0},{"$f":"IF(OR(基本情報!$D$3=\"\",基本情報!H19=\"\"),0,HLOOKUP(基本情報!H19,計算シート!$AE$4:$AG$34,ROW(計算シート!AE16)-3,0))","v":0},{"$f":"IF(OR(基本情報!$D$3=\"\",基本情報!I19=\"\"),0,HLOOKUP(基本情報!I19,計算シート!$AH$4:$AJ$34,ROW(計算シート!AE16)-3,0))","v":0},0,"",0]
[null,13,{"$f":"IF(基本情報!C20=\"\",\"\",基本情報!C20)","v":""},null,{"$f":"IF(D20=\"\",0,IF(基本情報!D20=\"\",0,IF(基本情報!D20=\"甲欄\",IF(基本情報!E20>7,計算シート!U17,HLOOKUP(基本情報!E20,計算シート!$N$4:$V$34,ROW(計算シート!N17)-3,0))&\"%\",計算シート!V17&\"%\")))","v":0},null,{"$f":"IF(基本情報!F20=\"○\",ROUND((F20)*IF(基本情報!$D$4=\"\",0,VLOOKUP(基本情報!$D$4,雇用保険料率!$C:$D,2,0)),0),0)","v":0},{"$f":"IF(OR(基本情報!$D$3=\"\",基本情報!H20=\"\"),0,HLOOKUP(基本情報!H20,計算シート!$AE$4:$AG$34,ROW(計算シート!AE17)-3,0))","v":0},{"$f":"IF(OR(基本情報!$D$3=\"\",基本情報!I20=\"\"),0,HLOOKUP(基本情報!I20,計算シート!$AH$4:$AJ$34,ROW(計算シート!AE17)-3,0))","v":0},0,"",0]
[null,14,{"$f":"IF(基本情報!C21=\"\",\"\",基本情報!C21)","v":""},null,{"$f":"IF(D21=\"\",0,IF(基本情報!D21=\"\",0,IF(基本情報!D21=\"甲欄\",IF(基本情報!E21>7,計算シート!U18,HLOOKUP(基本情報!E21,計算シート!$N$4:$V$34,ROW(計算シート!N18)-3,0))&\"%\",計算シート!V18&\"%\")))","v":0},null,{"$f":"IF(基本情報!F21=\"○\",ROUND((F21)*IF(基本情報!$D$4=\"\",0,VLOOKUP(基本情報!$D$4,雇用保険料率!$C:$D,2,0)),0),0)","v":0},{"$f":"IF(OR(基本情報!$D$3=\"\",基本情報!H21=\"\"),0,HLOOKUP(基本情報!H21,計算シート!$AE$4:$AG$34,ROW(計算シート!AE18)-3,0))","v":0},{"$f":"IF(OR(基本情報!$D$3=\"\",基本情報!I21=\"\"),0,HLOOKUP(基本情報!I21,計算シート!$AH$4:$AJ$34,ROW(計算シート!AE18)-3,0))","v":0},0,"",0]
[null,15,{"$f":"IF(基本情報!C22=\"\",\"\",基本情報!C22)","v":""},null,{"$f":"IF(D22=\"\",0,IF(基本情報!D22=\"\",0,IF(基本情報!D22=\"甲欄\",IF(基本情報!E22>7,計算シート!U19,HLOOKUP(基本情報!E22,計算シート!$N$4:$V$34,ROW(計算シート!N19)-3,0))&\"%\",計算シート!V19&\"%\")))","v":0},null,{"$f":"IF(基本情報!F22=\"○\",ROUND((F22)*IF(基本情報!$D$4=\"\",0,VLOOKUP(基本情報!$D$4,雇用保険料率!$C:$D,2,0)),0),0)","v":0},{"$f":"IF(OR(基本情報!$D$3=\"\",基本情報!H22=\"\"),0,HLOOKUP(基本情報!H22,計算シート!$AE$4:$AG$34,ROW(計算シート!AE19)-3,0))","v":0},{"$f":"IF(OR(基本情報!$D$3=\"\",基本情報!I22=\"\"),0,HLOOKUP(基本情報!I22,計算シート!$AH$4:$AJ$34,ROW(計算シート!AE19)-3,0))","v":0},0,"",0]
[null,16,{"$f":"IF(基本情報!C23=\"\",\"\",基本情報!C23)","v":""},null,{"$f":"IF(D23=\"\",0,IF(基本情報!D23=\"\",0,IF(基本情報!D23=\"甲欄\",IF(基本情報!E23>7,計算シート!U20,HLOOKUP(基本情報!E23,計算シート!$N$4:$V$34,ROW(計算シート!N20)-3,0))&\"%\",計算シート!V20&\"%\")))","v":0},null,{"$f":"IF(基本情報!F23=\"○\",ROUND((F23)*IF(基本情報!$D$4=\"\",0,VLOOKUP(基本情報!$D$4,雇用保険料率!$C:$D,2,0)),0),0)","v":0},{"$f":"IF(OR(基本情報!$D$3=\"\",基本情報!H23=\"\"),0,HLOOKUP(基本情報!H23,計算シート!$AE$4:$AG$34,ROW(計算シート!AE20)-3,0))","v":0},{"$f":"IF(OR(基本情報!$D$3=\"\",基本情報!I23=\"\"),0,HLOOKUP(基本情報!I23,計算シート!$AH$4:$AJ$34,ROW(計算シート!AE20)-3,0))","v":0},0,"",0]
[null,17,{"$f":"IF(基本情報!C24=\"\",\"\",基本情報!C24)","v":""},null,{"$f":"IF(D24=\"\",0,IF(基本情報!D24=\"\",0,IF(基本情報!D24=\"甲欄\",IF(基本情報!E24>7,計算シート!U21,HLOOKUP(基本情報!E24,計算シート!$N$4:$V$34,ROW(計算シート!N21)-3,0))&\"%\",計算シート!V21&\"%\")))","v":0},null,{"$f":"IF(基本情報!F24=\"○\",ROUND((F24)*IF(基本情報!$D$4=\"\",0,VLOOKUP(基本情報!$D$4,雇用保険料率!$C:$D,2,0)),0),0)","v":0},{"$f":"IF(OR(基本情報!$D$3=\"\",基本情報!H24=\"\"),0,HLOOKUP(基本情報!H24,計算シート!$AE$4:$AG$34,ROW(計算シート!AE21)-3,0))","v":0},{"$f":"IF(OR(基本情報!$D$3=\"\",基本情報!I24=\"\"),0,HLOOKUP(基本情報!I24,計算シート!$AH$4:$AJ$34,ROW(計算シート!AE21)-3,0))","v":0},0,"",0]
[null,18,{"$f":"IF(基本情報!C25=\"\",\"\",基本情報!C25)","v":""},null,{"$f":"IF(D25=\"\",0,IF(基本情報!D25=\"\",0,IF(基本情報!D25=\"甲欄\",IF(基本情報!E25>7,計算シート!U22,HLOOKUP(基本情報!E25,計算シート!$N$4:$V$34,ROW(計算シート!N22)-3,0))&\"%\",計算シート!V22&\"%\")))","v":0},null,{"$f":"IF(基本情報!F25=\"○\",ROUND((F25)*IF(基本情報!$D$4=\"\",0,VLOOKUP(基本情報!$D$4,雇用保険料率!$C:$D,2,0)),0),0)","v":0},{"$f":"IF(OR(基本情報!$D$3=\"\",基本情報!H25=\"\"),0,HLOOKUP(基本情報!H25,計算シート!$AE$4:$AG$34,ROW(計算シート!AE22)-3,0))","v":0},{"$f":"IF(OR(基本情報!$D$3=\"\",基本情報!I25=\"\"),0,HLOOKUP(基本情報!I25,計算シート!$AH$4:$AJ$34,ROW(計算シート!AE22)-3,0))","v":0},0,"",0]
[null,19,{"$f":"IF(基本情報!C26=\"\",\"\",基本情報!C26)","v":""},null,{"$f":"IF(D26=\"\",0,IF(基本情報!D26=\"\",0,IF(基本情報!D26=\"甲欄\",IF(基本情報!E26>7,計算シート!U23,HLOOKUP(基本情報!E26,計算シート!$N$4:$V$34,ROW(計算シート!N23)-3,0))&\"%\",計算シート!V23&\"%\")))","v":0},null,{"$f":"IF(基本情報!F26=\"○\",ROUND((F26)*IF(基本情報!$D$4=\"\",0,VLOOKUP(基本情報!$D$4,雇用保険料率!$C:$D,2,0)),0),0)","v":0},{"$f":"IF(OR(基本情報!$D$3=\"\",基本情報!H26=\"\"),0,HLOOKUP(基本情報!H26,計算シート!$AE$4:$AG$34,ROW(計算シート!AE23)-3,0))","v":0},{"$f":"IF(OR(基本情報!$D$3=\"\",基本情報!I26=\"\"),0,HLOOKUP(基本情報!I26,計算シート!$AH$4:$AJ$34,ROW(計算シート!AE23)-3,0))","v":0},0,"",0]
[null,20,{"$f":"IF(基本情報!C27=\"\",\"\",基本情報!C27)","v":""},null,{"$f":"IF(D27=\"\",0,IF(基本情報!D27=\"\",0,IF(基本情報!D27=\"甲欄\",IF(基本情報!E27>7,計算シート!U24,HLOOKUP(基本情報!E27,計算シート!$N$4:$V$34,ROW(計算シート!N24)-3,0))&\"%\",計算シート!V24&\"%\")))","v":0},null,{"$f":"IF(基本情報!F27=\"○\",ROUND((F27)*IF(基本情報!$D$4=\"\",0,VLOOKUP(基本情報!$D$4,雇用保険料率!$C:$D,2,0)),0),0)","v":0},{"$f":"IF(OR(基本情報!$D$3=\"\",基本情報!H27=\"\"),0,HLOOKUP(基本情報!H27,計算シート!$AE$4:$AG$34,ROW(計算シート!AE24)-3,0))","v":0},{"$f":"IF(OR(基本情報!$D$3=\"\",基本情報!I27=\"\"),0,HLOOKUP(基本情報!I27,計算シート!$AH$4:$AJ$34,ROW(計算シート!AE24)-3,0))","v":0},0,"",0]
[null,21,{"$f":"IF(基本情報!C28=\"\",\"\",基本情報!C28)","v":""},null,{"$f":"IF(D28=\"\",0,IF(基本情報!D28=\"\",0,IF(基本情報!D28=\"甲欄\",IF(基本情報!E28>7,計算シート!U25,HLOOKUP(基本情報!E28,計算シート!$N$4:$V$34,ROW(計算シート!N25)-3,0))&\"%\",計算シート!V25&\"%\")))","v":0},null,{"$f":"IF(基本情報!F28=\"○\",ROUND((F28)*IF(基本情報!$D$4=\"\",0,VLOOKUP(基本情報!$D$4,雇用保険料率!$C:$D,2,0)),0),0)","v":0},{"$f":"IF(OR(基本情報!$D$3=\"\",基本情報!H28=\"\"),0,HLOOKUP(基本情報!H28,計算シート!$AE$4:$AG$34,ROW(計算シート!AE25)-3,0))","v":0},{"$f":"IF(OR(基本情報!$D$3=\"\",基本情報!I28=\"\"),0,HLOOKUP(基本情報!I28,計算シート!$AH$4:$AJ$34,ROW(計算シート!AE25)-3,0))","v":0},0,"",0]
[null,22,{"$f":"IF(基本情報!C29=\"\",\"\",基本情報!C29)","v":""},null,{"$f":"IF(D29=\"\",0,IF(基本情報!D29=\"\",0,IF(基本情報!D29=\"甲欄\",IF(基本情報!E29>7,計算シート!U26,HLOOKUP(基本情報!E29,計算シート!$N$4:$V$34,ROW(計算シート!N26)-3,0))&\"%\",計算シート!V26&\"%\")))","v":0},null,{"$f":"IF(基本情報!F29=\"○\",ROUND((F29)*IF(基本情報!$D$4=\"\",0,VLOOKUP(基本情報!$D$4,雇用保険料率!$C:$D,2,0)),0),0)","v":0},{"$f":"IF(OR(基本情報!$D$3=\"\",基本情報!H29=\"\"),0,HLOOKUP(基本情報!H29,計算シート!$AE$4:$AG$34,ROW(計算シート!AE26)-3,0))","v":0},{"$f":"IF(OR(基本情報!$D$3=\"\",基本情報!I29=\"\"),0,HLOOKUP(基本情報!I29,計算シート!$AH$4:$AJ$34,ROW(計算シート!AE26)-3,0))","v":0},0,"",0]
[null,23,{"$f":"IF(基本情報!C30=\"\",\"\",基本情報!C30)","v":""},null,{"$f":"IF(D30=\"\",0,IF(基本情報!D30=\"\",0,IF(基本情報!D30=\"甲欄\",IF(基本情報!E30>7,計算シート!U27,HLOOKUP(基本情報!E30,計算シート!$N$4:$V$34,ROW(計算シート!N27)-3,0))&\"%\",計算シート!V27&\"%\")))","v":0},null,{"$f":"IF(基本情報!F30=\"○\",ROUND((F30)*IF(基本情報!$D$4=\"\",0,VLOOKUP(基本情報!$D$4,雇用保険料率!$C:$D,2,0)),0),0)","v":0},{"$f":"IF(OR(基本情報!$D$3=\"\",基本情報!H30=\"\"),0,HLOOKUP(基本情報!H30,計算シート!$AE$4:$AG$34,ROW(計算シート!AE27)-3,0))","v":0},{"$f":"IF(OR(基本情報!$D$3=\"\",基本情報!I30=\"\"),0,HLOOKUP(基本情報!I30,計算シート!$AH$4:$AJ$34,ROW(計算シート!AE27)-3,0))","v":0},0,"",0]
[null,24,{"$f":"IF(基本情報!C31=\"\",\"\",基本情報!C31)","v":""},null,{"$f":"IF(D31=\"\",0,IF(基本情報!D31=\"\",0,IF(基本情報!D31=\"甲欄\",IF(基本情報!E31>7,計算シート!U28,HLOOKUP(基本情報!E31,計算シート!$N$4:$V$34,ROW(計算シート!N28)-3,0))&\"%\",計算シート!V28&\"%\")))","v":0},null,{"$f":"IF(基本情報!F31=\"○\",ROUND((F31)*IF(基本情報!$D$4=\"\",0,VLOOKUP(基本情報!$D$4,雇用保険料率!$C:$D,2,0)),0),0)","v":0},{"$f":"IF(OR(基本情報!$D$3=\"\",基本情報!H31=\"\"),0,HLOOKUP(基本情報!H31,計算シート!$AE$4:$AG$34,ROW(計算シート!AE28)-3,0))","v":0},{"$f":"IF(OR(基本情報!$D$3=\"\",基本情報!I31=\"\"),0,HLOOKUP(基本情報!I31,計算シート!$AH$4:$AJ$34,ROW(計算シート!AE28)-3,0))","v":0},0,"",0]
[null,25,{"$f":"IF(基本情報!C32=\"\",\"\",基本情報!C32)","v":""},null,{"$f":"IF(D32=\"\",0,IF(基本情報!D32=\"\",0,IF(基本情報!D32=\"甲欄\",IF(基本情報!E32>7,計算シート!U29,HLOOKUP(基本情報!E32,計算シート!$N$4:$V$34,ROW(計算シート!N29)-3,0))&\"%\",計算シート!V29&\"%\")))","v":0},null,{"$f":"IF(基本情報!F32=\"○\",ROUND((F32)*IF(基本情報!$D$4=\"\",0,VLOOKUP(基本情報!$D$4,雇用保険料率!$C:$D,2,0)),0),0)","v":0},{"$f":"IF(OR(基本情報!$D$3=\"\",基本情報!H32=\"\"),0,HLOOKUP(基本情報!H32,計算シート!$AE$4:$AG$34,ROW(計算シート!AE29)-3,0))","v":0},{"$f":"IF(OR(基本情報!$D$3=\"\",基本情報!I32=\"\"),0,HLOOKUP(基本情報!I32,計算シート!$AH$4:$AJ$34,ROW(計算シート!AE29)-3,0))","v":0},0,"",0]
[null,26,{"$f":"IF(基本情報!C33=\"\",\"\",基本情報!C33)","v":""},null,{"$f":"IF(D33=\"\",0,IF(基本情報!D33=\"\",0,IF(基本情報!D33=\"甲欄\",IF(基本情報!E33>7,計算シート!U30,HLOOKUP(基本情報!E33,計算シート!$N$4:$V$34,ROW(計算シート!N30)-3,0))&\"%\",計算シート!V30&\"%\")))","v":0},null,{"$f":"IF(基本情報!F33=\"○\",ROUND((F33)*IF(基本情報!$D$4=\"\",0,VLOOKUP(基本情報!$D$4,雇用保険料率!$C:$D,2,0)),0),0)","v":0},{"$f":"IF(OR(基本情報!$D$3=\"\",基本情報!H33=\"\"),0,HLOOKUP(基本情報!H33,計算シート!$AE$4:$AG$34,ROW(計算シート!AE30)-3,0))","v":0},{"$f":"IF(OR(基本情報!$D$3=\"\",基本情報!I33=\"\"),0,HLOOKUP(基本情報!I33,計算シート!$AH$4:$AJ$34,ROW(計算シート!AE30)-3,0))","v":0},0,"",0]
[null,27,{"$f":"IF(基本情報!C34=\"\",\"\",基本情報!C34)","v":""},null,{"$f":"IF(D34=\"\",0,IF(基本情報!D34=\"\",0,IF(基本情報!D34=\"甲欄\",IF(基本情報!E34>7,計算シート!U31,HLOOKUP(基本情報!E34,計算シート!$N$4:$V$34,ROW(計算シート!N31)-3,0))&\"%\",計算シート!V31&\"%\")))","v":0},null,{"$f":"IF(基本情報!F34=\"○\",ROUND((F34)*IF(基本情報!$D$4=\"\",0,VLOOKUP(基本情報!$D$4,雇用保険料率!$C:$D,2,0)),0),0)","v":0},{"$f":"IF(OR(基本情報!$D$3=\"\",基本情報!H34=\"\"),0,HLOOKUP(基本情報!H34,計算シート!$AE$4:$AG$34,ROW(計算シート!AE31)-3,0))","v":0},{"$f":"IF(OR(基本情報!$D$3=\"\",基本情報!I34=\"\"),0,HLOOKUP(基本情報!I34,計算シート!$AH$4:$AJ$34,ROW(計算シート!AE31)-3,0))","v":0},0,"",0]
[null,28,{"$f":"IF(基本情報!C35=\"\",\"\",基本情報!C35)","v":""},null,{"$f":"IF(D35=\"\",0,IF(基本情報!D35=\"\",0,IF(基本情報!D35=\"甲欄\",IF(基本情報!E35>7,計算シート!U32,HLOOKUP(基本情報!E35,計算シート!$N$4:$V$34,ROW(計算シート!N32)-3,0))&\"%\",計算シート!V32&\"%\")))","v":0},null,{"$f":"IF(基本情報!F35=\"○\",ROUND((F35)*IF(基本情報!$D$4=\"\",0,VLOOKUP(基本情報!$D$4,雇用保険料率!$C:$D,2,0)),0),0)","v":0},{"$f":"IF(OR(基本情報!$D$3=\"\",基本情報!H35=\"\"),0,HLOOKUP(基本情報!H35,計算シート!$AE$4:$AG$34,ROW(計算シート!AE32)-3,0))","v":0},{"$f":"IF(OR(基本情報!$D$3=\"\",基本情報!I35=\"\"),0,HLOOKUP(基本情報!I35,計算シート!$AH$4:$AJ$34,ROW(計算シート!AE32)-3,0))","v":0},0,"",0]
[null,29,{"$f":"IF(基本情報!C36=\"\",\"\",基本情報!C36)","v":""},null,{"$f":"IF(D36=\"\",0,IF(基本情報!D36=\"\",0,IF(基本情報!D36=\"甲欄\",IF(基本情報!E36>7,計算シート!U33,HLOOKUP(基本情報!E36,計算シート!$N$4:$V$34,ROW(計算シート!N33)-3,0))&\"%\",計算シート!V33&\"%\")))","v":0},null,{"$f":"IF(基本情報!F36=\"○\",ROUND((F36)*IF(基本情報!$D$4=\"\",0,VLOOKUP(基本情報!$D$4,雇用保険料率!$C:$D,2,0)),0),0)","v":0},{"$f":"IF(OR(基本情報!$D$3=\"\",基本情報!H36=\"\"),0,HLOOKUP(基本情報!H36,計算シート!$AE$4:$AG$34,ROW(計算シート!AE33)-3,0))","v":0},{"$f":"IF(OR(基本情報!$D$3=\"\",基本情報!I36=\"\"),0,HLOOKUP(基本情報!I36,計算シート!$AH$4:$AJ$34,ROW(計算シート!AE33)-3,0))","v":0},0,"",0]
[null,30,{"$f":"IF(基本情報!C37=\"\",\"\",基本情報!C37)","v":""},null,{"$f":"IF(D37=\"\",0,IF(基本情報!D37=\"\",0,IF(基本情報!D37=\"甲欄\",IF(基本情報!E37>7,計算シート!U34,HLOOKUP(基本情報!E37,計算シート!$N$4:$V$34,ROW(計算シート!N34)-3,0))&\"%\",計算シート!V34&\"%\")))","v":0},null,{"$f":"IF(基本情報!F37=\"○\",ROUND((F37)*IF(基本情報!$D$4=\"\",0,VLOOKUP(基本情報!$D$4,雇用保険料率!$C:$D,2,0)),0),0)","v":0},{"$f":"IF(OR(基本情報!$D$3=\"\",基本情報!H37=\"\"),0,HLOOKUP(基本情報!H37,計算シート!$AE$4:$AG$34,ROW(計算シート!AE34)-3,0))","v":0},{"$f":"IF(OR(基本情報!$D$3=\"\",基本情報!I37=\"\"),0,HLOOKUP(基本情報!I37,計算シート!$AH$4:$AJ$34,ROW(計算シート!AE34)-3,0))","v":0},0,"",0]

{"sheet":"計算シート","index":4,"n_rows":34,"n_cols":36,"rows_kept":34,"cut":false,"hidden":true,"merged":[[2,2,3,2],[2,33,2,35],[2,4,2,6],[2,3,3,3],[2,30,2,32],[2,22,2,24],[2,13,2,21],[2,25,2,29],[2,7,2,10],[2,11,2,12]]}
[]
[]
[null,null,"NO.","名前","源泉徴収税額",null,null,"月額101万円超えた場合の源泉徴収税額（甲欄）",null,null,null,"月額101万円超えた場合の税額表（乙欄)",null,"賞与税率",null,null,null,null,null,null,null,null,"給与：社会保険（健康保険）",null,null,"給与：社会保険（厚生年金）",null,null,null,null,"賞与：社会保険（健康保険)",null,null,"賞与：社会保険（厚生年金）"]
[null,null,null,null,"甲欄","乙欄","乙欄（従たる給与についての扶養控除等申告書提出あり）",{"$f":"税額基本情報!C6","v":"1,010,000円以上\n1,250,000円未満"},{"$f":"税額基本情報!C7","v":"1,250,000円以上\n1,740,000円未満"},{"$f":"税額基本情報!C8","v":"1,740,000円以上\n3,570,000円未満"},{"$f":"税額基本情報!C9","v":" 3,570,000円以上"},{"$f":"税額基本情報!C13","v":"1,010,000円以上\n1,250,000円未満"},{"$f":"税額基本情報!C14","v":"1250000円以上"},0,1,2,3,4,5,6,7,"乙",{"$f":"リスト表!E4","v":"無し"},{"$f":"リスト表!E5","v":"介護保険なし"},{"$f":"リスト表!E6","v":"介護保険あり"},{"$f":"リスト表!F4","v":"無し"},{"$f":"リスト表!F5","v":"一般の被保険者"},{"$f":"リスト表!F6","v":"坑内員・船員"},"＜一般の被保険者＞標準報酬月額98,000円未満、650,000円以上の場合","＜坑内員・船員＞標準報酬月額98,000円未満、650,000円以上の場合",{"$f":"リスト表!E4","v":"無し"},{"$f":"リスト表!E5","v":"介護保険なし"},{"$f":"リスト表!E6","v":"介護保険あり"},{"$f":"リスト表!F4","v":"無し"},{"$f":"リスト表!F5","v":"一般の被保険者"},{"$f":"リスト表!F6","v":"坑内員・船員"}]
[null,null,1,{"$f":"給与計算!C8","v":"給与一郎"},{"$f":"MAX(IF(給与計算!M8>=税額基本情報!$D$6,MAX(計算シート!H5:K5),IF(給与計算!M8<源泉月額表!$B$8,0,VLOOKUP(給与計算!M8,源泉月額表!$B:$K,IF(基本情報!E8>=8,10,基本情報!E8+3),1)))-IF(基本情報!E8>=8,(基本情報!E8-7)*税額基本情報!$D$17,0),0)","v":15430},{"$f":"IF(給与計算!M8<源泉月額表!$B$8,ROUNDDOWN(給与計算!M8*税額基本情報!$D$23,0),IF(給与計算!M8=0,0,IF(給与計算!M8>=税額基本情報!$D$13,MAX(L5:M5),VLOOKUP(給与計算!M8,源泉月額表!$B:$L,11,1))))","v":117500},{"$f":"MAX(IF(給与計算!M8<源泉月額表!$B$8,ROUNDDOWN(給与計算!M8*3.063%,0),IF(給与計算!M8=0,0,IF(給与計算!M8>=税額基本情報!$D$13,MAX(L5:M5),VLOOKUP(給与計算!M8,源泉月額表!$B:$L,11,1))))-基本情報!E8*税額基本情報!$D$20,0)","v":114280},{"$f":"IF(AND(給与計算!M8>=1010000,給与計算!M8<1250000),VLOOKUP(給与計算!M8,税額基本情報!$D$6:$M$9,IF(基本情報!E8>=8,10,基本情報!E8+3),1)+ROUNDDOWN((給与計算!M8-税額基本情報!$D$6)*税額基本情報!$E$6,0),0)","v":0},{"$f":"IF(AND(給与計算!M8>=1250000,給与計算!M8<1740000),VLOOKUP(給与計算!M8,税額基本情報!$D$6:$M$9,IF(基本情報!E8>=8,10,基本情報!E8+3),1)+ROUNDDOWN((給与計算!M8-税額基本情報!$D$7)*税額基本情報!$E$7,0),0)","v":0},{"$f":"IF(AND(給与計算!M8>=1740000,給与計算!M8<3570000),VLOOKUP(給与計算!M8,税額基本情報!$D$6:$M$9,IF(基本情報!E8>=8,10,基本情報!E8+3),1)+ROUNDDOWN((給与計算!M8-税額基本情報!$D$8)*税額基本情報!$E$8,0),0)","v":0},{"$f":"IF(給与計算!M8>=3570000,VLOOKUP(給与計算!M8,税額基本情報!$D$6:$M$9,IF(基本情報!E8>=8,10,基本情報!E8+3),1)+ROUNDDOWN((給与計算!M8-税額基本情報!$D$9)*税額基本情報!$E$9,0),0)","v":0},{"$f":"IF(AND(給与計算!M8>=1010000,給与計算!M8<1250000),税額基本情報!$F$13+ROUNDDOWN((給与計算!M8-税額基本情報!$D$13)*税額基本情報!$E$13,0),0)","v":0},{"$f":"IF(給与計算!M8>=1250000,税額基本情報!$F$14+ROUNDDOWN((給与計算!M8-税額基本情報!$D$14)*税額基本情報!$E$14,0),0)","v":0},{"$f":"IF(賞与計算!D8<源泉賞与表!$D$10*1000,0,INDEX(源泉賞与表!$B:$B,MATCH(賞与計算!D8/1000,源泉賞与表!$D:$D,1)))","v":16.335999999999999},{"$f":"IF(賞与計算!D8<源泉賞与表!$F$10*1000,0,INDEX(源泉賞与表!$B:$B,MATCH(賞与計算!D8/1000,源泉賞与表!$F:$F,1)))","v":16.335999999999999},{"$f":"IF(賞与計算!D8<源泉賞与表!$H$10*1000,0,INDEX(源泉賞与表!$B:$B,MATCH(賞与計算!D8/1000,源泉賞与表!$H:$H,1)))","v":14.294},{"$f":"IF(賞与計算!D8<源泉賞与表!$J$10*1000,0,INDEX(源泉賞与表!$B:$B,MATCH(賞与計算!D8/1000,源泉賞与表!$J:$J,1)))","v":12.252000000000001},{"$f":"IF(賞与計算!D8<源泉賞与表!$L$10*1000,0,INDEX(源泉賞与表!$B:$B,MATCH(賞与計算!D8/1000,源泉賞与表!$L:$L,1)))","v":10.210000000000001},{"$f":"IF(賞与計算!D8<源泉賞与表!$N$10*1000,0,INDEX(源泉賞与表!$B:$B,MATCH(賞与計算!D8/1000,源泉賞与表!$N:$N,1)))","v":8.1679999999999993},{"$f":"IF(賞与計算!D8<源泉賞与表!$P$10*1000,0,INDEX(源泉賞与表!$B:$B,MATCH(賞与計算!D8/1000,源泉賞与表!$P:$P,1)))","v":6.1260000000000003},{"$f":"IF(賞与計算!D8<源泉賞与表!$R$10*1000,0,INDEX(源泉賞与表!$B:$B,MATCH(賞与計算!D8/1000,源泉賞与表!$R:$R,1)))","v":6.1260000000000003},{"$f":"IF(賞与計算!D8=\"\",\"\",IF(賞与計算!D8<源泉賞与表!$T$22*1000,10.21,INDEX(源泉賞与表!$B:$B,MATCH(賞与計算!D8/1000,源泉賞与表!$T:$T,1))))","v":30.63},0,{"$f":"IF(基本情報!G8=\"\",0,ROUND(VLOOKUP(基本情報!G8,INDIRECT(基本情報!$D$3&\"!$C$15:$P$61\"),10,0)-0.1,0))","v":27916},{"$f":"IF(基本情報!G8=\"\",0,ROUND(VLOOKUP(基本情報!G8,INDIRECT(基本情報!$D$3&\"!$C$15:$P$61\"),14,0)-0.1,0))","v":32732},{"$f":"W5","v":0},{"$f":"IF(基本情報!G8=\"\",0,ROUND(IF(OR(基本情報!G8<税額基本情報!$E$26,基本情報!G8>税額基本情報!$E$27),AC5,VLOOKUP(基本情報!G8,INDIRECT(基本情報!$D$3&\"!$C$19:$X$48\"),18,0))-0.1,0))","v":48927},{"$f":"IF(基本情報!G8=\"\",0,ROUND(IF(OR(基本情報!G8<税額基本情報!$E$26,基本情報!G8>税額基本情報!$E$27),AD5,VLOOKUP(基本情報!G8,INDIRECT(基本情報!$D$3&\"!$C$19:$X$48\"),22,0))-0.1,0))","v":49526},{"$f":"IF(基本情報!G8=\"\",0,IF(基本情報!G8<税額基本情報!$E$26,税額基本情報!$F$26,IF(基本情報!G8>税額基本情報!$E$27,税額基本情報!$F$27,0)))","v":0},{"$f":"IF(基本情報!G8=\"\",0,IF(基本情報!G8<税額基本情報!$E$26,税額基本情報!$G$26,IF(基本情報!G8>税額基本情報!$E$27,税額基本情報!$G$27,0)))","v":0},{"$f":"W5","v":0},{"$f":"ROUND(ROUNDDOWN(賞与計算!F8,-3)*INDIRECT(基本情報!$D$3&\"!$J$10\")*0.5-0.1,0)","v":24925},{"$f":"ROUND(ROUNDDOWN(賞与計算!F8,-3)*INDIRECT(基本情報!$D$3&\"!$N$10\")/2-0.1,0)","v":29225},{"$f":"W5","v":0},{"$f":"ROUND(IF(賞与計算!F8>税額基本情報!$D$30,税額基本情報!$D$30,ROUNDDOWN(賞与計算!F8,-3))*INDIRECT(基本情報!$D$3&\"!$R$10\")/2-0.1,0)","v":43685},{"$f":"ROUND(IF(賞与計算!F8>税額基本情報!$D$30,税額基本情報!$D$30,ROUNDDOWN(賞与計算!F8,-3))*INDIRECT(基本情報!$D$3&\"!$V$10\")/2-0.1,0)","v":44220}]
[null,null,2,{"$f":"給与計算!C9","v":"給与二郎"},{"$f":"MAX(IF(給与計算!M9>=税額基本情報!$D$6,MAX(計算シート!H6:K6),IF(給与計算!M9<源泉月額表!$B$8,0,VLOOKUP(給与計算!M9,源泉月額表!$B:$K,IF(基本情報!E9>=8,10,基本情報!E9+3),1)))-IF(基本情報!E9>=8,(基本情報!E9-7)*税額基本情報!$D$17,0),0)","v":5240},{"$f":"IF(給与計算!M9<源泉月額表!$B$8,ROUNDDOWN(給与計算!M9*税額基本情報!$D$23,0),IF(給与計算!M9=0,0,IF(給与計算!M9>=税額基本情報!$D$13,MAX(L6:M6),VLOOKUP(給与計算!M9,源泉月額表!$B:$L,11,1))))","v":39400},{"$f":"MAX(IF(給与計算!M9<源泉月額表!$B$8,ROUNDDOWN(給与計算!M9*3.063%,0),IF(給与計算!M9=0,0,IF(給与計算!M9>=税額基本情報!$D$13,MAX(L6:M6),VLOOKUP(給与計算!M9,源泉月額表!$B:$L,11,1))))-基本情報!E9*税額基本情報!$D$20,0)","v":37790},{"$f":"IF(AND(給与計算!M9>=1010000,給与計算!M9<1250000),VLOOKUP(給与計算!M9,税額基本情報!$D$6:$M$9,IF(基本情報!E9>=8,10,基本情報!E9+3),1)+ROUNDDOWN((給与計算!M9-税額基本情報!$D$6)*税額基本情報!$E$6,0),0)","v":0},{"$f":"IF(AND(給与計算!M9>=1250000,給与計算!M9<1740000),VLOOKUP(給与計算!M9,税額基本情報!$D$6:$M$9,IF(基本情報!E9>=8,10,基本情報!E9+3),1)+ROUNDDOWN((給与計算!M9-税額基本情報!$D$7)*税額基本情報!$E$7,0),0)","v":0},{"$f":"IF(AND(給与計算!M9>=1740000,給与計算!M9<3570000),VLOOKUP(給与計算!M9,税額基本情報!$D$6:$M$9,IF(基本情報!E9>=8,10,基本情報!E9+3),1)+ROUNDDOWN((給与計算!M9-税額基本情報!$D$8)*税額基本情報!$E$8,0),0)","v":0},{"$f":"IF(給与計算!M9>=3570000,VLOOKUP(給与計算!M9,税額基本情報!$D$6:$M$9,IF(基本情報!E9>=8,10,基本情報!E9+3),1)+ROUNDDOWN((給与計算!M9-税額基本情報!$D$9)*税額基本情報!$E$9,0),0)","v":0},{"$f":"IF(AND(給与計算!M9>=1010000,給与計算!M9<1250000),税額基本情報!$F$13+ROUNDDOWN((給与計算!M9-税額基本情報!$D$13)*税額基本情報!$E$13,0),0)","v":0},{"$f":"IF(給与計算!M9>=1250000,税額基本情報!$F$14+ROUNDDOWN((給与計算!M9-税額基本情報!$D$14)*税額基本情報!$E$14,0),0)","v":0},{"$f":"IF(賞与計算!D9<源泉賞与表!$D$10*1000,0,INDEX(源泉賞与表!$B:$B,MATCH(賞与計算!D9/1000,源泉賞与表!$D:$D,1)))","v":6.1260000000000003},{"$f":"IF(賞与計算!D9<源泉賞与表!$F$10*1000,0,INDEX(源泉賞与表!$B:$B,MATCH(賞与計算!D9/1000,源泉賞与表!$F:$F,1)))","v":4.0839999999999996},{"$f":"IF(賞与計算!D9<源泉賞与表!$H$10*1000,0,INDEX(源泉賞与表!$B:$B,MATCH(賞与計算!D9/1000,源泉賞与表!$H:$H,1)))","v":2.0419999999999998},{"$f":"IF(賞与計算!D9<源泉賞与表!$J$10*1000,0,INDEX(源泉賞与表!$B:$B,MATCH(賞与計算!D9/1000,源泉賞与表!$J:$J,1)))","v":2.0419999999999998},{"$f":"IF(賞与計算!D9<源泉賞与表!$L$10*1000,0,INDEX(源泉賞与表!$B:$B,MATCH(賞与計算!D9/1000,源泉賞与表!$L:$L,1)))","v":2.0419999999999998},{"$f":"IF(賞与計算!D9<源泉賞与表!$N$10*1000,0,INDEX(源泉賞与表!$B:$B,MATCH(賞与計算!D9/1000,源泉賞与表!$N:$N,1)))","v":2.0419999999999998},{"$f":"IF(賞与計算!D9<源泉賞与表!$P$10*1000,0,INDEX(源泉賞与表!$B:$B,MATCH(賞与計算!D9/1000,源泉賞与表!$P:$P,1)))","v":0},{"$f":"IF(賞与計算!D9<源泉賞与表!$R$10*1000,0,INDEX(源泉賞与表!$B:$B,MATCH(賞与計算!D9/1000,源泉賞与表!$R:$R,1)))","v":0},{"$f":"IF(賞与計算!D9=\"\",\"\",IF(賞与計算!D9<源泉賞与表!$T$22*1000,10.21,INDEX(源泉賞与表!$B:$B,MATCH(賞与計算!D9/1000,源泉賞与表!$T:$T,1))))","v":20.420000000000002},0,{"$f":"IF(基本情報!G9=\"\",0,ROUND(VLOOKUP(基本情報!G9,INDIRECT(基本情報!$D$3&\"!$C$15:$P$61\"),10,0)-0.1,0))","v":14955},{"$f":"IF(基本情報!G9=\"\",0,ROUND(VLOOKUP(基本情報!G9,INDIRECT(基本情報!$D$3&\"!$C$15:$P$61\"),14,0)-0.1,0))","v":17535},{"$f":"W6","v":0},{"$f":"IF(基本情報!G9=\"\",0,ROUND(IF(OR(基本情報!G9<税額基本情報!$E$26,基本情報!G9>税額基本情報!$E$27),AC6,VLOOKUP(基本情報!G9,INDIRECT(基本情報!$D$3&\"!$C$19:$X$48\"),18,0))-0.1,0))","v":26211},{"$f":"IF(基本情報!G9=\"\",0,ROUND(IF(OR(基本情報!G9<税額基本情報!$E$26,基本情報!G9>税額基本情報!$E$27),AD6,VLOOKUP(基本情報!G9,INDIRECT(基本情報!$D$3&\"!$C$19:$X$48\"),22,0))-0.1,0))","v":26532},{"$f":"IF(基本情報!G9=\"\",0,IF(基本情報!G9<税額基本情報!$E$26,税額基本情報!$F$26,IF(基本情報!G9>税額基本情報!$E$27,税額基本情報!$F$27,0)))","v":0},{"$f":"IF(基本情報!G9=\"\",0,IF(基本情報!G9<税額基本情報!$E$26,税額基本情報!$G$26,IF(基本情報!G9>税額基本情報!$E$27,税額基本情報!$G$27,0)))","v":0},{"$f":"W6","v":0},{"$f":"ROUND(ROUNDDOWN(賞与計算!F9,-3)*INDIRECT(基本情報!$D$3&\"!$J$10\")*0.5-0.1,0)","v":17447},{"$f":"ROUND(ROUNDDOWN(賞与計算!F9,-3)*INDIRECT(基本情報!$D$3&\"!$N$10\")/2-0.1,0)","v":20457},{"$f":"W6","v":0},{"$f":"ROUND(IF(賞与計算!F9>税額基本情報!$D$30,税額基本情報!$D$30,ROUNDDOWN(賞与計算!F9,-3))*INDIRECT(基本情報!$D$3&\"!$R$10\")/2-0.1,0)","v":30579},{"$f":"ROUND(IF(賞与計算!F9>税額基本情報!$D$30,税額基本情報!$D$30,ROUNDDOWN(賞与計算!F9,-3))*INDIRECT(基本情報!$D$3&\"!$V$10\")/2-0.1,0)","v":30954}]
[null,null,3,{"$f":"給与計算!C10","v":"給与三郎"},{"$f":"MAX(IF(給与計算!M10>=税額基本情報!$D$6,MAX(計算シート!H7:K7),IF(給与計算!M10<源泉月額表!$B$8,0,VLOOKUP(給与計算!M10,源泉月額表!$B:$K,IF(基本情報!E10>=8,10,基本情報!E10+3),1)))-IF(基本情報!E10>=8,(基本情報!E10-7)*税額基本情報!$D$17,0),0)","v":2980},{"$f":"IF(給与計算!M10<源泉月額表!$B$8,ROUNDDOWN(給与計算!M10*税額基本情報!$D$23,0),IF(給与計算!M10=0,0,IF(給与計算!M10>=税額基本情報!$D$13,MAX(L7:M7),VLOOKUP(給与計算!M10,源泉月額表!$B:$L,11,1))))","v":8700},{"$f":"MAX(IF(給与計算!M10<源泉月額表!$B$8,ROUNDDOWN(給与計算!M10*3.063%,0),IF(給与計算!M10=0,0,IF(給与計算!M10>=税額基本情報!$D$13,MAX(L7:M7),VLOOKUP(給与計算!M10,源泉月額表!$B:$L,11,1))))-基本情報!E10*税額基本情報!$D$20,0)","v":8700},{"$f":"IF(AND(給与計算!M10>=1010000,給与計算!M10<1250000),VLOOKUP(給与計算!M10,税額基本情報!$D$6:$M$9,IF(基本情報!E10>=8,10,基本情報!E10+3),1)+ROUNDDOWN((給与計算!M10-税額基本情報!$D$6)*税額基本情報!$E$6,0),0)","v":0},{"$f":"IF(AND(給与計算!M10>=1250000,給与計算!M10<1740000),VLOOKUP(給与計算!M10,税額基本情報!$D$6:$M$9,IF(基本情報!E10>=8,10,基本情報!E10+3),1)+ROUNDDOWN((給与計算!M10-税額基本情報!$D$7)*税額基本情報!$E$7,0),0)","v":0},{"$f":"IF(AND(給与計算!M10>=1740000,給与計算!M10<3570000),VLOOKUP(給与計算!M10,税額基本情報!$D$6:$M$9,IF(基本情報!E10>=8,10,基本情報!E10+3),1)+ROUNDDOWN((給与計算!M10-税額基本情報!$D$8)*税額基本情報!$E$8,0),0)","v":0},{"$f":"IF(給与計算!M10>=3570000,VLOOKUP(給与計算!M10,税額基本情報!$D$6:$M$9,IF(基本情報!E10>=8,10,基本情報!E10+3),1)+ROUNDDOWN((給与計算!M10-税額基本情報!$D$9)*税額基本情報!$E$9,0),0)","v":0},{"$f":"IF(AND(給与計算!M10>=1010000,給与計算!M10<1250000),税額基本情報!$F$13+ROUNDDOWN((給与計算!M10-税額基本情報!$D$13)*税額基本情報!$E$13,0),0)","v":0},{"$f":"IF(給与計算!M10>=1250000,税額基本情報!$F$14+ROUNDDOWN((給与計算!M10-税額基本情報!$D$14)*税額基本情報!$E$14,0),0)","v":0},{"$f":"IF(賞与計算!D10<源泉賞与表!$D$10*1000,0,INDEX(源泉賞与表!$B:$B,MATCH(賞与計算!D10/1000,源泉賞与表!$D:$D,1)))","v":4.0839999999999996},{"$f":"IF(賞与計算!D10<源泉賞与表!$F$10*1000,0,INDEX(源泉賞与表!$B:$B,MATCH(賞与計算!D10/1000,源泉賞与表!$F:$F,1)))","v":2.0419999999999998},{"$f":"IF(賞与計算!D10<源泉賞与表!$H$10*1000,0,INDEX(源泉賞与表!$B:$B,MATCH(賞与計算!D10/1000,源泉賞与表!$H:$H,1)))","v":2.0419999999999998},{"$f":"IF(賞与計算!D10<源泉賞与表!$J$10*1000,0,INDEX(源泉賞与表!$B:$B,MATCH(賞与計算!D10/1000,源泉賞与表!$J:$J,1)))","v":0},{"$f":"IF(賞与計算!D10<源泉賞与表!$L$10*1000,0,INDEX(源泉賞与表!$B:$B,MATCH(賞与計算!D10/1000,源泉賞与表!$L:$L,1)))","v":0},{"$f":"IF(賞与計算!D10<源泉賞与表!$N$10*1000,0,INDEX(源泉賞与表!$B:$B,MATCH(賞与計算!D10/1000,源泉賞与表!$N:$N,1)))","v":0},{"$f":"IF(賞与計算!D10<源泉賞与表!$P$10*1000,0,INDEX(源泉賞与表!$B:$B,MATCH(賞与計算!D10/1000,源泉賞与表!$P:$P,1)))","v":0},{"$f":"IF(賞与計算!D10<源泉賞与表!$R$10*1000,0,INDEX(源泉賞与表!$B:$B,MATCH(賞与計算!D10/1000,源泉賞与表!$R:$R,1)))","v":0},{"$f":"IF(賞与計算!D10=\"\",\"\",IF(賞与計算!D10<源泉賞与表!$T$22*1000,10.21,INDEX(源泉賞与表!$B:$B,MATCH(賞与計算!D10/1000,源泉賞与表!$T:$T,1))))","v":10.210000000000001},0,{"$f":"IF(基本情報!G10=\"\",0,ROUND(VLOOKUP(基本情報!G10,INDIRECT(基本情報!$D$3&\"!$C$15:$P$61\"),10,0)-0.1,0))","v":0},{"$f":"IF(基本情報!G10=\"\",0,ROUND(VLOOKUP(基本情報!G10,INDIRECT(基本情報!$D$3&\"!$C$15:$P$61\"),14,0)-0.1,0))","v":0},0,{"$f":"IF(基本情報!G10=\"\",0,ROUND(IF(OR(基本情報!G10<税額基本情報!$E$26,基本情報!G10>税額基本情報!$E$27),AC7,VLOOKUP(基本情報!G10,INDIRECT(基本情報!$D$3&\"!$C$19:$X$48\"),18,0))-0.1,0))","v":0},{"$f":"IF(基本情報!G10=\"\",0,ROUND(IF(OR(基本情報!G10<税額基本情報!$E$26,基本情報!G10>税額基本情報!$E$27),AD7,VLOOKUP(基本情報!G10,INDIRECT(基本情報!$D$3&\"!$C$19:$X$48\"),22,0))-0.1,0))","v":0},{"$f":"IF(基本情報!G10=\"\",0,IF(基本情報!G10<税額基本情報!$E$26,税額基本情報!$F$26,IF(基本情報!G10>税額基本情報!$E$27,税額基本情報!$F$27,0)))","v":0},{"$f":"IF(基本情報!G10=\"\",0,IF(基本情報!G10<税額基本情報!$E$26,税額基本情報!$G$26,IF(基本情報!G10>税額基本情報!$E$27,税額基本情報!$G$27,0)))","v":0},0,{"$f":"ROUND(ROUNDDOWN(賞与計算!F10,-3)*INDIRECT(基本情報!$D$3&\"!$J$10\")*0.5-0.1,0)","v":4985},{"$f":"ROUND(ROUNDDOWN(賞与計算!F10,-3)*INDIRECT(基本情報!$D$3&\"!$N$10\")/2-0.1,0)","v":5845},0,{"$f":"ROUND(IF(賞与計算!F10>税額基本情報!$D$30,税額基本情報!$D$30,ROUNDDOWN(賞与計算!F10,-3))*INDIRECT(基本情報!$D$3&\"!$R$10\")/2-0.1,0)","v":8737},{"$f":"ROUND(IF(賞与計算!F10>税額基本情報!$D$30,税額基本情報!$D$30,ROUNDDOWN(賞与計算!F10,-3))*INDIRECT(基本情報!$D$3&\"!$V$10\")/2-0.1,0)","v":8844}]
[null,null,4,{"$f":"給与計算!C11","v":""},{"$f":"MAX(IF(給与計算!M11>=税額基本情報!$D$6,MAX(計算シート!H8:K8),IF(給与計算!M11<源泉月額表!$B$8,0,VLOOKUP(給与計算!M11,源泉月額表!$B:$K,IF(基本情報!E11>=8,10,基本情報!E11+3),1)))-IF(基本情報!E11>=8,(基本情報!E11-7)*税額基本情報!$D$17,0),0)","v":0},{"$f":"IF(給与計算!M11<源泉月額表!$B$8,ROUNDDOWN(給与計算!M11*税額基本情報!$D$23,0),IF(給与計算!M11=0,0,IF(給与計算!M11>=税額基本情報!$D$13,MAX(L8:M8),VLOOKUP(給与計算!M11,源泉月額表!$B:$L,11,1))))","v":0},{"$f":"MAX(IF(給与計算!M11<源泉月額表!$B$8,ROUNDDOWN(給与計算!M11*3.063%,0),IF(給与計算!M11=0,0,IF(給与計算!M11>=税額基本情報!$D$13,MAX(L8:M8),VLOOKUP(給与計算!M11,源泉月額表!$B:$L,11,1))))-基本情報!E11*税額基本情報!$D$20,0)","v":0},{"$f":"IF(AND(給与計算!M11>=1010000,給与計算!M11<1250000),VLOOKUP(給与計算!M11,税額基本情報!$D$6:$M$9,IF(基本情報!E11>=8,10,基本情報!E11+3),1)+ROUNDDOWN((給与計算!M11-税額基本情報!$D$6)*税額基本情報!$E$6,0),0)","v":0},{"$f":"IF(AND(給与計算!M11>=1250000,給与計算!M11<1740000),VLOOKUP(給与計算!M11,税額基本情報!$D$6:$M$9,IF(基本情報!E11>=8,10,基本情報!E11+3),1)+ROUNDDOWN((給与計算!M11-税額基本情報!$D$7)*税額基本情報!$E$7,0),0)","v":0},{"$f":"IF(AND(給与計算!M11>=1740000,給与計算!M11<3570000),VLOOKUP(給与計算!M11,税額基本情報!$D$6:$M$9,IF(基本情報!E11>=8,10,基本情報!E11+3),1)+ROUNDDOWN((給与計算!M11-税額基本情報!$D$8)*税額基本情報!$E$8,0),0)","v":0},{"$f":"IF(給与計算!M11>=3570000,VLOOKUP(給与計算!M11,税額基本情報!$D$6:$M$9,IF(基本情報!E11>=8,10,基本情報!E11+3),1)+ROUNDDOWN((給与計算!M11-税額基本情報!$D$9)*税額基本情報!$E$9,0),0)","v":0},{"$f":"IF(AND(給与計算!M11>=1010000,給与計算!M11<1250000),税額基本情報!$F$13+ROUNDDOWN((給与計算!M11-税額基本情報!$D$13)*税額基本情報!$E$13,0),0)","v":0},{"$f":"IF(給与計算!M11>=1250000,税額基本情報!$F$14+ROUNDDOWN((給与計算!M11-税額基本情報!$D$14)*税額基本情報!$E$14,0),0)","v":0},{"$f":"IF(賞与計算!D11<源泉賞与表!$D$10*1000,0,INDEX(源泉賞与表!$B:$B,MATCH(賞与計算!D11/1000,源泉賞与表!$D:$D,1)))","v":0},{"$f":"IF(賞与計算!D11<源泉賞与表!$F$10*1000,0,INDEX(源泉賞与表!$B:$B,MATCH(賞与計算!D11/1000,源泉賞与表!$F:$F,1)))","v":0},{"$f":"IF(賞与計算!D11<源泉賞与表!$H$10*1000,0,INDEX(源泉賞与表!$B:$B,MATCH(賞与計算!D11/1000,源泉賞与表!$H:$H,1)))","v":0},{"$f":"IF(賞与計算!D11<源泉賞与表!$J$10*1000,0,INDEX(源泉賞与表!$B:$B,MATCH(賞与計算!D11/1000,源泉賞与表!$J:$J,1)))","v":0},{"$f":"IF(賞与計算!D11<源泉賞与表!$L$10*1000,0,INDEX(源泉賞与表!$B:$B,MATCH(賞与計算!D11/1000,源泉賞与表!$L:$L,1)))","v":0},{"$f":"IF(賞与計算!D11<源泉賞与表!$N$10*1000,0,INDEX(源泉賞与表!$B:$B,MATCH(賞与計算!D11/1000,源泉賞与表!$N:$N,1)))","v":0},{"$f":"IF(賞与計算!D11<源泉賞与表!$P$10*1000,0,INDEX(源泉賞与表!$B:$B,MATCH(賞与計算!D11/1000,源泉賞与表!$P:$P,1)))","v":0},{"$f":"IF(賞与計算!D11<源泉賞与表!$R$10*1000,0,INDEX(源泉賞与表!$B:$B,MATCH(賞与計算!D11/1000,源泉賞与表!$R:$R,1)))","v":0},{"$f":"IF(賞与計算!D11=\"\",\"\",IF(賞与計算!D11<源泉賞与表!$T$22*1000,10.21,INDEX(源泉賞与表!$B:$B,MATCH(賞与計算!D11/1000,源泉賞与表!$T:$T,1))))","v":""},0,{"$f":"IF(基本情報!G11=\"\",0,ROUND(VLOOKUP(基本情報!G11,INDIRECT(基本情報!$D$3&\"!$C$15:$P$61\"),10,0)-0.1,0))","v":0},{"$f":"IF(基本情報!G11=\"\",0,ROUND(VLOOKUP(基本情報!G11,INDIRECT(基本情報!$D$3&\"!$C$15:$P$61\"),14,0)-0.1,0))","v":0},0,{"$f":"IF(基本情報!G11=\"\",0,ROUND(IF(OR(基本情報!G11<税額基本情報!$E$26,基本情報!G11>税額基本情報!$E$27),AC8,VLOOKUP(基本情報!G11,INDIRECT(基本情報!$D$3&\"!$C$19:$X$48\"),18,0))-0.1,0))","v":0},{"$f":"IF(基本情報!G11=\"\",0,ROUND(IF(OR(基本情報!G11<税額基本情報!$E$26,基本情報!G11>税額基本情報!$E$27),AD8,VLOOKUP(基本情報!G11,INDIRECT(基本情報!$D$3&\"!$C$19:$X$48\"),22,0))-0.1,0))","v":0},{"$f":"IF(基本情報!G11=\"\",0,IF(基本情報!G11<税額基本情報!$E$26,税額基本情報!$F$26,IF(基本情報!G11>税額基本情報!$E$27,税額基本情報!$F$27,0)))","v":0},{"$f":"IF(基本情報!G11=\"\",0,IF(基本情報!G11<税額基本情報!$E$26,税額基本情報!$G$26,IF(基本情報!G11>税額基本情報!$E$27,税額基本情報!$G$27,0)))","v":0},0,{"$f":"ROUND(ROUNDDOWN(賞与計算!F11,-3)*INDIRECT(基本情報!$D$3&\"!$J$10\")*0.5-0.1,0)","v":0},{"$f":"ROUND(ROUNDDOWN(賞与計算!F11,-3)*INDIRECT(基本情報!$D$3&\"!$N$10\")/2-0.1,0)","v":0},0,{"$f":"ROUND(IF(賞与計算!F11>税額基本情報!$D$30,税額基本情報!$D$30,ROUNDDOWN(賞与計算!F11,-3))*INDIRECT(基本情報!$D$3&\"!$R$10\")/2-0.1,0)","v":0},{"$f":"ROUND(IF(賞与計算!F11>税額基本情報!$D$30,税額基本情報!$D$30,ROUNDDOWN(賞与計算!F11,-3))*INDIRECT(基本情報!$D$3&\"!$V$10\")/2-0.1,0)","v":0}]
[null,null,5,{"$f":"給与計算!C12","v":""},{"$f":"MAX(IF(給与計算!M12>=税額基本情報!$D$6,MAX(計算シート!H9:K9),IF(給与計算!M12<源泉月額表!$B$8,0,VLOOKUP(給与計算!M12,源泉月額表!$B:$K,IF(基本情報!E12>=8,10,基本情報!E12+3),1)))-IF(基本情報!E12>=8,(基本情報!E12-7)*税額基本情報!$D$17,0),0)","v":0},{"$f":"IF(給与計算!M12<源泉月額表!$B$8,ROUNDDOWN(給与計算!M12*税額基本情報!$D$23,0),IF(給与計算!M12=0,0,IF(給与計算!M12>=税額基本情報!$D$13,MAX(L9:M9),VLOOKUP(給与計算!M12,源泉月額表!$B:$L,11,1))))","v":0},{"$f":"MAX(IF(給与計算!M12<源泉月額表!$B$8,ROUNDDOWN(給与計算!M12*3.063%,0),IF(給与計算!M12=0,0,IF(給与計算!M12>=税額基本情報!$D$13,MAX(L9:M9),VLOOKUP(給与計算!M12,源泉月額表!$B:$L,11,1))))-基本情報!E12*税額基本情報!$D$20,0)","v":0},{"$f":"IF(AND(給与計算!M12>=1010000,給与計算!M12<1250000),VLOOKUP(給与計算!M12,税額基本情報!$D$6:$M$9,IF(基本情報!E12>=8,10,基本情報!E12+3),1)+ROUNDDOWN((給与計算!M12-税額基本情報!$D$6)*税額基本情報!$E$6,0),0)","v":0},{"$f":"IF(AND(給与計算!M12>=1250000,給与計算!M12<1740000),VLOOKUP(給与計算!M12,税額基本情報!$D$6:$M$9,IF(基本情報!E12>=8,10,基本情報!E12+3),1)+ROUNDDOWN((給与計算!M12-税額基本情報!$D$7)*税額基本情報!$E$7,0),0)","v":0},{"$f":"IF(AND(給与計算!M12>=1740000,給与計算!M12<3570000),VLOOKUP(給与計算!M12,税額基本情報!$D$6:$M$9,IF(基本情報!E12>=8,10,基本情報!E12+3),1)+ROUNDDOWN((給与計算!M12-税額基本情報!$D$8)*税額基本情報!$E$8,0),0)","v":0},{"$f":"IF(給与計算!M12>=3570000,VLOOKUP(給与計算!M12,税額基本情報!$D$6:$M$9,IF(基本情報!E12>=8,10,基本情報!E12+3),1)+ROUNDDOWN((給与計算!M12-税額基本情報!$D$9)*税額基本情報!$E$9,0),0)","v":0},{"$f":"IF(AND(給与計算!M12>=1010000,給与計算!M12<1250000),税額基本情報!$F$13+ROUNDDOWN((給与計算!M12-税額基本情報!$D$13)*税額基本情報!$E$13,0),0)","v":0},{"$f":"IF(給与計算!M12>=1250000,税額基本情報!$F$14+ROUNDDOWN((給与計算!M12-税額基本情報!$D$14)*税額基本情報!$E$14,0),0)","v":0},{"$f":"IF(賞与計算!D12<源泉賞与表!$D$10*1000,0,INDEX(源泉賞与表!$B:$B,MATCH(賞与計算!D12/1000,源泉賞与表!$D:$D,1)))","v":0},{"$f":"IF(賞与計算!D12<源泉賞与表!$F$10*1000,0,INDEX(源泉賞与表!$B:$B,MATCH(賞与計算!D12/1000,源泉賞与表!$F:$F,1)))","v":0},{"$f":"IF(賞与計算!D12<源泉賞与表!$H$10*1000,0,INDEX(源泉賞与表!$B:$B,MATCH(賞与計算!D12/1000,源泉賞与表!$H:$H,1)))","v":0},{"$f":"IF(賞与計算!D12<源泉賞与表!$J$10*1000,0,INDEX(源泉賞与表!$B:$B,MATCH(賞与計算!D12/1000,源泉賞与表!$J:$J,1)))","v":0},{"$f":"IF(賞与計算!D12<源泉賞与表!$L$10*1000,0,INDEX(源泉賞与表!$B:$B,MATCH(賞与計算!D12/1000,源泉賞与表!$L:$L,1)))","v":0},{"$f":"IF(賞与計算!D12<源泉賞与表!$N$10*1000,0,INDEX(源泉賞与表!$B:$B,MATCH(賞与計算!D12/1000,源泉賞与表!$N:$N,1)))","v":0},{"$f":"IF(賞与計算!D12<源泉賞与表!$P$10*1000,0,INDEX(源泉賞与表!$B:$B,MATCH(賞与計算!D12/1000,源泉賞与表!$P:$P,1)))","v":0},{"$f":"IF(賞与計算!D12<源泉賞与表!$R$10*1000,0,INDEX(源泉賞与表!$B:$B,MATCH(賞与計算!D12/1000,源泉賞与表!$R:$R,1)))","v":0},{"$f":"IF(賞与計算!D12=\"\",\"\",IF(賞与計算!D12<源泉賞与表!$T$22*1000,10.21,INDEX(源泉賞与表!$B:$B,MATCH(賞与計算!D12/1000,源泉賞与表!$T:$T,1))))","v":""},0,{"$f":"IF(基本情報!G12=\"\",0,ROUND(VLOOKUP(基本情報!G12,INDIRECT(基本情報!$D$3&\"!$C$15:$P$61\"),10,0)-0.1,0))","v":0},{"$f":"IF(基本情報!G12=\"\",0,ROUND(VLOOKUP(基本情報!G12,INDIRECT(基本情報!$D$3&\"!$C$15:$P$61\"),14,0)-0.1,0))","v":0},0,{"$f":"IF(基本情報!G12=\"\",0,ROUND(IF(OR(基本情報!G12<税額基本情報!$E$26,基本情報!G12>税額基本情報!$E$27),AC9,VLOOKUP(基本情報!G12,INDIRECT(基本情報!$D$3&\"!$C$19:$X$48\"),18,0))-0.1,0))","v":0},{"$f":"IF(基本情報!G12=\"\",0,ROUND(IF(OR(基本情報!G12<税額基本情報!$E$26,基本情報!G12>税額基本情報!$E$27),AD9,VLOOKUP(基本情報!G12,INDIRECT(基本情報!$D$3&\"!$C$19:$X$48\"),22,0))-0.1,0))","v":0},{"$f":"IF(基本情報!G12=\"\",0,IF(基本情報!G12<税額基本情報!$E$26,税額基本情報!$F$26,IF(基本情報!G12>税額基本情報!$E$27,税額基本情報!$F$27,0)))","v":0},{"$f":"IF(基本情報!G12=\"\",0,IF(基本情報!G12<税額基本情報!$E$26,税額基本情報!$G$26,IF(基本情報!G12>税額基本情報!$E$27,税額基本情報!$G$27,0)))","v":0},0,{"$f":"ROUND(ROUNDDOWN(賞与計算!F12,-3)*INDIRECT(基本情報!$D$3&\"!$J$10\")*0.5-0.1,0)","v":0},{"$f":"ROUND(ROUNDDOWN(賞与計算!F12,-3)*INDIRECT(基本情報!$D$3&\"!$N$10\")/2-0.1,0)","v":0},0,{"$f":"ROUND(IF(賞与計算!F12>税額基本情報!$D$30,税額基本情報!$D$30,ROUNDDOWN(賞与計算!F12,-3))*INDIRECT(基本情報!$D$3&\"!$R$10\")/2-0.1,0)","v":0},{"$f":"ROUND(IF(賞与計算!F12>税額基本情報!$D$30,税額基本情報!$D$30,ROUNDDOWN(賞与計算!F12,-3))*INDIRECT(基本情報!$D$3&\"!$V$10\")/2-0.1,0)","v":0}]
[null,null,6,{"$f":"給与計算!C13","v":""},{"$f":"MAX(IF(給与計算!M13>=税額基本情報!$D$6,MAX(計算シート!H10:K10),IF(給与計算!M13<源泉月額表!$B$8,0,VLOOKUP(給与計算!M13,源泉月額表!$B:$K,IF(基本情報!E13>=8,10,基本情報!E13+3),1)))-IF(基本情報!E13>=8,(基本情報!E13-7)*税額基本情報!$D$17,0),0)","v":0},{"$f":"IF(給与計算!M13<源泉月額表!$B$8,ROUNDDOWN(給与計算!M13*税額基本情報!$D$23,0),IF(給与計算!M13=0,0,IF(給与計算!M13>=税額基本情報!$D$13,MAX(L10:M10),VLOOKUP(給与計算!M13,源泉月額表!$B:$L,11,1))))","v":0},{"$f":"MAX(IF(給与計算!M13<源泉月額表!$B$8,ROUNDDOWN(給与計算!M13*3.063%,0),IF(給与計算!M13=0,0,IF(給与計算!M13>=税額基本情報!$D$13,MAX(L10:M10),VLOOKUP(給与計算!M13,源泉月額表!$B:$L,11,1))))-基本情報!E13*税額基本情報!$D$20,0)","v":0},{"$f":"IF(AND(給与計算!M13>=1010000,給与計算!M13<1250000),VLOOKUP(給与計算!M13,税額基本情報!$D$6:$M$9,IF(基本情報!E13>=8,10,基本情報!E13+3),1)+ROUNDDOWN((給与計算!M13-税額基本情報!$D$6)*税額基本情報!$E$6,0),0)","v":0},{"$f":"IF(AND(給与計算!M13>=1250000,給与計算!M13<1740000),VLOOKUP(給与計算!M13,税額基本情報!$D$6:$M$9,IF(基本情報!E13>=8,10,基本情報!E13+3),1)+ROUNDDOWN((給与計算!M13-税額基本情報!$D$7)*税額基本情報!$E$7,0),0)","v":0},{"$f":"IF(AND(給与計算!M13>=1740000,給与計算!M13<3570000),VLOOKUP(給与計算!M13,税額基本情報!$D$6:$M$9,IF(基本情報!E13>=8,10,基本情報!E13+3),1)+ROUNDDOWN((給与計算!M13-税額基本情報!$D$8)*税額基本情報!$E$8,0),0)","v":0},{"$f":"IF(給与計算!M13>=3570000,VLOOKUP(給与計算!M13,税額基本情報!$D$6:$M$9,IF(基本情報!E13>=8,10,基本情報!E13+3),1)+ROUNDDOWN((給与計算!M13-税額基本情報!$D$9)*税額基本情報!$E$9,0),0)","v":0},{"$f":"IF(AND(給与計算!M13>=1010000,給与計算!M13<1250000),税額基本情報!$F$13+ROUNDDOWN((給与計算!M13-税額基本情報!$D$13)*税額基本情報!$E$13,0),0)","v":0},{"$f":"IF(給与計算!M13>=1250000,税額基本情報!$F$14+ROUNDDOWN((給与計算!M13-税額基本情報!$D$14)*税額基本情報!$E$14,0),0)","v":0},{"$f":"IF(賞与計算!D13<源泉賞与表!$D$10*1000,0,INDEX(源泉賞与表!$B:$B,MATCH(賞与計算!D13/1000,源泉賞与表!$D:$D,1)))","v":0},{"$f":"IF(賞与計算!D13<源泉賞与表!$F$10*1000,0,INDEX(源泉賞与表!$B:$B,MATCH(賞与計算!D13/1000,源泉賞与表!$F:$F,1)))","v":0},{"$f":"IF(賞与計算!D13<源泉賞与表!$H$10*1000,0,INDEX(源泉賞与表!$B:$B,MATCH(賞与計算!D13/1000,源泉賞与表!$H:$H,1)))","v":0},{"$f":"IF(賞与計算!D13<源泉賞与表!$J$10*1000,0,INDEX(源泉賞与表!$B:$B,MATCH(賞与計算!D13/1000,源泉賞与表!$J:$J,1)))","v":0},{"$f":"IF(賞与計算!D13<源泉賞与表!$L$10*1000,0,INDEX(源泉賞与表!$B:$B,MATCH(賞与計算!D13/1000,源泉賞与表!$L:$L,1)))","v":0},{"$f":"IF(賞与計算!D13<源泉賞与表!$N$10*1000,0,INDEX(源泉賞与表!$B:$B,MATCH(賞与計算!D13/1000,源泉賞与表!$N:$N,1)))","v":0},{"$f":"IF(賞与計算!D13<源泉賞与表!$P$10*1000,0,INDEX(源泉賞与表!$B:$B,MATCH(賞与計算!D13/1000,源泉賞与表!$P:$P,1)))","v":0},{"$f":"IF(賞与計算!D13<源泉賞与表!$R$10*1000,0,INDEX(源泉賞与表!$B:$B,MATCH(賞与計算!D13/1000,源泉賞与表!$R:$R,1)))","v":0},{"$f":"IF(賞与計算!D13=\"\",\"\",IF(賞与計算!D13<源泉賞与表!$T$22*1000,10.21,INDEX(源泉賞与表!$B:$B,MATCH(賞与計算!D13/1000,源泉賞与表!$T:$T,1))))","v":""},0,{"$f":"IF(基本情報!G13=\"\",0,ROUND(VLOOKUP(基本情報!G13,INDIRECT(基本情報!$D$3&\"!$C$15:$P$61\"),10,0)-0.1,0))","v":0},{"$f":"IF(基本情報!G13=\"\",0,ROUND(VLOOKUP(基本情報!G13,INDIRECT(基本情報!$D$3&\"!$C$15:$P$61\"),14,0)-0.1,0))","v":0},0,{"$f":"IF(基本情報!G13=\"\",0,ROUND(IF(OR(基本情報!G13<税額基本情報!$E$26,基本情報!G13>税額基本情報!$E$27),AC10,VLOOKUP(基本情報!G13,INDIRECT(基本情報!$D$3&\"!$C$19:$X$48\"),18,0))-0.1,0))","v":0},{"$f":"IF(基本情報!G13=\"\",0,ROUND(IF(OR(基本情報!G13<税額基本情報!$E$26,基本情報!G13>税額基本情報!$E$27),AD10,VLOOKUP(基本情報!G13,INDIRECT(基本情報!$D$3&\"!$C$19:$X$48\"),22,0))-0.1,0))","v":0},{"$f":"IF(基本情報!G13=\"\",0,IF(基本情報!G13<税額基本情報!$E$26,税額基本情報!$F$26,IF(基本情報!G13>税額基本情報!$E$27,税額基本情報!$F$27,0)))","v":0},{"$f":"IF(基本情報!G13=\"\",0,IF(基本情報!G13<税額基本情報!$E$26,税額基本情報!$G$26,IF(基本情報!G13>税額基本情報!$E$27,税額基本情報!$G$27,0)))","v":0},0,{"$f":"ROUND(ROUNDDOWN(賞与計算!F13,-3)*INDIRECT(基本情報!$D$3&\"!$J$10\")*0.5-0.1,0)","v":0},{"$f":"ROUND(ROUNDDOWN(賞与計算!F13,-3)*INDIRECT(基本情報!$D$3&\"!$N$10\")/2-0.1,0)","v":0},0,{"$f":"ROUND(IF(賞与計算!F13>税額基本情報!$D$30,税額基本情報!$D$30,ROUNDDOWN(賞与計算!F13,-3))*INDIRECT(基本情報!$D$3&\"!$R$10\")/2-0.1,0)","v":0},{"$f":"ROUND(IF(賞与計算!F13>税額基本情報!$D$30,税額基本情報!$D$30,ROUNDDOWN(賞与計算!F13,-3))*INDIRECT(基本情報!$D$3&\"!$V$10\")/2-0.1,0)","v":0}]
[null,null,7,{"$f":"給与計算!C14","v":""},{"$f":"MAX(IF(給与計算!M14>=税額基本情報!$D$6,MAX(計算シート!H11:K11),IF(給与計算!M14<源泉月額表!$B$8,0,VLOOKUP(給与計算!M14,源泉月額表!$B:$K,IF(基本情報!E14>=8,10,基本情報!E14+3),1)))-IF(基本情報!E14>=8,(基本情報!E14-7)*税額基本情報!$D$17,0),0)","v":0},{"$f":"IF(給与計算!M14<源泉月額表!$B$8,ROUNDDOWN(給与計算!M14*税額基本情報!$D$23,0),IF(給与計算!M14=0,0,IF(給与計算!M14>=税額基本情報!$D$13,MAX(L11:M11),VLOOKUP(給与計算!M14,源泉月額表!$B:$L,11,1))))","v":0},{"$f":"MAX(IF(給与計算!M14<源泉月額表!$B$8,ROUNDDOWN(給与計算!M14*3.063%,0),IF(給与計算!M14=0,0,IF(給与計算!M14>=税額基本情報!$D$13,MAX(L11:M11),VLOOKUP(給与計算!M14,源泉月額表!$B:$L,11,1))))-基本情報!E14*税額基本情報!$D$20,0)","v":0},{"$f":"IF(AND(給与計算!M14>=1010000,給与計算!M14<1250000),VLOOKUP(給与計算!M14,税額基本情報!$D$6:$M$9,IF(基本情報!E14>=8,10,基本情報!E14+3),1)+ROUNDDOWN((給与計算!M14-税額基本情報!$D$6)*税額基本情報!$E$6,0),0)","v":0},{"$f":"IF(AND(給与計算!M14>=1250000,給与計算!M14<1740000),VLOOKUP(給与計算!M14,税額基本情報!$D$6:$M$9,IF(基本情報!E14>=8,10,基本情報!E14+3),1)+ROUNDDOWN((給与計算!M14-税額基本情報!$D$7)*税額基本情報!$E$7,0),0)","v":0},{"$f":"IF(AND(給与計算!M14>=1740000,給与計算!M14<3570000),VLOOKUP(給与計算!M14,税額基本情報!$D$6:$M$9,IF(基本情報!E14>=8,10,基本情報!E14+3),1)+ROUNDDOWN((給与計算!M14-税額基本情報!$D$8)*税額基本情報!$E$8,0),0)","v":0},{"$f":"IF(給与計算!M14>=3570000,VLOOKUP(給与計算!M14,税額基本情報!$D$6:$M$9,IF(基本情報!E14>=8,10,基本情報!E14+3),1)+ROUNDDOWN((給与計算!M14-税額基本情報!$D$9)*税額基本情報!$E$9,0),0)","v":0},{"$f":"IF(AND(給与計算!M14>=1010000,給与計算!M14<1250000),税額基本情報!$F$13+ROUNDDOWN((給与計算!M14-税額基本情報!$D$13)*税額基本情報!$E$13,0),0)","v":0},{"$f":"IF(給与計算!M14>=1250000,税額基本情報!$F$14+ROUNDDOWN((給与計算!M14-税額基本情報!$D$14)*税額基本情報!$E$14,0),0)","v":0},{"$f":"IF(賞与計算!D14<源泉賞与表!$D$10*1000,0,INDEX(源泉賞与表!$B:$B,MATCH(賞与計算!D14/1000,源泉賞与表!$D:$D,1)))","v":0},{"$f":"IF(賞与計算!D14<源泉賞与表!$F$10*1000,0,INDEX(源泉賞与表!$B:$B,MATCH(賞与計算!D14/1000,源泉賞与表!$F:$F,1)))","v":0},{"$f":"IF(賞与計算!D14<源泉賞与表!$H$10*1000,0,INDEX(源泉賞与表!$B:$B,MATCH(賞与計算!D14/1000,源泉賞与表!$H:$H,1)))","v":0},{"$f":"IF(賞与計算!D14<源泉賞与表!$J$10*1000,0,INDEX(源泉賞与表!$B:$B,MATCH(賞与計算!D14/1000,源泉賞与表!$J:$J,1)))","v":0},{"$f":"IF(賞与計算!D14<源泉賞与表!$L$10*1000,0,INDEX(源泉賞与表!$B:$B,MATCH(賞与計算!D14/1000,源泉賞与表!$L:$L,1)))","v":0},{"$f":"IF(賞与計算!D14<源泉賞与表!$N$10*1000,0,INDEX(源泉賞与表!$B:$B,MATCH(賞与計算!D14/1000,源泉賞与表!$N:$N,1)))","v":0},{"$f":"IF(賞与計算!D14<源泉賞与表!$P$10*1000,0,INDEX(源泉賞与表!$B:$B,MATCH(賞与計算!D14/1000,源泉賞与表!$P:$P,1)))","v":0},{"$f":"IF(賞与計算!D14<源泉賞与表!$R$10*1000,0,INDEX(源泉賞与表!$B:$B,MATCH(賞与計算!D14/1000,源泉賞与表!$R:$R,1)))","v":0},{"$f":"IF(賞与計算!D14=\"\",\"\",IF(賞与計算!D14<源泉賞与表!$T$22*1000,10.21,INDEX(源泉賞与表!$B:$B,MATCH(賞与計算!D14/1000,源泉賞与表!$T:$T,1))))","v":""},0,{"$f":"IF(基本情報!G14=\"\",0,ROUND(VLOOKUP(基本情報!G14,INDIRECT(基本情報!$D$3&\"!$C$15:$P$61\"),10,0)-0.1,0))","v":0},{"$f":"IF(基本情報!G14=\"\",0,ROUND(VLOOKUP(基本情報!G14,INDIRECT(基本情報!$D$3&\"!$C$15:$P$61\"),14,0)-0.1,0))","v":0},0,{"$f":"IF(基本情報!G14=\"\",0,ROUND(IF(OR(基本情報!G14<税額基本情報!$E$26,基本情報!G14>税額基本情報!$E$27),AC11,VLOOKUP(基本情報!G14,INDIRECT(基本情報!$D$3&\"!$C$19:$X$48\"),18,0))-0.1,0))","v":0},{"$f":"IF(基本情報!G14=\"\",0,ROUND(IF(OR(基本情報!G14<税額基本情報!$E$26,基本情報!G14>税額基本情報!$E$27),AD11,VLOOKUP(基本情報!G14,INDIRECT(基本情報!$D$3&\"!$C$19:$X$48\"),22,0))-0.1,0))","v":0},{"$f":"IF(基本情報!G14=\"\",0,IF(基本情報!G14<税額基本情報!$E$26,税額基本情報!$F$26,IF(基本情報!G14>税額基本情報!$E$27,税額基本情報!$F$27,0)))","v":0},{"$f":"IF(基本情報!G14=\"\",0,IF(基本情報!G14<税額基本情報!$E$26,税額基本情報!$G$26,IF(基本情報!G14>税額基本情報!$E$27,税額基本情報!$G$27,0)))","v":0},0,{"$f":"ROUND(ROUNDDOWN(賞与計算!F14,-3)*INDIRECT(基本情報!$D$3&\"!$J$10\")*0.5-0.1,0)","v":0},{"$f":"ROUND(ROUNDDOWN(賞与計算!F14,-3)*INDIRECT(基本情報!$D$3&\"!$N$10\")/2-0.1,0)","v":0},0,{"$f":"ROUND(IF(賞与計算!F14>税額基本情報!$D$30,税額基本情報!$D$30,ROUNDDOWN(賞与計算!F14,-3))*INDIRECT(基本情報!$D$3&\"!$R$10\")/2-0.1,0)","v":0},{"$f":"ROUND(IF(賞与計算!F14>税額基本情報!$D$30,税額基本情報!$D$30,ROUNDDOWN(賞与計算!F14,-3))*INDIRECT(基本情報!$D$3&\"!$V$10\")/2-0.1,0)","v":0}]
[null,null,8,{"$f":"給与計算!C15","v":""},{"$f":"MAX(IF(給与計算!M15>=税額基本情報!$D$6,MAX(計算シート!H12:K12),IF(給与計算!M15<源泉月額表!$B$8,0,VLOOKUP(給与計算!M15,源泉月額表!$B:$K,IF(基本情報!E15>=8,10,基本情報!E15+3),1)))-IF(基本情報!E15>=8,(基本情報!E15-7)*税額基本情報!$D$17,0),0)","v":0},{"$f":"IF(給与計算!M15<源泉月額表!$B$8,ROUNDDOWN(給与計算!M15*税額基本情報!$D$23,0),IF(給与計算!M15=0,0,IF(給与計算!M15>=税額基本情報!$D$13,MAX(L12:M12),VLOOKUP(給与計算!M15,源泉月額表!$B:$L,11,1))))","v":0},{"$f":"MAX(IF(給与計算!M15<源泉月額表!$B$8,ROUNDDOWN(給与計算!M15*3.063%,0),IF(給与計算!M15=0,0,IF(給与計算!M15>=税額基本情報!$D$13,MAX(L12:M12),VLOOKUP(給与計算!M15,源泉月額表!$B:$L,11,1))))-基本情報!E15*税額基本情報!$D$20,0)","v":0},{"$f":"IF(AND(給与計算!M15>=1010000,給与計算!M15<1250000),VLOOKUP(給与計算!M15,税額基本情報!$D$6:$M$9,IF(基本情報!E15>=8,10,基本情報!E15+3),1)+ROUNDDOWN((給与計算!M15-税額基本情報!$D$6)*税額基本情報!$E$6,0),0)","v":0},{"$f":"IF(AND(給与計算!M15>=1250000,給与計算!M15<1740000),VLOOKUP(給与計算!M15,税額基本情報!$D$6:$M$9,IF(基本情報!E15>=8,10,基本情報!E15+3),1)+ROUNDDOWN((給与計算!M15-税額基本情報!$D$7)*税額基本情報!$E$7,0),0)","v":0},{"$f":"IF(AND(給与計算!M15>=1740000,給与計算!M15<3570000),VLOOKUP(給与計算!M15,税額基本情報!$D$6:$M$9,IF(基本情報!E15>=8,10,基本情報!E15+3),1)+ROUNDDOWN((給与計算!M15-税額基本情報!$D$8)*税額基本情報!$E$8,0),0)","v":0},{"$f":"IF(給与計算!M15>=3570000,VLOOKUP(給与計算!M15,税額基本情報!$D$6:$M$9,IF(基本情報!E15>=8,10,基本情報!E15+3),1)+ROUNDDOWN((給与計算!M15-税額基本情報!$D$9)*税額基本情報!$E$9,0),0)","v":0},{"$f":"IF(AND(給与計算!M15>=1010000,給与計算!M15<1250000),税額基本情報!$F$13+ROUNDDOWN((給与計算!M15-税額基本情報!$D$13)*税額基本情報!$E$13,0),0)","v":0},{"$f":"IF(給与計算!M15>=1250000,税額基本情報!$F$14+ROUNDDOWN((給与計算!M15-税額基本情報!$D$14)*税額基本情報!$E$14,0),0)","v":0},{"$f":"IF(賞与計算!D15<源泉賞与表!$D$10*1000,0,INDEX(源泉賞与表!$B:$B,MATCH(賞与計算!D15/1000,源泉賞与表!$D:$D,1)))","v":0},{"$f":"IF(賞与計算!D15<源泉賞与表!$F$10*1000,0,INDEX(源泉賞与表!$B:$B,MATCH(賞与計算!D15/1000,源泉賞与表!$F:$F,1)))","v":0},{"$f":"IF(賞与計算!D15<源泉賞与表!$H$10*1000,0,INDEX(源泉賞与表!$B:$B,MATCH(賞与計算!D15/1000,源泉賞与表!$H:$H,1)))","v":0},{"$f":"IF(賞与計算!D15<源泉賞与表!$J$10*1000,0,INDEX(源泉賞与表!$B:$B,MATCH(賞与計算!D15/1000,源泉賞与表!$J:$J,1)))","v":0},{"$f":"IF(賞与計算!D15<源泉賞与表!$L$10*1000,0,INDEX(源泉賞与表!$B:$B,MATCH(賞与計算!D15/1000,源泉賞与表!$L:$L,1)))","v":0},{"$f":"IF(賞与計算!D15<源泉賞与表!$N$10*1000,0,INDEX(源泉賞与表!$B:$B,MATCH(賞与計算!D15/1000,源泉賞与表!$N:$N,1)))","v":0},{"$f":"IF(賞与計算!D15<源泉賞与表!$P$10*1000,0,INDEX(源泉賞与表!$B:$B,MATCH(賞与計算!D15/1000,源泉賞与表!$P:$P,1)))","v":0},{"$f":"IF(賞与計算!D15<源泉賞与表!$R$10*1000,0,INDEX(源泉賞与表!$B:$B,MATCH(賞与計算!D15/1000,源泉賞与表!$R:$R,1)))","v":0},{"$f":"IF(賞与計算!D15=\"\",\"\",IF(賞与計算!D15<源泉賞与表!$T$22*1000,10.21,INDEX(源泉賞与表!$B:$B,MATCH(賞与計算!D15/1000,源泉賞与表!$T:$T,1))))","v":""},0,{"$f":"IF(基本情報!G15=\"\",0,ROUND(VLOOKUP(基本情報!G15,INDIRECT(基本情報!$D$3&\"!$C$15:$P$61\"),10,0)-0.1,0))","v":0},{"$f":"IF(基本情報!G15=\"\",0,ROUND(VLOOKUP(基本情報!G15,INDIRECT(基本情報!$D$3&\"!$C$15:$P$61\"),14,0)-0.1,0))","v":0},0,{"$f":"IF(基本情報!G15=\"\",0,ROUND(IF(OR(基本情報!G15<税額基本情報!$E$26,基本情報!G15>税額基本情報!$E$27),AC12,VLOOKUP(基本情報!G15,INDIRECT(基本情報!$D$3&\"!$C$19:$X$48\"),18,0))-0.1,0))","v":0},{"$f":"IF(基本情報!G15=\"\",0,ROUND(IF(OR(基本情報!G15<税額基本情報!$E$26,基本情報!G15>税額基本情報!$E$27),AD12,VLOOKUP(基本情報!G15,INDIRECT(基本情報!$D$3&\"!$C$19:$X$48\"),22,0))-0.1,0))","v":0},{"$f":"IF(基本情報!G15=\"\",0,IF(基本情報!G15<税額基本情報!$E$26,税額基本情報!$F$26,IF(基本情報!G15>税額基本情報!$E$27,税額基本情報!$F$27,0)))","v":0},{"$f":"IF(基本情報!G15=\"\",0,IF(基本情報!G15<税額基本情報!$E$26,税額基本情報!$G$26,IF(基本情報!G15>税額基本情報!$E$27,税額基本情報!$G$27,0)))","v":0},0,{"$f":"ROUND(ROUNDDOWN(賞与計算!F15,-3)*INDIRECT(基本情報!$D$3&\"!$J$10\")*0.5-0.1,0)","v":0},{"$f":"ROUND(ROUNDDOWN(賞与計算!F15,-3)*INDIRECT(基本情報!$D$3&\"!$N$10\")/2-0.1,0)","v":0},0,{"$f":"ROUND(IF(賞与計算!F15>税額基本情報!$D$30,税額基本情報!$D$30,ROUNDDOWN(賞与計算!F15,-3))*INDIRECT(基本情報!$D$3&\"!$R$10\")/2-0.1,0)","v":0},{"$f":"ROUND(IF(賞与計算!F15>税額基本情報!$D$30,税額基本情報!$D$30,ROUNDDOWN(賞与計算!F15,-3))*INDIRECT(基本情報!$D$3&\"!$V$10\")/2-0.1,0)","v":0}]
[null,null,9,{"$f":"給与計算!C16","v":""},{"$f":"MAX(IF(給与計算!M16>=税額基本情報!$D$6,MAX(計算シート!H13:K13),IF(給与計算!M16<源泉月額表!$B$8,0,VLOOKUP(給与計算!M16,源泉月額表!$B:$K,IF(基本情報!E16>=8,10,基本情報!E16+3),1)))-IF(基本情報!E16>=8,(基本情報!E16-7)*税額基本情報!$D$17,0),0)","v":0},{"$f":"IF(給与計算!M16<源泉月額表!$B$8,ROUNDDOWN(給与計算!M16*税額基本情報!$D$23,0),IF(給与計算!M16=0,0,IF(給与計算!M16>=税額基本情報!$D$13,MAX(L13:M13),VLOOKUP(給与計算!M16,源泉月額表!$B:$L,11,1))))","v":0},{"$f":"MAX(IF(給与計算!M16<源泉月額表!$B$8,ROUNDDOWN(給与計算!M16*3.063%,0),IF(給与計算!M16=0,0,IF(給与計算!M16>=税額基本情報!$D$13,MAX(L13:M13),VLOOKUP(給与計算!M16,源泉月額表!$B:$L,11,1))))-基本情報!E16*税額基本情報!$D$20,0)","v":0},{"$f":"IF(AND(給与計算!M16>=1010000,給与計算!M16<1250000),VLOOKUP(給与計算!M16,税額基本情報!$D$6:$M$9,IF(基本情報!E16>=8,10,基本情報!E16+3),1)+ROUNDDOWN((給与計算!M16-税額基本情報!$D$6)*税額基本情報!$E$6,0),0)","v":0},{"$f":"IF(AND(給与計算!M16>=1250000,給与計算!M16<1740000),VLOOKUP(給与計算!M16,税額基本情報!$D$6:$M$9,IF(基本情報!E16>=8,10,基本情報!E16+3),1)+ROUNDDOWN((給与計算!M16-税額基本情報!$D$7)*税額基本情報!$E$7,0),0)","v":0},{"$f":"IF(AND(給与計算!M16>=1740000,給与計算!M16<3570000),VLOOKUP(給与計算!M16,税額基本情報!$D$6:$M$9,IF(基本情報!E16>=8,10,基本情報!E16+3),1)+ROUNDDOWN((給与計算!M16-税額基本情報!$D$8)*税額基本情報!$E$8,0),0)","v":0},{"$f":"IF(給与計算!M16>=3570000,VLOOKUP(給与計算!M16,税額基本情報!$D$6:$M$9,IF(基本情報!E16>=8,10,基本情報!E16+3),1)+ROUNDDOWN((給与計算!M16-税額基本情報!$D$9)*税額基本情報!$E$9,0),0)","v":0},{"$f":"IF(AND(給与計算!M16>=1010000,給与計算!M16<1250000),税額基本情報!$F$13+ROUNDDOWN((給与計算!M16-税額基本情報!$D$13)*税額基本情報!$E$13,0),0)","v":0},{"$f":"IF(給与計算!M16>=1250000,税額基本情報!$F$14+ROUNDDOWN((給与計算!M16-税額基本情報!$D$14)*税額基本情報!$E$14,0),0)","v":0},{"$f":"IF(賞与計算!D16<源泉賞与表!$D$10*1000,0,INDEX(源泉賞与表!$B:$B,MATCH(賞与計算!D16/1000,源泉賞与表!$D:$D,1)))","v":0},{"$f":"IF(賞与計算!D16<源泉賞与表!$F$10*1000,0,INDEX(源泉賞与表!$B:$B,MATCH(賞与計算!D16/1000,源泉賞与表!$F:$F,1)))","v":0},{"$f":"IF(賞与計算!D16<源泉賞与表!$H$10*1000,0,INDEX(源泉賞与表!$B:$B,MATCH(賞与計算!D16/1000,源泉賞与表!$H:$H,1)))","v":0},{"$f":"IF(賞与計算!D16<源泉賞与表!$J$10*1000,0,INDEX(源泉賞与表!$B:$B,MATCH(賞与計算!D16/1000,源泉賞与表!$J:$J,1)))","v":0},{"$f":"IF(賞与計算!D16<源泉賞与表!$L$10*1000,0,INDEX(源泉賞与表!$B:$B,MATCH(賞与計算!D16/1000,源泉賞与表!$L:$L,1)))","v":0},{"$f":"IF(賞与計算!D16<源泉賞与表!$N$10*1000,0,INDEX(源泉賞与表!$B:$B,MATCH(賞与計算!D16/1000,源泉賞与表!$N:$N,1)))","v":0},{"$f":"IF(賞与計算!D16<源泉賞与表!$P$10*1000,0,INDEX(源泉賞与表!$B:$B,MATCH(賞与計算!D16/1000,源泉賞与表!$P:$P,1)))","v":0},{"$f":"IF(賞与計算!D16<源泉賞与表!$R$10*1000,0,INDEX(源泉賞与表!$B:$B,MATCH(賞与計算!D16/1000,源泉賞与表!$R:$R,1)))","v":0},{"$f":"IF(賞与計算!D16=\"\",\"\",IF(賞与計算!D16<源泉賞与表!$T$22*1000,10.21,INDEX(源泉賞与表!$B:$B,MATCH(賞与計算!D16/1000,源泉賞与表!$T:$T,1))))","v":""},0,{"$f":"IF(基本情報!G16=\"\",0,ROUND(VLOOKUP(基本情報!G16,INDIRECT(基本情報!$D$3&\"!$C$15:$P$61\"),10,0)-0.1,0))","v":0},{"$f":"IF(基本情報!G16=\"\",0,ROUND(VLOOKUP(基本情報!G16,INDIRECT(基本情報!$D$3&\"!$C$15:$P$61\"),14,0)-0.1,0))","v":0},0,{"$f":"IF(基本情報!G16=\"\",0,ROUND(IF(OR(基本情報!G16<税額基本情報!$E$26,基本情報!G16>税額基本情報!$E$27),AC13,VLOOKUP(基本情報!G16,INDIRECT(基本情報!$D$3&\"!$C$19:$X$48\"),18,0))-0.1,0))","v":0},{"$f":"IF(基本情報!G16=\"\",0,ROUND(IF(OR(基本情報!G16<税額基本情報!$E$26,基本情報!G16>税額基本情報!$E$27),AD13,VLOOKUP(基本情報!G16,INDIRECT(基本情報!$D$3&\"!$C$19:$X$48\"),22,0))-0.1,0))","v":0},{"$f":"IF(基本情報!G16=\"\",0,IF(基本情報!G16<税額基本情報!$E$26,税額基本情報!$F$26,IF(基本情報!G16>税額基本情報!$E$27,税額基本情報!$F$27,0)))","v":0},{"$f":"IF(基本情報!G16=\"\",0,IF(基本情報!G16<税額基本情報!$E$26,税額基本情報!$G$26,IF(基本情報!G16>税額基本情報!$E$27,税額基本情報!$G$27,0)))","v":0},0,{"$f":"ROUND(ROUNDDOWN(賞与計算!F16,-3)*INDIRECT(基本情報!$D$3&\"!$J$10\")*0.5-0.1,0)","v":0},{"$f":"ROUND(ROUNDDOWN(賞与計算!F16,-3)*INDIRECT(基本情報!$D$3&\"!$N$10\")/2-0.1,0)","v":0},0,{"$f":"ROUND(IF(賞与計算!F16>税額基本情報!$D$30,税額基本情報!$D$30,ROUNDDOWN(賞与計算!F16,-3))*INDIRECT(基本情報!$D$3&\"!$R$10\")/2-0.1,0)","v":0},{"$f":"ROUND(IF(賞与計算!F16>税額基本情報!$D$30,税額基本情報!$D$30,ROUNDDOWN(賞与計算!F16,-3))*INDIRECT(基本情報!$D$3&\"!$V$10\")/2-0.1,0)","v":0}]
[null,null,10,{"$f":"給与計算!C17","v":""},{"$f":"MAX(IF(給与計算!M17>=税額基本情報!$D$6,MAX(計算シート!H14:K14),IF(給与計算!M17<源泉月額表!$B$8,0,VLOOKUP(給与計算!M17,源泉月額表!$B:$K,IF(基本情報!E17>=8,10,基本情報!E17+3),1)))-IF(基本情報!E17>=8,(基本情報!E17-7)*税額基本情報!$D$17,0),0)","v":0},{"$f":"IF(給与計算!M17<源泉月額表!$B$8,ROUNDDOWN(給与計算!M17*税額基本情報!$D$23,0),IF(給与計算!M17=0,0,IF(給与計算!M17>=税額基本情報!$D$13,MAX(L14:M14),VLOOKUP(給与計算!M17,源泉月額表!$B:$L,11,1))))","v":0},{"$f":"MAX(IF(給与計算!M17<源泉月額表!$B$8,ROUNDDOWN(給与計算!M17*3.063%,0),IF(給与計算!M17=0,0,IF(給与計算!M17>=税額基本情報!$D$13,MAX(L14:M14),VLOOKUP(給与計算!M17,源泉月額表!$B:$L,11,1))))-基本情報!E17*税額基本情報!$D$20,0)","v":0},{"$f":"IF(AND(給与計算!M17>=1010000,給与計算!M17<1250000),VLOOKUP(給与計算!M17,税額基本情報!$D$6:$M$9,IF(基本情報!E17>=8,10,基本情報!E17+3),1)+ROUNDDOWN((給与計算!M17-税額基本情報!$D$6)*税額基本情報!$E$6,0),0)","v":0},{"$f":"IF(AND(給与計算!M17>=1250000,給与計算!M17<1740000),VLOOKUP(給与計算!M17,税額基本情報!$D$6:$M$9,IF(基本情報!E17>=8,10,基本情報!E17+3),1)+ROUNDDOWN((給与計算!M17-税額基本情報!$D$7)*税額基本情報!$E$7,0),0)","v":0},{"$f":"IF(AND(給与計算!M17>=1740000,給与計算!M17<3570000),VLOOKUP(給与計算!M17,税額基本情報!$D$6:$M$9,IF(基本情報!E17>=8,10,基本情報!E17+3),1)+ROUNDDOWN((給与計算!M17-税額基本情報!$D$8)*税額基本情報!$E$8,0),0)","v":0},{"$f":"IF(給与計算!M17>=3570000,VLOOKUP(給与計算!M17,税額基本情報!$D$6:$M$9,IF(基本情報!E17>=8,10,基本情報!E17+3),1)+ROUNDDOWN((給与計算!M17-税額基本情報!$D$9)*税額基本情報!$E$9,0),0)","v":0},{"$f":"IF(AND(給与計算!M17>=1010000,給与計算!M17<1250000),税額基本情報!$F$13+ROUNDDOWN((給与計算!M17-税額基本情報!$D$13)*税額基本情報!$E$13,0),0)","v":0},{"$f":"IF(給与計算!M17>=1250000,税額基本情報!$F$14+ROUNDDOWN((給与計算!M17-税額基本情報!$D$14)*税額基本情報!$E$14,0),0)","v":0},{"$f":"IF(賞与計算!D17<源泉賞与表!$D$10*1000,0,INDEX(源泉賞与表!$B:$B,MATCH(賞与計算!D17/1000,源泉賞与表!$D:$D,1)))","v":0},{"$f":"IF(賞与計算!D17<源泉賞与表!$F$10*1000,0,INDEX(源泉賞与表!$B:$B,MATCH(賞与計算!D17/1000,源泉賞与表!$F:$F,1)))","v":0},{"$f":"IF(賞与計算!D17<源泉賞与表!$H$10*1000,0,INDEX(源泉賞与表!$B:$B,MATCH(賞与計算!D17/1000,源泉賞与表!$H:$H,1)))","v":0},{"$f":"IF(賞与計算!D17<源泉賞与表!$J$10*1000,0,INDEX(源泉賞与表!$B:$B,MATCH(賞与計算!D17/1000,源泉賞与表!$J:$J,1)))","v":0},{"$f":"IF(賞与計算!D17<源泉賞与表!$L$10*1000,0,INDEX(源泉賞与表!$B:$B,MATCH(賞与計算!D17/1000,源泉賞与表!$L:$L,1)))","v":0},{"$f":"IF(賞与計算!D17<源泉賞与表!$N$10*1000,0,INDEX(源泉賞与表!$B:$B,MATCH(賞与計算!D17/1000,源泉賞与表!$N:$N,1)))","v":0},{"$f":"IF(賞与計算!D17<源泉賞与表!$P$10*1000,0,INDEX(源泉賞与表!$B:$B,MATCH(賞与計算!D17/1000,源泉賞与表!$P:$P,1)))","v":0},{"$f":"IF(賞与計算!D17<源泉賞与表!$R$10*1000,0,INDEX(源泉賞与表!$B:$B,MATCH(賞与計算!D17/1000,源泉賞与表!$R:$R,1)))","v":0},{"$f":"IF(賞与計算!D17=\"\",\"\",IF(賞与計算!D17<源泉賞与表!$T$22*1000,10.21,INDEX(源泉賞与表!$B:$B,MATCH(賞与計算!D17/1000,源泉賞与表!$T:$T,1))))","v":""},0,{"$f":"IF(基本情報!G17=\"\",0,ROUND(VLOOKUP(基本情報!G17,INDIRECT(基本情報!$D$3&\"!$C$15:$P$61\"),10,0)-0.1,0))","v":0},{"$f":"IF(基本情報!G17=\"\",0,ROUND(VLOOKUP(基本情報!G17,INDIRECT(基本情報!$D$3&\"!$C$15:$P$61\"),14,0)-0.1,0))","v":0},0,{"$f":"IF(基本情報!G17=\"\",0,ROUND(IF(OR(基本情報!G17<税額基本情報!$E$26,基本情報!G17>税額基本情報!$E$27),AC14,VLOOKUP(基本情報!G17,INDIRECT(基本情報!$D$3&\"!$C$19:$X$48\"),18,0))-0.1,0))","v":0},{"$f":"IF(基本情報!G17=\"\",0,ROUND(IF(OR(基本情報!G17<税額基本情報!$E$26,基本情報!G17>税額基本情報!$E$27),AD14,VLOOKUP(基本情報!G17,INDIRECT(基本情報!$D$3&\"!$C$19:$X$48\"),22,0))-0.1,0))","v":0},{"$f":"IF(基本情報!G17=\"\",0,IF(基本情報!G17<税額基本情報!$E$26,税額基本情報!$F$26,IF(基本情報!G17>税額基本情報!$E$27,税額基本情報!$F$27,0)))","v":0},{"$f":"IF(基本情報!G17=\"\",0,IF(基本情報!G17<税額基本情報!$E$26,税額基本情報!$G$26,IF(基本情報!G17>税額基本情報!$E$27,税額基本情報!$G$27,0)))","v":0},0,{"$f":"ROUND(ROUNDDOWN(賞与計算!F17,-3)*INDIRECT(基本情報!$D$3&\"!$J$10\")*0.5-0.1,0)","v":0},{"$f":"ROUND(ROUNDDOWN(賞与計算!F17,-3)*INDIRECT(基本情報!$D$3&\"!$N$10\")/2-0.1,0)","v":0},0,{"$f":"ROUND(IF(賞与計算!F17>税額基本情報!$D$30,税額基本情報!$D$30,ROUNDDOWN(賞与計算!F17,-3))*INDIRECT(基本情報!$D$3&\"!$R$10\")/2-0.1,0)","v":0},{"$f":"ROUND(IF(賞与計算!F17>税額基本情報!$D$30,税額基本情報!$D$30,ROUNDDOWN(賞与計算!F17,-3))*INDIRECT(基本情報!$D$3&\"!$V$10\")/2-0.1,0)","v":0}]
[null,null,11,{"$f":"給与計算!C18","v":""},{"$f":"MAX(IF(給与計算!M18>=税額基本情報!$D$6,MAX(計算シート!H15:K15),IF(給与計算!M18<源泉月額表!$B$8,0,VLOOKUP(給与計算!M18,源泉月額表!$B:$K,IF(基本情報!E18>=8,10,基本情報!E18+3),1)))-IF(基本情報!E18>=8,(基本情報!E18-7)*税額基本情報!$D$17,0),0)","v":0},{"$f":"IF(給与計算!M18<源泉月額表!$B$8,ROUNDDOWN(給与計算!M18*税額基本情報!$D$23,0),IF(給与計算!M18=0,0,IF(給与計算!M18>=税額基本情報!$D$13,MAX(L15:M15),VLOOKUP(給与計算!M18,源泉月額表!$B:$L,11,1))))","v":0},{"$f":"MAX(IF(給与計算!M18<源泉月額表!$B$8,ROUNDDOWN(給与計算!M18*3.063%,0),IF(給与計算!M18=0,0,IF(給与計算!M18>=税額基本情報!$D$13,MAX(L15:M15),VLOOKUP(給与計算!M18,源泉月額表!$B:$L,11,1))))-基本情報!E18*税額基本情報!$D$20,0)","v":0},{"$f":"IF(AND(給与計算!M18>=1010000,給与計算!M18<1250000),VLOOKUP(給与計算!M18,税額基本情報!$D$6:$M$9,IF(基本情報!E18>=8,10,基本情報!E18+3),1)+ROUNDDOWN((給与計算!M18-税額基本情報!$D$6)*税額基本情報!$E$6,0),0)","v":0},{"$f":"IF(AND(給与計算!M18>=1250000,給与計算!M18<1740000),VLOOKUP(給与計算!M18,税額基本情報!$D$6:$M$9,IF(基本情報!E18>=8,10,基本情報!E18+3),1)+ROUNDDOWN((給与計算!M18-税額基本情報!$D$7)*税額基本情報!$E$7,0),0)","v":0},{"$f":"IF(AND(給与計算!M18>=1740000,給与計算!M18<3570000),VLOOKUP(給与計算!M18,税額基本情報!$D$6:$M$9,IF(基本情報!E18>=8,10,基本情報!E18+3),1)+ROUNDDOWN((給与計算!M18-税額基本情報!$D$8)*税額基本情報!$E$8,0),0)","v":0},{"$f":"IF(給与計算!M18>=3570000,VLOOKUP(給与計算!M18,税額基本情報!$D$6:$M$9,IF(基本情報!E18>=8,10,基本情報!E18+3),1)+ROUNDDOWN((給与計算!M18-税額基本情報!$D$9)*税額基本情報!$E$9,0),0)","v":0},{"$f":"IF(AND(給与計算!M18>=1010000,給与計算!M18<1250000),税額基本情報!$F$13+ROUNDDOWN((給与計算!M18-税額基本情報!$D$13)*税額基本情報!$E$13,0),0)","v":0},{"$f":"IF(給与計算!M18>=1250000,税額基本情報!$F$14+ROUNDDOWN((給与計算!M18-税額基本情報!$D$14)*税額基本情報!$E$14,0),0)","v":0},{"$f":"IF(賞与計算!D18<源泉賞与表!$D$10*1000,0,INDEX(源泉賞与表!$B:$B,MATCH(賞与計算!D18/1000,源泉賞与表!$D:$D,1)))","v":0},{"$f":"IF(賞与計算!D18<源泉賞与表!$F$10*1000,0,INDEX(源泉賞与表!$B:$B,MATCH(賞与計算!D18/1000,源泉賞与表!$F:$F,1)))","v":0},{"$f":"IF(賞与計算!D18<源泉賞与表!$H$10*1000,0,INDEX(源泉賞与表!$B:$B,MATCH(賞与計算!D18/1000,源泉賞与表!$H:$H,1)))","v":0},{"$f":"IF(賞与計算!D18<源泉賞与表!$J$10*1000,0,INDEX(源泉賞与表!$B:$B,MATCH(賞与計算!D18/1000,源泉賞与表!$J:$J,1)))","v":0},{"$f":"IF(賞与計算!D18<源泉賞与表!$L$10*1000,0,INDEX(源泉賞与表!$B:$B,MATCH(賞与計算!D18/1000,源泉賞与表!$L:$L,1)))","v":0},{"$f":"IF(賞与計算!D18<源泉賞与表!$N$10*1000,0,INDEX(源泉賞与表!$B:$B,MATCH(賞与計算!D18/1000,源泉賞与表!$N:$N,1)))","v":0},{"$f":"IF(賞与計算!D18<源泉賞与表!$P$10*1000,0,INDEX(源泉賞与表!$B:$B,MATCH(賞与計算!D18/1000,源泉賞与表!$P:$P,1)))","v":0},{"$f":"IF(賞与計算!D18<源泉賞与表!$R$10*1000,0,INDEX(源泉賞与表!$B:$B,MATCH(賞与計算!D18/1000,源泉賞与表!$R:$R,1)))","v":0},{"$f":"IF(賞与計算!D18=\"\",\"\",IF(賞与計算!D18<源泉賞与表!$T$22*1000,10.21,INDEX(源泉賞与表!$B:$B,MATCH(賞与計算!D18/1000,源泉賞与表!$T:$T,1))))","v":""},0,{"$f":"IF(基本情報!G18=\"\",0,ROUND(VLOOKUP(基本情報!G18,INDIRECT(基本情報!$D$3&\"!$C$15:$P$61\"),10,0)-0.1,0))","v":0},{"$f":"IF(基本情報!G18=\"\",0,ROUND(VLOOKUP(基本情報!G18,INDIRECT(基本情報!$D$3&\"!$C$15:$P$61\"),14,0)-0.1,0))","v":0},0,{"$f":"IF(基本情報!G18=\"\",0,ROUND(IF(OR(基本情報!G18<税額基本情報!$E$26,基本情報!G18>税額基本情報!$E$27),AC15,VLOOKUP(基本情報!G18,INDIRECT(基本情報!$D$3&\"!$C$19:$X$48\"),18,0))-0.1,0))","v":0},{"$f":"IF(基本情報!G18=\"\",0,ROUND(IF(OR(基本情報!G18<税額基本情報!$E$26,基本情報!G18>税額基本情報!$E$27),AD15,VLOOKUP(基本情報!G18,INDIRECT(基本情報!$D$3&\"!$C$19:$X$48\"),22,0))-0.1,0))","v":0},{"$f":"IF(基本情報!G18=\"\",0,IF(基本情報!G18<税額基本情報!$E$26,税額基本情報!$F$26,IF(基本情報!G18>税額基本情報!$E$27,税額基本情報!$F$27,0)))","v":0},{"$f":"IF(基本情報!G18=\"\",0,IF(基本情報!G18<税額基本情報!$E$26,税額基本情報!$G$26,IF(基本情報!G18>税額基本情報!$E$27,税額基本情報!$G$27,0)))","v":0},0,{"$f":"ROUND(ROUNDDOWN(賞与計算!F18,-3)*INDIRECT(基本情報!$D$3&\"!$J$10\")*0.5-0.1,0)","v":0},{"$f":"ROUND(ROUNDDOWN(賞与計算!F18,-3)*INDIRECT(基本情報!$D$3&\"!$N$10\")/2-0.1,0)","v":0},0,{"$f":"ROUND(IF(賞与計算!F18>税額基本情報!$D$30,税額基本情報!$D$30,ROUNDDOWN(賞与計算!F18,-3))*INDIRECT(基本情報!$D$3&\"!$R$10\")/2-0.1,0)","v":0},{"$f":"ROUND(IF(賞与計算!F18>税額基本情報!$D$30,税額基本情報!$D$30,ROUNDDOWN(賞与計算!F18,-3))*INDIRECT(基本情報!$D$3&\"!$V$10\")/2-0.1,0)","v":0}]
[null,null,12,{"$f":"給与計算!C19","v":""},{"$f":"MAX(IF(給与計算!M19>=税額基本情報!$D$6,MAX(計算シート!H16:K16),IF(給与計算!M19<源泉月額表!$B$8,0,VLOOKUP(給与計算!M19,源泉月額表!$B:$K,IF(基本情報!E19>=8,10,基本情報!E19+3),1)))-IF(基本情報!E19>=8,(基本情報!E19-7)*税額基本情報!$D$17,0),0)","v":0},{"$f":"IF(給与計算!M19<源泉月額表!$B$8,ROUNDDOWN(給与計算!M19*税額基本情報!$D$23,0),IF(給与計算!M19=0,0,IF(給与計算!M19>=税額基本情報!$D$13,MAX(L16:M16),VLOOKUP(給与計算!M19,源泉月額表!$B:$L,11,1))))","v":0},{"$f":"MAX(IF(給与計算!M19<源泉月額表!$B$8,ROUNDDOWN(給与計算!M19*3.063%,0),IF(給与計算!M19=0,0,IF(給与計算!M19>=税額基本情報!$D$13,MAX(L16:M16),VLOOKUP(給与計算!M19,源泉月額表!$B:$L,11,1))))-基本情報!E19*税額基本情報!$D$20,0)","v":0},{"$f":"IF(AND(給与計算!M19>=1010000,給与計算!M19<1250000),VLOOKUP(給与計算!M19,税額基本情報!$D$6:$M$9,IF(基本情報!E19>=8,10,基本情報!E19+3),1)+ROUNDDOWN((給与計算!M19-税額基本情報!$D$6)*税額基本情報!$E$6,0),0)","v":0},{"$f":"IF(AND(給与計算!M19>=1250000,給与計算!M19<1740000),VLOOKUP(給与計算!M19,税額基本情報!$D$6:$M$9,IF(基本情報!E19>=8,10,基本情報!E19+3),1)+ROUNDDOWN((給与計算!M19-税額基本情報!$D$7)*税額基本情報!$E$7,0),0)","v":0},{"$f":"IF(AND(給与計算!M19>=1740000,給与計算!M19<3570000),VLOOKUP(給与計算!M19,税額基本情報!$D$6:$M$9,IF(基本情報!E19>=8,10,基本情報!E19+3),1)+ROUNDDOWN((給与計算!M19-税額基本情報!$D$8)*税額基本情報!$E$8,0),0)","v":0},{"$f":"IF(給与計算!M19>=3570000,VLOOKUP(給与計算!M19,税額基本情報!$D$6:$M$9,IF(基本情報!E19>=8,10,基本情報!E19+3),1)+ROUNDDOWN((給与計算!M19-税額基本情報!$D$9)*税額基本情報!$E$9,0),0)","v":0},{"$f":"IF(AND(給与計算!M19>=1010000,給与計算!M19<1250000),税額基本情報!$F$13+ROUNDDOWN((給与計算!M19-税額基本情報!$D$13)*税額基本情報!$E$13,0),0)","v":0},{"$f":"IF(給与計算!M19>=1250000,税額基本情報!$F$14+ROUNDDOWN((給与計算!M19-税額基本情報!$D$14)*税額基本情報!$E$14,0),0)","v":0},{"$f":"IF(賞与計算!D19<源泉賞与表!$D$10*1000,0,INDEX(源泉賞与表!$B:$B,MATCH(賞与計算!D19/1000,源泉賞与表!$D:$D,1)))","v":0},{"$f":"IF(賞与計算!D19<源泉賞与表!$F$10*1000,0,INDEX(源泉賞与表!$B:$B,MATCH(賞与計算!D19/1000,源泉賞与表!$F:$F,1)))","v":0},{"$f":"IF(賞与計算!D19<源泉賞与表!$H$10*1000,0,INDEX(源泉賞与表!$B:$B,MATCH(賞与計算!D19/1000,源泉賞与表!$H:$H,1)))","v":0},{"$f":"IF(賞与計算!D19<源泉賞与表!$J$10*1000,0,INDEX(源泉賞与表!$B:$B,MATCH(賞与計算!D19/1000,源泉賞与表!$J:$J,1)))","v":0},{"$f":"IF(賞与計算!D19<源泉賞与表!$L$10*1000,0,INDEX(源泉賞与表!$B:$B,MATCH(賞与計算!D19/1000,源泉賞与表!$L:$L,1)))","v":0},{"$f":"IF(賞与計算!D19<源泉賞与表!$N$10*1000,0,INDEX(源泉賞与表!$B:$B,MATCH(賞与計算!D19/1000,源泉賞与表!$N:$N,1)))","v":0},{"$f":"IF(賞与計算!D19<源泉賞与表!$P$10*1000,0,INDEX(源泉賞与表!$B:$B,MATCH(賞与計算!D19/1000,源泉賞与表!$P:$P,1)))","v":0},{"$f":"IF(賞与計算!D19<源泉賞与表!$R$10*1000,0,INDEX(源泉賞与表!$B:$B,MATCH(賞与計算!D19/1000,源泉賞与表!$R:$R,1)))","v":0},{"$f":"IF(賞与計算!D19=\"\",\"\",IF(賞与計算!D19<源泉賞与表!$T$22*1000,10.21,INDEX(源泉賞与表!$B:$B,MATCH(賞与計算!D19/1000,源泉賞与表!$T:$T,1))))","v":""},0,{"$f":"IF(基本情報!G19=\"\",0,ROUND(VLOOKUP(基本情報!G19,INDIRECT(基本情報!$D$3&\"!$C$15:$P$61\"),10,0)-0.1,0))","v":0},{"$f":"IF(基本情報!G19=\"\",0,ROUND(VLOOKUP(基本情報!G19,INDIRECT(基本情報!$D$3&\"!$C$15:$P$61\"),14,0)-0.1,0))","v":0},0,{"$f":"IF(基本情報!G19=\"\",0,ROUND(IF(OR(基本情報!G19<税額基本情報!$E$26,基本情報!G19>税額基本情報!$E$27),AC16,VLOOKUP(基本情報!G19,INDIRECT(基本情報!$D$3&\"!$C$19:$X$48\"),18,0))-0.1,0))","v":0},{"$f":"IF(基本情報!G19=\"\",0,ROUND(IF(OR(基本情報!G19<税額基本情報!$E$26,基本情報!G19>税額基本情報!$E$27),AD16,VLOOKUP(基本情報!G19,INDIRECT(基本情報!$D$3&\"!$C$19:$X$48\"),22,0))-0.1,0))","v":0},{"$f":"IF(基本情報!G19=\"\",0,IF(基本情報!G19<税額基本情報!$E$26,税額基本情報!$F$26,IF(基本情報!G19>税額基本情報!$E$27,税額基本情報!$F$27,0)))","v":0},{"$f":"IF(基本情報!G19=\"\",0,IF(基本情報!G19<税額基本情報!$E$26,税額基本情報!$G$26,IF(基本情報!G19>税額基本情報!$E$27,税額基本情報!$G$27,0)))","v":0},0,{"$f":"ROUND(ROUNDDOWN(賞与計算!F19,-3)*INDIRECT(基本情報!$D$3&\"!$J$10\")*0.5-0.1,0)","v":0},{"$f":"ROUND(ROUNDDOWN(賞与計算!F19,-3)*INDIRECT(基本情報!$D$3&\"!$N$10\")/2-0.1,0)","v":0},0,{"$f":"ROUND(IF(賞与計算!F19>税額基本情報!$D$30,税額基本情報!$D$30,ROUNDDOWN(賞与計算!F19,-3))*INDIRECT(基本情報!$D$3&\"!$R$10\")/2-0.1,0)","v":0},{"$f":"ROUND(IF(賞与計算!F19>税額基本情報!$D$30,税額基本情報!$D$30,ROUNDDOWN(賞与計算!F19,-3))*INDIRECT(基本情報!$D$3&\"!$V$10\")/2-0.1,0)","v":0}]
[null,null,13,{"$f":"給与計算!C20","v":""},{"$f":"MAX(IF(給与計算!M20>=税額基本情報!$D$6,MAX(計算シート!H17:K17),IF(給与計算!M20<源泉月額表!$B$8,0,VLOOKUP(給与計算!M20,源泉月額表!$B:$K,IF(基本情報!E20>=8,10,基本情報!E20+3),1)))-IF(基本情報!E20>=8,(基本情報!E20-7)*税額基本情報!$D$17,0),0)","v":0},{"$f":"IF(給与計算!M20<源泉月額表!$B$8,ROUNDDOWN(給与計算!M20*税額基本情報!$D$23,0),IF(給与計算!M20=0,0,IF(給与計算!M20>=税額基本情報!$D$13,MAX(L17:M17),VLOOKUP(給与計算!M20,源泉月額表!$B:$L,11,1))))","v":0},{"$f":"MAX(IF(給与計算!M20<源泉月額表!$B$8,ROUNDDOWN(給与計算!M20*3.063%,0),IF(給与計算!M20=0,0,IF(給与計算!M20>=税額基本情報!$D$13,MAX(L17:M17),VLOOKUP(給与計算!M20,源泉月額表!$B:$L,11,1))))-基本情報!E20*税額基本情報!$D$20,0)","v":0},{"$f":"IF(AND(給与計算!M20>=1010000,給与計算!M20<1250000),VLOOKUP(給与計算!M20,税額基本情報!$D$6:$M$9,IF(基本情報!E20>=8,10,基本情報!E20+3),1)+ROUNDDOWN((給与計算!M20-税額基本情報!$D$6)*税額基本情報!$E$6,0),0)","v":0},{"$f":"IF(AND(給与計算!M20>=1250000,給与計算!M20<1740000),VLOOKUP(給与計算!M20,税額基本情報!$D$6:$M$9,IF(基本情報!E20>=8,10,基本情報!E20+3),1)+ROUNDDOWN((給与計算!M20-税額基本情報!$D$7)*税額基本情報!$E$7,0),0)","v":0},{"$f":"IF(AND(給与計算!M20>=1740000,給与計算!M20<3570000),VLOOKUP(給与計算!M20,税額基本情報!$D$6:$M$9,IF(基本情報!E20>=8,10,基本情報!E20+3),1)+ROUNDDOWN((給与計算!M20-税額基本情報!$D$8)*税額基本情報!$E$8,0),0)","v":0},{"$f":"IF(給与計算!M20>=3570000,VLOOKUP(給与計算!M20,税額基本情報!$D$6:$M$9,IF(基本情報!E20>=8,10,基本情報!E20+3),1)+ROUNDDOWN((給与計算!M20-税額基本情報!$D$9)*税額基本情報!$E$9,0),0)","v":0},{"$f":"IF(AND(給与計算!M20>=1010000,給与計算!M20<1250000),税額基本情報!$F$13+ROUNDDOWN((給与計算!M20-税額基本情報!$D$13)*税額基本情報!$E$13,0),0)","v":0},{"$f":"IF(給与計算!M20>=1250000,税額基本情報!$F$14+ROUNDDOWN((給与計算!M20-税額基本情報!$D$14)*税額基本情報!$E$14,0),0)","v":0},{"$f":"IF(賞与計算!D20<源泉賞与表!$D$10*1000,0,INDEX(源泉賞与表!$B:$B,MATCH(賞与計算!D20/1000,源泉賞与表!$D:$D,1)))","v":0},{"$f":"IF(賞与計算!D20<源泉賞与表!$F$10*1000,0,INDEX(源泉賞与表!$B:$B,MATCH(賞与計算!D20/1000,源泉賞与表!$F:$F,1)))","v":0},{"$f":"IF(賞与計算!D20<源泉賞与表!$H$10*1000,0,INDEX(源泉賞与表!$B:$B,MATCH(賞与計算!D20/1000,源泉賞与表!$H:$H,1)))","v":0},{"$f":"IF(賞与計算!D20<源泉賞与表!$J$10*1000,0,INDEX(源泉賞与表!$B:$B,MATCH(賞与計算!D20/1000,源泉賞与表!$J:$J,1)))","v":0},{"$f":"IF(賞与計算!D20<源泉賞与表!$L$10*1000,0,INDEX(源泉賞与表!$B:$B,MATCH(賞与計算!D20/1000,源泉賞与表!$L:$L,1)))","v":0},{"$f":"IF(賞与計算!D20<源泉賞与表!$N$10*1000,0,INDEX(源泉賞与表!$B:$B,MATCH(賞与計算!D20/1000,源泉賞与表!$N:$N,1)))","v":0},{"$f":"IF(賞与計算!D20<源泉賞与表!$P$10*1000,0,INDEX(源泉賞与表!$B:$B,MATCH(賞与計算!D20/1000,源泉賞与表!$P:$P,1)))","v":0},{"$f":"IF(賞与計算!D20<源泉賞与表!$R$10*1000,0,INDEX(源泉賞与表!$B:$B,MATCH(賞与計算!D20/1000,源泉賞与表!$R:$R,1)))","v":0},{"$f":"IF(賞与計算!D20=\"\",\"\",IF(賞与計算!D20<源泉賞与表!$T$22*1000,10.21,INDEX(源泉賞与表!$B:$B,MATCH(賞与計算!D20/1000,源泉賞与表!$T:$T,1))))","v":""},0,{"$f":"IF(基本情報!G20=\"\",0,ROUND(VLOOKUP(基本情報!G20,INDIRECT(基本情報!$D$3&\"!$C$15:$P$61\"),10,0)-0.1,0))","v":0},{"$f":"IF(基本情報!G20=\"\",0,ROUND(VLOOKUP(基本情報!G20,INDIRECT(基本情報!$D$3&\"!$C$15:$P$61\"),14,0)-0.1,0))","v":0},0,{"$f":"IF(基本情報!G20=\"\",0,ROUND(IF(OR(基本情報!G20<税額基本情報!$E$26,基本情報!G20>税額基本情報!$E$27),AC17,VLOOKUP(基本情報!G20,INDIRECT(基本情報!$D$3&\"!$C$19:$X$48\"),18,0))-0.1,0))","v":0},{"$f":"IF(基本情報!G20=\"\",0,ROUND(IF(OR(基本情報!G20<税額基本情報!$E$26,基本情報!G20>税額基本情報!$E$27),AD17,VLOOKUP(基本情報!G20,INDIRECT(基本情報!$D$3&\"!$C$19:$X$48\"),22,0))-0.1,0))","v":0},{"$f":"IF(基本情報!G20=\"\",0,IF(基本情報!G20<税額基本情報!$E$26,税額基本情報!$F$26,IF(基本情報!G20>税額基本情報!$E$27,税額基本情報!$F$27,0)))","v":0},{"$f":"IF(基本情報!G20=\"\",0,IF(基本情報!G20<税額基本情報!$E$26,税額基本情報!$G$26,IF(基本情報!G20>税額基本情報!$E$27,税額基本情報!$G$27,0)))","v":0},0,{"$f":"ROUND(ROUNDDOWN(賞与計算!F20,-3)*INDIRECT(基本情報!$D$3&\"!$J$10\")*0.5-0.1,0)","v":0},{"$f":"ROUND(ROUNDDOWN(賞与計算!F20,-3)*INDIRECT(基本情報!$D$3&\"!$N$10\")/2-0.1,0)","v":0},0,{"$f":"ROUND(IF(賞与計算!F20>税額基本情報!$D$30,税額基本情報!$D$30,ROUNDDOWN(賞与計算!F20,-3))*INDIRECT(基本情報!$D$3&\"!$R$10\")/2-0.1,0)","v":0},{"$f":"ROUND(IF(賞与計算!F20>税額基本情報!$D$30,税額基本情報!$D$30,ROUNDDOWN(賞与計算!F20,-3))*INDIRECT(基本情報!$D$3&\"!$V$10\")/2-0.1,0)","v":0}]
[null,null,14,{"$f":"給与計算!C21","v":""},{"$f":"MAX(IF(給与計算!M21>=税額基本情報!$D$6,MAX(計算シート!H18:K18),IF(給与計算!M21<源泉月額表!$B$8,0,VLOOKUP(給与計算!M21,源泉月額表!$B:$K,IF(基本情報!E21>=8,10,基本情報!E21+3),1)))-IF(基本情報!E21>=8,(基本情報!E21-7)*税額基本情報!$D$17,0),0)","v":0},{"$f":"IF(給与計算!M21<源泉月額表!$B$8,ROUNDDOWN(給与計算!M21*税額基本情報!$D$23,0),IF(給与計算!M21=0,0,IF(給与計算!M21>=税額基本情報!$D$13,MAX(L18:M18),VLOOKUP(給与計算!M21,源泉月額表!$B:$L,11,1))))","v":0},{"$f":"MAX(IF(給与計算!M21<源泉月額表!$B$8,ROUNDDOWN(給与計算!M21*3.063%,0),IF(給与計算!M21=0,0,IF(給与計算!M21>=税額基本情報!$D$13,MAX(L18:M18),VLOOKUP(給与計算!M21,源泉月額表!$B:$L,11,1))))-基本情報!E21*税額基本情報!$D$20,0)","v":0},{"$f":"IF(AND(給与計算!M21>=1010000,給与計算!M21<1250000),VLOOKUP(給与計算!M21,税額基本情報!$D$6:$M$9,IF(基本情報!E21>=8,10,基本情報!E21+3),1)+ROUNDDOWN((給与計算!M21-税額基本情報!$D$6)*税額基本情報!$E$6,0),0)","v":0},{"$f":"IF(AND(給与計算!M21>=1250000,給与計算!M21<1740000),VLOOKUP(給与計算!M21,税額基本情報!$D$6:$M$9,IF(基本情報!E21>=8,10,基本情報!E21+3),1)+ROUNDDOWN((給与計算!M21-税額基本情報!$D$7)*税額基本情報!$E$7,0),0)","v":0},{"$f":"IF(AND(給与計算!M21>=1740000,給与計算!M21<3570000),VLOOKUP(給与計算!M21,税額基本情報!$D$6:$M$9,IF(基本情報!E21>=8,10,基本情報!E21+3),1)+ROUNDDOWN((給与計算!M21-税額基本情報!$D$8)*税額基本情報!$E$8,0),0)","v":0},{"$f":"IF(給与計算!M21>=3570000,VLOOKUP(給与計算!M21,税額基本情報!$D$6:$M$9,IF(基本情報!E21>=8,10,基本情報!E21+3),1)+ROUNDDOWN((給与計算!M21-税額基本情報!$D$9)*税額基本情報!$E$9,0),0)","v":0},{"$f":"IF(AND(給与計算!M21>=1010000,給与計算!M21<1250000),税額基本情報!$F$13+ROUNDDOWN((給与計算!M21-税額基本情報!$D$13)*税額基本情報!$E$13,0),0)","v":0},{"$f":"IF(給与計算!M21>=1250000,税額基本情報!$F$14+ROUNDDOWN((給与計算!M21-税額基本情報!$D$14)*税額基本情報!$E$14,0),0)","v":0},{"$f":"IF(賞与計算!D21<源泉賞与表!$D$10*1000,0,INDEX(源泉賞与表!$B:$B,MATCH(賞与計算!D21/1000,源泉賞与表!$D:$D,1)))","v":0},{"$f":"IF(賞与計算!D21<源泉賞与表!$F$10*1000,0,INDEX(源泉賞与表!$B:$B,MATCH(賞与計算!D21/1000,源泉賞与表!$F:$F,1)))","v":0},{"$f":"IF(賞与計算!D21<源泉賞与表!$H$10*1000,0,INDEX(源泉賞与表!$B:$B,MATCH(賞与計算!D21/1000,源泉賞与表!$H:$H,1)))","v":0},{"$f":"IF(賞与計算!D21<源泉賞与表!$J$10*1000,0,INDEX(源泉賞与表!$B:$B,MATCH(賞与計算!D21/1000,源泉賞与表!$J:$J,1)))","v":0},{"$f":"IF(賞与計算!D21<源泉賞与表!$L$10*1000,0,INDEX(源泉賞与表!$B:$B,MATCH(賞与計算!D21/1000,源泉賞与表!$L:$L,1)))","v":0},{"$f":"IF(賞与計算!D21<源泉賞与表!$N$10*1000,0,INDEX(源泉賞与表!$B:$B,MATCH(賞与計算!D21/1000,源泉賞与表!$N:$N,1)))","v":0},{"$f":"IF(賞与計算!D21<源泉賞与表!$P$10*1000,0,INDEX(源泉賞与表!$B:$B,MATCH(賞与計算!D21/1000,源泉賞与表!$P:$P,1)))","v":0},{"$f":"IF(賞与計算!D21<源泉賞与表!$R$10*1000,0,INDEX(源泉賞与表!$B:$B,MATCH(賞与計算!D21/1000,源泉賞与表!$R:$R,1)))","v":0},{"$f":"IF(賞与計算!D21=\"\",\"\",IF(賞与計算!D21<源泉賞与表!$T$22*1000,10.21,INDEX(源泉賞与表!$B:$B,MATCH(賞与計算!D21/1000,源泉賞与表!$T:$T,1))))","v":""},0,{"$f":"IF(基本情報!G21=\"\",0,ROUND(VLOOKUP(基本情報!G21,INDIRECT(基本情報!$D$3&\"!$C$15:$P$61\"),10,0)-0.1,0))","v":0},{"$f":"IF(基本情報!G21=\"\",0,ROUND(VLOOKUP(基本情報!G21,INDIRECT(基本情報!$D$3&\"!$C$15:$P$61\"),14,0)-0.1,0))","v":0},0,{"$f":"IF(基本情報!G21=\"\",0,ROUND(IF(OR(基本情報!G21<税額基本情報!$E$26,基本情報!G21>税額基本情報!$E$27),AC18,VLOOKUP(基本情報!G21,INDIRECT(基本情報!$D$3&\"!$C$19:$X$48\"),18,0))-0.1,0))","v":0},{"$f":"IF(基本情報!G21=\"\",0,ROUND(IF(OR(基本情報!G21<税額基本情報!$E$26,基本情報!G21>税額基本情報!$E$27),AD18,VLOOKUP(基本情報!G21,INDIRECT(基本情報!$D$3&\"!$C$19:$X$48\"),22,0))-0.1,0))","v":0},{"$f":"IF(基本情報!G21=\"\",0,IF(基本情報!G21<税額基本情報!$E$26,税額基本情報!$F$26,IF(基本情報!G21>税額基本情報!$E$27,税額基本情報!$F$27,0)))","v":0},{"$f":"IF(基本情報!G21=\"\",0,IF(基本情報!G21<税額基本情報!$E$26,税額基本情報!$G$26,IF(基本情報!G21>税額基本情報!$E$27,税額基本情報!$G$27,0)))","v":0},0,{"$f":"ROUND(ROUNDDOWN(賞与計算!F21,-3)*INDIRECT(基本情報!$D$3&\"!$J$10\")*0.5-0.1,0)","v":0},{"$f":"ROUND(ROUNDDOWN(賞与計算!F21,-3)*INDIRECT(基本情報!$D$3&\"!$N$10\")/2-0.1,0)","v":0},0,{"$f":"ROUND(IF(賞与計算!F21>税額基本情報!$D$30,税額基本情報!$D$30,ROUNDDOWN(賞与計算!F21,-3))*INDIRECT(基本情報!$D$3&\"!$R$10\")/2-0.1,0)","v":0},{"$f":"ROUND(IF(賞与計算!F21>税額基本情報!$D$30,税額基本情報!$D$30,ROUNDDOWN(賞与計算!F21,-3))*INDIRECT(基本情報!$D$3&\"!$V$10\")/2-0.1,0)","v":0}]
[null,null,15,{"$f":"給与計算!C22","v":""},{"$f":"MAX(IF(給与計算!M22>=税額基本情報!$D$6,MAX(計算シート!H19:K19),IF(給与計算!M22<源泉月額表!$B$8,0,VLOOKUP(給与計算!M22,源泉月額表!$B:$K,IF(基本情報!E22>=8,10,基本情報!E22+3),1)))-IF(基本情報!E22>=8,(基本情報!E22-7)*税額基本情報!$D$17,0),0)","v":0},{"$f":"IF(給与計算!M22<源泉月額表!$B$8,ROUNDDOWN(給与計算!M22*税額基本情報!$D$23,0),IF(給与計算!M22=0,0,IF(給与計算!M22>=税額基本情報!$D$13,MAX(L19:M19),VLOOKUP(給与計算!M22,源泉月額表!$B:$L,11,1))))","v":0},{"$f":"MAX(IF(給与計算!M22<源泉月額表!$B$8,ROUNDDOWN(給与計算!M22*3.063%,0),IF(給与計算!M22=0,0,IF(給与計算!M22>=税額基本情報!$D$13,MAX(L19:M19),VLOOKUP(給与計算!M22,源泉月額表!$B:$L,11,1))))-基本情報!E22*税額基本情報!$D$20,0)","v":0},{"$f":"IF(AND(給与計算!M22>=1010000,給与計算!M22<1250000),VLOOKUP(給与計算!M22,税額基本情報!$D$6:$M$9,IF(基本情報!E22>=8,10,基本情報!E22+3),1)+ROUNDDOWN((給与計算!M22-税額基本情報!$D$6)*税額基本情報!$E$6,0),0)","v":0},{"$f":"IF(AND(給与計算!M22>=1250000,給与計算!M22<1740000),VLOOKUP(給与計算!M22,税額基本情報!$D$6:$M$9,IF(基本情報!E22>=8,10,基本情報!E22+3),1)+ROUNDDOWN((給与計算!M22-税額基本情報!$D$7)*税額基本情報!$E$7,0),0)","v":0},{"$f":"IF(AND(給与計算!M22>=1740000,給与計算!M22<3570000),VLOOKUP(給与計算!M22,税額基本情報!$D$6:$M$9,IF(基本情報!E22>=8,10,基本情報!E22+3),1)+ROUNDDOWN((給与計算!M22-税額基本情報!$D$8)*税額基本情報!$E$8,0),0)","v":0},{"$f":"IF(給与計算!M22>=3570000,VLOOKUP(給与計算!M22,税額基本情報!$D$6:$M$9,IF(基本情報!E22>=8,10,基本情報!E22+3),1)+ROUNDDOWN((給与計算!M22-税額基本情報!$D$9)*税額基本情報!$E$9,0),0)","v":0},{"$f":"IF(AND(給与計算!M22>=1010000,給与計算!M22<1250000),税額基本情報!$F$13+ROUNDDOWN((給与計算!M22-税額基本情報!$D$13)*税額基本情報!$E$13,0),0)","v":0},{"$f":"IF(給与計算!M22>=1250000,税額基本情報!$F$14+ROUNDDOWN((給与計算!M22-税額基本情報!$D$14)*税額基本情報!$E$14,0),0)","v":0},{"$f":"IF(賞与計算!D22<源泉賞与表!$D$10*1000,0,INDEX(源泉賞与表!$B:$B,MATCH(賞与計算!D22/1000,源泉賞与表!$D:$D,1)))","v":0},{"$f":"IF(賞与計算!D22<源泉賞与表!$F$10*1000,0,INDEX(源泉賞与表!$B:$B,MATCH(賞与計算!D22/1000,源泉賞与表!$F:$F,1)))","v":0},{"$f":"IF(賞与計算!D22<源泉賞与表!$H$10*1000,0,INDEX(源泉賞与表!$B:$B,MATCH(賞与計算!D22/1000,源泉賞与表!$H:$H,1)))","v":0},{"$f":"IF(賞与計算!D22<源泉賞与表!$J$10*1000,0,INDEX(源泉賞与表!$B:$B,MATCH(賞与計算!D22/1000,源泉賞与表!$J:$J,1)))","v":0},{"$f":"IF(賞与計算!D22<源泉賞与表!$L$10*1000,0,INDEX(源泉賞与表!$B:$B,MATCH(賞与計算!D22/1000,源泉賞与表!$L:$L,1)))","v":0},{"$f":"IF(賞与計算!D22<源泉賞与表!$N$10*1000,0,INDEX(源泉賞与表!$B:$B,MATCH(賞与計算!D22/1000,源泉賞与表!$N:$N,1)))","v":0},{"$f":"IF(賞与計算!D22<源泉賞与表!$P$10*1000,0,INDEX(源泉賞与表!$B:$B,MATCH(賞与計算!D22/1000,源泉賞与表!$P:$P,1)))","v":0},{"$f":"IF(賞与計算!D22<源泉賞与表!$R$10*1000,0,INDEX(源泉賞与表!$B:$B,MATCH(賞与計算!D22/1000,源泉賞与表!$R:$R,1)))","v":0},{"$f":"IF(賞与計算!D22=\"\",\"\",IF(賞与計算!D22<源泉賞与表!$T$22*1000,10.21,INDEX(源泉賞与表!$B:$B,MATCH(賞与計算!D22/1000,源泉賞与表!$T:$T,1))))","v":""},0,{"$f":"IF(基本情報!G22=\"\",0,ROUND(VLOOKUP(基本情報!G22,INDIRECT(基本情報!$D$3&\"!$C$15:$P$61\"),10,0)-0.1,0))","v":0},{"$f":"IF(基本情報!G22=\"\",0,ROUND(VLOOKUP(基本情報!G22,INDIRECT(基本情報!$D$3&\"!$C$15:$P$61\"),14,0)-0.1,0))","v":0},0,{"$f":"IF(基本情報!G22=\"\",0,ROUND(IF(OR(基本情報!G22<税額基本情報!$E$26,基本情報!G22>税額基本情報!$E$27),AC19,VLOOKUP(基本情報!G22,INDIRECT(基本情報!$D$3&\"!$C$19:$X$48\"),18,0))-0.1,0))","v":0},{"$f":"IF(基本情報!G22=\"\",0,ROUND(IF(OR(基本情報!G22<税額基本情報!$E$26,基本情報!G22>税額基本情報!$E$27),AD19,VLOOKUP(基本情報!G22,INDIRECT(基本情報!$D$3&\"!$C$19:$X$48\"),22,0))-0.1,0))","v":0},{"$f":"IF(基本情報!G22=\"\",0,IF(基本情報!G22<税額基本情報!$E$26,税額基本情報!$F$26,IF(基本情報!G22>税額基本情報!$E$27,税額基本情報!$F$27,0)))","v":0},{"$f":"IF(基本情報!G22=\"\",0,IF(基本情報!G22<税額基本情報!$E$26,税額基本情報!$G$26,IF(基本情報!G22>税額基本情報!$E$27,税額基本情報!$G$27,0)))","v":0},0,{"$f":"ROUND(ROUNDDOWN(賞与計算!F22,-3)*INDIRECT(基本情報!$D$3&\"!$J$10\")*0.5-0.1,0)","v":0},{"$f":"ROUND(ROUNDDOWN(賞与計算!F22,-3)*INDIRECT(基本情報!$D$3&\"!$N$10\")/2-0.1,0)","v":0},0,{"$f":"ROUND(IF(賞与計算!F22>税額基本情報!$D$30,税額基本情報!$D$30,ROUNDDOWN(賞与計算!F22,-3))*INDIRECT(基本情報!$D$3&\"!$R$10\")/2-0.1,0)","v":0},{"$f":"ROUND(IF(賞与計算!F22>税額基本情報!$D$30,税額基本情報!$D$30,ROUNDDOWN(賞与計算!F22,-3))*INDIRECT(基本情報!$D$3&\"!$V$10\")/2-0.1,0)","v":0}]
[null,null,16,{"$f":"給与計算!C23","v":""},{"$f":"MAX(IF(給与計算!M23>=税額基本情報!$D$6,MAX(計算シート!H20:K20),IF(給与計算!M23<源泉月額表!$B$8,0,VLOOKUP(給与計算!M23,源泉月額表!$B:$K,IF(基本情報!E23>=8,10,基本情報!E23+3),1)))-IF(基本情報!E23>=8,(基本情報!E23-7)*税額基本情報!$D$17,0),0)","v":0},{"$f":"IF(給与計算!M23<源泉月額表!$B$8,ROUNDDOWN(給与計算!M23*税額基本情報!$D$23,0),IF(給与計算!M23=0,0,IF(給与計算!M23>=税額基本情報!$D$13,MAX(L20:M20),VLOOKUP(給与計算!M23,源泉月額表!$B:$L,11,1))))","v":0},{"$f":"MAX(IF(給与計算!M23<源泉月額表!$B$8,ROUNDDOWN(給与計算!M23*3.063%,0),IF(給与計算!M23=0,0,IF(給与計算!M23>=税額基本情報!$D$13,MAX(L20:M20),VLOOKUP(給与計算!M23,源泉月額表!$B:$L,11,1))))-基本情報!E23*税額基本情報!$D$20,0)","v":0},{"$f":"IF(AND(給与計算!M23>=1010000,給与計算!M23<1250000),VLOOKUP(給与計算!M23,税額基本情報!$D$6:$M$9,IF(基本情報!E23>=8,10,基本情報!E23+3),1)+ROUNDDOWN((給与計算!M23-税額基本情報!$D$6)*税額基本情報!$E$6,0),0)","v":0},{"$f":"IF(AND(給与計算!M23>=1250000,給与計算!M23<1740000),VLOOKUP(給与計算!M23,税額基本情報!$D$6:$M$9,IF(基本情報!E23>=8,10,基本情報!E23+3),1)+ROUNDDOWN((給与計算!M23-税額基本情報!$D$7)*税額基本情報!$E$7,0),0)","v":0},{"$f":"IF(AND(給与計算!M23>=1740000,給与計算!M23<3570000),VLOOKUP(給与計算!M23,税額基本情報!$D$6:$M$9,IF(基本情報!E23>=8,10,基本情報!E23+3),1)+ROUNDDOWN((給与計算!M23-税額基本情報!$D$8)*税額基本情報!$E$8,0),0)","v":0},{"$f":"IF(給与計算!M23>=3570000,VLOOKUP(給与計算!M23,税額基本情報!$D$6:$M$9,IF(基本情報!E23>=8,10,基本情報!E23+3),1)+ROUNDDOWN((給与計算!M23-税額基本情報!$D$9)*税額基本情報!$E$9,0),0)","v":0},{"$f":"IF(AND(給与計算!M23>=1010000,給与計算!M23<1250000),税額基本情報!$F$13+ROUNDDOWN((給与計算!M23-税額基本情報!$D$13)*税額基本情報!$E$13,0),0)","v":0},{"$f":"IF(給与計算!M23>=1250000,税額基本情報!$F$14+ROUNDDOWN((給与計算!M23-税額基本情報!$D$14)*税額基本情報!$E$14,0),0)","v":0},{"$f":"IF(賞与計算!D23<源泉賞与表!$D$10*1000,0,INDEX(源泉賞与表!$B:$B,MATCH(賞与計算!D23/1000,源泉賞与表!$D:$D,1)))","v":0},{"$f":"IF(賞与計算!D23<源泉賞与表!$F$10*1000,0,INDEX(源泉賞与表!$B:$B,MATCH(賞与計算!D23/1000,源泉賞与表!$F:$F,1)))","v":0},{"$f":"IF(賞与計算!D23<源泉賞与表!$H$10*1000,0,INDEX(源泉賞与表!$B:$B,MATCH(賞与計算!D23/1000,源泉賞与表!$H:$H,1)))","v":0},{"$f":"IF(賞与計算!D23<源泉賞与表!$J$10*1000,0,INDEX(源泉賞与表!$B:$B,MATCH(賞与計算!D23/1000,源泉賞与表!$J:$J,1)))","v":0},{"$f":"IF(賞与計算!D23<源泉賞与表!$L$10*1000,0,INDEX(源泉賞与表!$B:$B,MATCH(賞与計算!D23/1000,源泉賞与表!$L:$L,1)))","v":0},{"$f":"IF(賞与計算!D23<源泉賞与表!$N$10*1000,0,INDEX(源泉賞与表!$B:$B,MATCH(賞与計算!D23/1000,源泉賞与表!$N:$N,1)))","v":0},{"$f":"IF(賞与計算!D23<源泉賞与表!$P$10*1000,0,INDEX(源泉賞与表!$B:$B,MATCH(賞与計算!D23/1000,源泉賞与表!$P:$P,1)))","v":0},{"$f":"IF(賞与計算!D23<源泉賞与表!$R$10*1000,0,INDEX(源泉賞与表!$B:$B,MATCH(賞与計算!D23/1000,源泉賞与表!$R:$R,1)))","v":0},{"$f":"IF(賞与計算!D23=\"\",\"\",IF(賞与計算!D23<源泉賞与表!$T$22*1000,10.21,INDEX(源泉賞与表!$B:$B,MATCH(賞与計算!D23/1000,源泉賞与表!$T:$T,1))))","v":""},0,{"$f":"IF(基本情報!G23=\"\",0,ROUND(VLOOKUP(基本情報!G23,INDIRECT(基本情報!$D$3&\"!$C$15:$P$61\"),10,0)-0.1,0))","v":0},{"$f":"IF(基本情報!G23=\"\",0,ROUND(VLOOKUP(基本情報!G23,INDIRECT(基本情報!$D$3&\"!$C$15:$P$61\"),14,0)-0.1,0))","v":0},0,{"$f":"IF(基本情報!G23=\"\",0,ROUND(IF(OR(基本情報!G23<税額基本情報!$E$26,基本情報!G23>税額基本情報!$E$27),AC20,VLOOKUP(基本情報!G23,INDIRECT(基本情報!$D$3&\"!$C$19:$X$48\"),18,0))-0.1,0))","v":0},{"$f":"IF(基本情報!G23=\"\",0,ROUND(IF(OR(基本情報!G23<税額基本情報!$E$26,基本情報!G23>税額基本情報!$E$27),AD20,VLOOKUP(基本情報!G23,INDIRECT(基本情報!$D$3&\"!$C$19:$X$48\"),22,0))-0.1,0))","v":0},{"$f":"IF(基本情報!G23=\"\",0,IF(基本情報!G23<税額基本情報!$E$26,税額基本情報!$F$26,IF(基本情報!G23>税額基本情報!$E$27,税額基本情報!$F$27,0)))","v":0},{"$f":"IF(基本情報!G23=\"\",0,IF(基本情報!G23<税額基本情報!$E$26,税額基本情報!$G$26,IF(基本情報!G23>税額基本情報!$E$27,税額基本情報!$G$27,0)))","v":0},0,{"$f":"ROUND(ROUNDDOWN(賞与計算!F23,-3)*INDIRECT(基本情報!$D$3&\"!$J$10\")*0.5-0.1,0)","v":0},{"$f":"ROUND(ROUNDDOWN(賞与計算!F23,-3)*INDIRECT(基本情報!$D$3&\"!$N$10\")/2-0.1,0)","v":0},0,{"$f":"ROUND(IF(賞与計算!F23>税額基本情報!$D$30,税額基本情報!$D$30,ROUNDDOWN(賞与計算!F23,-3))*INDIRECT(基本情報!$D$3&\"!$R$10\")/2-0.1,0)","v":0},{"$f":"ROUND(IF(賞与計算!F23>税額基本情報!$D$30,税額基本情報!$D$30,ROUNDDOWN(賞与計算!F23,-3))*INDIRECT(基本情報!$D$3&\"!$V$10\")/2-0.1,0)","v":0}]
[null,null,17,{"$f":"給与計算!C24","v":""},{"$f":"MAX(IF(給与計算!M24>=税額基本情報!$D$6,MAX(計算シート!H21:K21),IF(給与計算!M24<源泉月額表!$B$8,0,VLOOKUP(給与計算!M24,源泉月額表!$B:$K,IF(基本情報!E24>=8,10,基本情報!E24+3),1)))-IF(基本情報!E24>=8,(基本情報!E24-7)*税額基本情報!$D$17,0),0)","v":0},{"$f":"IF(給与計算!M24<源泉月額表!$B$8,ROUNDDOWN(給与計算!M24*税額基本情報!$D$23,0),IF(給与計算!M24=0,0,IF(給与計算!M24>=税額基本情報!$D$13,MAX(L21:M21),VLOOKUP(給与計算!M24,源泉月額表!$B:$L,11,1))))","v":0},{"$f":"MAX(IF(給与計算!M24<源泉月額表!$B$8,ROUNDDOWN(給与計算!M24*3.063%,0),IF(給与計算!M24=0,0,IF(給与計算!M24>=税額基本情報!$D$13,MAX(L21:M21),VLOOKUP(給与計算!M24,源泉月額表!$B:$L,11,1))))-基本情報!E24*税額基本情報!$D$20,0)","v":0},{"$f":"IF(AND(給与計算!M24>=1010000,給与計算!M24<1250000),VLOOKUP(給与計算!M24,税額基本情報!$D$6:$M$9,IF(基本情報!E24>=8,10,基本情報!E24+3),1)+ROUNDDOWN((給与計算!M24-税額基本情報!$D$6)*税額基本情報!$E$6,0),0)","v":0},{"$f":"IF(AND(給与計算!M24>=1250000,給与計算!M24<1740000),VLOOKUP(給与計算!M24,税額基本情報!$D$6:$M$9,IF(基本情報!E24>=8,10,基本情報!E24+3),1)+ROUNDDOWN((給与計算!M24-税額基本情報!$D$7)*税額基本情報!$E$7,0),0)","v":0},{"$f":"IF(AND(給与計算!M24>=1740000,給与計算!M24<3570000),VLOOKUP(給与計算!M24,税額基本情報!$D$6:$M$9,IF(基本情報!E24>=8,10,基本情報!E24+3),1)+ROUNDDOWN((給与計算!M24-税額基本情報!$D$8)*税額基本情報!$E$8,0),0)","v":0},{"$f":"IF(給与計算!M24>=3570000,VLOOKUP(給与計算!M24,税額基本情報!$D$6:$M$9,IF(基本情報!E24>=8,10,基本情報!E24+3),1)+ROUNDDOWN((給与計算!M24-税額基本情報!$D$9)*税額基本情報!$E$9,0),0)","v":0},{"$f":"IF(AND(給与計算!M24>=1010000,給与計算!M24<1250000),税額基本情報!$F$13+ROUNDDOWN((給与計算!M24-税額基本情報!$D$13)*税額基本情報!$E$13,0),0)","v":0},{"$f":"IF(給与計算!M24>=1250000,税額基本情報!$F$14+ROUNDDOWN((給与計算!M24-税額基本情報!$D$14)*税額基本情報!$E$14,0),0)","v":0},{"$f":"IF(賞与計算!D24<源泉賞与表!$D$10*1000,0,INDEX(源泉賞与表!$B:$B,MATCH(賞与計算!D24/1000,源泉賞与表!$D:$D,1)))","v":0},{"$f":"IF(賞与計算!D24<源泉賞与表!$F$10*1000,0,INDEX(源泉賞与表!$B:$B,MATCH(賞与計算!D24/1000,源泉賞与表!$F:$F,1)))","v":0},{"$f":"IF(賞与計算!D24<源泉賞与表!$H$10*1000,0,INDEX(源泉賞与表!$B:$B,MATCH(賞与計算!D24/1000,源泉賞与表!$H:$H,1)))","v":0},{"$f":"IF(賞与計算!D24<源泉賞与表!$J$10*1000,0,INDEX(源泉賞与表!$B:$B,MATCH(賞与計算!D24/1000,源泉賞与表!$J:$J,1)))","v":0},{"$f":"IF(賞与計算!D24<源泉賞与表!$L$10*1000,0,INDEX(源泉賞与表!$B:$B,MATCH(賞与計算!D24/1000,源泉賞与表!$L:$L,1)))","v":0},{"$f":"IF(賞与計算!D24<源泉賞与表!$N$10*1000,0,INDEX(源泉賞与表!$B:$B,MATCH(賞与計算!D24/1000,源泉賞与表!$N:$N,1)))","v":0},{"$f":"IF(賞与計算!D24<源泉賞与表!$P$10*1000,0,INDEX(源泉賞与表!$B:$B,MATCH(賞与計算!D24/1000,源泉賞与表!$P:$P,1)))","v":0},{"$f":"IF(賞与計算!D24<源泉賞与表!$R$10*1000,0,INDEX(源泉賞与表!$B:$B,MATCH(賞与計算!D24/1000,源泉賞与表!$R:$R,1)))","v":0},{"$f":"IF(賞与計算!D24=\"\",\"\",IF(賞与計算!D24<源泉賞与表!$T$22*1000,10.21,INDEX(源泉賞与表!$B:$B,MATCH(賞与計算!D24/1000,源泉賞与表!$T:$T,1))))","v":""},0,{"$f":"IF(基本情報!G24=\"\",0,ROUND(VLOOKUP(基本情報!G24,INDIRECT(基本情報!$D$3&\"!$C$15:$P$61\"),10,0)-0.1,0))","v":0},{"$f":"IF(基本情報!G24=\"\",0,ROUND(VLOOKUP(基本情報!G24,INDIRECT(基本情報!$D$3&\"!$C$15:$P$61\"),14,0)-0.1,0))","v":0},0,{"$f":"IF(基本情報!G24=\"\",0,ROUND(IF(OR(基本情報!G24<税額基本情報!$E$26,基本情報!G24>税額基本情報!$E$27),AC21,VLOOKUP(基本情報!G24,INDIRECT(基本情報!$D$3&\"!$C$19:$X$48\"),18,0))-0.1,0))","v":0},{"$f":"IF(基本情報!G24=\"\",0,ROUND(IF(OR(基本情報!G24<税額基本情報!$E$26,基本情報!G24>税額基本情報!$E$27),AD21,VLOOKUP(基本情報!G24,INDIRECT(基本情報!$D$3&\"!$C$19:$X$48\"),22,0))-0.1,0))","v":0},{"$f":"IF(基本情報!G24=\"\",0,IF(基本情報!G24<税額基本情報!$E$26,税額基本情報!$F$26,IF(基本情報!G24>税額基本情報!$E$27,税額基本情報!$F$27,0)))","v":0},{"$f":"IF(基本情報!G24=\"\",0,IF(基本情報!G24<税額基本情報!$E$26,税額基本情報!$G$26,IF(基本情報!G24>税額基本情報!$E$27,税額基本情報!$G$27,0)))","v":0},0,{"$f":"ROUND(ROUNDDOWN(賞与計算!F24,-3)*INDIRECT(基本情報!$D$3&\"!$J$10\")*0.5-0.1,0)","v":0},{"$f":"ROUND(ROUNDDOWN(賞与計算!F24,-3)*INDIRECT(基本情報!$D$3&\"!$N$10\")/2-0.1,0)","v":0},0,{"$f":"ROUND(IF(賞与計算!F24>税額基本情報!$D$30,税額基本情報!$D$30,ROUNDDOWN(賞与計算!F24,-3))*INDIRECT(基本情報!$D$3&\"!$R$10\")/2-0.1,0)","v":0},{"$f":"ROUND(IF(賞与計算!F24>税額基本情報!$D$30,税額基本情報!$D$30,ROUNDDOWN(賞与計算!F24,-3))*INDIRECT(基本情報!$D$3&\"!$V$10\")/2-0.1,0)","v":0}]
[null,null,18,{"$f":"給与計算!C25","v":""},{"$f":"MAX(IF(給与計算!M25>=税額基本情報!$D$6,MAX(計算シート!H22:K22),IF(給与計算!M25<源泉月額表!$B$8,0,VLOOKUP(給与計算!M25,源泉月額表!$B:$K,IF(基本情報!E25>=8,10,基本情報!E25+3),1)))-IF(基本情報!E25>=8,(基本情報!E25-7)*税額基本情報!$D$17,0),0)","v":0},{"$f":"IF(給与計算!M25<源泉月額表!$B$8,ROUNDDOWN(給与計算!M25*税額基本情報!$D$23,0),IF(給与計算!M25=0,0,IF(給与計算!M25>=税額基本情報!$D$13,MAX(L22:M22),VLOOKUP(給与計算!M25,源泉月額表!$B:$L,11,1))))","v":0},{"$f":"MAX(IF(給与計算!M25<源泉月額表!$B$8,ROUNDDOWN(給与計算!M25*3.063%,0),IF(給与計算!M25=0,0,IF(給与計算!M25>=税額基本情報!$D$13,MAX(L22:M22),VLOOKUP(給与計算!M25,源泉月額表!$B:$L,11,1))))-基本情報!E25*税額基本情報!$D$20,0)","v":0},{"$f":"IF(AND(給与計算!M25>=1010000,給与計算!M25<1250000),VLOOKUP(給与計算!M25,税額基本情報!$D$6:$M$9,IF(基本情報!E25>=8,10,基本情報!E25+3),1)+ROUNDDOWN((給与計算!M25-税額基本情報!$D$6)*税額基本情報!$E$6,0),0)","v":0},{"$f":"IF(AND(給与計算!M25>=1250000,給与計算!M25<1740000),VLOOKUP(給与計算!M25,税額基本情報!$D$6:$M$9,IF(基本情報!E25>=8,10,基本情報!E25+3),1)+ROUNDDOWN((給与計算!M25-税額基本情報!$D$7)*税額基本情報!$E$7,0),0)","v":0},{"$f":"IF(AND(給与計算!M25>=1740000,給与計算!M25<3570000),VLOOKUP(給与計算!M25,税額基本情報!$D$6:$M$9,IF(基本情報!E25>=8,10,基本情報!E25+3),1)+ROUNDDOWN((給与計算!M25-税額基本情報!$D$8)*税額基本情報!$E$8,0),0)","v":0},{"$f":"IF(給与計算!M25>=3570000,VLOOKUP(給与計算!M25,税額基本情報!$D$6:$M$9,IF(基本情報!E25>=8,10,基本情報!E25+3),1)+ROUNDDOWN((給与計算!M25-税額基本情報!$D$9)*税額基本情報!$E$9,0),0)","v":0},{"$f":"IF(AND(給与計算!M25>=1010000,給与計算!M25<1250000),税額基本情報!$F$13+ROUNDDOWN((給与計算!M25-税額基本情報!$D$13)*税額基本情報!$E$13,0),0)","v":0},{"$f":"IF(給与計算!M25>=1250000,税額基本情報!$F$14+ROUNDDOWN((給与計算!M25-税額基本情報!$D$14)*税額基本情報!$E$14,0),0)","v":0},{"$f":"IF(賞与計算!D25<源泉賞与表!$D$10*1000,0,INDEX(源泉賞与表!$B:$B,MATCH(賞与計算!D25/1000,源泉賞与表!$D:$D,1)))","v":0},{"$f":"IF(賞与計算!D25<源泉賞与表!$F$10*1000,0,INDEX(源泉賞与表!$B:$B,MATCH(賞与計算!D25/1000,源泉賞与表!$F:$F,1)))","v":0},{"$f":"IF(賞与計算!D25<源泉賞与表!$H$10*1000,0,INDEX(源泉賞与表!$B:$B,MATCH(賞与計算!D25/1000,源泉賞与表!$H:$H,1)))","v":0},{"$f":"IF(賞与計算!D25<源泉賞与表!$J$10*1000,0,INDEX(源泉賞与表!$B:$B,MATCH(賞与計算!D25/1000,源泉賞与表!$J:$J,1)))","v":0},{"$f":"IF(賞与計算!D25<源泉賞与表!$L$10*1000,0,INDEX(源泉賞与表!$B:$B,MATCH(賞与計算!D25/1000,源泉賞与表!$L:$L,1)))","v":0},{"$f":"IF(賞与計算!D25<源泉賞与表!$N$10*1000,0,INDEX(源泉賞与表!$B:$B,MATCH(賞与計算!D25/1000,源泉賞与表!$N:$N,1)))","v":0},{"$f":"IF(賞与計算!D25<源泉賞与表!$P$10*1000,0,INDEX(源泉賞与表!$B:$B,MATCH(賞与計算!D25/1000,源泉賞与表!$P:$P,1)))","v":0},{"$f":"IF(賞与計算!D25<源泉賞与表!$R$10*1000,0,INDEX(源泉賞与表!$B:$B,MATCH(賞与計算!D25/1000,源泉賞与表!$R:$R,1)))","v":0},{"$f":"IF(賞与計算!D25=\"\",\"\",IF(賞与計算!D25<源泉賞与表!$T$22*1000,10.21,INDEX(源泉賞与表!$B:$B,MATCH(賞与計算!D25/1000,源泉賞与表!$T:$T,1))))","v":""},0,{"$f":"IF(基本情報!G25=\"\",0,ROUND(VLOOKUP(基本情報!G25,INDIRECT(基本情報!$D$3&\"!$C$15:$P$61\"),10,0)-0.1,0))","v":0},{"$f":"IF(基本情報!G25=\"\",0,ROUND(VLOOKUP(基本情報!G25,INDIRECT(基本情報!$D$3&\"!$C$15:$P$61\"),14,0)-0.1,0))","v":0},0,{"$f":"IF(基本情報!G25=\"\",0,ROUND(IF(OR(基本情報!G25<税額基本情報!$E$26,基本情報!G25>税額基本情報!$E$27),AC22,VLOOKUP(基本情報!G25,INDIRECT(基本情報!$D$3&\"!$C$19:$X$48\"),18,0))-0.1,0))","v":0},{"$f":"IF(基本情報!G25=\"\",0,ROUND(IF(OR(基本情報!G25<税額基本情報!$E$26,基本情報!G25>税額基本情報!$E$27),AD22,VLOOKUP(基本情報!G25,INDIRECT(基本情報!$D$3&\"!$C$19:$X$48\"),22,0))-0.1,0))","v":0},{"$f":"IF(基本情報!G25=\"\",0,IF(基本情報!G25<税額基本情報!$E$26,税額基本情報!$F$26,IF(基本情報!G25>税額基本情報!$E$27,税額基本情報!$F$27,0)))","v":0},{"$f":"IF(基本情報!G25=\"\",0,IF(基本情報!G25<税額基本情報!$E$26,税額基本情報!$G$26,IF(基本情報!G25>税額基本情報!$E$27,税額基本情報!$G$27,0)))","v":0},0,{"$f":"ROUND(ROUNDDOWN(賞与計算!F25,-3)*INDIRECT(基本情報!$D$3&\"!$J$10\")*0.5-0.1,0)","v":0},{"$f":"ROUND(ROUNDDOWN(賞与計算!F25,-3)*INDIRECT(基本情報!$D$3&\"!$N$10\")/2-0.1,0)","v":0},0,{"$f":"ROUND(IF(賞与計算!F25>税額基本情報!$D$30,税額基本情報!$D$30,ROUNDDOWN(賞与計算!F25,-3))*INDIRECT(基本情報!$D$3&\"!$R$10\")/2-0.1,0)","v":0},{"$f":"ROUND(IF(賞与計算!F25>税額基本情報!$D$30,税額基本情報!$D$30,ROUNDDOWN(賞与計算!F25,-3))*INDIRECT(基本情報!$D$3&\"!$V$10\")/2-0.1,0)","v":0}]
[null,null,19,{"$f":"給与計算!C26","v":""},{"$f":"MAX(IF(給与計算!M26>=税額基本情報!$D$6,MAX(計算シート!H23:K23),IF(給与計算!M26<源泉月額表!$B$8,0,VLOOKUP(給与計算!M26,源泉月額表!$B:$K,IF(基本情報!E26>=8,10,基本情報!E26+3),1)))-IF(基本情報!E26>=8,(基本情報!E26-7)*税額基本情報!$D$17,0),0)","v":0},{"$f":"IF(給与計算!M26<源泉月額表!$B$8,ROUNDDOWN(給与計算!M26*税額基本情報!$D$23,0),IF(給与計算!M26=0,0,IF(給与計算!M26>=税額基本情報!$D$13,MAX(L23:M23),VLOOKUP(給与計算!M26,源泉月額表!$B:$L,11,1))))","v":0},{"$f":"MAX(IF(給与計算!M26<源泉月額表!$B$8,ROUNDDOWN(給与計算!M26*3.063%,0),IF(給与計算!M26=0,0,IF(給与計算!M26>=税額基本情報!$D$13,MAX(L23:M23),VLOOKUP(給与計算!M26,源泉月額表!$B:$L,11,1))))-基本情報!E26*税額基本情報!$D$20,0)","v":0},{"$f":"IF(AND(給与計算!M26>=1010000,給与計算!M26<1250000),VLOOKUP(給与計算!M26,税額基本情報!$D$6:$M$9,IF(基本情報!E26>=8,10,基本情報!E26+3),1)+ROUNDDOWN((給与計算!M26-税額基本情報!$D$6)*税額基本情報!$E$6,0),0)","v":0},{"$f":"IF(AND(給与計算!M26>=1250000,給与計算!M26<1740000),VLOOKUP(給与計算!M26,税額基本情報!$D$6:$M$9,IF(基本情報!E26>=8,10,基本情報!E26+3),1)+ROUNDDOWN((給与計算!M26-税額基本情報!$D$7)*税額基本情報!$E$7,0),0)","v":0},{"$f":"IF(AND(給与計算!M26>=1740000,給与計算!M26<3570000),VLOOKUP(給与計算!M26,税額基本情報!$D$6:$M$9,IF(基本情報!E26>=8,10,基本情報!E26+3),1)+ROUNDDOWN((給与計算!M26-税額基本情報!$D$8)*税額基本情報!$E$8,0),0)","v":0},{"$f":"IF(給与計算!M26>=3570000,VLOOKUP(給与計算!M26,税額基本情報!$D$6:$M$9,IF(基本情報!E26>=8,10,基本情報!E26+3),1)+ROUNDDOWN((給与計算!M26-税額基本情報!$D$9)*税額基本情報!$E$9,0),0)","v":0},{"$f":"IF(AND(給与計算!M26>=1010000,給与計算!M26<1250000),税額基本情報!$F$13+ROUNDDOWN((給与計算!M26-税額基本情報!$D$13)*税額基本情報!$E$13,0),0)","v":0},{"$f":"IF(給与計算!M26>=1250000,税額基本情報!$F$14+ROUNDDOWN((給与計算!M26-税額基本情報!$D$14)*税額基本情報!$E$14,0),0)","v":0},{"$f":"IF(賞与計算!D26<源泉賞与表!$D$10*1000,0,INDEX(源泉賞与表!$B:$B,MATCH(賞与計算!D26/1000,源泉賞与表!$D:$D,1)))","v":0},{"$f":"IF(賞与計算!D26<源泉賞与表!$F$10*1000,0,INDEX(源泉賞与表!$B:$B,MATCH(賞与計算!D26/1000,源泉賞与表!$F:$F,1)))","v":0},{"$f":"IF(賞与計算!D26<源泉賞与表!$H$10*1000,0,INDEX(源泉賞与表!$B:$B,MATCH(賞与計算!D26/1000,源泉賞与表!$H:$H,1)))","v":0},{"$f":"IF(賞与計算!D26<源泉賞与表!$J$10*1000,0,INDEX(源泉賞与表!$B:$B,MATCH(賞与計算!D26/1000,源泉賞与表!$J:$J,1)))","v":0},{"$f":"IF(賞与計算!D26<源泉賞与表!$L$10*1000,0,INDEX(源泉賞与表!$B:$B,MATCH(賞与計算!D26/1000,源泉賞与表!$L:$L,1)))","v":0},{"$f":"IF(賞与計算!D26<源泉賞与表!$N$10*1000,0,INDEX(源泉賞与表!$B:$B,MATCH(賞与計算!D26/1000,源泉賞与表!$N:$N,1)))","v":0},{"$f":"IF(賞与計算!D26<源泉賞与表!$P$10*1000,0,INDEX(源泉賞与表!$B:$B,MATCH(賞与計算!D26/1000,源泉賞与表!$P:$P,1)))","v":0},{"$f":"IF(賞与計算!D26<源泉賞与表!$R$10*1000,0,INDEX(源泉賞与表!$B:$B,MATCH(賞与計算!D26/1000,源泉賞与表!$R:$R,1)))","v":0},{"$f":"IF(賞与計算!D26=\"\",\"\",IF(賞与計算!D26<源泉賞与表!$T$22*1000,10.21,INDEX(源泉賞与表!$B:$B,MATCH(賞与計算!D26/1000,源泉賞与表!$T:$T,1))))","v":""},0,{"$f":"IF(基本情報!G26=\"\",0,ROUND(VLOOKUP(基本情報!G26,INDIRECT(基本情報!$D$3&\"!$C$15:$P$61\"),10,0)-0.1,0))","v":0},{"$f":"IF(基本情報!G26=\"\",0,ROUND(VLOOKUP(基本情報!G26,INDIRECT(基本情報!$D$3&\"!$C$15:$P$61\"),14,0)-0.1,0))","v":0},0,{"$f":"IF(基本情報!G26=\"\",0,ROUND(IF(OR(基本情報!G26<税額基本情報!$E$26,基本情報!G26>税額基本情報!$E$27),AC23,VLOOKUP(基本情報!G26,INDIRECT(基本情報!$D$3&\"!$C$19:$X$48\"),18,0))-0.1,0))","v":0},{"$f":"IF(基本情報!G26=\"\",0,ROUND(IF(OR(基本情報!G26<税額基本情報!$E$26,基本情報!G26>税額基本情報!$E$27),AD23,VLOOKUP(基本情報!G26,INDIRECT(基本情報!$D$3&\"!$C$19:$X$48\"),22,0))-0.1,0))","v":0},{"$f":"IF(基本情報!G26=\"\",0,IF(基本情報!G26<税額基本情報!$E$26,税額基本情報!$F$26,IF(基本情報!G26>税額基本情報!$E$27,税額基本情報!$F$27,0)))","v":0},{"$f":"IF(基本情報!G26=\"\",0,IF(基本情報!G26<税額基本情報!$E$26,税額基本情報!$G$26,IF(基本情報!G26>税額基本情報!$E$27,税額基本情報!$G$27,0)))","v":0},0,{"$f":"ROUND(ROUNDDOWN(賞与計算!F26,-3)*INDIRECT(基本情報!$D$3&\"!$J$10\")*0.5-0.1,0)","v":0},{"$f":"ROUND(ROUNDDOWN(賞与計算!F26,-3)*INDIRECT(基本情報!$D$3&\"!$N$10\")/2-0.1,0)","v":0},0,{"$f":"ROUND(IF(賞与計算!F26>税額基本情報!$D$30,税額基本情報!$D$30,ROUNDDOWN(賞与計算!F26,-3))*INDIRECT(基本情報!$D$3&\"!$R$10\")/2-0.1,0)","v":0},{"$f":"ROUND(IF(賞与計算!F26>税額基本情報!$D$30,税額基本情報!$D$30,ROUNDDOWN(賞与計算!F26,-3))*INDIRECT(基本情報!$D$3&\"!$V$10\")/2-0.1,0)","v":0}]
[null,null,20,{"$f":"給与計算!C27","v":""},{"$f":"MAX(IF(給与計算!M27>=税額基本情報!$D$6,MAX(計算シート!H24:K24),IF(給与計算!M27<源泉月額表!$B$8,0,VLOOKUP(給与計算!M27,源泉月額表!$B:$K,IF(基本情報!E27>=8,10,基本情報!E27+3),1)))-IF(基本情報!E27>=8,(基本情報!E27-7)*税額基本情報!$D$17,0),0)","v":0},{"$f":"IF(給与計算!M27<源泉月額表!$B$8,ROUNDDOWN(給与計算!M27*税額基本情報!$D$23,0),IF(給与計算!M27=0,0,IF(給与計算!M27>=税額基本情報!$D$13,MAX(L24:M24),VLOOKUP(給与計算!M27,源泉月額表!$B:$L,11,1))))","v":0},{"$f":"MAX(IF(給与計算!M27<源泉月額表!$B$8,ROUNDDOWN(給与計算!M27*3.063%,0),IF(給与計算!M27=0,0,IF(給与計算!M27>=税額基本情報!$D$13,MAX(L24:M24),VLOOKUP(給与計算!M27,源泉月額表!$B:$L,11,1))))-基本情報!E27*税額基本情報!$D$20,0)","v":0},{"$f":"IF(AND(給与計算!M27>=1010000,給与計算!M27<1250000),VLOOKUP(給与計算!M27,税額基本情報!$D$6:$M$9,IF(基本情報!E27>=8,10,基本情報!E27+3),1)+ROUNDDOWN((給与計算!M27-税額基本情報!$D$6)*税額基本情報!$E$6,0),0)","v":0},{"$f":"IF(AND(給与計算!M27>=1250000,給与計算!M27<1740000),VLOOKUP(給与計算!M27,税額基本情報!$D$6:$M$9,IF(基本情報!E27>=8,10,基本情報!E27+3),1)+ROUNDDOWN((給与計算!M27-税額基本情報!$D$7)*税額基本情報!$E$7,0),0)","v":0},{"$f":"IF(AND(給与計算!M27>=1740000,給与計算!M27<3570000),VLOOKUP(給与計算!M27,税額基本情報!$D$6:$M$9,IF(基本情報!E27>=8,10,基本情報!E27+3),1)+ROUNDDOWN((給与計算!M27-税額基本情報!$D$8)*税額基本情報!$E$8,0),0)","v":0},{"$f":"IF(給与計算!M27>=3570000,VLOOKUP(給与計算!M27,税額基本情報!$D$6:$M$9,IF(基本情報!E27>=8,10,基本情報!E27+3),1)+ROUNDDOWN((給与計算!M27-税額基本情報!$D$9)*税額基本情報!$E$9,0),0)","v":0},{"$f":"IF(AND(給与計算!M27>=1010000,給与計算!M27<1250000),税額基本情報!$F$13+ROUNDDOWN((給与計算!M27-税額基本情報!$D$13)*税額基本情報!$E$13,0),0)","v":0},{"$f":"IF(給与計算!M27>=1250000,税額基本情報!$F$14+ROUNDDOWN((給与計算!M27-税額基本情報!$D$14)*税額基本情報!$E$14,0),0)","v":0},{"$f":"IF(賞与計算!D27<源泉賞与表!$D$10*1000,0,INDEX(源泉賞与表!$B:$B,MATCH(賞与計算!D27/1000,源泉賞与表!$D:$D,1)))","v":0},{"$f":"IF(賞与計算!D27<源泉賞与表!$F$10*1000,0,INDEX(源泉賞与表!$B:$B,MATCH(賞与計算!D27/1000,源泉賞与表!$F:$F,1)))","v":0},{"$f":"IF(賞与計算!D27<源泉賞与表!$H$10*1000,0,INDEX(源泉賞与表!$B:$B,MATCH(賞与計算!D27/1000,源泉賞与表!$H:$H,1)))","v":0},{"$f":"IF(賞与計算!D27<源泉賞与表!$J$10*1000,0,INDEX(源泉賞与表!$B:$B,MATCH(賞与計算!D27/1000,源泉賞与表!$J:$J,1)))","v":0},{"$f":"IF(賞与計算!D27<源泉賞与表!$L$10*1000,0,INDEX(源泉賞与表!$B:$B,MATCH(賞与計算!D27/1000,源泉賞与表!$L:$L,1)))","v":0},{"$f":"IF(賞与計算!D27<源泉賞与表!$N$10*1000,0,INDEX(源泉賞与表!$B:$B,MATCH(賞与計算!D27/1000,源泉賞与表!$N:$N,1)))","v":0},{"$f":"IF(賞与計算!D27<源泉賞与表!$P$10*1000,0,INDEX(源泉賞与表!$B:$B,MATCH(賞与計算!D27/1000,源泉賞与表!$P:$P,1)))","v":0},{"$f":"IF(賞与計算!D27<源泉賞与表!$R$10*1000,0,INDEX(源泉賞与表!$B:$B,MATCH(賞与計算!D27/1000,源泉賞与表!$R:$R,1)))","v":0},{"$f":"IF(賞与計算!D27=\"\",\"\",IF(賞与計算!D27<源泉賞与表!$T$22*1000,10.21,INDEX(源泉賞与表!$B:$B,MATCH(賞与計算!D27/1000,源泉賞与表!$T:$T,1))))","v":""},0,{"$f":"IF(基本情報!G27=\"\",0,ROUND(VLOOKUP(基本情報!G27,INDIRECT(基本情報!$D$3&\"!$C$15:$P$61\"),10,0)-0.1,0))","v":0},{"$f":"IF(基本情報!G27=\"\",0,ROUND(VLOOKUP(基本情報!G27,INDIRECT(基本情報!$D$3&\"!$C$15:$P$61\"),14,0)-0.1,0))","v":0},0,{"$f":"IF(基本情報!G27=\"\",0,ROUND(IF(OR(基本情報!G27<税額基本情報!$E$26,基本情報!G27>税額基本情報!$E$27),AC24,VLOOKUP(基本情報!G27,INDIRECT(基本情報!$D$3&\"!$C$19:$X$48\"),18,0))-0.1,0))","v":0},{"$f":"IF(基本情報!G27=\"\",0,ROUND(IF(OR(基本情報!G27<税額基本情報!$E$26,基本情報!G27>税額基本情報!$E$27),AD24,VLOOKUP(基本情報!G27,INDIRECT(基本情報!$D$3&\"!$C$19:$X$48\"),22,0))-0.1,0))","v":0},{"$f":"IF(基本情報!G27=\"\",0,IF(基本情報!G27<税額基本情報!$E$26,税額基本情報!$F$26,IF(基本情報!G27>税額基本情報!$E$27,税額基本情報!$F$27,0)))","v":0},{"$f":"IF(基本情報!G27=\"\",0,IF(基本情報!G27<税額基本情報!$E$26,税額基本情報!$G$26,IF(基本情報!G27>税額基本情報!$E$27,税額基本情報!$G$27,0)))","v":0},0,{"$f":"ROUND(ROUNDDOWN(賞与計算!F27,-3)*INDIRECT(基本情報!$D$3&\"!$J$10\")*0.5-0.1,0)","v":0},{"$f":"ROUND(ROUNDDOWN(賞与計算!F27,-3)*INDIRECT(基本情報!$D$3&\"!$N$10\")/2-0.1,0)","v":0},0,{"$f":"ROUND(IF(賞与計算!F27>税額基本情報!$D$30,税額基本情報!$D$30,ROUNDDOWN(賞与計算!F27,-3))*INDIRECT(基本情報!$D$3&\"!$R$10\")/2-0.1,0)","v":0},{"$f":"ROUND(IF(賞与計算!F27>税額基本情報!$D$30,税額基本情報!$D$30,ROUNDDOWN(賞与計算!F27,-3))*INDIRECT(基本情報!$D$3&\"!$V$10\")/2-0.1,0)","v":0}]
[null,null,21,{"$f":"給与計算!C28","v":""},{"$f":"MAX(IF(給与計算!M28>=税額基本情報!$D$6,MAX(計算シート!H25:K25),IF(給与計算!M28<源泉月額表!$B$8,0,VLOOKUP(給与計算!M28,源泉月額表!$B:$K,IF(基本情報!E28>=8,10,基本情報!E28+3),1)))-IF(基本情報!E28>=8,(基本情報!E28-7)*税額基本情報!$D$17,0),0)","v":0},{"$f":"IF(給与計算!M28<源泉月額表!$B$8,ROUNDDOWN(給与計算!M28*税額基本情報!$D$23,0),IF(給与計算!M28=0,0,IF(給与計算!M28>=税額基本情報!$D$13,MAX(L25:M25),VLOOKUP(給与計算!M28,源泉月額表!$B:$L,11,1))))","v":0},{"$f":"MAX(IF(給与計算!M28<源泉月額表!$B$8,ROUNDDOWN(給与計算!M28*3.063%,0),IF(給与計算!M28=0,0,IF(給与計算!M28>=税額基本情報!$D$13,MAX(L25:M25),VLOOKUP(給与計算!M28,源泉月額表!$B:$L,11,1))))-基本情報!E28*税額基本情報!$D$20,0)","v":0},{"$f":"IF(AND(給与計算!M28>=1010000,給与計算!M28<1250000),VLOOKUP(給与計算!M28,税額基本情報!$D$6:$M$9,IF(基本情報!E28>=8,10,基本情報!E28+3),1)+ROUNDDOWN((給与計算!M28-税額基本情報!$D$6)*税額基本情報!$E$6,0),0)","v":0},{"$f":"IF(AND(給与計算!M28>=1250000,給与計算!M28<1740000),VLOOKUP(給与計算!M28,税額基本情報!$D$6:$M$9,IF(基本情報!E28>=8,10,基本情報!E28+3),1)+ROUNDDOWN((給与計算!M28-税額基本情報!$D$7)*税額基本情報!$E$7,0),0)","v":0},{"$f":"IF(AND(給与計算!M28>=1740000,給与計算!M28<3570000),VLOOKUP(給与計算!M28,税額基本情報!$D$6:$M$9,IF(基本情報!E28>=8,10,基本情報!E28+3),1)+ROUNDDOWN((給与計算!M28-税額基本情報!$D$8)*税額基本情報!$E$8,0),0)","v":0},{"$f":"IF(給与計算!M28>=3570000,VLOOKUP(給与計算!M28,税額基本情報!$D$6:$M$9,IF(基本情報!E28>=8,10,基本情報!E28+3),1)+ROUNDDOWN((給与計算!M28-税額基本情報!$D$9)*税額基本情報!$E$9,0),0)","v":0},{"$f":"IF(AND(給与計算!M28>=1010000,給与計算!M28<1250000),税額基本情報!$F$13+ROUNDDOWN((給与計算!M28-税額基本情報!$D$13)*税額基本情報!$E$13,0),0)","v":0},{"$f":"IF(給与計算!M28>=1250000,税額基本情報!$F$14+ROUNDDOWN((給与計算!M28-税額基本情報!$D$14)*税額基本情報!$E$14,0),0)","v":0},{"$f":"IF(賞与計算!D28<源泉賞与表!$D$10*1000,0,INDEX(源泉賞与表!$B:$B,MATCH(賞与計算!D28/1000,源泉賞与表!$D:$D,1)))","v":0},{"$f":"IF(賞与計算!D28<源泉賞与表!$F$10*1000,0,INDEX(源泉賞与表!$B:$B,MATCH(賞与計算!D28/1000,源泉賞与表!$F:$F,1)))","v":0},{"$f":"IF(賞与計算!D28<源泉賞与表!$H$10*1000,0,INDEX(源泉賞与表!$B:$B,MATCH(賞与計算!D28/1000,源泉賞与表!$H:$H,1)))","v":0},{"$f":"IF(賞与計算!D28<源泉賞与表!$J$10*1000,0,INDEX(源泉賞与表!$B:$B,MATCH(賞与計算!D28/1000,源泉賞与表!$J:$J,1)))","v":0},{"$f":"IF(賞与計算!D28<源泉賞与表!$L$10*1000,0,INDEX(源泉賞与表!$B:$B,MATCH(賞与計算!D28/1000,源泉賞与表!$L:$L,1)))","v":0},{"$f":"IF(賞与計算!D28<源泉賞与表!$N$10*1000,0,INDEX(源泉賞与表!$B:$B,MATCH(賞与計算!D28/1000,源泉賞与表!$N:$N,1)))","v":0},{"$f":"IF(賞与計算!D28<源泉賞与表!$P$10*1000,0,INDEX(源泉賞与表!$B:$B,MATCH(賞与計算!D28/1000,源泉賞与表!$P:$P,1)))","v":0},{"$f":"IF(賞与計算!D28<源泉賞与表!$R$10*1000,0,INDEX(源泉賞与表!$B:$B,MATCH(賞与計算!D28/1000,源泉賞与表!$R:$R,1)))","v":0},{"$f":"IF(賞与計算!D28=\"\",\"\",IF(賞与計算!D28<源泉賞与表!$T$22*1000,10.21,INDEX(源泉賞与表!$B:$B,MATCH(賞与計算!D28/1000,源泉賞与表!$T:$T,1))))","v":""},0,{"$f":"IF(基本情報!G28=\"\",0,ROUND(VLOOKUP(基本情報!G28,INDIRECT(基本情報!$D$3&\"!$C$15:$P$61\"),10,0)-0.1,0))","v":0},{"$f":"IF(基本情報!G28=\"\",0,ROUND(VLOOKUP(基本情報!G28,INDIRECT(基本情報!$D$3&\"!$C$15:$P$61\"),14,0)-0.1,0))","v":0},0,{"$f":"IF(基本情報!G28=\"\",0,ROUND(IF(OR(基本情報!G28<税額基本情報!$E$26,基本情報!G28>税額基本情報!$E$27),AC25,VLOOKUP(基本情報!G28,INDIRECT(基本情報!$D$3&\"!$C$19:$X$48\"),18,0))-0.1,0))","v":0},{"$f":"IF(基本情報!G28=\"\",0,ROUND(IF(OR(基本情報!G28<税額基本情報!$E$26,基本情報!G28>税額基本情報!$E$27),AD25,VLOOKUP(基本情報!G28,INDIRECT(基本情報!$D$3&\"!$C$19:$X$48\"),22,0))-0.1,0))","v":0},{"$f":"IF(基本情報!G28=\"\",0,IF(基本情報!G28<税額基本情報!$E$26,税額基本情報!$F$26,IF(基本情報!G28>税額基本情報!$E$27,税額基本情報!$F$27,0)))","v":0},{"$f":"IF(基本情報!G28=\"\",0,IF(基本情報!G28<税額基本情報!$E$26,税額基本情報!$G$26,IF(基本情報!G28>税額基本情報!$E$27,税額基本情報!$G$27,0)))","v":0},0,{"$f":"ROUND(ROUNDDOWN(賞与計算!F28,-3)*INDIRECT(基本情報!$D$3&\"!$J$10\")*0.5-0.1,0)","v":0},{"$f":"ROUND(ROUNDDOWN(賞与計算!F28,-3)*INDIRECT(基本情報!$D$3&\"!$N$10\")/2-0.1,0)","v":0},0,{"$f":"ROUND(IF(賞与計算!F28>税額基本情報!$D$30,税額基本情報!$D$30,ROUNDDOWN(賞与計算!F28,-3))*INDIRECT(基本情報!$D$3&\"!$R$10\")/2-0.1,0)","v":0},{"$f":"ROUND(IF(賞与計算!F28>税額基本情報!$D$30,税額基本情報!$D$30,ROUNDDOWN(賞与計算!F28,-3))*INDIRECT(基本情報!$D$3&\"!$V$10\")/2-0.1,0)","v":0}]
[null,null,22,{"$f":"給与計算!C29","v":""},{"$f":"MAX(IF(給与計算!M29>=税額基本情報!$D$6,MAX(計算シート!H26:K26),IF(給与計算!M29<源泉月額表!$B$8,0,VLOOKUP(給与計算!M29,源泉月額表!$B:$K,IF(基本情報!E29>=8,10,基本情報!E29+3),1)))-IF(基本情報!E29>=8,(基本情報!E29-7)*税額基本情報!$D$17,0),0)","v":0},{"$f":"IF(給与計算!M29<源泉月額表!$B$8,ROUNDDOWN(給与計算!M29*税額基本情報!$D$23,0),IF(給与計算!M29=0,0,IF(給与計算!M29>=税額基本情報!$D$13,MAX(L26:M26),VLOOKUP(給与計算!M29,源泉月額表!$B:$L,11,1))))","v":0},{"$f":"MAX(IF(給与計算!M29<源泉月額表!$B$8,ROUNDDOWN(給与計算!M29*3.063%,0),IF(給与計算!M29=0,0,IF(給与計算!M29>=税額基本情報!$D$13,MAX(L26:M26),VLOOKUP(給与計算!M29,源泉月額表!$B:$L,11,1))))-基本情報!E29*税額基本情報!$D$20,0)","v":0},{"$f":"IF(AND(給与計算!M29>=1010000,給与計算!M29<1250000),VLOOKUP(給与計算!M29,税額基本情報!$D$6:$M$9,IF(基本情報!E29>=8,10,基本情報!E29+3),1)+ROUNDDOWN((給与計算!M29-税額基本情報!$D$6)*税額基本情報!$E$6,0),0)","v":0},{"$f":"IF(AND(給与計算!M29>=1250000,給与計算!M29<1740000),VLOOKUP(給与計算!M29,税額基本情報!$D$6:$M$9,IF(基本情報!E29>=8,10,基本情報!E29+3),1)+ROUNDDOWN((給与計算!M29-税額基本情報!$D$7)*税額基本情報!$E$7,0),0)","v":0},{"$f":"IF(AND(給与計算!M29>=1740000,給与計算!M29<3570000),VLOOKUP(給与計算!M29,税額基本情報!$D$6:$M$9,IF(基本情報!E29>=8,10,基本情報!E29+3),1)+ROUNDDOWN((給与計算!M29-税額基本情報!$D$8)*税額基本情報!$E$8,0),0)","v":0},{"$f":"IF(給与計算!M29>=3570000,VLOOKUP(給与計算!M29,税額基本情報!$D$6:$M$9,IF(基本情報!E29>=8,10,基本情報!E29+3),1)+ROUNDDOWN((給与計算!M29-税額基本情報!$D$9)*税額基本情報!$E$9,0),0)","v":0},{"$f":"IF(AND(給与計算!M29>=1010000,給与計算!M29<1250000),税額基本情報!$F$13+ROUNDDOWN((給与計算!M29-税額基本情報!$D$13)*税額基本情報!$E$13,0),0)","v":0},{"$f":"IF(給与計算!M29>=1250000,税額基本情報!$F$14+ROUNDDOWN((給与計算!M29-税額基本情報!$D$14)*税額基本情報!$E$14,0),0)","v":0},{"$f":"IF(賞与計算!D29<源泉賞与表!$D$10*1000,0,INDEX(源泉賞与表!$B:$B,MATCH(賞与計算!D29/1000,源泉賞与表!$D:$D,1)))","v":0},{"$f":"IF(賞与計算!D29<源泉賞与表!$F$10*1000,0,INDEX(源泉賞与表!$B:$B,MATCH(賞与計算!D29/1000,源泉賞与表!$F:$F,1)))","v":0},{"$f":"IF(賞与計算!D29<源泉賞与表!$H$10*1000,0,INDEX(源泉賞与表!$B:$B,MATCH(賞与計算!D29/1000,源泉賞与表!$H:$H,1)))","v":0},{"$f":"IF(賞与計算!D29<源泉賞与表!$J$10*1000,0,INDEX(源泉賞与表!$B:$B,MATCH(賞与計算!D29/1000,源泉賞与表!$J:$J,1)))","v":0},{"$f":"IF(賞与計算!D29<源泉賞与表!$L$10*1000,0,INDEX(源泉賞与表!$B:$B,MATCH(賞与計算!D29/1000,源泉賞与表!$L:$L,1)))","v":0},{"$f":"IF(賞与計算!D29<源泉賞与表!$N$10*1000,0,INDEX(源泉賞与表!$B:$B,MATCH(賞与計算!D29/1000,源泉賞与表!$N:$N,1)))","v":0},{"$f":"IF(賞与計算!D29<源泉賞与表!$P$10*1000,0,INDEX(源泉賞与表!$B:$B,MATCH(賞与計算!D29/1000,源泉賞与表!$P:$P,1)))","v":0},{"$f":"IF(賞与計算!D29<源泉賞与表!$R$10*1000,0,INDEX(源泉賞与表!$B:$B,MATCH(賞与計算!D29/1000,源泉賞与表!$R:$R,1)))","v":0},{"$f":"IF(賞与計算!D29=\"\",\"\",IF(賞与計算!D29<源泉賞与表!$T$22*1000,10.21,INDEX(源泉賞与表!$B:$B,MATCH(賞与計算!D29/1000,源泉賞与表!$T:$T,1))))","v":""},0,{"$f":"IF(基本情報!G29=\"\",0,ROUND(VLOOKUP(基本情報!G29,INDIRECT(基本情報!$D$3&\"!$C$15:$P$61\"),10,0)-0.1,0))","v":0},{"$f":"IF(基本情報!G29=\"\",0,ROUND(VLOOKUP(基本情報!G29,INDIRECT(基本情報!$D$3&\"!$C$15:$P$61\"),14,0)-0.1,0))","v":0},0,{"$f":"IF(基本情報!G29=\"\",0,ROUND(IF(OR(基本情報!G29<税額基本情報!$E$26,基本情報!G29>税額基本情報!$E$27),AC26,VLOOKUP(基本情報!G29,INDIRECT(基本情報!$D$3&\"!$C$19:$X$48\"),18,0))-0.1,0))","v":0},{"$f":"IF(基本情報!G29=\"\",0,ROUND(IF(OR(基本情報!G29<税額基本情報!$E$26,基本情報!G29>税額基本情報!$E$27),AD26,VLOOKUP(基本情報!G29,INDIRECT(基本情報!$D$3&\"!$C$19:$X$48\"),22,0))-0.1,0))","v":0},{"$f":"IF(基本情報!G29=\"\",0,IF(基本情報!G29<税額基本情報!$E$26,税額基本情報!$F$26,IF(基本情報!G29>税額基本情報!$E$27,税額基本情報!$F$27,0)))","v":0},{"$f":"IF(基本情報!G29=\"\",0,IF(基本情報!G29<税額基本情報!$E$26,税額基本情報!$G$26,IF(基本情報!G29>税額基本情報!$E$27,税額基本情報!$G$27,0)))","v":0},0,{"$f":"ROUND(ROUNDDOWN(賞与計算!F29,-3)*INDIRECT(基本情報!$D$3&\"!$J$10\")*0.5-0.1,0)","v":0},{"$f":"ROUND(ROUNDDOWN(賞与計算!F29,-3)*INDIRECT(基本情報!$D$3&\"!$N$10\")/2-0.1,0)","v":0},0,{"$f":"ROUND(IF(賞与計算!F29>税額基本情報!$D$30,税額基本情報!$D$30,ROUNDDOWN(賞与計算!F29,-3))*INDIRECT(基本情報!$D$3&\"!$R$10\")/2-0.1,0)","v":0},{"$f":"ROUND(IF(賞与計算!F29>税額基本情報!$D$30,税額基本情報!$D$30,ROUNDDOWN(賞与計算!F29,-3))*INDIRECT(基本情報!$D$3&\"!$V$10\")/2-0.1,0)","v":0}]
[null,null,23,{"$f":"給与計算!C30","v":""},{"$f":"MAX(IF(給与計算!M30>=税額基本情報!$D$6,MAX(計算シート!H27:K27),IF(給与計算!M30<源泉月額表!$B$8,0,VLOOKUP(給与計算!M30,源泉月額表!$B:$K,IF(基本情報!E30>=8,10,基本情報!E30+3),1)))-IF(基本情報!E30>=8,(基本情報!E30-7)*税額基本情報!$D$17,0),0)","v":0},{"$f":"IF(給与計算!M30<源泉月額表!$B$8,ROUNDDOWN(給与計算!M30*税額基本情報!$D$23,0),IF(給与計算!M30=0,0,IF(給与計算!M30>=税額基本情報!$D$13,MAX(L27:M27),VLOOKUP(給与計算!M30,源泉月額表!$B:$L,11,1))))","v":0},{"$f":"MAX(IF(給与計算!M30<源泉月額表!$B$8,ROUNDDOWN(給与計算!M30*3.063%,0),IF(給与計算!M30=0,0,IF(給与計算!M30>=税額基本情報!$D$13,MAX(L27:M27),VLOOKUP(給与計算!M30,源泉月額表!$B:$L,11,1))))-基本情報!E30*税額基本情報!$D$20,0)","v":0},{"$f":"IF(AND(給与計算!M30>=1010000,給与計算!M30<1250000),VLOOKUP(給与計算!M30,税額基本情報!$D$6:$M$9,IF(基本情報!E30>=8,10,基本情報!E30+3),1)+ROUNDDOWN((給与計算!M30-税額基本情報!$D$6)*税額基本情報!$E$6,0),0)","v":0},{"$f":"IF(AND(給与計算!M30>=1250000,給与計算!M30<1740000),VLOOKUP(給与計算!M30,税額基本情報!$D$6:$M$9,IF(基本情報!E30>=8,10,基本情報!E30+3),1)+ROUNDDOWN((給与計算!M30-税額基本情報!$D$7)*税額基本情報!$E$7,0),0)","v":0},{"$f":"IF(AND(給与計算!M30>=1740000,給与計算!M30<3570000),VLOOKUP(給与計算!M30,税額基本情報!$D$6:$M$9,IF(基本情報!E30>=8,10,基本情報!E30+3),1)+ROUNDDOWN((給与計算!M30-税額基本情報!$D$8)*税額基本情報!$E$8,0),0)","v":0},{"$f":"IF(給与計算!M30>=3570000,VLOOKUP(給与計算!M30,税額基本情報!$D$6:$M$9,IF(基本情報!E30>=8,10,基本情報!E30+3),1)+ROUNDDOWN((給与計算!M30-税額基本情報!$D$9)*税額基本情報!$E$9,0),0)","v":0},{"$f":"IF(AND(給与計算!M30>=1010000,給与計算!M30<1250000),税額基本情報!$F$13+ROUNDDOWN((給与計算!M30-税額基本情報!$D$13)*税額基本情報!$E$13,0),0)","v":0},{"$f":"IF(給与計算!M30>=1250000,税額基本情報!$F$14+ROUNDDOWN((給与計算!M30-税額基本情報!$D$14)*税額基本情報!$E$14,0),0)","v":0},{"$f":"IF(賞与計算!D30<源泉賞与表!$D$10*1000,0,INDEX(源泉賞与表!$B:$B,MATCH(賞与計算!D30/1000,源泉賞与表!$D:$D,1)))","v":0},{"$f":"IF(賞与計算!D30<源泉賞与表!$F$10*1000,0,INDEX(源泉賞与表!$B:$B,MATCH(賞与計算!D30/1000,源泉賞与表!$F:$F,1)))","v":0},{"$f":"IF(賞与計算!D30<源泉賞与表!$H$10*1000,0,INDEX(源泉賞与表!$B:$B,MATCH(賞与計算!D30/1000,源泉賞与表!$H:$H,1)))","v":0},{"$f":"IF(賞与計算!D30<源泉賞与表!$J$10*1000,0,INDEX(源泉賞与表!$B:$B,MATCH(賞与計算!D30/1000,源泉賞与表!$J:$J,1)))","v":0},{"$f":"IF(賞与計算!D30<源泉賞与表!$L$10*1000,0,INDEX(源泉賞与表!$B:$B,MATCH(賞与計算!D30/1000,源泉賞与表!$L:$L,1)))","v":0},{"$f":"IF(賞与計算!D30<源泉賞与表!$N$10*1000,0,INDEX(源泉賞与表!$B:$B,MATCH(賞与計算!D30/1000,源泉賞与表!$N:$N,1)))","v":0},{"$f":"IF(賞与計算!D30<源泉賞与表!$P$10*1000,0,INDEX(源泉賞与表!$B:$B,MATCH(賞与計算!D30/1000,源泉賞与表!$P:$P,1)))","v":0},{"$f":"IF(賞与計算!D30<源泉賞与表!$R$10*1000,0,INDEX(源泉賞与表!$B:$B,MATCH(賞与計算!D30/1000,源泉賞与表!$R:$R,1)))","v":0},{"$f":"IF(賞与計算!D30=\"\",\"\",IF(賞与計算!D30<源泉賞与表!$T$22*1000,10.21,INDEX(源泉賞与表!$B:$B,MATCH(賞与計算!D30/1000,源泉賞与表!$T:$T,1))))","v":""},0,{"$f":"IF(基本情報!G30=\"\",0,ROUND(VLOOKUP(基本情報!G30,INDIRECT(基本情報!$D$3&\"!$C$15:$P$61\"),10,0)-0.1,0))","v":0},{"$f":"IF(基本情報!G30=\"\",0,ROUND(VLOOKUP(基本情報!G30,INDIRECT(基本情報!$D$3&\"!$C$15:$P$61\"),14,0)-0.1,0))","v":0},0,{"$f":"IF(基本情報!G30=\"\",0,ROUND(IF(OR(基本情報!G30<税額基本情報!$E$26,基本情報!G30>税額基本情報!$E$27),AC27,VLOOKUP(基本情報!G30,INDIRECT(基本情報!$D$3&\"!$C$19:$X$48\"),18,0))-0.1,0))","v":0},{"$f":"IF(基本情報!G30=\"\",0,ROUND(IF(OR(基本情報!G30<税額基本情報!$E$26,基本情報!G30>税額基本情報!$E$27),AD27,VLOOKUP(基本情報!G30,INDIRECT(基本情報!$D$3&\"!$C$19:$X$48\"),22,0))-0.1,0))","v":0},{"$f":"IF(基本情報!G30=\"\",0,IF(基本情報!G30<税額基本情報!$E$26,税額基本情報!$F$26,IF(基本情報!G30>税額基本情報!$E$27,税額基本情報!$F$27,0)))","v":0},{"$f":"IF(基本情報!G30=\"\",0,IF(基本情報!G30<税額基本情報!$E$26,税額基本情報!$G$26,IF(基本情報!G30>税額基本情報!$E$27,税額基本情報!$G$27,0)))","v":0},0,{"$f":"ROUND(ROUNDDOWN(賞与計算!F30,-3)*INDIRECT(基本情報!$D$3&\"!$J$10\")*0.5-0.1,0)","v":0},{"$f":"ROUND(ROUNDDOWN(賞与計算!F30,-3)*INDIRECT(基本情報!$D$3&\"!$N$10\")/2-0.1,0)","v":0},0,{"$f":"ROUND(IF(賞与計算!F30>税額基本情報!$D$30,税額基本情報!$D$30,ROUNDDOWN(賞与計算!F30,-3))*INDIRECT(基本情報!$D$3&\"!$R$10\")/2-0.1,0)","v":0},{"$f":"ROUND(IF(賞与計算!F30>税額基本情報!$D$30,税額基本情報!$D$30,ROUNDDOWN(賞与計算!F30,-3))*INDIRECT(基本情報!$D$3&\"!$V$10\")/2-0.1,0)","v":0}]
[null,null,24,{"$f":"給与計算!C31","v":""},{"$f":"MAX(IF(給与計算!M31>=税額基本情報!$D$6,MAX(計算シート!H28:K28),IF(給与計算!M31<源泉月額表!$B$8,0,VLOOKUP(給与計算!M31,源泉月額表!$B:$K,IF(基本情報!E31>=8,10,基本情報!E31+3),1)))-IF(基本情報!E31>=8,(基本情報!E31-7)*税額基本情報!$D$17,0),0)","v":0},{"$f":"IF(給与計算!M31<源泉月額表!$B$8,ROUNDDOWN(給与計算!M31*税額基本情報!$D$23,0),IF(給与計算!M31=0,0,IF(給与計算!M31>=税額基本情報!$D$13,MAX(L28:M28),VLOOKUP(給与計算!M31,源泉月額表!$B:$L,11,1))))","v":0},{"$f":"MAX(IF(給与計算!M31<源泉月額表!$B$8,ROUNDDOWN(給与計算!M31*3.063%,0),IF(給与計算!M31=0,0,IF(給与計算!M31>=税額基本情報!$D$13,MAX(L28:M28),VLOOKUP(給与計算!M31,源泉月額表!$B:$L,11,1))))-基本情報!E31*税額基本情報!$D$20,0)","v":0},{"$f":"IF(AND(給与計算!M31>=1010000,給与計算!M31<1250000),VLOOKUP(給与計算!M31,税額基本情報!$D$6:$M$9,IF(基本情報!E31>=8,10,基本情報!E31+3),1)+ROUNDDOWN((給与計算!M31-税額基本情報!$D$6)*税額基本情報!$E$6,0),0)","v":0},{"$f":"IF(AND(給与計算!M31>=1250000,給与計算!M31<1740000),VLOOKUP(給与計算!M31,税額基本情報!$D$6:$M$9,IF(基本情報!E31>=8,10,基本情報!E31+3),1)+ROUNDDOWN((給与計算!M31-税額基本情報!$D$7)*税額基本情報!$E$7,0),0)","v":0},{"$f":"IF(AND(給与計算!M31>=1740000,給与計算!M31<3570000),VLOOKUP(給与計算!M31,税額基本情報!$D$6:$M$9,IF(基本情報!E31>=8,10,基本情報!E31+3),1)+ROUNDDOWN((給与計算!M31-税額基本情報!$D$8)*税額基本情報!$E$8,0),0)","v":0},{"$f":"IF(給与計算!M31>=3570000,VLOOKUP(給与計算!M31,税額基本情報!$D$6:$M$9,IF(基本情報!E31>=8,10,基本情報!E31+3),1)+ROUNDDOWN((給与計算!M31-税額基本情報!$D$9)*税額基本情報!$E$9,0),0)","v":0},{"$f":"IF(AND(給与計算!M31>=1010000,給与計算!M31<1250000),税額基本情報!$F$13+ROUNDDOWN((給与計算!M31-税額基本情報!$D$13)*税額基本情報!$E$13,0),0)","v":0},{"$f":"IF(給与計算!M31>=1250000,税額基本情報!$F$14+ROUNDDOWN((給与計算!M31-税額基本情報!$D$14)*税額基本情報!$E$14,0),0)","v":0},{"$f":"IF(賞与計算!D31<源泉賞与表!$D$10*1000,0,INDEX(源泉賞与表!$B:$B,MATCH(賞与計算!D31/1000,源泉賞与表!$D:$D,1)))","v":0},{"$f":"IF(賞与計算!D31<源泉賞与表!$F$10*1000,0,INDEX(源泉賞与表!$B:$B,MATCH(賞与計算!D31/1000,源泉賞与表!$F:$F,1)))","v":0},{"$f":"IF(賞与計算!D31<源泉賞与表!$H$10*1000,0,INDEX(源泉賞与表!$B:$B,MATCH(賞与計算!D31/1000,源泉賞与表!$H:$H,1)))","v":0},{"$f":"IF(賞与計算!D31<源泉賞与表!$J$10*1000,0,INDEX(源泉賞与表!$B:$B,MATCH(賞与計算!D31/1000,源泉賞与表!$J:$J,1)))","v":0},{"$f":"IF(賞与計算!D31<源泉賞与表!$L$10*1000,0,INDEX(源泉賞与表!$B:$B,MATCH(賞与計算!D31/1000,源泉賞与表!$L:$L,1)))","v":0},{"$f":"IF(賞与計算!D31<源泉賞与表!$N$10*1000,0,INDEX(源泉賞与表!$B:$B,MATCH(賞与計算!D31/1000,源泉賞与表!$N:$N,1)))","v":0},{"$f":"IF(賞与計算!D31<源泉賞与表!$P$10*1000,0,INDEX(源泉賞与表!$B:$B,MATCH(賞与計算!D31/1000,源泉賞与表!$P:$P,1)))","v":0},{"$f":"IF(賞与計算!D31<源泉賞与表!$R$10*1000,0,INDEX(源泉賞与表!$B:$B,MATCH(賞与計算!D31/1000,源泉賞与表!$R:$R,1)))","v":0},{"$f":"IF(賞与計算!D31=\"\",\"\",IF(賞与計算!D31<源泉賞与表!$T$22*1000,10.21,INDEX(源泉賞与表!$B:$B,MATCH(賞与計算!D31/1000,源泉賞与表!$T:$T,1))))","v":""},0,{"$f":"IF(基本情報!G31=\"\",0,ROUND(VLOOKUP(基本情報!G31,INDIRECT(基本情報!$D$3&\"!$C$15:$P$61\"),10,0)-0.1,0))","v":0},{"$f":"IF(基本情報!G31=\"\",0,ROUND(VLOOKUP(基本情報!G31,INDIRECT(基本情報!$D$3&\"!$C$15:$P$61\"),14,0)-0.1,0))","v":0},0,{"$f":"IF(基本情報!G31=\"\",0,ROUND(IF(OR(基本情報!G31<税額基本情報!$E$26,基本情報!G31>税額基本情報!$E$27),AC28,VLOOKUP(基本情報!G31,INDIRECT(基本情報!$D$3&\"!$C$19:$X$48\"),18,0))-0.1,0))","v":0},{"$f":"IF(基本情報!G31=\"\",0,ROUND(IF(OR(基本情報!G31<税額基本情報!$E$26,基本情報!G31>税額基本情報!$E$27),AD28,VLOOKUP(基本情報!G31,INDIRECT(基本情報!$D$3&\"!$C$19:$X$48\"),22,0))-0.1,0))","v":0},{"$f":"IF(基本情報!G31=\"\",0,IF(基本情報!G31<税額基本情報!$E$26,税額基本情報!$F$26,IF(基本情報!G31>税額基本情報!$E$27,税額基本情報!$F$27,0)))","v":0},{"$f":"IF(基本情報!G31=\"\",0,IF(基本情報!G31<税額基本情報!$E$26,税額基本情報!$G$26,IF(基本情報!G31>税額基本情報!$E$27,税額基本情報!$G$27,0)))","v":0},0,{"$f":"ROUND(ROUNDDOWN(賞与計算!F31,-3)*INDIRECT(基本情報!$D$3&\"!$J$10\")*0.5-0.1,0)","v":0},{"$f":"ROUND(ROUNDDOWN(賞与計算!F31,-3)*INDIRECT(基本情報!$D$3&\"!$N$10\")/2-0.1,0)","v":0},0,{"$f":"ROUND(IF(賞与計算!F31>税額基本情報!$D$30,税額基本情報!$D$30,ROUNDDOWN(賞与計算!F31,-3))*INDIRECT(基本情報!$D$3&\"!$R$10\")/2-0.1,0)","v":0},{"$f":"ROUND(IF(賞与計算!F31>税額基本情報!$D$30,税額基本情報!$D$30,ROUNDDOWN(賞与計算!F31,-3))*INDIRECT(基本情報!$D$3&\"!$V$10\")/2-0.1,0)","v":0}]
[null,null,25,{"$f":"給与計算!C32","v":""},{"$f":"MAX(IF(給与計算!M32>=税額基本情報!$D$6,MAX(計算シート!H29:K29),IF(給与計算!M32<源泉月額表!$B$8,0,VLOOKUP(給与計算!M32,源泉月額表!$B:$K,IF(基本情報!E32>=8,10,基本情報!E32+3),1)))-IF(基本情報!E32>=8,(基本情報!E32-7)*税額基本情報!$D$17,0),0)","v":0},{"$f":"IF(給与計算!M32<源泉月額表!$B$8,ROUNDDOWN(給与計算!M32*税額基本情報!$D$23,0),IF(給与計算!M32=0,0,IF(給与計算!M32>=税額基本情報!$D$13,MAX(L29:M29),VLOOKUP(給与計算!M32,源泉月額表!$B:$L,11,1))))","v":0},{"$f":"MAX(IF(給与計算!M32<源泉月額表!$B$8,ROUNDDOWN(給与計算!M32*3.063%,0),IF(給与計算!M32=0,0,IF(給与計算!M32>=税額基本情報!$D$13,MAX(L29:M29),VLOOKUP(給与計算!M32,源泉月額表!$B:$L,11,1))))-基本情報!E32*税額基本情報!$D$20,0)","v":0},{"$f":"IF(AND(給与計算!M32>=1010000,給与計算!M32<1250000),VLOOKUP(給与計算!M32,税額基本情報!$D$6:$M$9,IF(基本情報!E32>=8,10,基本情報!E32+3),1)+ROUNDDOWN((給与計算!M32-税額基本情報!$D$6)*税額基本情報!$E$6,0),0)","v":0},{"$f":"IF(AND(給与計算!M32>=1250000,給与計算!M32<1740000),VLOOKUP(給与計算!M32,税額基本情報!$D$6:$M$9,IF(基本情報!E32>=8,10,基本情報!E32+3),1)+ROUNDDOWN((給与計算!M32-税額基本情報!$D$7)*税額基本情報!$E$7,0),0)","v":0},{"$f":"IF(AND(給与計算!M32>=1740000,給与計算!M32<3570000),VLOOKUP(給与計算!M32,税額基本情報!$D$6:$M$9,IF(基本情報!E32>=8,10,基本情報!E32+3),1)+ROUNDDOWN((給与計算!M32-税額基本情報!$D$8)*税額基本情報!$E$8,0),0)","v":0},{"$f":"IF(給与計算!M32>=3570000,VLOOKUP(給与計算!M32,税額基本情報!$D$6:$M$9,IF(基本情報!E32>=8,10,基本情報!E32+3),1)+ROUNDDOWN((給与計算!M32-税額基本情報!$D$9)*税額基本情報!$E$9,0),0)","v":0},{"$f":"IF(AND(給与計算!M32>=1010000,給与計算!M32<1250000),税額基本情報!$F$13+ROUNDDOWN((給与計算!M32-税額基本情報!$D$13)*税額基本情報!$E$13,0),0)","v":0},{"$f":"IF(給与計算!M32>=1250000,税額基本情報!$F$14+ROUNDDOWN((給与計算!M32-税額基本情報!$D$14)*税額基本情報!$E$14,0),0)","v":0},{"$f":"IF(賞与計算!D32<源泉賞与表!$D$10*1000,0,INDEX(源泉賞与表!$B:$B,MATCH(賞与計算!D32/1000,源泉賞与表!$D:$D,1)))","v":0},{"$f":"IF(賞与計算!D32<源泉賞与表!$F$10*1000,0,INDEX(源泉賞与表!$B:$B,MATCH(賞与計算!D32/1000,源泉賞与表!$F:$F,1)))","v":0},{"$f":"IF(賞与計算!D32<源泉賞与表!$H$10*1000,0,INDEX(源泉賞与表!$B:$B,MATCH(賞与計算!D32/1000,源泉賞与表!$H:$H,1)))","v":0},{"$f":"IF(賞与計算!D32<源泉賞与表!$J$10*1000,0,INDEX(源泉賞与表!$B:$B,MATCH(賞与計算!D32/1000,源泉賞与表!$J:$J,1)))","v":0},{"$f":"IF(賞与計算!D32<源泉賞与表!$L$10*1000,0,INDEX(源泉賞与表!$B:$B,MATCH(賞与計算!D32/1000,源泉賞与表!$L:$L,1)))","v":0},{"$f":"IF(賞与計算!D32<源泉賞与表!$N$10*1000,0,INDEX(源泉賞与表!$B:$B,MATCH(賞与計算!D32/1000,源泉賞与表!$N:$N,1)))","v":0},{"$f":"IF(賞与計算!D32<源泉賞与表!$P$10*1000,0,INDEX(源泉賞与表!$B:$B,MATCH(賞与計算!D32/1000,源泉賞与表!$P:$P,1)))","v":0},{"$f":"IF(賞与計算!D32<源泉賞与表!$R$10*1000,0,INDEX(源泉賞与表!$B:$B,MATCH(賞与計算!D32/1000,源泉賞与表!$R:$R,1)))","v":0},{"$f":"IF(賞与計算!D32=\"\",\"\",IF(賞与計算!D32<源泉賞与表!$T$22*1000,10.21,INDEX(源泉賞与表!$B:$B,MATCH(賞与計算!D32/1000,源泉賞与表!$T:$T,1))))","v":""},0,{"$f":"IF(基本情報!G32=\"\",0,ROUND(VLOOKUP(基本情報!G32,INDIRECT(基本情報!$D$3&\"!$C$15:$P$61\"),10,0)-0.1,0))","v":0},{"$f":"IF(基本情報!G32=\"\",0,ROUND(VLOOKUP(基本情報!G32,INDIRECT(基本情報!$D$3&\"!$C$15:$P$61\"),14,0)-0.1,0))","v":0},0,{"$f":"IF(基本情報!G32=\"\",0,ROUND(IF(OR(基本情報!G32<税額基本情報!$E$26,基本情報!G32>税額基本情報!$E$27),AC29,VLOOKUP(基本情報!G32,INDIRECT(基本情報!$D$3&\"!$C$19:$X$48\"),18,0))-0.1,0))","v":0},{"$f":"IF(基本情報!G32=\"\",0,ROUND(IF(OR(基本情報!G32<税額基本情報!$E$26,基本情報!G32>税額基本情報!$E$27),AD29,VLOOKUP(基本情報!G32,INDIRECT(基本情報!$D$3&\"!$C$19:$X$48\"),22,0))-0.1,0))","v":0},{"$f":"IF(基本情報!G32=\"\",0,IF(基本情報!G32<税額基本情報!$E$26,税額基本情報!$F$26,IF(基本情報!G32>税額基本情報!$E$27,税額基本情報!$F$27,0)))","v":0},{"$f":"IF(基本情報!G32=\"\",0,IF(基本情報!G32<税額基本情報!$E$26,税額基本情報!$G$26,IF(基本情報!G32>税額基本情報!$E$27,税額基本情報!$G$27,0)))","v":0},0,{"$f":"ROUND(ROUNDDOWN(賞与計算!F32,-3)*INDIRECT(基本情報!$D$3&\"!$J$10\")*0.5-0.1,0)","v":0},{"$f":"ROUND(ROUNDDOWN(賞与計算!F32,-3)*INDIRECT(基本情報!$D$3&\"!$N$10\")/2-0.1,0)","v":0},0,{"$f":"ROUND(IF(賞与計算!F32>税額基本情報!$D$30,税額基本情報!$D$30,ROUNDDOWN(賞与計算!F32,-3))*INDIRECT(基本情報!$D$3&\"!$R$10\")/2-0.1,0)","v":0},{"$f":"ROUND(IF(賞与計算!F32>税額基本情報!$D$30,税額基本情報!$D$30,ROUNDDOWN(賞与計算!F32,-3))*INDIRECT(基本情報!$D$3&\"!$V$10\")/2-0.1,0)","v":0}]
[null,null,26,{"$f":"給与計算!C33","v":""},{"$f":"MAX(IF(給与計算!M33>=税額基本情報!$D$6,MAX(計算シート!H30:K30),IF(給与計算!M33<源泉月額表!$B$8,0,VLOOKUP(給与計算!M33,源泉月額表!$B:$K,IF(基本情報!E33>=8,10,基本情報!E33+3),1)))-IF(基本情報!E33>=8,(基本情報!E33-7)*税額基本情報!$D$17,0),0)","v":0},{"$f":"IF(給与計算!M33<源泉月額表!$B$8,ROUNDDOWN(給与計算!M33*税額基本情報!$D$23,0),IF(給与計算!M33=0,0,IF(給与計算!M33>=税額基本情報!$D$13,MAX(L30:M30),VLOOKUP(給与計算!M33,源泉月額表!$B:$L,11,1))))","v":0},{"$f":"MAX(IF(給与計算!M33<源泉月額表!$B$8,ROUNDDOWN(給与計算!M33*3.063%,0),IF(給与計算!M33=0,0,IF(給与計算!M33>=税額基本情報!$D$13,MAX(L30:M30),VLOOKUP(給与計算!M33,源泉月額表!$B:$L,11,1))))-基本情報!E33*税額基本情報!$D$20,0)","v":0},{"$f":"IF(AND(給与計算!M33>=1010000,給与計算!M33<1250000),VLOOKUP(給与計算!M33,税額基本情報!$D$6:$M$9,IF(基本情報!E33>=8,10,基本情報!E33+3),1)+ROUNDDOWN((給与計算!M33-税額基本情報!$D$6)*税額基本情報!$E$6,0),0)","v":0},{"$f":"IF(AND(給与計算!M33>=1250000,給与計算!M33<1740000),VLOOKUP(給与計算!M33,税額基本情報!$D$6:$M$9,IF(基本情報!E33>=8,10,基本情報!E33+3),1)+ROUNDDOWN((給与計算!M33-税額基本情報!$D$7)*税額基本情報!$E$7,0),0)","v":0},{"$f":"IF(AND(給与計算!M33>=1740000,給与計算!M33<3570000),VLOOKUP(給与計算!M33,税額基本情報!$D$6:$M$9,IF(基本情報!E33>=8,10,基本情報!E33+3),1)+ROUNDDOWN((給与計算!M33-税額基本情報!$D$8)*税額基本情報!$E$8,0),0)","v":0},{"$f":"IF(給与計算!M33>=3570000,VLOOKUP(給与計算!M33,税額基本情報!$D$6:$M$9,IF(基本情報!E33>=8,10,基本情報!E33+3),1)+ROUNDDOWN((給与計算!M33-税額基本情報!$D$9)*税額基本情報!$E$9,0),0)","v":0},{"$f":"IF(AND(給与計算!M33>=1010000,給与計算!M33<1250000),税額基本情報!$F$13+ROUNDDOWN((給与計算!M33-税額基本情報!$D$13)*税額基本情報!$E$13,0),0)","v":0},{"$f":"IF(給与計算!M33>=1250000,税額基本情報!$F$14+ROUNDDOWN((給与計算!M33-税額基本情報!$D$14)*税額基本情報!$E$14,0),0)","v":0},{"$f":"IF(賞与計算!D33<源泉賞与表!$D$10*1000,0,INDEX(源泉賞与表!$B:$B,MATCH(賞与計算!D33/1000,源泉賞与表!$D:$D,1)))","v":0},{"$f":"IF(賞与計算!D33<源泉賞与表!$F$10*1000,0,INDEX(源泉賞与表!$B:$B,MATCH(賞与計算!D33/1000,源泉賞与表!$F:$F,1)))","v":0},{"$f":"IF(賞与計算!D33<源泉賞与表!$H$10*1000,0,INDEX(源泉賞与表!$B:$B,MATCH(賞与計算!D33/1000,源泉賞与表!$H:$H,1)))","v":0},{"$f":"IF(賞与計算!D33<源泉賞与表!$J$10*1000,0,INDEX(源泉賞与表!$B:$B,MATCH(賞与計算!D33/1000,源泉賞与表!$J:$J,1)))","v":0},{"$f":"IF(賞与計算!D33<源泉賞与表!$L$10*1000,0,INDEX(源泉賞与表!$B:$B,MATCH(賞与計算!D33/1000,源泉賞与表!$L:$L,1)))","v":0},{"$f":"IF(賞与計算!D33<源泉賞与表!$N$10*1000,0,INDEX(源泉賞与表!$B:$B,MATCH(賞与計算!D33/1000,源泉賞与表!$N:$N,1)))","v":0},{"$f":"IF(賞与計算!D33<源泉賞与表!$P$10*1000,0,INDEX(源泉賞与表!$B:$B,MATCH(賞与計算!D33/1000,源泉賞与表!$P:$P,1)))","v":0},{"$f":"IF(賞与計算!D33<源泉賞与表!$R$10*1000,0,INDEX(源泉賞与表!$B:$B,MATCH(賞与計算!D33/1000,源泉賞与表!$R:$R,1)))","v":0},{"$f":"IF(賞与計算!D33=\"\",\"\",IF(賞与計算!D33<源泉賞与表!$T$22*1000,10.21,INDEX(源泉賞与表!$B:$B,MATCH(賞与計算!D33/1000,源泉賞与表!$T:$T,1))))","v":""},0,{"$f":"IF(基本情報!G33=\"\",0,ROUND(VLOOKUP(基本情報!G33,INDIRECT(基本情報!$D$3&\"!$C$15:$P$61\"),10,0)-0.1,0))","v":0},{"$f":"IF(基本情報!G33=\"\",0,ROUND(VLOOKUP(基本情報!G33,INDIRECT(基本情報!$D$3&\"!$C$15:$P$61\"),14,0)-0.1,0))","v":0},0,{"$f":"IF(基本情報!G33=\"\",0,ROUND(IF(OR(基本情報!G33<税額基本情報!$E$26,基本情報!G33>税額基本情報!$E$27),AC30,VLOOKUP(基本情報!G33,INDIRECT(基本情報!$D$3&\"!$C$19:$X$48\"),18,0))-0.1,0))","v":0},{"$f":"IF(基本情報!G33=\"\",0,ROUND(IF(OR(基本情報!G33<税額基本情報!$E$26,基本情報!G33>税額基本情報!$E$27),AD30,VLOOKUP(基本情報!G33,INDIRECT(基本情報!$D$3&\"!$C$19:$X$48\"),22,0))-0.1,0))","v":0},{"$f":"IF(基本情報!G33=\"\",0,IF(基本情報!G33<税額基本情報!$E$26,税額基本情報!$F$26,IF(基本情報!G33>税額基本情報!$E$27,税額基本情報!$F$27,0)))","v":0},{"$f":"IF(基本情報!G33=\"\",0,IF(基本情報!G33<税額基本情報!$E$26,税額基本情報!$G$26,IF(基本情報!G33>税額基本情報!$E$27,税額基本情報!$G$27,0)))","v":0},0,{"$f":"ROUND(ROUNDDOWN(賞与計算!F33,-3)*INDIRECT(基本情報!$D$3&\"!$J$10\")*0.5-0.1,0)","v":0},{"$f":"ROUND(ROUNDDOWN(賞与計算!F33,-3)*INDIRECT(基本情報!$D$3&\"!$N$10\")/2-0.1,0)","v":0},0,{"$f":"ROUND(IF(賞与計算!F33>税額基本情報!$D$30,税額基本情報!$D$30,ROUNDDOWN(賞与計算!F33,-3))*INDIRECT(基本情報!$D$3&\"!$R$10\")/2-0.1,0)","v":0},{"$f":"ROUND(IF(賞与計算!F33>税額基本情報!$D$30,税額基本情報!$D$30,ROUNDDOWN(賞与計算!F33,-3))*INDIRECT(基本情報!$D$3&\"!$V$10\")/2-0.1,0)","v":0}]
[null,null,27,{"$f":"給与計算!C34","v":""},{"$f":"MAX(IF(給与計算!M34>=税額基本情報!$D$6,MAX(計算シート!H31:K31),IF(給与計算!M34<源泉月額表!$B$8,0,VLOOKUP(給与計算!M34,源泉月額表!$B:$K,IF(基本情報!E34>=8,10,基本情報!E34+3),1)))-IF(基本情報!E34>=8,(基本情報!E34-7)*税額基本情報!$D$17,0),0)","v":0},{"$f":"IF(給与計算!M34<源泉月額表!$B$8,ROUNDDOWN(給与計算!M34*税額基本情報!$D$23,0),IF(給与計算!M34=0,0,IF(給与計算!M34>=税額基本情報!$D$13,MAX(L31:M31),VLOOKUP(給与計算!M34,源泉月額表!$B:$L,11,1))))","v":0},{"$f":"MAX(IF(給与計算!M34<源泉月額表!$B$8,ROUNDDOWN(給与計算!M34*3.063%,0),IF(給与計算!M34=0,0,IF(給与計算!M34>=税額基本情報!$D$13,MAX(L31:M31),VLOOKUP(給与計算!M34,源泉月額表!$B:$L,11,1))))-基本情報!E34*税額基本情報!$D$20,0)","v":0},{"$f":"IF(AND(給与計算!M34>=1010000,給与計算!M34<1250000),VLOOKUP(給与計算!M34,税額基本情報!$D$6:$M$9,IF(基本情報!E34>=8,10,基本情報!E34+3),1)+ROUNDDOWN((給与計算!M34-税額基本情報!$D$6)*税額基本情報!$E$6,0),0)","v":0},{"$f":"IF(AND(給与計算!M34>=1250000,給与計算!M34<1740000),VLOOKUP(給与計算!M34,税額基本情報!$D$6:$M$9,IF(基本情報!E34>=8,10,基本情報!E34+3),1)+ROUNDDOWN((給与計算!M34-税額基本情報!$D$7)*税額基本情報!$E$7,0),0)","v":0},{"$f":"IF(AND(給与計算!M34>=1740000,給与計算!M34<3570000),VLOOKUP(給与計算!M34,税額基本情報!$D$6:$M$9,IF(基本情報!E34>=8,10,基本情報!E34+3),1)+ROUNDDOWN((給与計算!M34-税額基本情報!$D$8)*税額基本情報!$E$8,0),0)","v":0},{"$f":"IF(給与計算!M34>=3570000,VLOOKUP(給与計算!M34,税額基本情報!$D$6:$M$9,IF(基本情報!E34>=8,10,基本情報!E34+3),1)+ROUNDDOWN((給与計算!M34-税額基本情報!$D$9)*税額基本情報!$E$9,0),0)","v":0},{"$f":"IF(AND(給与計算!M34>=1010000,給与計算!M34<1250000),税額基本情報!$F$13+ROUNDDOWN((給与計算!M34-税額基本情報!$D$13)*税額基本情報!$E$13,0),0)","v":0},{"$f":"IF(給与計算!M34>=1250000,税額基本情報!$F$14+ROUNDDOWN((給与計算!M34-税額基本情報!$D$14)*税額基本情報!$E$14,0),0)","v":0},{"$f":"IF(賞与計算!D34<源泉賞与表!$D$10*1000,0,INDEX(源泉賞与表!$B:$B,MATCH(賞与計算!D34/1000,源泉賞与表!$D:$D,1)))","v":0},{"$f":"IF(賞与計算!D34<源泉賞与表!$F$10*1000,0,INDEX(源泉賞与表!$B:$B,MATCH(賞与計算!D34/1000,源泉賞与表!$F:$F,1)))","v":0},{"$f":"IF(賞与計算!D34<源泉賞与表!$H$10*1000,0,INDEX(源泉賞与表!$B:$B,MATCH(賞与計算!D34/1000,源泉賞与表!$H:$H,1)))","v":0},{"$f":"IF(賞与計算!D34<源泉賞与表!$J$10*1000,0,INDEX(源泉賞与表!$B:$B,MATCH(賞与計算!D34/1000,源泉賞与表!$J:$J,1)))","v":0},{"$f":"IF(賞与計算!D34<源泉賞与表!$L$10*1000,0,INDEX(源泉賞与表!$B:$B,MATCH(賞与計算!D34/1000,源泉賞与表!$L:$L,1)))","v":0},{"$f":"IF(賞与計算!D34<源泉賞与表!$N$10*1000,0,INDEX(源泉賞与表!$B:$B,MATCH(賞与計算!D34/1000,源泉賞与表!$N:$N,1)))","v":0},{"$f":"IF(賞与計算!D34<源泉賞与表!$P$10*1000,0,INDEX(源泉賞与表!$B:$B,MATCH(賞与計算!D34/1000,源泉賞与表!$P:$P,1)))","v":0},{"$f":"IF(賞与計算!D34<源泉賞与表!$R$10*1000,0,INDEX(源泉賞与表!$B:$B,MATCH(賞与計算!D34/1000,源泉賞与表!$R:$R,1)))","v":0},{"$f":"IF(賞与計算!D34=\"\",\"\",IF(賞与計算!D34<源泉賞与表!$T$22*1000,10.21,INDEX(源泉賞与表!$B:$B,MATCH(賞与計算!D34/1000,源泉賞与表!$T:$T,1))))","v":""},0,{"$f":"IF(基本情報!G34=\"\",0,ROUND(VLOOKUP(基本情報!G34,INDIRECT(基本情報!$D$3&\"!$C$15:$P$61\"),10,0)-0.1,0))","v":0},{"$f":"IF(基本情報!G34=\"\",0,ROUND(VLOOKUP(基本情報!G34,INDIRECT(基本情報!$D$3&\"!$C$15:$P$61\"),14,0)-0.1,0))","v":0},0,{"$f":"IF(基本情報!G34=\"\",0,ROUND(IF(OR(基本情報!G34<税額基本情報!$E$26,基本情報!G34>税額基本情報!$E$27),AC31,VLOOKUP(基本情報!G34,INDIRECT(基本情報!$D$3&\"!$C$19:$X$48\"),18,0))-0.1,0))","v":0},{"$f":"IF(基本情報!G34=\"\",0,ROUND(IF(OR(基本情報!G34<税額基本情報!$E$26,基本情報!G34>税額基本情報!$E$27),AD31,VLOOKUP(基本情報!G34,INDIRECT(基本情報!$D$3&\"!$C$19:$X$48\"),22,0))-0.1,0))","v":0},{"$f":"IF(基本情報!G34=\"\",0,IF(基本情報!G34<税額基本情報!$E$26,税額基本情報!$F$26,IF(基本情報!G34>税額基本情報!$E$27,税額基本情報!$F$27,0)))","v":0},{"$f":"IF(基本情報!G34=\"\",0,IF(基本情報!G34<税額基本情報!$E$26,税額基本情報!$G$26,IF(基本情報!G34>税額基本情報!$E$27,税額基本情報!$G$27,0)))","v":0},0,{"$f":"ROUND(ROUNDDOWN(賞与計算!F34,-3)*INDIRECT(基本情報!$D$3&\"!$J$10\")*0.5-0.1,0)","v":0},{"$f":"ROUND(ROUNDDOWN(賞与計算!F34,-3)*INDIRECT(基本情報!$D$3&\"!$N$10\")/2-0.1,0)","v":0},0,{"$f":"ROUND(IF(賞与計算!F34>税額基本情報!$D$30,税額基本情報!$D$30,ROUNDDOWN(賞与計算!F34,-3))*INDIRECT(基本情報!$D$3&\"!$R$10\")/2-0.1,0)","v":0},{"$f":"ROUND(IF(賞与計算!F34>税額基本情報!$D$30,税額基本情報!$D$30,ROUNDDOWN(賞与計算!F34,-3))*INDIRECT(基本情報!$D$3&\"!$V$10\")/2-0.1,0)","v":0}]
[null,null,28,{"$f":"給与計算!C35","v":""},{"$f":"MAX(IF(給与計算!M35>=税額基本情報!$D$6,MAX(計算シート!H32:K32),IF(給与計算!M35<源泉月額表!$B$8,0,VLOOKUP(給与計算!M35,源泉月額表!$B:$K,IF(基本情報!E35>=8,10,基本情報!E35+3),1)))-IF(基本情報!E35>=8,(基本情報!E35-7)*税額基本情報!$D$17,0),0)","v":0},{"$f":"IF(給与計算!M35<源泉月額表!$B$8,ROUNDDOWN(給与計算!M35*税額基本情報!$D$23,0),IF(給与計算!M35=0,0,IF(給与計算!M35>=税額基本情報!$D$13,MAX(L32:M32),VLOOKUP(給与計算!M35,源泉月額表!$B:$L,11,1))))","v":0},{"$f":"MAX(IF(給与計算!M35<源泉月額表!$B$8,ROUNDDOWN(給与計算!M35*3.063%,0),IF(給与計算!M35=0,0,IF(給与計算!M35>=税額基本情報!$D$13,MAX(L32:M32),VLOOKUP(給与計算!M35,源泉月額表!$B:$L,11,1))))-基本情報!E35*税額基本情報!$D$20,0)","v":0},{"$f":"IF(AND(給与計算!M35>=1010000,給与計算!M35<1250000),VLOOKUP(給与計算!M35,税額基本情報!$D$6:$M$9,IF(基本情報!E35>=8,10,基本情報!E35+3),1)+ROUNDDOWN((給与計算!M35-税額基本情報!$D$6)*税額基本情報!$E$6,0),0)","v":0},{"$f":"IF(AND(給与計算!M35>=1250000,給与計算!M35<1740000),VLOOKUP(給与計算!M35,税額基本情報!$D$6:$M$9,IF(基本情報!E35>=8,10,基本情報!E35+3),1)+ROUNDDOWN((給与計算!M35-税額基本情報!$D$7)*税額基本情報!$E$7,0),0)","v":0},{"$f":"IF(AND(給与計算!M35>=1740000,給与計算!M35<3570000),VLOOKUP(給与計算!M35,税額基本情報!$D$6:$M$9,IF(基本情報!E35>=8,10,基本情報!E35+3),1)+ROUNDDOWN((給与計算!M35-税額基本情報!$D$8)*税額基本情報!$E$8,0),0)","v":0},{"$f":"IF(給与計算!M35>=3570000,VLOOKUP(給与計算!M35,税額基本情報!$D$6:$M$9,IF(基本情報!E35>=8,10,基本情報!E35+3),1)+ROUNDDOWN((給与計算!M35-税額基本情報!$D$9)*税額基本情報!$E$9,0),0)","v":0},{"$f":"IF(AND(給与計算!M35>=1010000,給与計算!M35<1250000),税額基本情報!$F$13+ROUNDDOWN((給与計算!M35-税額基本情報!$D$13)*税額基本情報!$E$13,0),0)","v":0},{"$f":"IF(給与計算!M35>=1250000,税額基本情報!$F$14+ROUNDDOWN((給与計算!M35-税額基本情報!$D$14)*税額基本情報!$E$14,0),0)","v":0},{"$f":"IF(賞与計算!D35<源泉賞与表!$D$10*1000,0,INDEX(源泉賞与表!$B:$B,MATCH(賞与計算!D35/1000,源泉賞与表!$D:$D,1)))","v":0},{"$f":"IF(賞与計算!D35<源泉賞与表!$F$10*1000,0,INDEX(源泉賞与表!$B:$B,MATCH(賞与計算!D35/1000,源泉賞与表!$F:$F,1)))","v":0},{"$f":"IF(賞与計算!D35<源泉賞与表!$H$10*1000,0,INDEX(源泉賞与表!$B:$B,MATCH(賞与計算!D35/1000,源泉賞与表!$H:$H,1)))","v":0},{"$f":"IF(賞与計算!D35<源泉賞与表!$J$10*1000,0,INDEX(源泉賞与表!$B:$B,MATCH(賞与計算!D35/1000,源泉賞与表!$J:$J,1)))","v":0},{"$f":"IF(賞与計算!D35<源泉賞与表!$L$10*1000,0,INDEX(源泉賞与表!$B:$B,MATCH(賞与計算!D35/1000,源泉賞与表!$L:$L,1)))","v":0},{"$f":"IF(賞与計算!D35<源泉賞与表!$N$10*1000,0,INDEX(源泉賞与表!$B:$B,MATCH(賞与計算!D35/1000,源泉賞与表!$N:$N,1)))","v":0},{"$f":"IF(賞与計算!D35<源泉賞与表!$P$10*1000,0,INDEX(源泉賞与表!$B:$B,MATCH(賞与計算!D35/1000,源泉賞与表!$P:$P,1)))","v":0},{"$f":"IF(賞与計算!D35<源泉賞与表!$R$10*1000,0,INDEX(源泉賞与表!$B:$B,MATCH(賞与計算!D35/1000,源泉賞与表!$R:$R,1)))","v":0},{"$f":"IF(賞与計算!D35=\"\",\"\",IF(賞与計算!D35<源泉賞与表!$T$22*1000,10.21,INDEX(源泉賞与表!$B:$B,MATCH(賞与計算!D35/1000,源泉賞与表!$T:$T,1))))","v":""},0,{"$f":"IF(基本情報!G35=\"\",0,ROUND(VLOOKUP(基本情報!G35,INDIRECT(基本情報!$D$3&\"!$C$15:$P$61\"),10,0)-0.1,0))","v":0},{"$f":"IF(基本情報!G35=\"\",0,ROUND(VLOOKUP(基本情報!G35,INDIRECT(基本情報!$D$3&\"!$C$15:$P$61\"),14,0)-0.1,0))","v":0},0,{"$f":"IF(基本情報!G35=\"\",0,ROUND(IF(OR(基本情報!G35<税額基本情報!$E$26,基本情報!G35>税額基本情報!$E$27),AC32,VLOOKUP(基本情報!G35,INDIRECT(基本情報!$D$3&\"!$C$19:$X$48\"),18,0))-0.1,0))","v":0},{"$f":"IF(基本情報!G35=\"\",0,ROUND(IF(OR(基本情報!G35<税額基本情報!$E$26,基本情報!G35>税額基本情報!$E$27),AD32,VLOOKUP(基本情報!G35,INDIRECT(基本情報!$D$3&\"!$C$19:$X$48\"),22,0))-0.1,0))","v":0},{"$f":"IF(基本情報!G35=\"\",0,IF(基本情報!G35<税額基本情報!$E$26,税額基本情報!$F$26,IF(基本情報!G35>税額基本情報!$E$27,税額基本情報!$F$27,0)))","v":0},{"$f":"IF(基本情報!G35=\"\",0,IF(基本情報!G35<税額基本情報!$E$26,税額基本情報!$G$26,IF(基本情報!G35>税額基本情報!$E$27,税額基本情報!$G$27,0)))","v":0},0,{"$f":"ROUND(ROUNDDOWN(賞与計算!F35,-3)*INDIRECT(基本情報!$D$3&\"!$J$10\")*0.5-0.1,0)","v":0},{"$f":"ROUND(ROUNDDOWN(賞与計算!F35,-3)*INDIRECT(基本情報!$D$3&\"!$N$10\")/2-0.1,0)","v":0},0,{"$f":"ROUND(IF(賞与計算!F35>税額基本情報!$D$30,税額基本情報!$D$30,ROUNDDOWN(賞与計算!F35,-3))*INDIRECT(基本情報!$D$3&\"!$R$10\")/2-0.1,0)","v":0},{"$f":"ROUND(IF(賞与計算!F35>税額基本情報!$D$30,税額基本情報!$D$30,ROUNDDOWN(賞与計算!F35,-3))*INDIRECT(基本情報!$D$3&\"!$V$10\")/2-0.1,0)","v":0}]
[null,null,29,{"$f":"給与計算!C36","v":""},{"$f":"MAX(IF(給与計算!M36>=税額基本情報!$D$6,MAX(計算シート!H33:K33),IF(給与計算!M36<源泉月額表!$B$8,0,VLOOKUP(給与計算!M36,源泉月額表!$B:$K,IF(基本情報!E36>=8,10,基本情報!E36+3),1)))-IF(基本情報!E36>=8,(基本情報!E36-7)*税額基本情報!$D$17,0),0)","v":0},{"$f":"IF(給与計算!M36<源泉月額表!$B$8,ROUNDDOWN(給与計算!M36*税額基本情報!$D$23,0),IF(給与計算!M36=0,0,IF(給与計算!M36>=税額基本情報!$D$13,MAX(L33:M33),VLOOKUP(給与計算!M36,源泉月額表!$B:$L,11,1))))","v":0},{"$f":"MAX(IF(給与計算!M36<源泉月額表!$B$8,ROUNDDOWN(給与計算!M36*3.063%,0),IF(給与計算!M36=0,0,IF(給与計算!M36>=税額基本情報!$D$13,MAX(L33:M33),VLOOKUP(給与計算!M36,源泉月額表!$B:$L,11,1))))-基本情報!E36*税額基本情報!$D$20,0)","v":0},{"$f":"IF(AND(給与計算!M36>=1010000,給与計算!M36<1250000),VLOOKUP(給与計算!M36,税額基本情報!$D$6:$M$9,IF(基本情報!E36>=8,10,基本情報!E36+3),1)+ROUNDDOWN((給与計算!M36-税額基本情報!$D$6)*税額基本情報!$E$6,0),0)","v":0},{"$f":"IF(AND(給与計算!M36>=1250000,給与計算!M36<1740000),VLOOKUP(給与計算!M36,税額基本情報!$D$6:$M$9,IF(基本情報!E36>=8,10,基本情報!E36+3),1)+ROUNDDOWN((給与計算!M36-税額基本情報!$D$7)*税額基本情報!$E$7,0),0)","v":0},{"$f":"IF(AND(給与計算!M36>=1740000,給与計算!M36<3570000),VLOOKUP(給与計算!M36,税額基本情報!$D$6:$M$9,IF(基本情報!E36>=8,10,基本情報!E36+3),1)+ROUNDDOWN((給与計算!M36-税額基本情報!$D$8)*税額基本情報!$E$8,0),0)","v":0},{"$f":"IF(給与計算!M36>=3570000,VLOOKUP(給与計算!M36,税額基本情報!$D$6:$M$9,IF(基本情報!E36>=8,10,基本情報!E36+3),1)+ROUNDDOWN((給与計算!M36-税額基本情報!$D$9)*税額基本情報!$E$9,0),0)","v":0},{"$f":"IF(AND(給与計算!M36>=1010000,給与計算!M36<1250000),税額基本情報!$F$13+ROUNDDOWN((給与計算!M36-税額基本情報!$D$13)*税額基本情報!$E$13,0),0)","v":0},{"$f":"IF(給与計算!M36>=1250000,税額基本情報!$F$14+ROUNDDOWN((給与計算!M36-税額基本情報!$D$14)*税額基本情報!$E$14,0),0)","v":0},{"$f":"IF(賞与計算!D36<源泉賞与表!$D$10*1000,0,INDEX(源泉賞与表!$B:$B,MATCH(賞与計算!D36/1000,源泉賞与表!$D:$D,1)))","v":0},{"$f":"IF(賞与計算!D36<源泉賞与表!$F$10*1000,0,INDEX(源泉賞与表!$B:$B,MATCH(賞与計算!D36/1000,源泉賞与表!$F:$F,1)))","v":0},{"$f":"IF(賞与計算!D36<源泉賞与表!$H$10*1000,0,INDEX(源泉賞与表!$B:$B,MATCH(賞与計算!D36/1000,源泉賞与表!$H:$H,1)))","v":0},{"$f":"IF(賞与計算!D36<源泉賞与表!$J$10*1000,0,INDEX(源泉賞与表!$B:$B,MATCH(賞与計算!D36/1000,源泉賞与表!$J:$J,1)))","v":0},{"$f":"IF(賞与計算!D36<源泉賞与表!$L$10*1000,0,INDEX(源泉賞与表!$B:$B,MATCH(賞与計算!D36/1000,源泉賞与表!$L:$L,1)))","v":0},{"$f":"IF(賞与計算!D36<源泉賞与表!$N$10*1000,0,INDEX(源泉賞与表!$B:$B,MATCH(賞与計算!D36/1000,源泉賞与表!$N:$N,1)))","v":0},{"$f":"IF(賞与計算!D36<源泉賞与表!$P$10*1000,0,INDEX(源泉賞与表!$B:$B,MATCH(賞与計算!D36/1000,源泉賞与表!$P:$P,1)))","v":0},{"$f":"IF(賞与計算!D36<源泉賞与表!$R$10*1000,0,INDEX(源泉賞与表!$B:$B,MATCH(賞与計算!D36/1000,源泉賞与表!$R:$R,1)))","v":0},{"$f":"IF(賞与計算!D36=\"\",\"\",IF(賞与計算!D36<源泉賞与表!$T$22*1000,10.21,INDEX(源泉賞与表!$B:$B,MATCH(賞与計算!D36/1000,源泉賞与表!$T:$T,1))))","v":""},0,{"$f":"IF(基本情報!G36=\"\",0,ROUND(VLOOKUP(基本情報!G36,INDIRECT(基本情報!$D$3&\"!$C$15:$P$61\"),10,0)-0.1,0))","v":0},{"$f":"IF(基本情報!G36=\"\",0,ROUND(VLOOKUP(基本情報!G36,INDIRECT(基本情報!$D$3&\"!$C$15:$P$61\"),14,0)-0.1,0))","v":0},0,{"$f":"IF(基本情報!G36=\"\",0,ROUND(IF(OR(基本情報!G36<税額基本情報!$E$26,基本情報!G36>税額基本情報!$E$27),AC33,VLOOKUP(基本情報!G36,INDIRECT(基本情報!$D$3&\"!$C$19:$X$48\"),18,0))-0.1,0))","v":0},{"$f":"IF(基本情報!G36=\"\",0,ROUND(IF(OR(基本情報!G36<税額基本情報!$E$26,基本情報!G36>税額基本情報!$E$27),AD33,VLOOKUP(基本情報!G36,INDIRECT(基本情報!$D$3&\"!$C$19:$X$48\"),22,0))-0.1,0))","v":0},{"$f":"IF(基本情報!G36=\"\",0,IF(基本情報!G36<税額基本情報!$E$26,税額基本情報!$F$26,IF(基本情報!G36>税額基本情報!$E$27,税額基本情報!$F$27,0)))","v":0},{"$f":"IF(基本情報!G36=\"\",0,IF(基本情報!G36<税額基本情報!$E$26,税額基本情報!$G$26,IF(基本情報!G36>税額基本情報!$E$27,税額基本情報!$G$27,0)))","v":0},0,{"$f":"ROUND(ROUNDDOWN(賞与計算!F36,-3)*INDIRECT(基本情報!$D$3&\"!$J$10\")*0.5-0.1,0)","v":0},{"$f":"ROUND(ROUNDDOWN(賞与計算!F36,-3)*INDIRECT(基本情報!$D$3&\"!$N$10\")/2-0.1,0)","v":0},0,{"$f":"ROUND(IF(賞与計算!F36>税額基本情報!$D$30,税額基本情報!$D$30,ROUNDDOWN(賞与計算!F36,-3))*INDIRECT(基本情報!$D$3&\"!$R$10\")/2-0.1,0)","v":0},{"$f":"ROUND(IF(賞与計算!F36>税額基本情報!$D$30,税額基本情報!$D$30,ROUNDDOWN(賞与計算!F36,-3))*INDIRECT(基本情報!$D$3&\"!$V$10\")/2-0.1,0)","v":0}]
[null,null,30,{"$f":"給与計算!C37","v":""},{"$f":"MAX(IF(給与計算!M37>=税額基本情報!$D$6,MAX(計算シート!H34:K34),IF(給与計算!M37<源泉月額表!$B$8,0,VLOOKUP(給与計算!M37,源泉月額表!$B:$K,IF(基本情報!E37>=8,10,基本情報!E37+3),1)))-IF(基本情報!E37>=8,(基本情報!E37-7)*税額基本情報!$D$17,0),0)","v":0},{"$f":"IF(給与計算!M37<源泉月額表!$B$8,ROUNDDOWN(給与計算!M37*税額基本情報!$D$23,0),IF(給与計算!M37=0,0,IF(給与計算!M37>=税額基本情報!$D$13,MAX(L34:M34),VLOOKUP(給与計算!M37,源泉月額表!$B:$L,11,1))))","v":0},{"$f":"MAX(IF(給与計算!M37<源泉月額表!$B$8,ROUNDDOWN(給与計算!M37*3.063%,0),IF(給与計算!M37=0,0,IF(給与計算!M37>=税額基本情報!$D$13,MAX(L34:M34),VLOOKUP(給与計算!M37,源泉月額表!$B:$L,11,1))))-基本情報!E37*税額基本情報!$D$20,0)","v":0},{"$f":"IF(AND(給与計算!M37>=1010000,給与計算!M37<1250000),VLOOKUP(給与計算!M37,税額基本情報!$D$6:$M$9,IF(基本情報!E37>=8,10,基本情報!E37+3),1)+ROUNDDOWN((給与計算!M37-税額基本情報!$D$6)*税額基本情報!$E$6,0),0)","v":0},{"$f":"IF(AND(給与計算!M37>=1250000,給与計算!M37<1740000),VLOOKUP(給与計算!M37,税額基本情報!$D$6:$M$9,IF(基本情報!E37>=8,10,基本情報!E37+3),1)+ROUNDDOWN((給与計算!M37-税額基本情報!$D$7)*税額基本情報!$E$7,0),0)","v":0},{"$f":"IF(AND(給与計算!M37>=1740000,給与計算!M37<3570000),VLOOKUP(給与計算!M37,税額基本情報!$D$6:$M$9,IF(基本情報!E37>=8,10,基本情報!E37+3),1)+ROUNDDOWN((給与計算!M37-税額基本情報!$D$8)*税額基本情報!$E$8,0),0)","v":0},{"$f":"IF(給与計算!M37>=3570000,VLOOKUP(給与計算!M37,税額基本情報!$D$6:$M$9,IF(基本情報!E37>=8,10,基本情報!E37+3),1)+ROUNDDOWN((給与計算!M37-税額基本情報!$D$9)*税額基本情報!$E$9,0),0)","v":0},{"$f":"IF(AND(給与計算!M37>=1010000,給与計算!M37<1250000),税額基本情報!$F$13+ROUNDDOWN((給与計算!M37-税額基本情報!$D$13)*税額基本情報!$E$13,0),0)","v":0},{"$f":"IF(給与計算!M37>=1250000,税額基本情報!$F$14+ROUNDDOWN((給与計算!M37-税額基本情報!$D$14)*税額基本情報!$E$14,0),0)","v":0},{"$f":"IF(賞与計算!D37<源泉賞与表!$D$10*1000,0,INDEX(源泉賞与表!$B:$B,MATCH(賞与計算!D37/1000,源泉賞与表!$D:$D,1)))","v":0},{"$f":"IF(賞与計算!D37<源泉賞与表!$F$10*1000,0,INDEX(源泉賞与表!$B:$B,MATCH(賞与計算!D37/1000,源泉賞与表!$F:$F,1)))","v":0},{"$f":"IF(賞与計算!D37<源泉賞与表!$H$10*1000,0,INDEX(源泉賞与表!$B:$B,MATCH(賞与計算!D37/1000,源泉賞与表!$H:$H,1)))","v":0},{"$f":"IF(賞与計算!D37<源泉賞与表!$J$10*1000,0,INDEX(源泉賞与表!$B:$B,MATCH(賞与計算!D37/1000,源泉賞与表!$J:$J,1)))","v":0},{"$f":"IF(賞与計算!D37<源泉賞与表!$L$10*1000,0,INDEX(源泉賞与表!$B:$B,MATCH(賞与計算!D37/1000,源泉賞与表!$L:$L,1)))","v":0},{"$f":"IF(賞与計算!D37<源泉賞与表!$N$10*1000,0,INDEX(源泉賞与表!$B:$B,MATCH(賞与計算!D37/1000,源泉賞与表!$N:$N,1)))","v":0},{"$f":"IF(賞与計算!D37<源泉賞与表!$P$10*1000,0,INDEX(源泉賞与表!$B:$B,MATCH(賞与計算!D37/1000,源泉賞与表!$P:$P,1)))","v":0},{"$f":"IF(賞与計算!D37<源泉賞与表!$R$10*1000,0,INDEX(源泉賞与表!$B:$B,MATCH(賞与計算!D37/1000,源泉賞与表!$R:$R,1)))","v":0},{"$f":"IF(賞与計算!D37=\"\",\"\",IF(賞与計算!D37<源泉賞与表!$T$22*1000,10.21,INDEX(源泉賞与表!$B:$B,MATCH(賞与計算!D37/1000,源泉賞与表!$T:$T,1))))","v":""},0,{"$f":"IF(基本情報!G37=\"\",0,ROUND(VLOOKUP(基本情報!G37,INDIRECT(基本情報!$D$3&\"!$C$15:$P$61\"),10,0)-0.1,0))","v":0},{"$f":"IF(基本情報!G37=\"\",0,ROUND(VLOOKUP(基本情報!G37,INDIRECT(基本情報!$D$3&\"!$C$15:$P$61\"),14,0)-0.1,0))","v":0},0,{"$f":"IF(基本情報!G37=\"\",0,ROUND(IF(OR(基本情報!G37<税額基本情報!$E$26,基本情報!G37>税額基本情報!$E$27),AC34,VLOOKUP(基本情報!G37,INDIRECT(基本情報!$D$3&\"!$C$19:$X$48\"),18,0))-0.1,0))","v":0},{"$f":"IF(基本情報!G37=\"\",0,ROUND(IF(OR(基本情報!G37<税額基本情報!$E$26,基本情報!G37>税額基本情報!$E$27),AD34,VLOOKUP(基本情報!G37,INDIRECT(基本情報!$D$3&\"!$C$19:$X$48\"),22,0))-0.1,0))","v":0},{"$f":"IF(基本情報!G37=\"\",0,IF(基本情報!G37<税額基本情報!$E$26,税額基本情報!$F$26,IF(基本情報!G37>税額基本情報!$E$27,税額基本情報!$F$27,0)))","v":0},{"$f":"IF(基本情報!G37=\"\",0,IF(基本情報!G37<税額基本情報!$E$26,税額基本情報!$G$26,IF(基本情報!G37>税額基本情報!$E$27,税額基本情報!$G$27,0)))","v":0},0,{"$f":"ROUND(ROUNDDOWN(賞与計算!F37,-3)*INDIRECT(基本情報!$D$3&\"!$J$10\")*0.5-0.1,0)","v":0},{"$f":"ROUND(ROUNDDOWN(賞与計算!F37,-3)*INDIRECT(基本情報!$D$3&\"!$N$10\")/2-0.1,0)","v":0},0,{"$f":"ROUND(IF(賞与計算!F37>税額基本情報!$D$30,税額基本情報!$D$30,ROUNDDOWN(賞与計算!F37,-3))*INDIRECT(基本情報!$D$3&\"!$R$10\")/2-0.1,0)","v":0},{"$f":"ROUND(IF(賞与計算!F37>税額基本情報!$D$30,税額基本情報!$D$30,ROUNDDOWN(賞与計算!F37,-3))*INDIRECT(基本情報!$D$3&\"!$V$10\")/2-0.1,0)","v":0}]

{"sheet":"リスト表","index":5,"n_rows":50,"n_cols":7,"rows_kept":50,"cut":false,"hidden":true,"merged":[[1,1,2,1],[1,2,2,2],[1,4,1,5],[1,6,2,6]]}
[]
[null,"甲・乙区分","雇用保険区分",null,"社会保険料",null,"場所"]
[null,null,null,null,"健康保険","厚生年金"]
[null,"甲欄","無し",{"$f":"INDIRECT(基本情報!$D$3&\"!C15\")","v":58000},"無し","無し","北海道"]
[null,"乙欄","一般の事業",{"$f":"INDIRECT(基本情報!$D$3&\"!C16\")","v":68000},"介護保険なし","一般の被保険者","青森"]
[null,"乙欄（従たる給与についての扶養控除等申告書提出あり）","農林水産・清酒製造事業",{"$f":"INDIRECT(基本情報!$D$3&\"!C17\")","v":78000},"介護保険あり","坑内員・船員","岩手"]
[null,null,"建設の事業",{"$f":"INDIRECT(基本情報!$D$3&\"!C18\")","v":88000},null,null,"宮城"]
[null,null,null,{"$f":"INDIRECT(基本情報!$D$3&\"!C19\")","v":98000},null,null,"秋田"]
[null,null,"○",{"$f":"INDIRECT(基本情報!$D$3&\"!C20\")","v":104000},null,null,"山形"]
[null,null,"×",{"$f":"INDIRECT(基本情報!$D$3&\"!C21\")","v":110000},null,null,"福島"]
[null,null,null,{"$f":"INDIRECT(基本情報!$D$3&\"!C22\")","v":118000},null,null,"茨城"]
[null,null,null,{"$f":"INDIRECT(基本情報!$D$3&\"!C23\")","v":126000},null,null,"栃木"]
[null,null,null,{"$f":"INDIRECT(基本情報!$D$3&\"!C24\")","v":134000},null,null,"群馬"]
[null,null,null,{"$f":"INDIRECT(基本情報!$D$3&\"!C25\")","v":142000},null,null,"埼玉"]
[null,null,null,{"$f":"INDIRECT(基本情報!$D$3&\"!C26\")","v":150000},null,null,"千葉"]
[null,null,null,{"$f":"INDIRECT(基本情報!$D$3&\"!C27\")","v":160000},null,null,"東京"]
[null,null,null,{"$f":"INDIRECT(基本情報!$D$3&\"!C28\")","v":170000},null,null,"神奈川"]
[null,null,null,{"$f":"INDIRECT(基本情報!$D$3&\"!C29\")","v":180000},null,null,"新潟"]
[null,null,null,{"$f":"INDIRECT(基本情報!$D$3&\"!C30\")","v":190000},null,null,"富山"]
[null,null,null,{"$f":"INDIRECT(基本情報!$D$3&\"!C31\")","v":200000},null,null,"石川"]
[null,null,null,{"$f":"INDIRECT(基本情報!$D$3&\"!C32\")","v":220000},null,null,"福井"]
[null,null,null,{"$f":"INDIRECT(基本情報!$D$3&\"!C33\")","v":240000},null,null,"山梨"]
[null,null,null,{"$f":"INDIRECT(基本情報!$D$3&\"!C34\")","v":260000},null,null,"長野"]
[null,null,null,{"$f":"INDIRECT(基本情報!$D$3&\"!C35\")","v":280000},null,null,"岐阜"]
[null,null,null,{"$f":"INDIRECT(基本情報!$D$3&\"!C36\")","v":300000},null,null,"静岡"]
[null,null,null,{"$f":"INDIRECT(基本情報!$D$3&\"!C37\")","v":320000},null,null,"愛知"]
[null,null,null,{"$f":"INDIRECT(基本情報!$D$3&\"!C38\")","v":340000},null,null,"三重"]
[null,null,null,{"$f":"INDIRECT(基本情報!$D$3&\"!C39\")","v":360000},null,null,"滋賀"]
[null,null,null,{"$f":"INDIRECT(基本情報!$D$3&\"!C40\")","v":380000},null,null,"京都"]
[null,null,null,{"$f":"INDIRECT(基本情報!$D$3&\"!C41\")","v":410000},null,null,"大阪"]
[null,null,null,{"$f":"INDIRECT(基本情報!$D$3&\"!C42\")","v":440000},null,null,"兵庫"]
[null,null,null,{"$f":"INDIRECT(基本情報!$D$3&\"!C43\")","v":470000},null,null,"奈良"]
[null,null,null,{"$f":"INDIRECT(基本情報!$D$3&\"!C44\")","v":500000},null,null,"和歌山"]
[null,null,null,{"$f":"INDIRECT(基本情報!$D$3&\"!C45\")","v":530000},null,null,"鳥取"]
[null,null,null,{"$f":"INDIRECT(基本情報!$D$3&\"!C46\")","v":560000},null,null,"島根"]
[null,null,null,{"$f":"INDIRECT(基本情報!$D$3&\"!C47\")","v":590000},null,null,"岡山"]
[null,null,null,{"$f":"INDIRECT(基本情報!$D$3&\"!C48\")","v":620000},null,null,"広島"]
[null,null,null,{"$f":"INDIRECT(基本情報!$D$3&\"!C49\")","v":650000},null,null,"山口"]
[null,null,null,{"$f":"INDIRECT(基本情報!$D$3&\"!C50\")","v":680000},null,null,"徳島"]
[null,null,null,{"$f":"INDIRECT(基本情報!$D$3&\"!C51\")","v":710000},null,null,"香川"]
[null,null,null,{"$f":"INDIRECT(基本情報!$D$3&\"!C52\")","v":750000},null,null,"愛媛"]
[null,null,null,{"$f":"INDIRECT(基本情報!$D$3&\"!C53\")","v":790000},null,null,"高知"]
[null,null,null,{"$f":"INDIRECT(基本情報!$D$3&\"!C54\")","v":830000},null,null,"福岡"]
[null,null,null,{"$f":"INDIRECT(基本情報!$D$3&\"!C55\")","v":880000},null,null,"佐賀"]
[null,null,null,{"$f":"INDIRECT(基本情報!$D$3&\"!C56\")","v":930000},null,null,"長崎"]
[null,null,null,{"$f":"INDIRECT(基本情報!$D$3&\"!C57\")","v":980000},null,null,"熊本"]
[null,null,null,{"$f":"INDIRECT(基本情報!$D$3&\"!C58\")","v":1030000},null,null,"大分"]
[null,null,null,{"$f":"INDIRECT(基本情報!$D$3&\"!C59\")","v":1090000},null,null,"宮崎"]
[null,null,null,{"$f":"INDIRECT(基本情報!$D$3&\"!C60\")","v":1150000},null,null,"鹿児島"]
[null,null,null,{"$f":"INDIRECT(基本情報!$D$3&\"!C61\")","v":1210000},null,null,"沖縄"]

{"sheet":"税額基本情報","index":6,"n_rows":30,"n_cols":14,"rows_kept":30,"cut":false,"hidden":true,"merged":[[2,2,2,12],[10,2,10,12],[15,2,15,7],[3,2,4,2],[3,5,3,12],[3,3,4,4],[11,3,11,4],[28,2,28,10],[25,2,26,2],[24,2,24,4],[21,2,21,10],[18,2,18,11]]}
[]
[]
[null,null,"甲欄（月額給与101万円超の場合の税額基本情報）"]
[null,null,"社会保険料控除後の支給額","超えた部分に乗じる税率",null,"加算する源泉徴収税額"]
[null,null,null,null,null,0,1,2,3,4,5,6,7,"←扶養人数"]
[null,null,"1,010,000円以上\n1,250,000円未満",1010000,0.32161499999999998,{"$f":"源泉月額表!D412","v":134190},{"$f":"源泉月額表!E412","v":123520},{"$f":"源泉月額表!F412","v":115630},{"$f":"源泉月額表!G412","v":108200},{"$f":"源泉月額表!H412","v":100750},{"$f":"源泉月額表!I412","v":93320},{"$f":"源泉月額表!J412","v":85890},{"$f":"源泉月額表!K412","v":78890}]
[null,null,"1,250,000円以上\n1,740,000円未満",1250000,0.33693000000000001,{"$f":"源泉月額表!D424","v":211380},{"$f":"源泉月額表!E433","v":365810},{"$f":"源泉月額表!F433","v":357920},{"$f":"源泉月額表!G433","v":350490},{"$f":"源泉月額表!H433","v":343040},{"$f":"源泉月額表!I433","v":335610},{"$f":"源泉月額表!J433","v":328180},{"$f":"源泉月額表!K433","v":321180}]
[null,null,"1,740,000円以上\n3,570,000円未満",1740000,0.40839999999999999,{"$f":"源泉月額表!D433","v":376480},{"$f":"源泉月額表!E433","v":365810},{"$f":"源泉月額表!F433","v":357920},{"$f":"源泉月額表!G433","v":350490},{"$f":"源泉月額表!H433","v":343040},{"$f":"源泉月額表!I433","v":335610},{"$f":"源泉月額表!J433","v":328180},{"$f":"源泉月額表!K433","v":321180}]
[null,null," 3,570,000円以上",3570000,0.45945000000000003,{"$f":"源泉月額表!D442","v":1123860},{"$f":"源泉月額表!E442","v":1113190},{"$f":"源泉月額表!F442","v":1105300},{"$f":"源泉月額表!G442","v":1097870},{"$f":"源泉月額表!H442","v":1090420},{"$f":"源泉月額表!I442","v":1082990},{"$f":"源泉月額表!J442","v":1075560},{"$f":"源泉月額表!K442","v":1068560}]
[]
[null,null,"乙欄（月額給与101万円超の場合の税額基本情報）"]
[null,null,"社会保険料控除後の支給額","超えた部分に乗じる税率",null,"加算する源泉税額"]
[null,null,"1,010,000円以上\n1,250,000円未満",1010000,0.40839999999999999,396700]
[null,null,"1250000円以上",1250000,0.45945000000000003,494800]
[]
[null,null,"甲欄（扶養人数7人超の場合控除する税額）"]
[null,null,"扶養人数一人増えるごとに控除される源泉徴収税額",1610]
[]
[null,null,"乙欄（従たる給与についての扶養控除等申告書提出ありの場合、控除する税額）"]
[null,null,"扶養人数一人増えるごとに控除される源泉徴収税額",1610]
[]
[null,null,"乙欄（月額給与88,000円未満だった場合に乗じる税率）"]
[null,null,"月額給与88,000円未満の場合乗じる税率",3.0630000000000001E-2]
[]
[null,null,"厚生年金（最低額と最高額）",null,null,"一般の被保険者","坑内員・船員"]
[null,null,"標準報酬月額\n","最低額",{"$f":"INDIRECT(基本情報!$D$3&\"!C19\")","v":98000},{"$f":"ROUND(INDIRECT(基本情報!$D$3&\"!T19\")-0.1,0)","v":8562},{"$f":"ROUND(INDIRECT(基本情報!$D$3&\"!X19\")-0.1,0)","v":8667}]
[null,null,null,"最高額",{"$f":"INDIRECT(基本情報!$D$3&\"!C48\")","v":620000},{"$f":"ROUND(INDIRECT(基本情報!$D$3&\"!T48\")-0.1,0)","v":54169},{"$f":"ROUND(INDIRECT(基本情報!$D$3&\"!X48\")-0.1,0)","v":54833}]
[]
[null,null,"厚生年金の計算における賞与支給額の上限"]
[null,null,"厚生年金の計算における賞与支給額の上限",1500000]

{"sheet":"源泉月額表","index":7,"n_rows":477,"n_cols":12,"rows_kept":477,"cut":false,"hidden":true,"merged":[[411,1,411,2],[1,1,1,11],[0,1,0,11],[414,11,422,11],[425,11,446,11],[448,11,459,11],[461,1,461,11],[462,1,462,11],[463,1,463,11],[464,1,464,11],[465,1,465,11],[466,1,466,11],[467,1,467,11],[468,1,468,11],[469,1,469,11],[475,1,475,11],[476,1,476,11],[470,1,470,11],[471,1,471,11],[472,1,472,11],[473,1,473,11],[474,1,474,11]]}
[null,"給与所得の源泉徴収税額表（平成27年分）"]
[null,"月　額　表（平成24年３月31日財務省告示第115号別表第一（平成25年５月31日財務省告示第175号改正））"]
[null,"   その月の社会保",null,"甲",null,null,null,null,null,null,null,"　"]
[null,"   険料等控除後の",null,"扶        養        親        族        等        の        数",null,null,null,null,null,null,null,"乙"]
[null,"   給与等の金額",null,"0  人","1  人","2  人","3  人","4  人","5  人","6  人","7  人"]
[null,"以  上","未  満","税                                            額",null,null,null,null,null,null,null,"税  額"]
[null,"円","円","円","円","円","円","円","円","円","円","円"]
[null,88000,"円未満",0,0,0,0,0,0,0,0,"その月の社会保険料等控除後の給与等の金額の3.063％に相当する金額"]
[]
[1,88000,89000,130,0,0,0,0,0,0,0,3200]
[2,89000,90000,180,0,0,0,0,0,0,0,3200]
[3,90000,91000,230,0,0,0,0,0,0,0,3200]
[4,91000,92000,290,0,0,0,0,0,0,0,3200]
[5,92000,93000,340,0,0,0,0,0,0,0,3300]
[]
[6,93000,94000,390,0,0,0,0,0,0,0,3300]
[7,94000,95000,440,0,0,0,0,0,0,0,3300]
[8,95000,96000,490,0,0,0,0,0,0,0,3400]
[9,96000,97000,540,0,0,0,0,0,0,0,3400]
[10,97000,98000,590,0,0,0,0,0,0,0,3500]
[]
[11,98000,99000,640,0,0,0,0,0,0,0,3500]
[12,99000,101000,720,0,0,0,0,0,0,0,3600]
[13,101000,103000,830,0,0,0,0,0,0,0,3600]
[14,103000,105000,930,0,0,0,0,0,0,0,3700]
[15,105000,107000,1030,0,0,0,0,0,0,0,3800]
[]
[16,107000,109000,1130,0,0,0,0,0,0,0,3800]
[17,109000,111000,1240,0,0,0,0,0,0,0,3900]
[18,111000,113000,1340,0,0,0,0,0,0,0,4000]
[19,113000,115000,1440,0,0,0,0,0,0,0,4100]
[20,115000,117000,1540,0,0,0,0,0,0,0,4100]
[]
[21,117000,119000,1640,0,0,0,0,0,0,0,4200]
[22,119000,121000,1750,120,0,0,0,0,0,0,4300]
[23,121000,123000,1850,220,0,0,0,0,0,0,4500]
[24,123000,125000,1950,330,0,0,0,0,0,0,4800]
[25,125000,127000,2050,430,0,0,0,0,0,0,5100]
[]
[26,127000,129000,2150,530,0,0,0,0,0,0,5400]
[27,129000,131000,2260,630,0,0,0,0,0,0,5700]
[28,131000,133000,2360,740,0,0,0,0,0,0,6000]
[29,133000,135000,2460,840,0,0,0,0,0,0,6300]
[30,135000,137000,2550,930,0,0,0,0,0,0,6600]
[]
[31,137000,139000,2610,990,0,0,0,0,0,0,6800]
[32,139000,141000,2680,1050,0,0,0,0,0,0,7100]
[33,141000,143000,2740,1110,0,0,0,0,0,0,7500]
[34,143000,145000,2800,1170,0,0,0,0,0,0,7800]
[35,145000,147000,2860,1240,0,0,0,0,0,0,8100]
[]
[36,147000,149000,2920,1300,0,0,0,0,0,0,8400]
[37,149000,151000,2980,1360,0,0,0,0,0,0,8700]
[38,151000,153000,3050,1430,0,0,0,0,0,0,9000]
[39,153000,155000,3120,1500,0,0,0,0,0,0,9300]
[40,155000,157000,3200,1570,0,0,0,0,0,0,9600]
[]
[41,157000,159000,3270,1640,0,0,0,0,0,0,9900]
[42,159000,161000,3340,1720,100,0,0,0,0,0,10200]
[43,161000,163000,3410,1790,170,0,0,0,0,0,10500]
[44,163000,165000,3480,1860,250,0,0,0,0,0,10800]
[45,165000,167000,3550,1930,320,0,0,0,0,0,11100]
[]
[46,167000,169000,3620,2000,390,0,0,0,0,0,11400]
[47,169000,171000,3700,2070,460,0,0,0,0,0,11700]
[48,171000,173000,3770,2140,530,0,0,0,0,0,12000]
[49,173000,175000,3840,2220,600,0,0,0,0,0,12400]
[50,175000,177000,3910,2290,670,0,0,0,0,0,12700]
[]
[51,177000,179000,3980,2360,750,0,0,0,0,0,13200]
[52,179000,181000,4050,2430,820,0,0,0,0,0,13900]
[53,181000,183000,4120,2500,890,0,0,0,0,0,14600]
[54,183000,185000,4200,2570,960,0,0,0,0,0,15300]
[55,185000,187000,4270,2640,1030,0,0,0,0,0,16000]
[]
[56,187000,189000,4340,2720,1100,0,0,0,0,0,16700]
[57,189000,191000,4410,2790,1170,0,0,0,0,0,17500]
[58,191000,193000,4480,2860,1250,0,0,0,0,0,18100]
[59,193000,195000,4550,2930,1320,0,0,0,0,0,18800]
[60,195000,197000,4630,3000,1390,0,0,0,0,0,19500]
[]
[61,197000,199000,4700,3070,1460,0,0,0,0,0,20200]
[62,199000,201000,4770,3140,1530,0,0,0,0,0,20900]
[63,201000,203000,4840,3220,1600,0,0,0,0,0,21500]
[64,203000,205000,4910,3290,1670,0,0,0,0,0,22200]
[65,205000,207000,4980,3360,1750,130,0,0,0,0,22700]
[]
[66,207000,209000,5050,3430,1820,200,0,0,0,0,23300]
[67,209000,211000,5130,3500,1890,280,0,0,0,0,23900]
[68,211000,213000,5200,3570,1960,350,0,0,0,0,24400]
[69,213000,215000,5270,3640,2030,420,0,0,0,0,25000]
[70,215000,217000,5340,3720,2100,490,0,0,0,0,25500]
[]
[71,217000,219000,5410,3790,2170,560,0,0,0,0,26100]
[72,219000,221000,5480,3860,2250,630,0,0,0,0,26800]
[73,221000,224000,5560,3950,2340,710,0,0,0,0,27400]
[74,224000,227000,5680,4060,2440,830,0,0,0,0,28400]
[75,227000,230000,5780,4170,2550,930,0,0,0,0,29300]
[]
[76,230000,233000,5890,4280,2650,1040,0,0,0,0,30300]
[77,233000,236000,5990,4380,2770,1140,0,0,0,0,31300]
[78,236000,239000,6110,4490,2870,1260,0,0,0,0,32400]
[79,239000,242000,6210,4590,2980,1360,0,0,0,0,33400]
[80,242000,245000,6320,4710,3080,1470,0,0,0,0,34400]
[]
[81,245000,248000,6420,4810,3200,1570,0,0,0,0,35400]
[82,248000,251000,6530,4920,3300,1680,0,0,0,0,36400]
[83,251000,254000,6640,5020,3410,1790,170,0,0,0,37500]
[84,254000,257000,6750,5140,3510,1900,290,0,0,0,38500]
[85,257000,260000,6850,5240,3620,2000,390,0,0,0,39400]
[]
[86,260000,263000,6960,5350,3730,2110,500,0,0,0,40400]
[87,263000,266000,7070,5450,3840,2220,600,0,0,0,41500]
[88,266000,269000,7180,5560,3940,2330,710,0,0,0,42500]
[89,269000,272000,7280,5670,4050,2430,820,0,0,0,43500]
[90,272000,275000,7390,5780,4160,2540,930,0,0,0,44500]
[]
[91,275000,278000,7490,5880,4270,2640,1030,0,0,0,45500]
[92,278000,281000,7610,5990,4370,2760,1140,0,0,0,46600]
[93,281000,284000,7710,6100,4480,2860,1250,0,0,0,47600]
[94,284000,287000,7820,6210,4580,2970,1360,0,0,0,48600]
[95,287000,290000,7920,6310,4700,3070,1460,0,0,0,49500]
[]
[96,290000,293000,8040,6420,4800,3190,1570,0,0,0,50500]
[97,293000,296000,8140,6520,4910,3290,1670,0,0,0,51600]
[98,296000,299000,8250,6640,5010,3400,1790,160,0,0,52300]
[99,299000,302000,8420,6740,5130,3510,1890,280,0,0,52900]
[100,302000,305000,8670,6860,5250,3630,2010,400,0,0,53500]
[]
[101,305000,308000,8910,6980,5370,3760,2130,520,0,0,54200]
[102,308000,311000,9160,7110,5490,3880,2260,640,0,0,54800]
[103,311000,314000,9400,7230,5620,4000,2380,770,0,0,55400]
[104,314000,317000,9650,7350,5740,4120,2500,890,0,0,56100]
[105,317000,320000,9890,7470,5860,4250,2620,1010,0,0,56800]
[]
[106,320000,323000,10140,7600,5980,4370,2750,1130,0,0,57700]
[107,323000,326000,10380,7720,6110,4490,2870,1260,0,0,58500]
[108,326000,329000,10630,7840,6230,4610,2990,1380,0,0,59300]
[109,329000,332000,10870,7960,6350,4740,3110,1500,0,0,60200]
[110,332000,335000,11120,8090,6470,4860,3240,1620,0,0,61100]
[]
[111,335000,338000,11360,8210,6600,4980,3360,1750,130,0,62000]
[112,338000,341000,11610,8370,6720,5110,3480,1870,260,0,62900]
[113,341000,344000,11850,8620,6840,5230,3600,1990,380,0,63800]
[114,344000,347000,12100,8860,6960,5350,3730,2110,500,0,64700]
[115,347000,350000,12340,9110,7090,5470,3850,2240,620,0,65800]
[]
[116,350000,353000,12590,9350,7210,5600,3970,2360,750,0,66700]
[117,353000,356000,12830,9600,7330,5720,4090,2480,870,0,67600]
[118,356000,359000,13080,9840,7450,5840,4220,2600,990,0,68500]
[119,359000,362000,13320,10090,7580,5960,4340,2730,1110,0,69400]
[120,362000,365000,13570,10330,7700,6090,4460,2850,1240,0,70400]
[]
[121,365000,368000,13810,10580,7820,6210,4580,2970,1360,0,71400]
[122,368000,371000,14060,10820,7940,6330,4710,3090,1480,0,72300]
[123,371000,374000,14300,11070,8070,6450,4830,3220,1600,0,73100]
[124,374000,377000,14550,11310,8190,6580,4950,3340,1730,100,73900]
[125,377000,380000,14790,11560,8320,6700,5070,3460,1850,220,74700]
[]
[126,380000,383000,15040,11800,8570,6820,5200,3580,1970,350,75700]
[127,383000,386000,15280,12050,8810,6940,5320,3710,2090,470,76500]
[128,386000,389000,15530,12290,9060,7070,5440,3830,2220,590,77300]
[129,389000,392000,15770,12540,9300,7190,5560,3950,2340,710,78200]
[130,392000,395000,16020,12780,9550,7310,5690,4070,2460,840,79700]
[]
[131,395000,398000,16260,13030,9790,7430,5810,4200,2580,960,81400]
[132,398000,401000,16510,13270,10040,7560,5930,4320,2710,1080,82900]
[133,401000,404000,16750,13520,10280,7680,6050,4440,2830,1200,84500]
[134,404000,407000,17000,13760,10530,7800,6180,4560,2950,1330,86100]
[135,407000,410000,17240,14010,10770,7920,6300,4690,3070,1450,87700]
[]
[136,410000,413000,17490,14250,11020,8050,6420,4810,3200,1570,89200]
[137,413000,416000,17730,14500,11260,8170,6540,4930,3320,1690,90800]
[138,416000,419000,17980,14740,11510,8290,6670,5050,3440,1820,92400]
[139,419000,422000,18220,14990,11750,8530,6790,5180,3560,1940,93900]
[140,422000,425000,18470,15230,12000,8770,6910,5300,3690,2060,95600]
[]
[141,425000,428000,18710,15480,12240,9020,7030,5420,3810,2180,97100]
[142,428000,431000,18960,15720,12490,9260,7160,5540,3930,2310,98600]
[143,431000,434000,19210,15970,12730,9510,7280,5670,4050,2430,100300]
[144,434000,437000,19450,16210,12980,9750,7400,5790,4180,2550,101800]
[145,437000,440000,19700,16460,13220,10000,7520,5910,4300,2680,103400]
[]
[146,440000,443000,20090,16700,13470,10240,7650,6030,4420,2800,105000]
[147,443000,446000,20580,16950,13710,10490,7770,6160,4540,2920,106600]
[148,446000,449000,21070,17190,13960,10730,7890,6280,4670,3040,108100]
[149,449000,452000,21560,17440,14200,10980,8010,6400,4790,3170,109700]
[150,452000,455000,22050,17680,14450,11220,8140,6520,4910,3290,111300]
[]
[151,455000,458000,22540,17930,14690,11470,8260,6650,5030,3410,112800]
[152,458000,461000,23030,18170,14940,11710,8470,6770,5160,3530,114500]
[153,461000,464000,23520,18420,15180,11960,8720,6890,5280,3660,116000]
[154,464000,467000,24010,18660,15430,12200,8960,7010,5400,3780,117500]
[155,467000,470000,24500,18910,15670,12450,9210,7140,5520,3900,119200]
[]
[156,470000,473000,24990,19150,15920,12690,9450,7260,5650,4020,120700]
[157,473000,476000,25480,19400,16160,12940,9700,7380,5770,4150,122300]
[158,476000,479000,25970,19640,16410,13180,9940,7500,5890,4270,123800]
[159,479000,482000,26460,20000,16650,13430,10190,7630,6010,4390,125400]
[160,482000,485000,26950,20490,16900,13670,10430,7750,6140,4510,127000]
[]
[161,485000,488000,27440,20980,17140,13920,10680,7870,6260,4640,128500]
[162,488000,491000,27930,21470,17390,14160,10920,7990,6380,4760,130200]
[163,491000,494000,28420,21960,17630,14410,11170,8120,6500,4880,131700]
[164,494000,497000,28910,22450,17880,14650,11410,8240,6630,5000,133300]
[165,497000,500000,29400,22940,18120,14900,11660,8420,6750,5130,134900]
[]
[166,500000,503000,29890,23430,18370,15140,11900,8670,6870,5250,136400]
[167,503000,506000,30380,23920,18610,15390,12150,8910,6990,5370,138100]
[168,506000,509000,30880,24410,18860,15630,12390,9160,7120,5490,139900]
[169,509000,512000,31370,24900,19100,15880,12640,9400,7240,5620,141500]
[170,512000,515000,31860,25390,19350,16120,12890,9650,7360,5740,143200]
[]
[171,515000,518000,32350,25880,19590,16370,13130,9890,7480,5860,145000]
[172,518000,521000,32840,26370,19900,16610,13380,10140,7610,5980,146600]
[173,521000,524000,33330,26860,20390,16860,13620,10380,7730,6110,148400]
[174,524000,527000,33820,27350,20880,17100,13870,10630,7850,6230,150100]
[175,527000,530000,34310,27840,21370,17350,14110,10870,7970,6350,151700]
[]
[176,530000,533000,34800,28330,21860,17590,14360,11120,8100,6470,153300]
[177,533000,536000,35290,28820,22350,17840,14600,11360,8220,6600,154900]
[178,536000,539000,35780,29310,22840,18080,14850,11610,8380,6720,156400]
[179,539000,542000,36270,29800,23330,18330,15090,11850,8630,6840,158100]
[180,542000,545000,36760,30290,23820,18570,15340,12100,8870,6960,159600]
[]
[181,545000,548000,37250,30780,24310,18820,15580,12340,9120,7090,161200]
[182,548000,551000,37740,31270,24800,19060,15830,12590,9360,7210,162700]
[183,551000,554000,38280,31810,25340,19330,16100,12860,9630,7350,164300]
[184,554000,557000,38830,32370,25890,19600,16380,13140,9900,7480,165900]
[185,557000,560000,39380,32920,26440,19980,16650,13420,10180,7630,167400]
[]
[186,560000,563000,39930,33470,27000,20530,16930,13690,10460,7760,169000]
[187,563000,566000,40480,34020,27550,21080,17200,13970,10730,7900,170500]
[188,566000,569000,41030,34570,28100,21630,17480,14240,11010,8040,172000]
[189,569000,572000,41590,35120,28650,22190,17760,14520,11280,8180,173600]
[190,572000,575000,42140,35670,29200,22740,18030,14790,11560,8330,175100]
[]
[191,575000,578000,42690,36230,29750,23290,18310,15070,11830,8610,176600]
[192,578000,581000,43240,36780,30300,23840,18580,15350,12110,8880,178200]
[193,581000,584000,43790,37330,30850,24390,18860,15620,12380,9160,179600]
[194,584000,587000,44340,37880,31410,24940,19130,15900,12660,9430,181100]
[195,587000,590000,44890,38430,31960,25490,19410,16170,12940,9710,182700]
[]
[196,590000,593000,45440,38980,32510,26050,19680,16450,13210,9990,184200]
[197,593000,596000,46000,39530,33060,26600,20130,16720,13490,10260,185700]
[198,596000,599000,46550,40080,33610,27150,20690,17000,13760,10540,187300]
[199,599000,602000,47100,40640,34160,27700,21240,17280,14040,10810,188800]
[200,602000,605000,47650,41190,34710,28250,21790,17550,14310,11090,190300]
[]
[201,605000,608000,48200,41740,35270,28800,22340,17830,14590,11360,191800]
[202,608000,611000,48750,42290,35820,29350,22890,18100,14870,11640,193400]
[203,611000,614000,49300,42840,36370,29910,23440,18380,15140,11920,194900]
[204,614000,617000,49860,43390,36920,30460,23990,18650,15420,12190,196400]
[205,617000,620000,50410,43940,37470,31010,24540,18930,15690,12470,197900]
[]
[206,620000,623000,50960,44500,38020,31560,25100,19210,15970,12740,199400]
[207,623000,626000,51510,45050,38570,32110,25650,19480,16240,13020,200900]
[208,626000,629000,52060,45600,39120,32660,26200,19760,16520,13290,202500]
[209,629000,632000,52610,46150,39680,33210,26750,20280,16800,13570,204000]
[210,632000,635000,53160,46700,40230,33760,27300,20830,17070,13840,205500]
[]
[211,635000,638000,53710,47250,40780,34320,27850,21380,17350,14120,207100]
[212,638000,641000,54270,47800,41330,34870,28400,21930,17620,14400,208600]
[213,641000,644000,54820,48350,41880,35420,28960,22480,17900,14670,210100]
[214,644000,647000,55370,48910,42430,35970,29510,23030,18170,14950,211700]
[215,647000,650000,55920,49460,42980,36520,30060,23590,18450,15220,213200]
[]
[216,650000,653000,56470,50010,43540,37070,30610,24140,18730,15500,214400]
[217,653000,656000,57020,50560,44090,37620,31160,24690,19000,15770,215400]
[218,656000,659000,57570,51110,44640,38180,31710,25240,19280,16050,216600]
[219,659000,662000,58130,51660,45190,38730,32260,25790,19550,16330,217700]
[220,662000,665000,58680,52210,45740,39280,32810,26340,19880,16600,218700]
[]
[221,665000,668000,59230,52770,46290,39830,33370,26890,20430,16880,219800]
[222,668000,671000,59780,53320,46840,40380,33920,27440,20980,17150,220800]
[223,671000,674000,60330,53870,47390,40930,34470,28000,21530,17430,222000]
[224,674000,677000,60880,54420,47950,41480,35020,28550,22080,17700,223100]
[225,677000,680000,61430,54970,48500,42030,35570,29100,22640,17980,224100]
[]
[226,680000,683000,61980,55520,49050,42590,36120,29650,23190,18260,225200]
[227,683000,686000,62540,56070,49600,43140,36670,30200,23740,18530,226400]
[228,686000,689000,63090,56620,50150,43690,37230,30750,24290,18810,227400]
[229,689000,692000,63640,57180,50700,44240,37780,31300,24840,19080,228500]
[230,692000,695000,64190,57730,51250,44790,38330,31860,25390,19360,229600]
[]
[231,695000,698000,64740,58280,51810,45340,38880,32410,25940,19630,230700]
[232,698000,701000,65290,58830,52360,45890,39430,32960,26490,20030,232400]
[233,701000,704000,65840,59380,52910,46450,39980,33510,27050,20580,234000]
[234,704000,707000,66400,59930,53460,47000,40530,34060,27600,21130,235600]
[235,707000,710000,66950,60480,54010,47550,41090,34610,28150,21690,237300]
[]
[236,710000,713000,67500,61040,54560,48100,41640,35160,28700,22240,238900]
[237,713000,716000,68050,61590,55110,48650,42190,35710,29250,22790,240500]
[238,716000,719000,68600,62140,55660,49200,42740,36270,29800,23340,242200]
[239,719000,722000,69150,62690,56220,49750,43290,36820,30350,23890,243800]
[240,722000,725000,69700,63240,56770,50300,43840,37370,30910,24440,245300]
[]
[241,725000,728000,70260,63790,57320,50860,44390,37920,31460,24990,247000]
[242,728000,731000,70810,64340,57870,51410,44940,38470,32010,25550,248600]
[243,731000,734000,71360,64890,58420,51960,45500,39020,32560,26100,250200]
[244,734000,737000,71910,65450,58970,52510,46050,39570,33110,26650,251900]
[245,737000,740000,72460,66000,59520,53060,46600,40130,33660,27200,253500]
[]
[246,740000,743000,73010,66550,60080,53610,47150,40680,34210,27750,255100]
[247,743000,746000,73560,67100,60630,54160,47700,41230,34770,28300,256800]
[248,746000,749000,74110,67650,61180,54720,48250,41780,35320,28850,258400]
[249,749000,752000,74670,68200,61730,55270,48800,42330,35870,29400,259900]
[250,752000,755000,75220,68750,62280,55820,49360,42880,36420,29960,261600]
[]
[251,755000,758000,75770,69310,62830,56370,49910,43430,36970,30510,263200]
[252,758000,761000,76320,69860,63380,56920,50460,43980,37520,31060,264800]
[253,761000,764000,76870,70410,63940,57470,51010,44540,38070,31610,266500]
[254,764000,767000,77420,70960,64490,58020,51560,45090,38620,32160,268100]
[255,767000,770000,77970,71510,65040,58570,52110,45640,39180,32710,269700]
[]
[256,770000,773000,78530,72060,65590,59130,52660,46190,39730,33260,271400]
[257,773000,776000,79080,72610,66140,59680,53210,46740,40280,33820,273000]
[258,776000,779000,79630,73160,66690,60230,53770,47290,40830,34370,274600]
[259,779000,782000,80180,73720,67240,60780,54320,47840,41380,34920,276200]
[260,782000,785000,80730,74270,67790,61330,54870,48400,41930,35470,277800]
[]
[261,785000,788000,81280,74820,68350,61880,55420,48950,42480,36020,279400]
[262,788000,791000,81830,75370,68900,62430,55970,49500,43040,36570,281100]
[263,791000,794000,82460,75920,69450,62990,56520,50050,43590,37120,282700]
[264,794000,797000,83100,76470,70000,63540,57070,50600,44140,37670,284300]
[265,797000,800000,83730,77020,70550,64090,57630,51150,44690,38230,286000]
[]
[266,800000,803000,84370,77580,71100,64640,58180,51700,45240,38780,287600]
[267,803000,806000,85000,78130,71650,65190,58730,52250,45790,39330,289200]
[268,806000,809000,85630,78680,72210,65740,59280,52810,46340,39880,290800]
[269,809000,812000,86260,79230,72760,66290,59830,53360,46890,40430,292400]
[270,812000,815000,86900,79780,73310,66840,60380,53910,47450,40980,294000]
[]
[271,815000,818000,87530,80330,73860,67400,60930,54460,48000,41530,295700]
[272,818000,821000,88160,80880,74410,67950,61480,55010,48550,42090,297300]
[273,821000,824000,88800,81430,74960,68500,62040,55560,49100,42640,298900]
[274,824000,827000,89440,82000,75510,69050,62590,56110,49650,43190,300600]
[275,827000,830000,90070,82630,76060,69600,63140,56670,50200,43740,302200]
[]
[276,830000,833000,90710,83260,76620,70150,63690,57220,50750,44290,303800]
[277,833000,836000,91350,83920,77190,70710,64250,57790,51320,44850,305400]
[278,836000,839000,92020,84580,77770,71300,64830,58370,51900,45430,307000]
[279,839000,842000,92690,85250,78350,71880,65420,58950,52480,46020,308500]
[280,842000,845000,93360,85920,78930,72460,66000,59530,53060,46600,310100]
[]
[281,845000,848000,94020,86590,79520,73040,66580,60120,53640,47180,311600]
[282,848000,851000,94700,87260,80100,73620,67160,60700,54230,47760,313100]
[283,851000,854000,95360,87930,80680,74210,67740,61280,54810,48340,314700]
[284,854000,857000,96040,88600,81260,74790,68330,61860,55390,48930,316300]
[285,857000,860000,96710,89270,81840,75370,68910,62440,55970,49510,317800]
[]
[286,860000,863000,97370,89940,82500,75950,69490,63030,56550,50090,319400]
[287,863000,866000,98050,90600,83170,76530,70070,63610,57140,50670,320900]
[288,866000,869000,98710,91280,83840,77120,70650,64190,57720,51250,322400]
[289,869000,872000,99380,91940,84510,77700,71240,64770,58300,51840,324000]
[290,872000,875000,100050,92610,85180,78280,71820,65350,58880,52420,325600]
[]
[291,875000,878000,100720,93290,85850,78860,72400,65940,59460,53000,327100]
[292,878000,881000,101390,93950,86520,79440,72980,66520,60050,53580,328700]
[293,881000,884000,102060,94630,87180,80030,73560,67100,60630,54160,330200]
[294,884000,887000,102720,95290,87860,80610,74150,67680,61210,54750,331700]
[295,887000,890000,103400,95960,88520,81190,74730,68260,61790,55330,333300]
[]
[296,890000,893000,104070,96630,89190,81770,75310,68850,62370,55910,334800]
[297,893000,896000,104730,97300,89860,82430,75890,69430,62950,56490,336400]
[298,896000,899000,105410,97960,90530,83100,76470,70010,63540,57070,338000]
[299,899000,902000,106070,98640,91210,83760,77050,70590,64120,57660,339500]
[300,902000,905000,106750,99300,91870,84440,77640,71170,64700,58240,341000]
[]
[301,905000,908000,107410,99980,92540,85100,78220,71760,65280,58820,342500]
[302,908000,911000,108080,100650,93210,85770,78800,72340,65860,59400,344100]
[303,911000,914000,108750,101310,93880,86440,79380,72920,66450,59980,345600]
[304,914000,917000,109420,101990,94540,87110,79960,73500,67030,60570,347200]
[305,917000,920000,110090,102650,95220,87790,80550,74080,67610,61150,348800]
[]
[306,920000,923000,110760,103330,95880,88450,81130,74670,68190,61730,350300]
[307,923000,926000,111430,103990,96560,89120,81710,75250,68770,62310,351800]
[308,926000,929000,112100,104660,97230,89790,82350,75830,69360,62890,353400]
[309,929000,932000,112770,105330,97890,90460,83020,76410,69940,63480,354900]
[310,932000,935000,113430,106000,98570,91120,83690,76990,70520,64060,356500]
[]
[311,935000,938000,114110,106670,99230,91800,84360,77580,71100,64640,358100]
[312,938000,941000,114770,107340,99900,92460,85030,78160,71680,65220,359600]
[313,941000,944000,115440,108010,100570,93140,85700,78740,72270,65800,361100]
[314,944000,947000,116110,108680,101240,93800,86370,79320,72850,66390,362700]
[315,947000,950000,116780,109350,101910,94470,87040,79900,73430,66970,364200]
[]
[316,950000,953000,117460,110010,102580,95150,87700,80490,74010,67550,365700]
[317,953000,956000,118120,110690,103240,95810,88380,81070,74590,68130,367400]
[318,956000,959000,118790,111350,103920,96480,89040,81650,75180,68710,368900]
[319,959000,962000,119460,112020,104590,97150,89720,82280,75760,69300,370400]
[320,962000,965000,120130,112690,105250,97820,90380,82950,76340,69880,372000]
[]
[321,965000,968000,120790,113360,105930,98490,91050,83620,76920,70460,373500]
[322,968000,971000,121470,114040,106590,99160,91730,84280,77500,71040,375000]
[323,971000,974000,122190,114700,107270,99820,92390,84960,78090,71620,376500]
[324,974000,977000,123150,115370,107930,100500,93060,85620,78670,72210,378200]
[325,977000,980000,124110,116040,108600,101170,93730,86290,79250,72790,379700]
[]
[326,980000,983000,125070,116710,109270,101830,94400,86960,79830,73370,381200]
[327,983000,986000,126030,117370,109940,102510,95070,87630,80410,73950,382800]
[328,986000,989000,126990,118050,110620,103170,95740,88300,81000,74530,384300]
[329,989000,992000,127950,118710,111280,103850,96400,88970,81580,75110,385800]
[330,992000,995000,128910,119390,111950,104510,97080,89640,82200,75700,387500]
[]
[331,995000,998000,129870,120060,112620,105180,97740,90310,82870,76280,389000]
[332,998000,1001000,130830,120720,113290,105850,98410,90980,83540,76860,390500]
[333,1001000,1004000,131790,121400,113950,106520,99090,91640,84210,77440,392100]
[334,1004000,1007000,132750,122080,114630,107180,99750,92320,84880,78020,393600]
[335,1007000,1010000,133710,123040,115290,107860,100430,92980,85550,78610,395100]
[]
[null,"1,010,000円",null,134190,123520,115630,108200,100750,93320,85890,78890,396700]
[]
[]
[null," 1,010,000円を超え",null,null,null,null,null,null,null,null,null,"396,700円に、その月の社会保険料等控除後の給与等の金額のうち1,010,000円を超える金額の40.84％に相当する金額を加算した金額"]
[null,null,null,"1,010,000円の場合の税額に、その月の社会保険料等控除後の給与等の金額のうち"]
[]
[null," 1,250,000円に満た"]
[null,null,null,"1,010,000円を超える金額の32.1615％に相当する金額を加算した金額"]
[]
[null," ない金額"]
[]
[]
[null," 1,250,000円",null,211380,200710,192820,185390,177940,170510,163080,156080,494800]
[]
[null," 1,250,000円を超え",null,null,null,null,null,null,null,null,null,"494,800円に、その月の社会保険料等控除後の給与等の金額のうち1,250,000円を超える金額の45.945％に相当する金額を加算した金額"]
[null,null,null,"1,250,000円の場合の税額に、その月の社会保険料等控除後の給与等の金額のうち"]
[null," 1,740,000円に満た"]
[null,null,null,"1,250,000円を超える金額の33.693％に相当する金額を加算した金額"]
[null," ない金額"]
[]
[null," ",null,"円","円","円","円","円","円","円","円"]
[null,"1,740,000円",null,376480,365810,357920,350490,343040,335610,328180,321180]
[]
[null," 1,740,000円を超え"]
[null,null,null,"1,740,000円の場合の税額に、その月の社会保険料等控除後の給与等の金額のうち"]
[null," 3,570,000円に満た"]
[null,null,null,"1,740,000円を超える金額の40.84％に相当する金額を加算した金額"]
[null," ない金額"]
[]
[null," ",null,"円","円","円","円","円","円","円","円"]
[null,"3,570,000円",null,1123860,1113190,1105300,1097870,1090420,1082990,1075560,1068560]
[null," "]
[null," 3,570,000円を超え",null,"3,570,000円の場合の税額に、その月の社会保険料等控除後の給与等の金額のうち"]
[null," "]
[null," る金額",null,"3,570,000円を超える金額の45.945％に相当する金額を加算した金額"]
[null," "]
[]
[null,null,null,null,null,null,null,null,null,null,null,"従たる給与についての扶養控除等申告書が提出されている場合には、当該申告書に記載された扶養親族等の数に応じ、扶養親族等１人ごとに1,610円を、上の各欄によって求めた税額から控除した金額"]
[]
[null,"   扶養親族等の数が7人を超える場合には、扶養親族等の数が7人の場合の税額から、その7人を超える"]
[]
[]
[]
[null,"   １人ごとに1,610円を控除した金額"]
[]
[]
[]
[]
[]
[null,"(注)   この表において「扶養親族等」とは、控除対象配偶者及び控除対象扶養親族をいいます。"]
[null,"(備考）  税額の求め方は、次のとおりです。"]
[null,"   1　 「給与所得者の扶養控除等申告書」（以下この表において「扶養控除等申告書」といいます。）の提出があった人"]
[null,"     (1)  まず、その人のその月の給与等の金額から、その給与等の金額から控除される社会保険料等の金額を控除した金額を求めます。"]
[null,"     (2)  次に、扶養控除等申告書により申告された扶養親族等の数が７人以下である場合には、(1)により求めた金額に応じて「その月の社会保険料等控除後"]
[null,"        の給与等の金額」欄の該当する行を求め、その行と扶養親族等の数に応じた甲欄の該当欄との交わるところに記載されている金額を求めます。これが"]
[null,"        求める税額です。"]
[null,"     (3)  扶養控除等申告書により申告された扶養親族等の数が７人を超える場合には、(1)により求めた金額に応じて、扶養親族等の数が７人であるものと"]
[null,"        して(2)により求めた税額から、扶養親族等の数が７人を超える１人ごとに1,610円を控除した金額を求めます。これが求める税額です。"]
[null,"     (4)  (2)及び(3)の場合において、扶養控除等申告書にその人が障害者（特別障害者を含みます。）、寡婦（特別の寡婦を含みます。）、寡夫又は勤労"]
[null,"        学生に該当する旨の記載があるときは、扶養親族等の数にこれらの一に該当するごとに１人を加算した数を、扶養控除等申告書にその人の控除対象配"]
[null,"        偶者又は扶養親族のうちに障害者（特別障害者を含みます。）又は同居特別障害者に該当する人がいる旨の記載があるときは、扶養親族等の数にこれ"]
[null,"        らの一に該当するごとに１人を加算した数を、それぞれ(2)及び(3)の扶養親族等の数とします。"]
[null,"   2  扶養控除等申告書の提出がない人（「従たる給与についての扶養控除等申告書」の提出があった人を含みます。）"]
[null,"    　その人のその月の給与等の金額から、その給与等の金額から控除される社会保険料等の金額を控除し、その控除後の金額に応じた「その月の社会保険料"]
[null,"    等控除後の給与等の金額」欄の該当する行と乙欄との交わるところに記載されている金額（「従たる給与についての扶養控除等申告書」の提出があった"]
[null,"    場合には、その申告書により申告された扶養親族等の数に応じ、扶養親族等１人ごとに1,610円を控除した金額）を求めます。これが求める税額です。　　"]

{"sheet":"源泉賞与表","index":8,"n_rows":55,"n_cols":21,"rows_kept":55,"cut":false,"hidden":true,"merged":[[1,1,1,20],[0,1,0,20],[8,15,8,16],[8,17,8,18],[4,15,4,16],[4,17,4,18],[7,1,7,2],[8,11,8,12],[8,13,8,14],[8,3,8,4],[8,5,8,6],[2,1,6,2],[8,7,8,8],[8,9,8,10],[4,11,4,12],[4,13,4,14],[5,19,5,20],[2,19,4,20],[3,3,3,18],[4,3,4,4],[4,5,4,6],[4,7,4,8],[4,9,4,10],[5,3,5,18],[36,1,36,19],[37,1,37,19],[38,1,38,19],[39,1,39,19],[40,1,40,20],[41,1,41,19],[42,1,42,19],[43,1,43,19],[44,1,44,19],[45,1,45,19],[51,1,51,19],[52,1,52,19],[53,1,53,19],[54,1,54,19],[46,1,46,19],[47,1,47,19],[48,1,48,19],[49,1,49,19],[50,1,50,19]]}
[null,"賞与に対する源泉徴収税額の算出率の表（平成27年分）"]
[null,"（平成24年３月31日財務省告示第115号別表第三（平成25年５月31日財務省告示第175号改正））"]
[null,"賞与の金額に乗ずべき率",null,"甲",null,null,null,null,null,null,null,null,null,null,null,null,null,null,null,"乙"]
[null,null,null,"扶        養        親        族        等        の        数"]
[null,null,null,"0  人",null,"1  人",null,"2  人",null,"3  人",null,"4  人",null,"5  人",null,"6  人",null,"7  人　以　上"]
[null,null,null,"前　月　の　社　会　保　険　料　等　控　除　後　の　給　与　等　の　金　額",null,null,null,null,null,null,null,null,null,null,null,null,null,null,null,"前月の社会保険料等控除後の給与等の金額"]
[null,null,null,"以上","未満","以上","未満","以上","未満","以上","未満","以上","未満","以上","未満","以上","未満","以上","未満","以上","未満"]
[null,"%",null,"千円","千円","千円","千円","千円","千円","千円","千円","千円","千円","千円","千円","千円","千円","千円","千円","千円","千円"]
[null,0,null,"      68千円未満",null,"      94千円未満",null,"     133千円未満",null,"     171千円未満",null,"     210千円未満",null,"     243千円未満",null,"     275千円未満",null,"     308千円未満"]
[null,2.0419999999999998,null,68,79,94,243,133,269,171,295,210,300,243,300,275,333,308,372]
[null,4.0839999999999996,null,79,252,243,282,269,312,295,345,300,378,300,406,333,431,372,456]
[null,6.1260000000000003,null,252,300,282,338,312,369,345,398,378,424,406,450,431,476,456,502]
[]
[null,8.1679999999999993,null,300,334,338,365,369,393,398,417,424,444,450,472,476,499,502,527]
[null,10.210000000000001,null,334,363,365,394,393,420,417,445,444,470,472,496,499,525,527,553,null,241]
[null,12.252000000000001,null,363,395,394,422,420,450,445,477,470,504,496,531,525,559,553,588]
[]
[null,14.294,null,395,426,422,455,450,484,477,513,504,543,531,574,559,604,588,632]
[null,16.335999999999999,null,426,550,455,550,484,550,513,557,543,592,574,622,604,652,632,683]
[null,18.378,null,550,668,550,689,550,710,557,730,592,751,622,771,652,792,683,812]
[]
[null,20.420000000000002,null,668,714,689,738,710,762,730,786,751,810,771,834,792,859,812,884,241,305]
[null,22.462,null,714,750,738,775,762,801,786,826,810,852,834,879,859,902,884,925]
[null,24.504000000000001,null,750,791,775,817,801,844,826,872,852,898,879,922,902,947,925,971]
[]
[null,26.545999999999999,null,791,847,817,876,844,901,872,925,898,949,922,973,947,997,971,1021]
[null,28.588000000000001,null,847,910,876,936,901,962,925,987,949,1013,973,1038,997,1064,1021,1089]
[null,30.63,null,910,997,936,1003,962,1031,987,1058,1013,1086,1038,1113,1064,1140,1089,1168,305,535]
[]
[null,32.671999999999997,null,997,1337,1003,1362,1031,1386,1058,1410,1086,1435,1113,1459,1140,1484,1168,1508]
[null,35.734999999999999,null,1337,1551,1362,1579,1386,1607,1410,1636,1435,1664,1459,1692,1484,1720,1508,1749]
[null,38.798000000000002,null,1551,2676,1579,2700,1607,2724,1636,2748,1664,2771,1692,2795,1720,2819,1749,2843,535,1142]
[]
[null,41.860999999999997,null,2676,3569,2700,3600,2724,3632,2748,3664,2771,3695,2795,3727,2819,3759,2843,3790]
[]
[null,45.945,null,3569,"千円以上",3600,"千円以上",3632,"千円以上",3664,"千円以上",3695,"千円以上",3727,"千円以上",3759,"千円以上",3790,"千円以上",1142,"千円以上"]
[null,"(注)   この表において「扶養親族等」とは、控除対象配偶者及び控除対象扶養親族をいいます。"]
[null,"       また、「賞与の金額に乗ずべき率」の賞与の金額とは、賞与の金額から控除される社会保険料等の金額がある場合には、その社会保険料等控除後の金額をいいます。"]
[null,"(備考）   賞与の金額に乗ずべき率の求め方は、次のとおりです。"]
[null,"   1   「給与所得者の扶養控除等申告書」(以下この表において「扶養控除等申告書」といいます。)の提出があった人(４に該当する場合を除きます。）"]
[null,"     (1)  まず、その人の前月中の給与等（賞与を除きます。以下この表において同じ。)の金額から、その給与等の金額から控除される社会保険料等の金額（以下この表において「前月中の社会保険料等の金額」といいます。)を控除した金額を求めます。"]
[null,"     (2)  次に、扶養控除等申告書により申告された扶養親族等の数と(1)により求めた金額とに応じて甲欄の「前月の社会保険料等控除後の給与等の金額」欄の該当する行を求めます。"]
[null,"     (3)  (2)により求めた行と「賞与の金額に乗ずべき率」欄との交わるところに記載されている率を求めます。これが求める率です。"]
[null,"   2   １の場合において、扶養控除等申告書にその人が障害者(特別障害者を含みます。)、寡婦(特別の寡婦を含みます。)、寡夫又は勤労学生に該当する旨の記載があるときは、扶養親族等の数にこれらの一に該当するごとに１人を加算した数を、"]
[null,"     扶養控除等申告書にその人の控除対象配偶者又は扶養親族のうちに障害者(特別障害者を含みます。)又は同居特別障害者に該当する人がいる旨の記載があるときは、扶養親族等の数にこれらの一に該当するごとに１人を加算した数を、それぞれ"]
[null,"     扶養親族等の数とします。"]
[null,"   3   扶養控除等申告書の提出がない人(「従たる給与についての扶養控除等申告書」の提出があった人を含み、４に該当する場合を除きます。）"]
[null,"     (1)  その人の前月中の給与等の金額から前月中の社会保険料等の金額を控除した金額を求めます。"]
[null,"     (2)  (1)により求めた金額に応じて乙欄の「前月の社会保険料等控除後の給与等の金額」欄の該当する行を求めます。"]
[null,"     (3)  (2)により求めた行と「賞与の金額に乗ずべき率」欄との交わるところに記載されている率を求めます。これが求める率です。"]
[null,"   4   前月中の給与等の金額がない場合や前月中の給与等の金額が前月中の社会保険料等の金額以下である場合又はその賞与の金額（その金額から控除される社会保険料等の金額がある場合には、その控除後の金額)が前月中の給与等の金額から前月中"]
[null,"     の社会保険料等の金額を控除した金額の10倍に相当する金額を超える場合には、この表によらず、平成24年３月31日財務省告示第115号（平成25年５月31日財務省告示第175号改正）第３項第１号イ(2)若しくはロ（2）又は第２号の規定により、月"]
[null,"     額表を使って税額を計算します。"]
[null,"   5   １から４までの場合において、その人の受ける給与等の支給期が月の整数倍の期間ごとと定められているときは、その賞与の支払の直前に支払を受けた若しくは支払を受けるべき給与等の金額又はその給与等の金額から控除される社会保険料等"]
[null,"     の金額をその倍数で除して計算した金額を、それぞれ前月中の給与等の金額又はその金額から控除される社会保険料等の金額とみなします。"]

{"sheet":"雇用保険料率","index":9,"n_rows":9,"n_cols":4,"rows_kept":9,"cut":false,"hidden":true,"merged":[[8,2,8,6]]}
[]
[]
[null,null,"雇用保険料率","労働者負担分"]
[null,null,null,0]
[null,null,{"$f":"リスト表!C5","v":"一般の事業"},5.0000000000000001E-3]
[null,null,{"$f":"リスト表!C6","v":"農林水産・清酒製造事業"},6.0000000000000001E-3]
[null,null,{"$f":"リスト表!C7","v":"建設の事業"},6.0000000000000001E-3]
[]
[null,null,"雇用保険料の対象となる賃金は、総支給額に交通費を加算した額です。"]

{"sheet":"北海道","index":10,"n_rows":87,"n_cols":24,"rows_kept":87,"cut":false,"hidden":true,"merged":[[85,0,85,24],[75,0,75,24],[76,0,76,16],[86,0,86,24],[87,0,87,16],[88,0,88,25],[78,0,78,23],[80,0,80,16],[81,0,81,21],[82,0,82,24],[84,0,84,21],[77,0,77,23],[48,17,60,24],[62,0,62,25],[64,0,64,24],[65,0,65,24],[66,0,66,24],[68,0,68,24],[72,0,72,16],[73,0,73,24],[74,0,74,24],[6,21,8,24],[9,9,10,12],[9,13,10,16],[9,17,10,20],[9,21,10,24],[11,13,12,14],[11,15,12,16],[11,17,12,18],[11,19,12,20],[11,21,12,22],[11,1,12,1],[11,2,12,3],[11,4,12,5],[11,9,12,10],[11,11,12,12],[11,23,12,24],[0,1,1,24],[2,1,3,23],[4,1,4,16],[5,1,10,5],[5,6,12,8],[5,9,5,16],[5,17,5,24],[6,9,8,12],[6,13,8,16],[6,17,8,20]]}
[null,"平成26年9月分(10月納付分)からの健康保険・厚生年金保険の保険料額表"]
[]
[null,"     ‣健康保険料率：平成24年3月分～　適用　　‣厚生年金保険料率：平成26年9月分～平成27年8月分　適用\n     ‣介護保険料率：平成26年3月分～　適用　　‣児童手当拠出金率：平成24年4月分～　適用\n"]
[]
[null,"（北海道）",null,null,null,null,null,null,null,null,null,null,null,null,null,null,null,null,null,null,null,null,null,"（単位：円）"]
[null,"標　準　報　酬",null,null,null,null,"報　酬　月　額",null,null,"全国健康保険協会管掌健康保険料",null,null,null,null,null,null,null,"厚生年金保険料（厚生年金基金加入員を除く）"]
[null,null,null,null,null,null,null,null,null,"介護保険第２号被保険者\nに該当しない場合",null,null,null,"介護保険第２号被保険者\nに該当する場合",null,null,null,"一般の被保険者",null,null,null,"坑内員・船員"]
[]
[]
[null,null,null,null,null,null,null,null,null,0.1012,null,null,null,{"$f":"J10+0.0172","v":0.11840000000000001},null,null,null,0.17474000000000001,null,null,null,0.17688000000000001]
[]
[null,"等級","月　額",null,"日　額",null,null,null,null,"全　額",null,"折半額",null,"全　額",null,"折半額",null,"全　額",null,"折半額",null,"全　額",null,"折半額"]
[]
[null,null,null,null,null,null,"円以上",null,"円未満"]
[null,1,58000,null,1930,null,null,"～",63000,{"$f":"C15*$J$10","v":5869.5999999999995},null,{"$f":"J15/2","v":2934.7999999999997},null,{"$f":"C15*$N$10","v":6867.2000000000007},null,{"$f":"N15/2","v":3433.6000000000004}]
[null,2,68000,null,2270,null,63000,"～",73000,{"$f":"C16*$J$10","v":6881.5999999999995},null,{"$f":"J16/2","v":3440.7999999999997},null,{"$f":"C16*$N$10","v":8051.2000000000007},null,{"$f":"N16/2","v":4025.6000000000004}]
[null,3,78000,null,2600,null,73000,"～",83000,{"$f":"C17*$J$10","v":7893.5999999999995},null,{"$f":"J17/2","v":3946.7999999999997},null,{"$f":"C17*$N$10","v":9235.2000000000007},null,{"$f":"N17/2","v":4617.6000000000004}]
[null,4,88000,null,2930,null,83000,"～",93000,{"$f":"C18*$J$10","v":8905.6},null,{"$f":"J18/2","v":4452.8},null,{"$f":"C18*$N$10","v":10419.200000000001},null,{"$f":"N18/2","v":5209.6000000000004}]
[null,"5(1)",98000,null,3270,null,93000,"～",101000,{"$f":"C19*$J$10","v":9917.6},null,{"$f":"J19/2","v":4958.8},null,{"$f":"C19*$N$10","v":11603.2},null,{"$f":"N19/2","v":5801.6},null,{"$f":"C19*$R$10","v":17124.52},null,{"$f":"R19/2","v":8562.26},null,{"$f":"C19*$V$10","v":17334.240000000002},null,{"$f":"V19/2","v":8667.1200000000008}]
[null,"6(2)",104000,null,3470,null,101000,"～",107000,{"$f":"C20*$J$10","v":10524.8},null,{"$f":"J20/2","v":5262.4},null,{"$f":"C20*$N$10","v":12313.6},null,{"$f":"N20/2","v":6156.8},null,{"$f":"C20*$R$10","v":18172.96},null,{"$f":"R20/2","v":9086.48},null,{"$f":"C20*$V$10","v":18395.52},null,{"$f":"V20/2","v":9197.76}]
[null,"7(3)",110000,null,3670,null,107000,"～",114000,{"$f":"C21*$J$10","v":11132},null,{"$f":"J21/2","v":5566},null,{"$f":"C21*$N$10","v":13024},null,{"$f":"N21/2","v":6512},null,{"$f":"C21*$R$10","v":19221.400000000001},null,{"$f":"R21/2","v":9610.7000000000007},null,{"$f":"C21*$V$10","v":19456.8},null,{"$f":"V21/2","v":9728.4}]
[null,"8(4)",118000,null,3930,null,114000,"～",122000,{"$f":"C22*$J$10","v":11941.6},null,{"$f":"J22/2","v":5970.8},null,{"$f":"C22*$N$10","v":13971.2},null,{"$f":"N22/2","v":6985.6},null,{"$f":"C22*$R$10","v":20619.32},null,{"$f":"R22/2","v":10309.66},null,{"$f":"C22*$V$10","v":20871.84},null,{"$f":"V22/2","v":10435.92}]
[null,"9(5)",126000,null,4200,null,122000,"～",130000,{"$f":"C23*$J$10","v":12751.199999999999},null,{"$f":"J23/2","v":6375.5999999999995},null,{"$f":"C23*$N$10","v":14918.400000000001},null,{"$f":"N23/2","v":7459.2000000000007},null,{"$f":"C23*$R$10","v":22017.24},null,{"$f":"R23/2","v":11008.62},null,{"$f":"C23*$V$10","v":22286.880000000001},null,{"$f":"V23/2","v":11143.44}]
[null,"10(6)",134000,null,4470,null,130000,"～",138000,{"$f":"C24*$J$10","v":13560.8},null,{"$f":"J24/2","v":6780.4},null,{"$f":"C24*$N$10","v":15865.6},null,{"$f":"N24/2","v":7932.8},null,{"$f":"C24*$R$10","v":23415.16},null,{"$f":"R24/2","v":11707.58},null,{"$f":"C24*$V$10","v":23701.920000000002},null,{"$f":"V24/2","v":11850.960000000001}]
[null,"11(7)",142000,null,4730,null,138000,"～",146000,{"$f":"C25*$J$10","v":14370.4},null,{"$f":"J25/2","v":7185.2},null,{"$f":"C25*$N$10","v":16812.8},null,{"$f":"N25/2","v":8406.4},null,{"$f":"C25*$R$10","v":24813.08},null,{"$f":"R25/2","v":12406.54},null,{"$f":"C25*$V$10","v":25116.960000000003},null,{"$f":"V25/2","v":12558.480000000001}]
[null,"12(8)",150000,null,5000,null,146000,"～",155000,{"$f":"C26*$J$10","v":15180},null,{"$f":"J26/2","v":7590},null,{"$f":"C26*$N$10","v":17760},null,{"$f":"N26/2","v":8880},null,{"$f":"C26*$R$10","v":26211},null,{"$f":"R26/2","v":13105.5},null,{"$f":"C26*$V$10","v":26532},null,{"$f":"V26/2","v":13266}]
[null,"13(9)",160000,null,5330,null,155000,"～",165000,{"$f":"C27*$J$10","v":16192},null,{"$f":"J27/2","v":8096},null,{"$f":"C27*$N$10","v":18944},null,{"$f":"N27/2","v":9472},null,{"$f":"C27*$R$10","v":27958.400000000001},null,{"$f":"R27/2","v":13979.2},null,{"$f":"C27*$V$10","v":28300.800000000003},null,{"$f":"V27/2","v":14150.400000000001}]
[null,"14(10)",170000,null,5670,null,165000,"～",175000,{"$f":"C28*$J$10","v":17204},null,{"$f":"J28/2","v":8602},null,{"$f":"C28*$N$10","v":20128},null,{"$f":"N28/2","v":10064},null,{"$f":"C28*$R$10","v":29705.800000000003},null,{"$f":"R28/2","v":14852.900000000001},null,{"$f":"C28*$V$10","v":30069.600000000002},null,{"$f":"V28/2","v":15034.800000000001}]
[null,"15(11)",180000,null,6000,null,175000,"～",185000,{"$f":"C29*$J$10","v":18216},null,{"$f":"J29/2","v":9108},null,{"$f":"C29*$N$10","v":21312},null,{"$f":"N29/2","v":10656},null,{"$f":"C29*$R$10","v":31453.200000000001},null,{"$f":"R29/2","v":15726.6},null,{"$f":"C29*$V$10","v":31838.400000000001},null,{"$f":"V29/2","v":15919.2}]
[null,"16(12)",190000,null,6330,null,185000,"～",195000,{"$f":"C30*$J$10","v":19228},null,{"$f":"J30/2","v":9614},null,{"$f":"C30*$N$10","v":22496},null,{"$f":"N30/2","v":11248},null,{"$f":"C30*$R$10","v":33200.6},null,{"$f":"R30/2","v":16600.3},null,{"$f":"C30*$V$10","v":33607.200000000004},null,{"$f":"V30/2","v":16803.600000000002}]
[null,"17(13)",200000,null,6670,null,195000,"～",210000,{"$f":"C31*$J$10","v":20240},null,{"$f":"J31/2","v":10120},null,{"$f":"C31*$N$10","v":23680},null,{"$f":"N31/2","v":11840},null,{"$f":"C31*$R$10","v":34948},null,{"$f":"R31/2","v":17474},null,{"$f":"C31*$V$10","v":35376},null,{"$f":"V31/2","v":17688}]
[null,"18(14)",220000,null,7330,null,210000,"～",230000,{"$f":"C32*$J$10","v":22264},null,{"$f":"J32/2","v":11132},null,{"$f":"C32*$N$10","v":26048},null,{"$f":"N32/2","v":13024},null,{"$f":"C32*$R$10","v":38442.800000000003},null,{"$f":"R32/2","v":19221.400000000001},null,{"$f":"C32*$V$10","v":38913.599999999999},null,{"$f":"V32/2","v":19456.8}]
[null,"19(15)",240000,null,8000,null,230000,"～",250000,{"$f":"C33*$J$10","v":24288},null,{"$f":"J33/2","v":12144},null,{"$f":"C33*$N$10","v":28416},null,{"$f":"N33/2","v":14208},null,{"$f":"C33*$R$10","v":41937.599999999999},null,{"$f":"R33/2","v":20968.8},null,{"$f":"C33*$V$10","v":42451.200000000004},null,{"$f":"V33/2","v":21225.600000000002}]
[null,"20(16)",260000,null,8670,null,250000,"～",270000,{"$f":"C34*$J$10","v":26312},null,{"$f":"J34/2","v":13156},null,{"$f":"C34*$N$10","v":30784},null,{"$f":"N34/2","v":15392},null,{"$f":"C34*$R$10","v":45432.4},null,{"$f":"R34/2","v":22716.2},null,{"$f":"C34*$V$10","v":45988.800000000003},null,{"$f":"V34/2","v":22994.400000000001}]
[null,"21(17)",280000,null,9330,null,270000,"～",290000,{"$f":"C35*$J$10","v":28336},null,{"$f":"J35/2","v":14168},null,{"$f":"C35*$N$10","v":33152},null,{"$f":"N35/2","v":16576},null,{"$f":"C35*$R$10","v":48927.200000000004},null,{"$f":"R35/2","v":24463.600000000002},null,{"$f":"C35*$V$10","v":49526.400000000001},null,{"$f":"V35/2","v":24763.200000000001}]
[null,"22(18)",300000,null,10000,null,290000,"～",310000,{"$f":"C36*$J$10","v":30360},null,{"$f":"J36/2","v":15180},null,{"$f":"C36*$N$10","v":35520},null,{"$f":"N36/2","v":17760},null,{"$f":"C36*$R$10","v":52422},null,{"$f":"R36/2","v":26211},null,{"$f":"C36*$V$10","v":53064},null,{"$f":"V36/2","v":26532}]
[null,"23(19)",320000,null,10670,null,310000,"～",330000,{"$f":"C37*$J$10","v":32384},null,{"$f":"J37/2","v":16192},null,{"$f":"C37*$N$10","v":37888},null,{"$f":"N37/2","v":18944},null,{"$f":"C37*$R$10","v":55916.800000000003},null,{"$f":"R37/2","v":27958.400000000001},null,{"$f":"C37*$V$10","v":56601.600000000006},null,{"$f":"V37/2","v":28300.800000000003}]
[null,"24(20)",340000,null,11330,null,330000,"～",350000,{"$f":"C38*$J$10","v":34408},null,{"$f":"J38/2","v":17204},null,{"$f":"C38*$N$10","v":40256},null,{"$f":"N38/2","v":20128},null,{"$f":"C38*$R$10","v":59411.600000000006},null,{"$f":"R38/2","v":29705.800000000003},null,{"$f":"C38*$V$10","v":60139.200000000004},null,{"$f":"V38/2","v":30069.600000000002}]
[null,"25(21)",360000,null,12000,null,350000,"～",370000,{"$f":"C39*$J$10","v":36432},null,{"$f":"J39/2","v":18216},null,{"$f":"C39*$N$10","v":42624},null,{"$f":"N39/2","v":21312},null,{"$f":"C39*$R$10","v":62906.400000000001},null,{"$f":"R39/2","v":31453.200000000001},null,{"$f":"C39*$V$10","v":63676.800000000003},null,{"$f":"V39/2","v":31838.400000000001}]
[null,"26(22)",380000,null,12670,null,370000,"～",395000,{"$f":"C40*$J$10","v":38456},null,{"$f":"J40/2","v":19228},null,{"$f":"C40*$N$10","v":44992},null,{"$f":"N40/2","v":22496},null,{"$f":"C40*$R$10","v":66401.2},null,{"$f":"R40/2","v":33200.6},null,{"$f":"C40*$V$10","v":67214.400000000009},null,{"$f":"V40/2","v":33607.200000000004}]
[null,"27(23)",410000,null,13670,null,395000,"～",425000,{"$f":"C41*$J$10","v":41492},null,{"$f":"J41/2","v":20746},null,{"$f":"C41*$N$10","v":48544},null,{"$f":"N41/2","v":24272},null,{"$f":"C41*$R$10","v":71643.400000000009},null,{"$f":"R41/2","v":35821.700000000004},null,{"$f":"C41*$V$10","v":72520.800000000003},null,{"$f":"V41/2","v":36260.400000000001}]
[null,"28(24)",440000,null,14670,null,425000,"～",455000,{"$f":"C42*$J$10","v":44528},null,{"$f":"J42/2","v":22264},null,{"$f":"C42*$N$10","v":52096},null,{"$f":"N42/2","v":26048},null,{"$f":"C42*$R$10","v":76885.600000000006},null,{"$f":"R42/2","v":38442.800000000003},null,{"$f":"C42*$V$10","v":77827.199999999997},null,{"$f":"V42/2","v":38913.599999999999}]
[null,"29(25)",470000,null,15670,null,455000,"～",485000,{"$f":"C43*$J$10","v":47564},null,{"$f":"J43/2","v":23782},null,{"$f":"C43*$N$10","v":55648},null,{"$f":"N43/2","v":27824},null,{"$f":"C43*$R$10","v":82127.8},null,{"$f":"R43/2","v":41063.9},null,{"$f":"C43*$V$10","v":83133.600000000006},null,{"$f":"V43/2","v":41566.800000000003}]
[null,"30(26)",500000,null,16670,null,485000,"～",515000,{"$f":"C44*$J$10","v":50600},null,{"$f":"J44/2","v":25300},null,{"$f":"C44*$N$10","v":59200},null,{"$f":"N44/2","v":29600},null,{"$f":"C44*$R$10","v":87370},null,{"$f":"R44/2","v":43685},null,{"$f":"C44*$V$10","v":88440},null,{"$f":"V44/2","v":44220}]
[null,"31(27)",530000,null,17670,null,515000,"～",545000,{"$f":"C45*$J$10","v":53636},null,{"$f":"J45/2","v":26818},null,{"$f":"C45*$N$10","v":62752},null,{"$f":"N45/2","v":31376},null,{"$f":"C45*$R$10","v":92612.2},null,{"$f":"R45/2","v":46306.1},null,{"$f":"C45*$V$10","v":93746.400000000009},null,{"$f":"V45/2","v":46873.200000000004}]
[null,"32(28)",560000,null,18670,null,545000,"～",575000,{"$f":"C46*$J$10","v":56672},null,{"$f":"J46/2","v":28336},null,{"$f":"C46*$N$10","v":66304},null,{"$f":"N46/2","v":33152},null,{"$f":"C46*$R$10","v":97854.400000000009},null,{"$f":"R46/2","v":48927.200000000004},null,{"$f":"C46*$V$10","v":99052.800000000003},null,{"$f":"V46/2","v":49526.400000000001}]
[null,"33(29)",590000,null,19670,null,575000,"～",605000,{"$f":"C47*$J$10","v":59708},null,{"$f":"J47/2","v":29854},null,{"$f":"C47*$N$10","v":69856},null,{"$f":"N47/2","v":34928},null,{"$f":"C47*$R$10","v":103096.6},null,{"$f":"R47/2","v":51548.3},null,{"$f":"C47*$V$10","v":104359.20000000001},null,{"$f":"V47/2","v":52179.600000000006}]
[null,"34(30)",620000,null,20670,null,605000,"～",635000,{"$f":"C48*$J$10","v":62744},null,{"$f":"J48/2","v":31372},null,{"$f":"C48*$N$10","v":73408},null,{"$f":"N48/2","v":36704},null,{"$f":"C48*$R$10","v":108338.8},null,{"$f":"R48/2","v":54169.4},null,{"$f":"C48*$V$10","v":109665.60000000001},null,{"$f":"V48/2","v":54832.800000000003}]
[null,35,650000,null,21670,null,635000,"～",665000,{"$f":"C49*$J$10","v":65780},null,{"$f":"J49/2","v":32890},null,{"$f":"C49*$N$10","v":76960},null,{"$f":"N49/2","v":38480},null,"※厚生年金基金に加入している方の厚生年金保険\n　料率は、基金ごとに定められている免除保険料\n　率(2.4%～5.0%)を控除した率となります。\n\n　●一般の被保険者の方　…12.474%～15.074%\n　●坑内員の被保険者の方…12.688%～15.288%\n\n　加入する基金ごとに異なりますので、免除保険\n　料率および厚生年金基金の掛金については、加\n　入する厚生年金基金にお問い合わせください。\n"]
[null,36,680000,null,22670,null,665000,"～",695000,{"$f":"C50*$J$10","v":68816},null,{"$f":"J50/2","v":34408},null,{"$f":"C50*$N$10","v":80512},null,{"$f":"N50/2","v":40256}]
[null,37,710000,null,23670,null,695000,"～",730000,{"$f":"C51*$J$10","v":71852},null,{"$f":"J51/2","v":35926},null,{"$f":"C51*$N$10","v":84064},null,{"$f":"N51/2","v":42032}]
[null,38,750000,null,25000,null,730000,"～",770000,{"$f":"C52*$J$10","v":75900},null,{"$f":"J52/2","v":37950},null,{"$f":"C52*$N$10","v":88800},null,{"$f":"N52/2","v":44400}]
[null,39,790000,null,26330,null,770000,"～",810000,{"$f":"C53*$J$10","v":79948},null,{"$f":"J53/2","v":39974},null,{"$f":"C53*$N$10","v":93536},null,{"$f":"N53/2","v":46768}]
[null,40,830000,null,27670,null,810000,"～",855000,{"$f":"C54*$J$10","v":83996},null,{"$f":"J54/2","v":41998},null,{"$f":"C54*$N$10","v":98272},null,{"$f":"N54/2","v":49136}]
[null,41,880000,null,29330,null,855000,"～",905000,{"$f":"C55*$J$10","v":89056},null,{"$f":"J55/2","v":44528},null,{"$f":"C55*$N$10","v":104192},null,{"$f":"N55/2","v":52096}]
[null,42,930000,null,31000,null,905000,"～",955000,{"$f":"C56*$J$10","v":94116},null,{"$f":"J56/2","v":47058},null,{"$f":"C56*$N$10","v":110112},null,{"$f":"N56/2","v":55056}]
[null,43,980000,null,32670,null,955000,"～",1005000,{"$f":"C57*$J$10","v":99176},null,{"$f":"J57/2","v":49588},null,{"$f":"C57*$N$10","v":116032},null,{"$f":"N57/2","v":58016}]
[null,44,1030000,null,34330,null,1005000,"～",1055000,{"$f":"C58*$J$10","v":104236},null,{"$f":"J58/2","v":52118},null,{"$f":"C58*$N$10","v":121952},null,{"$f":"N58/2","v":60976}]
[null,45,1090000,null,36330,null,1055000,"～",1115000,{"$f":"C59*$J$10","v":110308},null,{"$f":"J59/2","v":55154},null,{"$f":"C59*$N$10","v":129056},null,{"$f":"N59/2","v":64528}]
[null,46,1150000,null,38330,null,1115000,"～",1175000,{"$f":"C60*$J$10","v":116380},null,{"$f":"J60/2","v":58190},null,{"$f":"C60*$N$10","v":136160},null,{"$f":"N60/2","v":68080}]
[null,47,1210000,null,40330,null,1175000,"～",null,{"$f":"C61*$J$10","v":122452},null,{"$f":"J61/2","v":61226},null,{"$f":"C61*$N$10","v":143264},null,{"$f":"N61/2","v":71632}]
[]
[0.1012]
[null,""]
["◆等級欄の（　）内の数字は、厚生年金保険の標準報酬月額等級です。"]
["　5(1)等級の「報酬月額」欄は、厚生年金保険の場合「101,000円未満」と読み替えてください。"]
["　34(30)等級の「報酬月額」欄は、厚生年金保険の場合「605,000円以上」と読み替えてください。"]
[null,""]
["◆平成26年度における全国健康保険協会の任意継続被保険者について、標準報酬月額の上限は、280,000円です。"]
[]
[]
[]
["　○被保険者負担分（表の折半額の欄）に円未満の端数がある場合"]
["　　　①事業主が、給与から被保険者負担分を控除する場合、被保険者負担分の端数が50銭以下の場合は切り捨て、50銭を超える場合は切り上げて1円となります。"]
["　　　②被保険者が、被保険者負担分を事業主へ現金で支払う場合、被保険者負担分の端数が50銭未満の場合は切り捨て、50銭以上の場合は切り上げて1円となります。"]
["　　　（注）①、②にかかわらず、事業主と被保険者の間で特約がある場合には、特約に基づき端数処理をすることができます。"]
[]
["　○納入告知書の保険料額"]
["　　　 納入告知書の保険料額は、被保険者個々の保険料額を合算した金額になります。ただし、合算した金額に円未満の端数がある場合は、その端数を切り捨てた額となります。"]
[]
["　○賞与に係る保険料"]
["　　　 賞与に係る保険料額は、賞与額から1,000円未満の端数を切り捨てた額（標準賞与額）に、保険料率を乗じた額となります。"]
[" 　　　また、標準賞与額の上限は、健康保険は年間540万円（毎年4月1日から翌年3月31日までの累計額）となり、厚生年金保険と児童手当拠出金の場合は月間150万円となります。"]
[]
["　○児童手当拠出金"]
["　　　 厚生年金保険の被保険者を使用する事業主の方は、児童手当等の支給に要する費用の一部として児童手当拠出金を全額負担いただくことになります。この児童手当"]
["　　　 拠出金の額は、被保険者個々の厚生年金保険の標準報酬月額および標準賞与額に、拠出金率（0.15%）を乗じて得た額の総額となります。"]

{"sheet":"青森","index":11,"n_rows":87,"n_cols":24,"rows_kept":87,"cut":false,"hidden":true,"merged":[[85,0,85,24],[75,0,75,24],[76,0,76,16],[86,0,86,24],[87,0,87,16],[88,0,88,25],[78,0,78,23],[80,0,80,16],[81,0,81,21],[82,0,82,24],[84,0,84,21],[77,0,77,23],[48,17,60,24],[62,0,62,25],[64,0,64,24],[65,0,65,24],[66,0,66,24],[68,0,68,24],[72,0,72,16],[73,0,73,24],[74,0,74,24],[6,21,8,24],[9,9,10,12],[9,13,10,16],[9,17,10,20],[9,21,10,24],[11,13,12,14],[11,15,12,16],[11,17,12,18],[11,19,12,20],[11,21,12,22],[11,1,12,1],[11,2,12,3],[11,4,12,5],[11,9,12,10],[11,11,12,12],[11,23,12,24],[0,1,1,24],[2,1,3,23],[4,1,4,16],[5,1,10,5],[5,6,12,8],[5,9,5,16],[5,17,5,24],[6,9,8,12],[6,13,8,16],[6,17,8,20]]}
[null,"平成26年9月分(10月納付分)からの健康保険・厚生年金保険の保険料額表"]
[]
[null,"     ‣健康保険料率：平成24年3月分～　適用　　‣厚生年金保険料率：平成26年9月分～平成27年8月分　適用\n     ‣介護保険料率：平成26年3月分～　適用　　‣児童手当拠出金率：平成24年4月分～　適用\n"]
[]
[null,"（青森県）",null,null,null,null,null,null,null,null,null,null,null,null,null,null,null,null,null,null,null,null,null,"（単位：円）"]
[null,"標　準　報　酬",null,null,null,null,"報　酬　月　額",null,null,"全国健康保険協会管掌健康保険料",null,null,null,null,null,null,null,"厚生年金保険料（厚生年金基金加入員を除く）"]
[null,null,null,null,null,null,null,null,null,"介護保険第２号被保険者\nに該当しない場合",null,null,null,"介護保険第２号被保険者\nに該当する場合",null,null,null,"一般の被保険者",null,null,null,"坑内員・船員"]
[]
[]
[null,null,null,null,null,null,null,null,null,0.1,null,null,null,{"$f":"J10+0.0172","v":0.1172},null,null,null,0.17474000000000001,null,null,null,0.17688000000000001]
[]
[null,"等級","月　額",null,"日　額",null,null,null,null,"全　額",null,"折半額",null,"全　額",null,"折半額",null,"全　額",null,"折半額",null,"全　額",null,"折半額"]
[]
[null,null,null,null,null,null,"円以上",null,"円未満"]
[null,1,58000,null,1930,null,null,"～",63000,{"$f":"C15*$J$10","v":5800},null,{"$f":"J15/2","v":2900},null,{"$f":"C15*$N$10","v":6797.6},null,{"$f":"N15/2","v":3398.8}]
[null,2,68000,null,2270,null,63000,"～",73000,{"$f":"C16*$J$10","v":6800},null,{"$f":"J16/2","v":3400},null,{"$f":"C16*$N$10","v":7969.5999999999995},null,{"$f":"N16/2","v":3984.7999999999997}]
[null,3,78000,null,2600,null,73000,"～",83000,{"$f":"C17*$J$10","v":7800},null,{"$f":"J17/2","v":3900},null,{"$f":"C17*$N$10","v":9141.6},null,{"$f":"N17/2","v":4570.8}]
[null,4,88000,null,2930,null,83000,"～",93000,{"$f":"C18*$J$10","v":8800},null,{"$f":"J18/2","v":4400},null,{"$f":"C18*$N$10","v":10313.6},null,{"$f":"N18/2","v":5156.8}]
[null,"5(1)",98000,null,3270,null,93000,"～",101000,{"$f":"C19*$J$10","v":9800},null,{"$f":"J19/2","v":4900},null,{"$f":"C19*$N$10","v":11485.6},null,{"$f":"N19/2","v":5742.8},null,{"$f":"C19*$R$10","v":17124.52},null,{"$f":"R19/2","v":8562.26},null,{"$f":"C19*$V$10","v":17334.240000000002},null,{"$f":"V19/2","v":8667.1200000000008}]
[null,"6(2)",104000,null,3470,null,101000,"～",107000,{"$f":"C20*$J$10","v":10400},null,{"$f":"J20/2","v":5200},null,{"$f":"C20*$N$10","v":12188.8},null,{"$f":"N20/2","v":6094.4},null,{"$f":"C20*$R$10","v":18172.96},null,{"$f":"R20/2","v":9086.48},null,{"$f":"C20*$V$10","v":18395.52},null,{"$f":"V20/2","v":9197.76}]
[null,"7(3)",110000,null,3670,null,107000,"～",114000,{"$f":"C21*$J$10","v":11000},null,{"$f":"J21/2","v":5500},null,{"$f":"C21*$N$10","v":12892},null,{"$f":"N21/2","v":6446},null,{"$f":"C21*$R$10","v":19221.400000000001},null,{"$f":"R21/2","v":9610.7000000000007},null,{"$f":"C21*$V$10","v":19456.8},null,{"$f":"V21/2","v":9728.4}]
[null,"8(4)",118000,null,3930,null,114000,"～",122000,{"$f":"C22*$J$10","v":11800},null,{"$f":"J22/2","v":5900},null,{"$f":"C22*$N$10","v":13829.6},null,{"$f":"N22/2","v":6914.8},null,{"$f":"C22*$R$10","v":20619.32},null,{"$f":"R22/2","v":10309.66},null,{"$f":"C22*$V$10","v":20871.84},null,{"$f":"V22/2","v":10435.92}]
[null,"9(5)",126000,null,4200,null,122000,"～",130000,{"$f":"C23*$J$10","v":12600},null,{"$f":"J23/2","v":6300},null,{"$f":"C23*$N$10","v":14767.2},null,{"$f":"N23/2","v":7383.6},null,{"$f":"C23*$R$10","v":22017.24},null,{"$f":"R23/2","v":11008.62},null,{"$f":"C23*$V$10","v":22286.880000000001},null,{"$f":"V23/2","v":11143.44}]
[null,"10(6)",134000,null,4470,null,130000,"～",138000,{"$f":"C24*$J$10","v":13400},null,{"$f":"J24/2","v":6700},null,{"$f":"C24*$N$10","v":15704.8},null,{"$f":"N24/2","v":7852.4},null,{"$f":"C24*$R$10","v":23415.16},null,{"$f":"R24/2","v":11707.58},null,{"$f":"C24*$V$10","v":23701.920000000002},null,{"$f":"V24/2","v":11850.960000000001}]
[null,"11(7)",142000,null,4730,null,138000,"～",146000,{"$f":"C25*$J$10","v":14200},null,{"$f":"J25/2","v":7100},null,{"$f":"C25*$N$10","v":16642.400000000001},null,{"$f":"N25/2","v":8321.2000000000007},null,{"$f":"C25*$R$10","v":24813.08},null,{"$f":"R25/2","v":12406.54},null,{"$f":"C25*$V$10","v":25116.960000000003},null,{"$f":"V25/2","v":12558.480000000001}]
[null,"12(8)",150000,null,5000,null,146000,"～",155000,{"$f":"C26*$J$10","v":15000},null,{"$f":"J26/2","v":7500},null,{"$f":"C26*$N$10","v":17580},null,{"$f":"N26/2","v":8790},null,{"$f":"C26*$R$10","v":26211},null,{"$f":"R26/2","v":13105.5},null,{"$f":"C26*$V$10","v":26532},null,{"$f":"V26/2","v":13266}]
[null,"13(9)",160000,null,5330,null,155000,"～",165000,{"$f":"C27*$J$10","v":16000},null,{"$f":"J27/2","v":8000},null,{"$f":"C27*$N$10","v":18752},null,{"$f":"N27/2","v":9376},null,{"$f":"C27*$R$10","v":27958.400000000001},null,{"$f":"R27/2","v":13979.2},null,{"$f":"C27*$V$10","v":28300.800000000003},null,{"$f":"V27/2","v":14150.400000000001}]
[null,"14(10)",170000,null,5670,null,165000,"～",175000,{"$f":"C28*$J$10","v":17000},null,{"$f":"J28/2","v":8500},null,{"$f":"C28*$N$10","v":19924},null,{"$f":"N28/2","v":9962},null,{"$f":"C28*$R$10","v":29705.800000000003},null,{"$f":"R28/2","v":14852.900000000001},null,{"$f":"C28*$V$10","v":30069.600000000002},null,{"$f":"V28/2","v":15034.800000000001}]
[null,"15(11)",180000,null,6000,null,175000,"～",185000,{"$f":"C29*$J$10","v":18000},null,{"$f":"J29/2","v":9000},null,{"$f":"C29*$N$10","v":21096},null,{"$f":"N29/2","v":10548},null,{"$f":"C29*$R$10","v":31453.200000000001},null,{"$f":"R29/2","v":15726.6},null,{"$f":"C29*$V$10","v":31838.400000000001},null,{"$f":"V29/2","v":15919.2}]
[null,"16(12)",190000,null,6330,null,185000,"～",195000,{"$f":"C30*$J$10","v":19000},null,{"$f":"J30/2","v":9500},null,{"$f":"C30*$N$10","v":22268},null,{"$f":"N30/2","v":11134},null,{"$f":"C30*$R$10","v":33200.6},null,{"$f":"R30/2","v":16600.3},null,{"$f":"C30*$V$10","v":33607.200000000004},null,{"$f":"V30/2","v":16803.600000000002}]
[null,"17(13)",200000,null,6670,null,195000,"～",210000,{"$f":"C31*$J$10","v":20000},null,{"$f":"J31/2","v":10000},null,{"$f":"C31*$N$10","v":23440},null,{"$f":"N31/2","v":11720},null,{"$f":"C31*$R$10","v":34948},null,{"$f":"R31/2","v":17474},null,{"$f":"C31*$V$10","v":35376},null,{"$f":"V31/2","v":17688}]
[null,"18(14)",220000,null,7330,null,210000,"～",230000,{"$f":"C32*$J$10","v":22000},null,{"$f":"J32/2","v":11000},null,{"$f":"C32*$N$10","v":25784},null,{"$f":"N32/2","v":12892},null,{"$f":"C32*$R$10","v":38442.800000000003},null,{"$f":"R32/2","v":19221.400000000001},null,{"$f":"C32*$V$10","v":38913.599999999999},null,{"$f":"V32/2","v":19456.8}]
[null,"19(15)",240000,null,8000,null,230000,"～",250000,{"$f":"C33*$J$10","v":24000},null,{"$f":"J33/2","v":12000},null,{"$f":"C33*$N$10","v":28128},null,{"$f":"N33/2","v":14064},null,{"$f":"C33*$R$10","v":41937.599999999999},null,{"$f":"R33/2","v":20968.8},null,{"$f":"C33*$V$10","v":42451.200000000004},null,{"$f":"V33/2","v":21225.600000000002}]
[null,"20(16)",260000,null,8670,null,250000,"～",270000,{"$f":"C34*$J$10","v":26000},null,{"$f":"J34/2","v":13000},null,{"$f":"C34*$N$10","v":30472},null,{"$f":"N34/2","v":15236},null,{"$f":"C34*$R$10","v":45432.4},null,{"$f":"R34/2","v":22716.2},null,{"$f":"C34*$V$10","v":45988.800000000003},null,{"$f":"V34/2","v":22994.400000000001}]
[null,"21(17)",280000,null,9330,null,270000,"～",290000,{"$f":"C35*$J$10","v":28000},null,{"$f":"J35/2","v":14000},null,{"$f":"C35*$N$10","v":32816},null,{"$f":"N35/2","v":16408},null,{"$f":"C35*$R$10","v":48927.200000000004},null,{"$f":"R35/2","v":24463.600000000002},null,{"$f":"C35*$V$10","v":49526.400000000001},null,{"$f":"V35/2","v":24763.200000000001}]
[null,"22(18)",300000,null,10000,null,290000,"～",310000,{"$f":"C36*$J$10","v":30000},null,{"$f":"J36/2","v":15000},null,{"$f":"C36*$N$10","v":35160},null,{"$f":"N36/2","v":17580},null,{"$f":"C36*$R$10","v":52422},null,{"$f":"R36/2","v":26211},null,{"$f":"C36*$V$10","v":53064},null,{"$f":"V36/2","v":26532}]
[null,"23(19)",320000,null,10670,null,310000,"～",330000,{"$f":"C37*$J$10","v":32000},null,{"$f":"J37/2","v":16000},null,{"$f":"C37*$N$10","v":37504},null,{"$f":"N37/2","v":18752},null,{"$f":"C37*$R$10","v":55916.800000000003},null,{"$f":"R37/2","v":27958.400000000001},null,{"$f":"C37*$V$10","v":56601.600000000006},null,{"$f":"V37/2","v":28300.800000000003}]
[null,"24(20)",340000,null,11330,null,330000,"～",350000,{"$f":"C38*$J$10","v":34000},null,{"$f":"J38/2","v":17000},null,{"$f":"C38*$N$10","v":39848},null,{"$f":"N38/2","v":19924},null,{"$f":"C38*$R$10","v":59411.600000000006},null,{"$f":"R38/2","v":29705.800000000003},null,{"$f":"C38*$V$10","v":60139.200000000004},null,{"$f":"V38/2","v":30069.600000000002}]
[null,"25(21)",360000,null,12000,null,350000,"～",370000,{"$f":"C39*$J$10","v":36000},null,{"$f":"J39/2","v":18000},null,{"$f":"C39*$N$10","v":42192},null,{"$f":"N39/2","v":21096},null,{"$f":"C39*$R$10","v":62906.400000000001},null,{"$f":"R39/2","v":31453.200000000001},null,{"$f":"C39*$V$10","v":63676.800000000003},null,{"$f":"V39/2","v":31838.400000000001}]
[null,"26(22)",380000,null,12670,null,370000,"～",395000,{"$f":"C40*$J$10","v":38000},null,{"$f":"J40/2","v":19000},null,{"$f":"C40*$N$10","v":44536},null,{"$f":"N40/2","v":22268},null,{"$f":"C40*$R$10","v":66401.2},null,{"$f":"R40/2","v":33200.6},null,{"$f":"C40*$V$10","v":67214.400000000009},null,{"$f":"V40/2","v":33607.200000000004}]
[null,"27(23)",410000,null,13670,null,395000,"～",425000,{"$f":"C41*$J$10","v":41000},null,{"$f":"J41/2","v":20500},null,{"$f":"C41*$N$10","v":48052},null,{"$f":"N41/2","v":24026},null,{"$f":"C41*$R$10","v":71643.400000000009},null,{"$f":"R41/2","v":35821.700000000004},null,{"$f":"C41*$V$10","v":72520.800000000003},null,{"$f":"V41/2","v":36260.400000000001}]
[null,"28(24)",440000,null,14670,null,425000,"～",455000,{"$f":"C42*$J$10","v":44000},null,{"$f":"J42/2","v":22000},null,{"$f":"C42*$N$10","v":51568},null,{"$f":"N42/2","v":25784},null,{"$f":"C42*$R$10","v":76885.600000000006},null,{"$f":"R42/2","v":38442.800000000003},null,{"$f":"C42*$V$10","v":77827.199999999997},null,{"$f":"V42/2","v":38913.599999999999}]
[null,"29(25)",470000,null,15670,null,455000,"～",485000,{"$f":"C43*$J$10","v":47000},null,{"$f":"J43/2","v":23500},null,{"$f":"C43*$N$10","v":55084},null,{"$f":"N43/2","v":27542},null,{"$f":"C43*$R$10","v":82127.8},null,{"$f":"R43/2","v":41063.9},null,{"$f":"C43*$V$10","v":83133.600000000006},null,{"$f":"V43/2","v":41566.800000000003}]
[null,"30(26)",500000,null,16670,null,485000,"～",515000,{"$f":"C44*$J$10","v":50000},null,{"$f":"J44/2","v":25000},null,{"$f":"C44*$N$10","v":58600},null,{"$f":"N44/2","v":29300},null,{"$f":"C44*$R$10","v":87370},null,{"$f":"R44/2","v":43685},null,{"$f":"C44*$V$10","v":88440},null,{"$f":"V44/2","v":44220}]
[null,"31(27)",530000,null,17670,null,515000,"～",545000,{"$f":"C45*$J$10","v":53000},null,{"$f":"J45/2","v":26500},null,{"$f":"C45*$N$10","v":62116},null,{"$f":"N45/2","v":31058},null,{"$f":"C45*$R$10","v":92612.2},null,{"$f":"R45/2","v":46306.1},null,{"$f":"C45*$V$10","v":93746.400000000009},null,{"$f":"V45/2","v":46873.200000000004}]
[null,"32(28)",560000,null,18670,null,545000,"～",575000,{"$f":"C46*$J$10","v":56000},null,{"$f":"J46/2","v":28000},null,{"$f":"C46*$N$10","v":65632},null,{"$f":"N46/2","v":32816},null,{"$f":"C46*$R$10","v":97854.400000000009},null,{"$f":"R46/2","v":48927.200000000004},null,{"$f":"C46*$V$10","v":99052.800000000003},null,{"$f":"V46/2","v":49526.400000000001}]
[null,"33(29)",590000,null,19670,null,575000,"～",605000,{"$f":"C47*$J$10","v":59000},null,{"$f":"J47/2","v":29500},null,{"$f":"C47*$N$10","v":69148},null,{"$f":"N47/2","v":34574},null,{"$f":"C47*$R$10","v":103096.6},null,{"$f":"R47/2","v":51548.3},null,{"$f":"C47*$V$10","v":104359.20000000001},null,{"$f":"V47/2","v":52179.600000000006}]
[null,"34(30)",620000,null,20670,null,605000,"～",635000,{"$f":"C48*$J$10","v":62000},null,{"$f":"J48/2","v":31000},null,{"$f":"C48*$N$10","v":72664},null,{"$f":"N48/2","v":36332},null,{"$f":"C48*$R$10","v":108338.8},null,{"$f":"R48/2","v":54169.4},null,{"$f":"C48*$V$10","v":109665.60000000001},null,{"$f":"V48/2","v":54832.800000000003}]
[null,35,650000,null,21670,null,635000,"～",665000,{"$f":"C49*$J$10","v":65000},null,{"$f":"J49/2","v":32500},null,{"$f":"C49*$N$10","v":76180},null,{"$f":"N49/2","v":38090},null,"※厚生年金基金に加入している方の厚生年金保険\n　料率は、基金ごとに定められている免除保険料\n　率(2.4%～5.0%)を控除した率となります。\n\n　●一般の被保険者の方　…12.474%～15.074%\n　●坑内員の被保険者の方…12.688%～15.288%\n\n　加入する基金ごとに異なりますので、免除保険\n　料率および厚生年金基金の掛金については、加\n　入する厚生年金基金にお問い合わせください。\n"]
[null,36,680000,null,22670,null,665000,"～",695000,{"$f":"C50*$J$10","v":68000},null,{"$f":"J50/2","v":34000},null,{"$f":"C50*$N$10","v":79696},null,{"$f":"N50/2","v":39848}]
[null,37,710000,null,23670,null,695000,"～",730000,{"$f":"C51*$J$10","v":71000},null,{"$f":"J51/2","v":35500},null,{"$f":"C51*$N$10","v":83212},null,{"$f":"N51/2","v":41606}]
[null,38,750000,null,25000,null,730000,"～",770000,{"$f":"C52*$J$10","v":75000},null,{"$f":"J52/2","v":37500},null,{"$f":"C52*$N$10","v":87900},null,{"$f":"N52/2","v":43950}]
[null,39,790000,null,26330,null,770000,"～",810000,{"$f":"C53*$J$10","v":79000},null,{"$f":"J53/2","v":39500},null,{"$f":"C53*$N$10","v":92588},null,{"$f":"N53/2","v":46294}]
[null,40,830000,null,27670,null,810000,"～",855000,{"$f":"C54*$J$10","v":83000},null,{"$f":"J54/2","v":41500},null,{"$f":"C54*$N$10","v":97276},null,{"$f":"N54/2","v":48638}]
[null,41,880000,null,29330,null,855000,"～",905000,{"$f":"C55*$J$10","v":88000},null,{"$f":"J55/2","v":44000},null,{"$f":"C55*$N$10","v":103136},null,{"$f":"N55/2","v":51568}]
[null,42,930000,null,31000,null,905000,"～",955000,{"$f":"C56*$J$10","v":93000},null,{"$f":"J56/2","v":46500},null,{"$f":"C56*$N$10","v":108996},null,{"$f":"N56/2","v":54498}]
[null,43,980000,null,32670,null,955000,"～",1005000,{"$f":"C57*$J$10","v":98000},null,{"$f":"J57/2","v":49000},null,{"$f":"C57*$N$10","v":114856},null,{"$f":"N57/2","v":57428}]
[null,44,1030000,null,34330,null,1005000,"～",1055000,{"$f":"C58*$J$10","v":103000},null,{"$f":"J58/2","v":51500},null,{"$f":"C58*$N$10","v":120716},null,{"$f":"N58/2","v":60358}]
[null,45,1090000,null,36330,null,1055000,"～",1115000,{"$f":"C59*$J$10","v":109000},null,{"$f":"J59/2","v":54500},null,{"$f":"C59*$N$10","v":127748},null,{"$f":"N59/2","v":63874}]
[null,46,1150000,null,38330,null,1115000,"～",1175000,{"$f":"C60*$J$10","v":115000},null,{"$f":"J60/2","v":57500},null,{"$f":"C60*$N$10","v":134780},null,{"$f":"N60/2","v":67390}]
[null,47,1210000,null,40330,null,1175000,"～",null,{"$f":"C61*$J$10","v":121000},null,{"$f":"J61/2","v":60500},null,{"$f":"C61*$N$10","v":141812},null,{"$f":"N61/2","v":70906}]
[]
[{"$f":"J10","v":0.1}]
[null,""]
["◆等級欄の（　）内の数字は、厚生年金保険の標準報酬月額等級です。"]
["　5(1)等級の「報酬月額」欄は、厚生年金保険の場合「101,000円未満」と読み替えてください。"]
["　34(30)等級の「報酬月額」欄は、厚生年金保険の場合「605,000円以上」と読み替えてください。"]
[null,""]
["◆平成26年度における全国健康保険協会の任意継続被保険者について、標準報酬月額の上限は、280,000円です。"]
[]
[]
[]
["　○被保険者負担分（表の折半額の欄）に円未満の端数がある場合"]
["　　　①事業主が、給与から被保険者負担分を控除する場合、被保険者負担分の端数が50銭以下の場合は切り捨て、50銭を超える場合は切り上げて1円となります。"]
["　　　②被保険者が、被保険者負担分を事業主へ現金で支払う場合、被保険者負担分の端数が50銭未満の場合は切り捨て、50銭以上の場合は切り上げて1円となります。"]
["　　　（注）①、②にかかわらず、事業主と被保険者の間で特約がある場合には、特約に基づき端数処理をすることができます。"]
[]
["　○納入告知書の保険料額"]
["　　　 納入告知書の保険料額は、被保険者個々の保険料額を合算した金額になります。ただし、合算した金額に円未満の端数がある場合は、その端数を切り捨てた額となります。"]
[]
["　○賞与に係る保険料"]
["　　　 賞与に係る保険料額は、賞与額から1,000円未満の端数を切り捨てた額（標準賞与額）に、保険料率を乗じた額となります。"]
[" 　　　また、標準賞与額の上限は、健康保険は年間540万円（毎年4月1日から翌年3月31日までの累計額）となり、厚生年金保険と児童手当拠出金の場合は月間150万円となります。"]
[]
["　○児童手当拠出金"]
["　　　 厚生年金保険の被保険者を使用する事業主の方は、児童手当等の支給に要する費用の一部として児童手当拠出金を全額負担いただくことになります。この児童手当"]
["　　　 拠出金の額は、被保険者個々の厚生年金保険の標準報酬月額および標準賞与額に、拠出金率（0.15%）を乗じて得た額の総額となります。"]

{"sheet":"岩手","index":12,"n_rows":86,"n_cols":24,"rows_kept":86,"cut":false,"hidden":true,"merged":[[74,0,74,24],[75,0,75,16],[85,0,85,24],[86,0,86,16],[77,0,77,23],[79,0,79,16],[80,0,80,21],[81,0,81,24],[83,0,83,21],[84,0,84,24],[76,0,76,23],[48,17,60,24],[62,0,62,25],[64,0,64,24],[65,0,65,24],[66,0,66,24],[68,0,68,24],[71,0,71,16],[72,0,72,24],[73,0,73,24],[6,21,8,24],[9,9,10,12],[9,13,10,16],[9,17,10,20],[9,21,10,24],[11,13,12,14],[11,15,12,16],[11,17,12,18],[11,19,12,20],[11,21,12,22],[11,1,12,1],[11,2,12,3],[11,4,12,5],[11,9,12,10],[11,11,12,12],[11,23,12,24],[0,1,1,24],[2,1,3,23],[4,1,4,16],[5,1,10,5],[5,6,12,8],[5,9,5,16],[5,17,5,24],[6,9,8,12],[6,13,8,16],[6,17,8,20]]}
[null,"平成26年9月分(10月納付分)からの健康保険・厚生年金保険の保険料額表"]
[]
[null,"     ‣健康保険料率：平成24年3月分～　適用　　‣厚生年金保険料率：平成26年9月分～平成27年8月分　適用\n     ‣介護保険料率：平成26年3月分～　適用　　‣児童手当拠出金率：平成24年4月分～　適用\n"]
[]
[null,"（岩手県）",null,null,null,null,null,null,null,null,null,null,null,null,null,null,null,null,null,null,null,null,null,"（単位：円）"]
[null,"標　準　報　酬",null,null,null,null,"報　酬　月　額",null,null,"全国健康保険協会管掌健康保険料",null,null,null,null,null,null,null,"厚生年金保険料（厚生年金基金加入員を除く）"]
[null,null,null,null,null,null,null,null,null,"介護保険第２号被保険者\nに該当しない場合",null,null,null,"介護保険第２号被保険者\nに該当する場合",null,null,null,"一般の被保険者",null,null,null,"坑内員・船員"]
[]
[]
[null,null,null,null,null,null,null,null,null,9.9299999999999999E-2,null,null,null,{"$f":"J10+0.0172","v":0.11649999999999999},null,null,null,0.17474000000000001,null,null,null,0.17688000000000001]
[]
[null,"等級","月　額",null,"日　額",null,null,null,null,"全　額",null,"折半額",null,"全　額",null,"折半額",null,"全　額",null,"折半額",null,"全　額",null,"折半額"]
[]
[null,null,null,null,null,null,"円以上",null,"円未満"]
[null,1,58000,null,1930,null,null,"～",63000,{"$f":"C15*$J$10","v":5759.4},null,{"$f":"J15/2","v":2879.7},null,{"$f":"C15*$N$10","v":6757},null,{"$f":"N15/2","v":3378.5}]
[null,2,68000,null,2270,null,63000,"～",73000,{"$f":"C16*$J$10","v":6752.4},null,{"$f":"J16/2","v":3376.2},null,{"$f":"C16*$N$10","v":7921.9999999999991},null,{"$f":"N16/2","v":3960.9999999999995}]
[null,3,78000,null,2600,null,73000,"～",83000,{"$f":"C17*$J$10","v":7745.4},null,{"$f":"J17/2","v":3872.7},null,{"$f":"C17*$N$10","v":9087},null,{"$f":"N17/2","v":4543.5}]
[null,4,88000,null,2930,null,83000,"～",93000,{"$f":"C18*$J$10","v":8738.4},null,{"$f":"J18/2","v":4369.2},null,{"$f":"C18*$N$10","v":10252},null,{"$f":"N18/2","v":5126}]
[null,"5(1)",98000,null,3270,null,93000,"～",101000,{"$f":"C19*$J$10","v":9731.4},null,{"$f":"J19/2","v":4865.7},null,{"$f":"C19*$N$10","v":11417},null,{"$f":"N19/2","v":5708.5},null,{"$f":"C19*$R$10","v":17124.52},null,{"$f":"R19/2","v":8562.26},null,{"$f":"C19*$V$10","v":17334.240000000002},null,{"$f":"V19/2","v":8667.1200000000008}]
[null,"6(2)",104000,null,3470,null,101000,"～",107000,{"$f":"C20*$J$10","v":10327.200000000001},null,{"$f":"J20/2","v":5163.6000000000004},null,{"$f":"C20*$N$10","v":12116},null,{"$f":"N20/2","v":6058},null,{"$f":"C20*$R$10","v":18172.96},null,{"$f":"R20/2","v":9086.48},null,{"$f":"C20*$V$10","v":18395.52},null,{"$f":"V20/2","v":9197.76}]
[null,"7(3)",110000,null,3670,null,107000,"～",114000,{"$f":"C21*$J$10","v":10923},null,{"$f":"J21/2","v":5461.5},null,{"$f":"C21*$N$10","v":12815},null,{"$f":"N21/2","v":6407.5},null,{"$f":"C21*$R$10","v":19221.400000000001},null,{"$f":"R21/2","v":9610.7000000000007},null,{"$f":"C21*$V$10","v":19456.8},null,{"$f":"V21/2","v":9728.4}]
[null,"8(4)",118000,null,3930,null,114000,"～",122000,{"$f":"C22*$J$10","v":11717.4},null,{"$f":"J22/2","v":5858.7},null,{"$f":"C22*$N$10","v":13747},null,{"$f":"N22/2","v":6873.5},null,{"$f":"C22*$R$10","v":20619.32},null,{"$f":"R22/2","v":10309.66},null,{"$f":"C22*$V$10","v":20871.84},null,{"$f":"V22/2","v":10435.92}]
[null,"9(5)",126000,null,4200,null,122000,"～",130000,{"$f":"C23*$J$10","v":12511.8},null,{"$f":"J23/2","v":6255.9},null,{"$f":"C23*$N$10","v":14678.999999999998},null,{"$f":"N23/2","v":7339.4999999999991},null,{"$f":"C23*$R$10","v":22017.24},null,{"$f":"R23/2","v":11008.62},null,{"$f":"C23*$V$10","v":22286.880000000001},null,{"$f":"V23/2","v":11143.44}]
[null,"10(6)",134000,null,4470,null,130000,"～",138000,{"$f":"C24*$J$10","v":13306.2},null,{"$f":"J24/2","v":6653.1},null,{"$f":"C24*$N$10","v":15610.999999999998},null,{"$f":"N24/2","v":7805.4999999999991},null,{"$f":"C24*$R$10","v":23415.16},null,{"$f":"R24/2","v":11707.58},null,{"$f":"C24*$V$10","v":23701.920000000002},null,{"$f":"V24/2","v":11850.960000000001}]
[null,"11(7)",142000,null,4730,null,138000,"～",146000,{"$f":"C25*$J$10","v":14100.6},null,{"$f":"J25/2","v":7050.3},null,{"$f":"C25*$N$10","v":16543},null,{"$f":"N25/2","v":8271.5},null,{"$f":"C25*$R$10","v":24813.08},null,{"$f":"R25/2","v":12406.54},null,{"$f":"C25*$V$10","v":25116.960000000003},null,{"$f":"V25/2","v":12558.480000000001}]
[null,"12(8)",150000,null,5000,null,146000,"～",155000,{"$f":"C26*$J$10","v":14895},null,{"$f":"J26/2","v":7447.5},null,{"$f":"C26*$N$10","v":17475},null,{"$f":"N26/2","v":8737.5},null,{"$f":"C26*$R$10","v":26211},null,{"$f":"R26/2","v":13105.5},null,{"$f":"C26*$V$10","v":26532},null,{"$f":"V26/2","v":13266}]
[null,"13(9)",160000,null,5330,null,155000,"～",165000,{"$f":"C27*$J$10","v":15888},null,{"$f":"J27/2","v":7944},null,{"$f":"C27*$N$10","v":18640},null,{"$f":"N27/2","v":9320},null,{"$f":"C27*$R$10","v":27958.400000000001},null,{"$f":"R27/2","v":13979.2},null,{"$f":"C27*$V$10","v":28300.800000000003},null,{"$f":"V27/2","v":14150.400000000001}]
[null,"14(10)",170000,null,5670,null,165000,"～",175000,{"$f":"C28*$J$10","v":16881},null,{"$f":"J28/2","v":8440.5},null,{"$f":"C28*$N$10","v":19805},null,{"$f":"N28/2","v":9902.5},null,{"$f":"C28*$R$10","v":29705.800000000003},null,{"$f":"R28/2","v":14852.900000000001},null,{"$f":"C28*$V$10","v":30069.600000000002},null,{"$f":"V28/2","v":15034.800000000001}]
[null,"15(11)",180000,null,6000,null,175000,"～",185000,{"$f":"C29*$J$10","v":17874},null,{"$f":"J29/2","v":8937},null,{"$f":"C29*$N$10","v":20970},null,{"$f":"N29/2","v":10485},null,{"$f":"C29*$R$10","v":31453.200000000001},null,{"$f":"R29/2","v":15726.6},null,{"$f":"C29*$V$10","v":31838.400000000001},null,{"$f":"V29/2","v":15919.2}]
[null,"16(12)",190000,null,6330,null,185000,"～",195000,{"$f":"C30*$J$10","v":18867},null,{"$f":"J30/2","v":9433.5},null,{"$f":"C30*$N$10","v":22135},null,{"$f":"N30/2","v":11067.5},null,{"$f":"C30*$R$10","v":33200.6},null,{"$f":"R30/2","v":16600.3},null,{"$f":"C30*$V$10","v":33607.200000000004},null,{"$f":"V30/2","v":16803.600000000002}]
[null,"17(13)",200000,null,6670,null,195000,"～",210000,{"$f":"C31*$J$10","v":19860},null,{"$f":"J31/2","v":9930},null,{"$f":"C31*$N$10","v":23300},null,{"$f":"N31/2","v":11650},null,{"$f":"C31*$R$10","v":34948},null,{"$f":"R31/2","v":17474},null,{"$f":"C31*$V$10","v":35376},null,{"$f":"V31/2","v":17688}]
[null,"18(14)",220000,null,7330,null,210000,"～",230000,{"$f":"C32*$J$10","v":21846},null,{"$f":"J32/2","v":10923},null,{"$f":"C32*$N$10","v":25630},null,{"$f":"N32/2","v":12815},null,{"$f":"C32*$R$10","v":38442.800000000003},null,{"$f":"R32/2","v":19221.400000000001},null,{"$f":"C32*$V$10","v":38913.599999999999},null,{"$f":"V32/2","v":19456.8}]
[null,"19(15)",240000,null,8000,null,230000,"～",250000,{"$f":"C33*$J$10","v":23832},null,{"$f":"J33/2","v":11916},null,{"$f":"C33*$N$10","v":27960},null,{"$f":"N33/2","v":13980},null,{"$f":"C33*$R$10","v":41937.599999999999},null,{"$f":"R33/2","v":20968.8},null,{"$f":"C33*$V$10","v":42451.200000000004},null,{"$f":"V33/2","v":21225.600000000002}]
[null,"20(16)",260000,null,8670,null,250000,"～",270000,{"$f":"C34*$J$10","v":25818},null,{"$f":"J34/2","v":12909},null,{"$f":"C34*$N$10","v":30289.999999999996},null,{"$f":"N34/2","v":15144.999999999998},null,{"$f":"C34*$R$10","v":45432.4},null,{"$f":"R34/2","v":22716.2},null,{"$f":"C34*$V$10","v":45988.800000000003},null,{"$f":"V34/2","v":22994.400000000001}]
[null,"21(17)",280000,null,9330,null,270000,"～",290000,{"$f":"C35*$J$10","v":27804},null,{"$f":"J35/2","v":13902},null,{"$f":"C35*$N$10","v":32619.999999999996},null,{"$f":"N35/2","v":16309.999999999998},null,{"$f":"C35*$R$10","v":48927.200000000004},null,{"$f":"R35/2","v":24463.600000000002},null,{"$f":"C35*$V$10","v":49526.400000000001},null,{"$f":"V35/2","v":24763.200000000001}]
[null,"22(18)",300000,null,10000,null,290000,"～",310000,{"$f":"C36*$J$10","v":29790},null,{"$f":"J36/2","v":14895},null,{"$f":"C36*$N$10","v":34950},null,{"$f":"N36/2","v":17475},null,{"$f":"C36*$R$10","v":52422},null,{"$f":"R36/2","v":26211},null,{"$f":"C36*$V$10","v":53064},null,{"$f":"V36/2","v":26532}]
[null,"23(19)",320000,null,10670,null,310000,"～",330000,{"$f":"C37*$J$10","v":31776},null,{"$f":"J37/2","v":15888},null,{"$f":"C37*$N$10","v":37280},null,{"$f":"N37/2","v":18640},null,{"$f":"C37*$R$10","v":55916.800000000003},null,{"$f":"R37/2","v":27958.400000000001},null,{"$f":"C37*$V$10","v":56601.600000000006},null,{"$f":"V37/2","v":28300.800000000003}]
[null,"24(20)",340000,null,11330,null,330000,"～",350000,{"$f":"C38*$J$10","v":33762},null,{"$f":"J38/2","v":16881},null,{"$f":"C38*$N$10","v":39610},null,{"$f":"N38/2","v":19805},null,{"$f":"C38*$R$10","v":59411.600000000006},null,{"$f":"R38/2","v":29705.800000000003},null,{"$f":"C38*$V$10","v":60139.200000000004},null,{"$f":"V38/2","v":30069.600000000002}]
[null,"25(21)",360000,null,12000,null,350000,"～",370000,{"$f":"C39*$J$10","v":35748},null,{"$f":"J39/2","v":17874},null,{"$f":"C39*$N$10","v":41940},null,{"$f":"N39/2","v":20970},null,{"$f":"C39*$R$10","v":62906.400000000001},null,{"$f":"R39/2","v":31453.200000000001},null,{"$f":"C39*$V$10","v":63676.800000000003},null,{"$f":"V39/2","v":31838.400000000001}]
[null,"26(22)",380000,null,12670,null,370000,"～",395000,{"$f":"C40*$J$10","v":37734},null,{"$f":"J40/2","v":18867},null,{"$f":"C40*$N$10","v":44270},null,{"$f":"N40/2","v":22135},null,{"$f":"C40*$R$10","v":66401.2},null,{"$f":"R40/2","v":33200.6},null,{"$f":"C40*$V$10","v":67214.400000000009},null,{"$f":"V40/2","v":33607.200000000004}]
[null,"27(23)",410000,null,13670,null,395000,"～",425000,{"$f":"C41*$J$10","v":40713},null,{"$f":"J41/2","v":20356.5},null,{"$f":"C41*$N$10","v":47765},null,{"$f":"N41/2","v":23882.5},null,{"$f":"C41*$R$10","v":71643.400000000009},null,{"$f":"R41/2","v":35821.700000000004},null,{"$f":"C41*$V$10","v":72520.800000000003},null,{"$f":"V41/2","v":36260.400000000001}]
[null,"28(24)",440000,null,14670,null,425000,"～",455000,{"$f":"C42*$J$10","v":43692},null,{"$f":"J42/2","v":21846},null,{"$f":"C42*$N$10","v":51260},null,{"$f":"N42/2","v":25630},null,{"$f":"C42*$R$10","v":76885.600000000006},null,{"$f":"R42/2","v":38442.800000000003},null,{"$f":"C42*$V$10","v":77827.199999999997},null,{"$f":"V42/2","v":38913.599999999999}]
[null,"29(25)",470000,null,15670,null,455000,"～",485000,{"$f":"C43*$J$10","v":46671},null,{"$f":"J43/2","v":23335.5},null,{"$f":"C43*$N$10","v":54755},null,{"$f":"N43/2","v":27377.5},null,{"$f":"C43*$R$10","v":82127.8},null,{"$f":"R43/2","v":41063.9},null,{"$f":"C43*$V$10","v":83133.600000000006},null,{"$f":"V43/2","v":41566.800000000003}]
[null,"30(26)",500000,null,16670,null,485000,"～",515000,{"$f":"C44*$J$10","v":49650},null,{"$f":"J44/2","v":24825},null,{"$f":"C44*$N$10","v":58249.999999999993},null,{"$f":"N44/2","v":29124.999999999996},null,{"$f":"C44*$R$10","v":87370},null,{"$f":"R44/2","v":43685},null,{"$f":"C44*$V$10","v":88440},null,{"$f":"V44/2","v":44220}]
[null,"31(27)",530000,null,17670,null,515000,"～",545000,{"$f":"C45*$J$10","v":52629},null,{"$f":"J45/2","v":26314.5},null,{"$f":"C45*$N$10","v":61744.999999999993},null,{"$f":"N45/2","v":30872.499999999996},null,{"$f":"C45*$R$10","v":92612.2},null,{"$f":"R45/2","v":46306.1},null,{"$f":"C45*$V$10","v":93746.400000000009},null,{"$f":"V45/2","v":46873.200000000004}]
[null,"32(28)",560000,null,18670,null,545000,"～",575000,{"$f":"C46*$J$10","v":55608},null,{"$f":"J46/2","v":27804},null,{"$f":"C46*$N$10","v":65239.999999999993},null,{"$f":"N46/2","v":32619.999999999996},null,{"$f":"C46*$R$10","v":97854.400000000009},null,{"$f":"R46/2","v":48927.200000000004},null,{"$f":"C46*$V$10","v":99052.800000000003},null,{"$f":"V46/2","v":49526.400000000001}]
[null,"33(29)",590000,null,19670,null,575000,"～",605000,{"$f":"C47*$J$10","v":58587},null,{"$f":"J47/2","v":29293.5},null,{"$f":"C47*$N$10","v":68735},null,{"$f":"N47/2","v":34367.5},null,{"$f":"C47*$R$10","v":103096.6},null,{"$f":"R47/2","v":51548.3},null,{"$f":"C47*$V$10","v":104359.20000000001},null,{"$f":"V47/2","v":52179.600000000006}]
[null,"34(30)",620000,null,20670,null,605000,"～",635000,{"$f":"C48*$J$10","v":61566},null,{"$f":"J48/2","v":30783},null,{"$f":"C48*$N$10","v":72230},null,{"$f":"N48/2","v":36115},null,{"$f":"C48*$R$10","v":108338.8},null,{"$f":"R48/2","v":54169.4},null,{"$f":"C48*$V$10","v":109665.60000000001},null,{"$f":"V48/2","v":54832.800000000003}]
[null,35,650000,null,21670,null,635000,"～",665000,{"$f":"C49*$J$10","v":64545},null,{"$f":"J49/2","v":32272.5},null,{"$f":"C49*$N$10","v":75725},null,{"$f":"N49/2","v":37862.5},null,"※厚生年金基金に加入している方の厚生年金保険\n　料率は、基金ごとに定められている免除保険料\n　率(2.4%～5.0%)を控除した率となります。\n\n　●一般の被保険者の方　…12.474%～15.074%\n　●坑内員の被保険者の方…12.688%～15.288%\n\n　加入する基金ごとに異なりますので、免除保険\n　料率および厚生年金基金の掛金については、加\n　入する厚生年金基金にお問い合わせください。\n"]
[null,36,680000,null,22670,null,665000,"～",695000,{"$f":"C50*$J$10","v":67524},null,{"$f":"J50/2","v":33762},null,{"$f":"C50*$N$10","v":79220},null,{"$f":"N50/2","v":39610}]
[null,37,710000,null,23670,null,695000,"～",730000,{"$f":"C51*$J$10","v":70503},null,{"$f":"J51/2","v":35251.5},null,{"$f":"C51*$N$10","v":82715},null,{"$f":"N51/2","v":41357.5}]
[null,38,750000,null,25000,null,730000,"～",770000,{"$f":"C52*$J$10","v":74475},null,{"$f":"J52/2","v":37237.5},null,{"$f":"C52*$N$10","v":87375},null,{"$f":"N52/2","v":43687.5}]
[null,39,790000,null,26330,null,770000,"～",810000,{"$f":"C53*$J$10","v":78447},null,{"$f":"J53/2","v":39223.5},null,{"$f":"C53*$N$10","v":92035},null,{"$f":"N53/2","v":46017.5}]
[null,40,830000,null,27670,null,810000,"～",855000,{"$f":"C54*$J$10","v":82419},null,{"$f":"J54/2","v":41209.5},null,{"$f":"C54*$N$10","v":96695},null,{"$f":"N54/2","v":48347.5}]
[null,41,880000,null,29330,null,855000,"～",905000,{"$f":"C55*$J$10","v":87384},null,{"$f":"J55/2","v":43692},null,{"$f":"C55*$N$10","v":102520},null,{"$f":"N55/2","v":51260}]
[null,42,930000,null,31000,null,905000,"～",955000,{"$f":"C56*$J$10","v":92349},null,{"$f":"J56/2","v":46174.5},null,{"$f":"C56*$N$10","v":108345},null,{"$f":"N56/2","v":54172.5}]
[null,43,980000,null,32670,null,955000,"～",1005000,{"$f":"C57*$J$10","v":97314},null,{"$f":"J57/2","v":48657},null,{"$f":"C57*$N$10","v":114169.99999999999},null,{"$f":"N57/2","v":57084.999999999993}]
[null,44,1030000,null,34330,null,1005000,"～",1055000,{"$f":"C58*$J$10","v":102279},null,{"$f":"J58/2","v":51139.5},null,{"$f":"C58*$N$10","v":119994.99999999999},null,{"$f":"N58/2","v":59997.499999999993}]
[null,45,1090000,null,36330,null,1055000,"～",1115000,{"$f":"C59*$J$10","v":108237},null,{"$f":"J59/2","v":54118.5},null,{"$f":"C59*$N$10","v":126984.99999999999},null,{"$f":"N59/2","v":63492.499999999993}]
[null,46,1150000,null,38330,null,1115000,"～",1175000,{"$f":"C60*$J$10","v":114195},null,{"$f":"J60/2","v":57097.5},null,{"$f":"C60*$N$10","v":133975},null,{"$f":"N60/2","v":66987.5}]
[null,47,1210000,null,40330,null,1175000,"～",null,{"$f":"C61*$J$10","v":120153},null,{"$f":"J61/2","v":60076.5},null,{"$f":"C61*$N$10","v":140965},null,{"$f":"N61/2","v":70482.5}]
[]
[{"$f":"J10","v":9.9299999999999999E-2}]
[null,""]
["◆等級欄の（　）内の数字は、厚生年金保険の標準報酬月額等級です。"]
["　5(1)等級の「報酬月額」欄は、厚生年金保険の場合「101,000円未満」と読み替えてください。"]
["　34(30)等級の「報酬月額」欄は、厚生年金保険の場合「605,000円以上」と読み替えてください。"]
[null,""]
["◆平成26年度における全国健康保険協会の任意継続被保険者について、標準報酬月額の上限は、280,000円です。"]
[]
[]
["　○被保険者負担分（表の折半額の欄）に円未満の端数がある場合"]
["　　　①事業主が、給与から被保険者負担分を控除する場合、被保険者負担分の端数が50銭以下の場合は切り捨て、50銭を超える場合は切り上げて1円となります。"]
["　　　②被保険者が、被保険者負担分を事業主へ現金で支払う場合、被保険者負担分の端数が50銭未満の場合は切り捨て、50銭以上の場合は切り上げて1円となります。"]
["　　　（注）①、②にかかわらず、事業主と被保険者の間で特約がある場合には、特約に基づき端数処理をすることができます。"]
[]
["　○納入告知書の保険料額"]
["　　　 納入告知書の保険料額は、被保険者個々の保険料額を合算した金額になります。ただし、合算した金額に円未満の端数がある場合は、その端数を切り捨てた額となります。"]
[]
["　○賞与に係る保険料"]
["　　　 賞与に係る保険料額は、賞与額から1,000円未満の端数を切り捨てた額（標準賞与額）に、保険料率を乗じた額となります。"]
[" 　　　また、標準賞与額の上限は、健康保険は年間540万円（毎年4月1日から翌年3月31日までの累計額）となり、厚生年金保険と児童手当拠出金の場合は月間150万円となります。"]
[]
["　○児童手当拠出金"]
["　　　 厚生年金保険の被保険者を使用する事業主の方は、児童手当等の支給に要する費用の一部として児童手当拠出金を全額負担いただくことになります。この児童手当"]
["　　　 拠出金の額は、被保険者個々の厚生年金保険の標準報酬月額および標準賞与額に、拠出金率（0.15%）を乗じて得た額の総額となります。"]

{"sheet":"宮城","index":13,"n_rows":86,"n_cols":24,"rows_kept":86,"cut":false,"hidden":true,"merged":[[74,0,74,24],[75,0,75,16],[85,0,85,24],[86,0,86,16],[77,0,77,23],[79,0,79,16],[80,0,80,21],[81,0,81,24],[83,0,83,21],[84,0,84,24],[76,0,76,23],[48,17,60,24],[62,0,62,25],[64,0,64,24],[65,0,65,24],[66,0,66,24],[68,0,68,24],[71,0,71,16],[72,0,72,24],[73,0,73,24],[6,21,8,24],[9,9,10,12],[9,13,10,16],[9,17,10,20],[9,21,10,24],[11,13,12,14],[11,15,12,16],[11,17,12,18],[11,19,12,20],[11,21,12,22],[11,1,12,1],[11,2,12,3],[11,4,12,5],[11,9,12,10],[11,11,12,12],[11,23,12,24],[0,1,1,24],[2,1,3,23],[4,1,4,16],[5,1,10,5],[5,6,12,8],[5,9,5,16],[5,17,5,24],[6,9,8,12],[6,13,8,16],[6,17,8,20]]}
[null,"平成26年9月分(10月納付分)からの健康保険・厚生年金保険の保険料額表"]
[]
[null,"     ‣健康保険料率：平成24年3月分～　適用　　‣厚生年金保険料率：平成26年9月分～平成27年8月分　適用\n     ‣介護保険料率：平成26年3月分～　適用　　‣児童手当拠出金率：平成24年4月分～　適用\n"]
[]
[null,"（宮城県）",null,null,null,null,null,null,null,null,null,null,null,null,null,null,null,null,null,null,null,null,null,"（単位：円）"]
[null,"標　準　報　酬",null,null,null,null,"報　酬　月　額",null,null,"全国健康保険協会管掌健康保険料",null,null,null,null,null,null,null,"厚生年金保険料（厚生年金基金加入員を除く）"]
[null,null,null,null,null,null,null,null,null,"介護保険第２号被保険者\nに該当しない場合",null,null,null,"介護保険第２号被保険者\nに該当する場合",null,null,null,"一般の被保険者",null,null,null,"坑内員・船員"]
[]
[]
[null,null,null,null,null,null,null,null,null,0.10009999999999999,null,null,null,{"$f":"J10+0.0172","v":0.11729999999999999},null,null,null,0.17474000000000001,null,null,null,0.17688000000000001]
[]
[null,"等級","月　額",null,"日　額",null,null,null,null,"全　額",null,"折半額",null,"全　額",null,"折半額",null,"全　額",null,"折半額",null,"全　額",null,"折半額"]
[]
[null,null,null,null,null,null,"円以上",null,"円未満"]
[null,1,58000,null,1930,null,null,"～",63000,{"$f":"C15*$J$10","v":5805.7999999999993},null,{"$f":"J15/2","v":2902.8999999999996},null,{"$f":"C15*$N$10","v":6803.4},null,{"$f":"N15/2","v":3401.7}]
[null,2,68000,null,2270,null,63000,"～",73000,{"$f":"C16*$J$10","v":6806.7999999999993},null,{"$f":"J16/2","v":3403.3999999999996},null,{"$f":"C16*$N$10","v":7976.3999999999987},null,{"$f":"N16/2","v":3988.1999999999994}]
[null,3,78000,null,2600,null,73000,"～",83000,{"$f":"C17*$J$10","v":7807.7999999999993},null,{"$f":"J17/2","v":3903.8999999999996},null,{"$f":"C17*$N$10","v":9149.4},null,{"$f":"N17/2","v":4574.7}]
[null,4,88000,null,2930,null,83000,"～",93000,{"$f":"C18*$J$10","v":8808.7999999999993},null,{"$f":"J18/2","v":4404.3999999999996},null,{"$f":"C18*$N$10","v":10322.4},null,{"$f":"N18/2","v":5161.2}]
[null,"5(1)",98000,null,3270,null,93000,"～",101000,{"$f":"C19*$J$10","v":9809.7999999999993},null,{"$f":"J19/2","v":4904.8999999999996},null,{"$f":"C19*$N$10","v":11495.4},null,{"$f":"N19/2","v":5747.7},null,{"$f":"C19*$R$10","v":17124.52},null,{"$f":"R19/2","v":8562.26},null,{"$f":"C19*$V$10","v":17334.240000000002},null,{"$f":"V19/2","v":8667.1200000000008}]
[null,"6(2)",104000,null,3470,null,101000,"～",107000,{"$f":"C20*$J$10","v":10410.4},null,{"$f":"J20/2","v":5205.2},null,{"$f":"C20*$N$10","v":12199.199999999999},null,{"$f":"N20/2","v":6099.5999999999995},null,{"$f":"C20*$R$10","v":18172.96},null,{"$f":"R20/2","v":9086.48},null,{"$f":"C20*$V$10","v":18395.52},null,{"$f":"V20/2","v":9197.76}]
[null,"7(3)",110000,null,3670,null,107000,"～",114000,{"$f":"C21*$J$10","v":11011},null,{"$f":"J21/2","v":5505.5},null,{"$f":"C21*$N$10","v":12902.999999999998},null,{"$f":"N21/2","v":6451.4999999999991},null,{"$f":"C21*$R$10","v":19221.400000000001},null,{"$f":"R21/2","v":9610.7000000000007},null,{"$f":"C21*$V$10","v":19456.8},null,{"$f":"V21/2","v":9728.4}]
[null,"8(4)",118000,null,3930,null,114000,"～",122000,{"$f":"C22*$J$10","v":11811.8},null,{"$f":"J22/2","v":5905.9},null,{"$f":"C22*$N$10","v":13841.399999999998},null,{"$f":"N22/2","v":6920.6999999999989},null,{"$f":"C22*$R$10","v":20619.32},null,{"$f":"R22/2","v":10309.66},null,{"$f":"C22*$V$10","v":20871.84},null,{"$f":"V22/2","v":10435.92}]
[null,"9(5)",126000,null,4200,null,122000,"～",130000,{"$f":"C23*$J$10","v":12612.599999999999},null,{"$f":"J23/2","v":6306.2999999999993},null,{"$f":"C23*$N$10","v":14779.8},null,{"$f":"N23/2","v":7389.9},null,{"$f":"C23*$R$10","v":22017.24},null,{"$f":"R23/2","v":11008.62},null,{"$f":"C23*$V$10","v":22286.880000000001},null,{"$f":"V23/2","v":11143.44}]
[null,"10(6)",134000,null,4470,null,130000,"～",138000,{"$f":"C24*$J$10","v":13413.4},null,{"$f":"J24/2","v":6706.7},null,{"$f":"C24*$N$10","v":15718.199999999999},null,{"$f":"N24/2","v":7859.0999999999995},null,{"$f":"C24*$R$10","v":23415.16},null,{"$f":"R24/2","v":11707.58},null,{"$f":"C24*$V$10","v":23701.920000000002},null,{"$f":"V24/2","v":11850.960000000001}]
[null,"11(7)",142000,null,4730,null,138000,"～",146000,{"$f":"C25*$J$10","v":14214.199999999999},null,{"$f":"J25/2","v":7107.0999999999995},null,{"$f":"C25*$N$10","v":16656.599999999999},null,{"$f":"N25/2","v":8328.2999999999993},null,{"$f":"C25*$R$10","v":24813.08},null,{"$f":"R25/2","v":12406.54},null,{"$f":"C25*$V$10","v":25116.960000000003},null,{"$f":"V25/2","v":12558.480000000001}]
[null,"12(8)",150000,null,5000,null,146000,"～",155000,{"$f":"C26*$J$10","v":15015},null,{"$f":"J26/2","v":7507.5},null,{"$f":"C26*$N$10","v":17594.999999999996},null,{"$f":"N26/2","v":8797.4999999999982},null,{"$f":"C26*$R$10","v":26211},null,{"$f":"R26/2","v":13105.5},null,{"$f":"C26*$V$10","v":26532},null,{"$f":"V26/2","v":13266}]
[null,"13(9)",160000,null,5330,null,155000,"～",165000,{"$f":"C27*$J$10","v":16016},null,{"$f":"J27/2","v":8008},null,{"$f":"C27*$N$10","v":18767.999999999996},null,{"$f":"N27/2","v":9383.9999999999982},null,{"$f":"C27*$R$10","v":27958.400000000001},null,{"$f":"R27/2","v":13979.2},null,{"$f":"C27*$V$10","v":28300.800000000003},null,{"$f":"V27/2","v":14150.400000000001}]
[null,"14(10)",170000,null,5670,null,165000,"～",175000,{"$f":"C28*$J$10","v":17017},null,{"$f":"J28/2","v":8508.5},null,{"$f":"C28*$N$10","v":19940.999999999996},null,{"$f":"N28/2","v":9970.4999999999982},null,{"$f":"C28*$R$10","v":29705.800000000003},null,{"$f":"R28/2","v":14852.900000000001},null,{"$f":"C28*$V$10","v":30069.600000000002},null,{"$f":"V28/2","v":15034.800000000001}]
[null,"15(11)",180000,null,6000,null,175000,"～",185000,{"$f":"C29*$J$10","v":18018},null,{"$f":"J29/2","v":9009},null,{"$f":"C29*$N$10","v":21113.999999999996},null,{"$f":"N29/2","v":10556.999999999998},null,{"$f":"C29*$R$10","v":31453.200000000001},null,{"$f":"R29/2","v":15726.6},null,{"$f":"C29*$V$10","v":31838.400000000001},null,{"$f":"V29/2","v":15919.2}]
[null,"16(12)",190000,null,6330,null,185000,"～",195000,{"$f":"C30*$J$10","v":19019},null,{"$f":"J30/2","v":9509.5},null,{"$f":"C30*$N$10","v":22286.999999999996},null,{"$f":"N30/2","v":11143.499999999998},null,{"$f":"C30*$R$10","v":33200.6},null,{"$f":"R30/2","v":16600.3},null,{"$f":"C30*$V$10","v":33607.200000000004},null,{"$f":"V30/2","v":16803.600000000002}]
[null,"17(13)",200000,null,6670,null,195000,"～",210000,{"$f":"C31*$J$10","v":20020},null,{"$f":"J31/2","v":10010},null,{"$f":"C31*$N$10","v":23459.999999999996},null,{"$f":"N31/2","v":11729.999999999998},null,{"$f":"C31*$R$10","v":34948},null,{"$f":"R31/2","v":17474},null,{"$f":"C31*$V$10","v":35376},null,{"$f":"V31/2","v":17688}]
[null,"18(14)",220000,null,7330,null,210000,"～",230000,{"$f":"C32*$J$10","v":22022},null,{"$f":"J32/2","v":11011},null,{"$f":"C32*$N$10","v":25805.999999999996},null,{"$f":"N32/2","v":12902.999999999998},null,{"$f":"C32*$R$10","v":38442.800000000003},null,{"$f":"R32/2","v":19221.400000000001},null,{"$f":"C32*$V$10","v":38913.599999999999},null,{"$f":"V32/2","v":19456.8}]
[null,"19(15)",240000,null,8000,null,230000,"～",250000,{"$f":"C33*$J$10","v":24024},null,{"$f":"J33/2","v":12012},null,{"$f":"C33*$N$10","v":28151.999999999996},null,{"$f":"N33/2","v":14075.999999999998},null,{"$f":"C33*$R$10","v":41937.599999999999},null,{"$f":"R33/2","v":20968.8},null,{"$f":"C33*$V$10","v":42451.200000000004},null,{"$f":"V33/2","v":21225.600000000002}]
[null,"20(16)",260000,null,8670,null,250000,"～",270000,{"$f":"C34*$J$10","v":26026},null,{"$f":"J34/2","v":13013},null,{"$f":"C34*$N$10","v":30497.999999999996},null,{"$f":"N34/2","v":15248.999999999998},null,{"$f":"C34*$R$10","v":45432.4},null,{"$f":"R34/2","v":22716.2},null,{"$f":"C34*$V$10","v":45988.800000000003},null,{"$f":"V34/2","v":22994.400000000001}]
[null,"21(17)",280000,null,9330,null,270000,"～",290000,{"$f":"C35*$J$10","v":28028},null,{"$f":"J35/2","v":14014},null,{"$f":"C35*$N$10","v":32844},null,{"$f":"N35/2","v":16422},null,{"$f":"C35*$R$10","v":48927.200000000004},null,{"$f":"R35/2","v":24463.600000000002},null,{"$f":"C35*$V$10","v":49526.400000000001},null,{"$f":"V35/2","v":24763.200000000001}]
[null,"22(18)",300000,null,10000,null,290000,"～",310000,{"$f":"C36*$J$10","v":30030},null,{"$f":"J36/2","v":15015},null,{"$f":"C36*$N$10","v":35189.999999999993},null,{"$f":"N36/2","v":17594.999999999996},null,{"$f":"C36*$R$10","v":52422},null,{"$f":"R36/2","v":26211},null,{"$f":"C36*$V$10","v":53064},null,{"$f":"V36/2","v":26532}]
[null,"23(19)",320000,null,10670,null,310000,"～",330000,{"$f":"C37*$J$10","v":32032},null,{"$f":"J37/2","v":16016},null,{"$f":"C37*$N$10","v":37535.999999999993},null,{"$f":"N37/2","v":18767.999999999996},null,{"$f":"C37*$R$10","v":55916.800000000003},null,{"$f":"R37/2","v":27958.400000000001},null,{"$f":"C37*$V$10","v":56601.600000000006},null,{"$f":"V37/2","v":28300.800000000003}]
[null,"24(20)",340000,null,11330,null,330000,"～",350000,{"$f":"C38*$J$10","v":34034},null,{"$f":"J38/2","v":17017},null,{"$f":"C38*$N$10","v":39881.999999999993},null,{"$f":"N38/2","v":19940.999999999996},null,{"$f":"C38*$R$10","v":59411.600000000006},null,{"$f":"R38/2","v":29705.800000000003},null,{"$f":"C38*$V$10","v":60139.200000000004},null,{"$f":"V38/2","v":30069.600000000002}]
[null,"25(21)",360000,null,12000,null,350000,"～",370000,{"$f":"C39*$J$10","v":36036},null,{"$f":"J39/2","v":18018},null,{"$f":"C39*$N$10","v":42227.999999999993},null,{"$f":"N39/2","v":21113.999999999996},null,{"$f":"C39*$R$10","v":62906.400000000001},null,{"$f":"R39/2","v":31453.200000000001},null,{"$f":"C39*$V$10","v":63676.800000000003},null,{"$f":"V39/2","v":31838.400000000001}]
[null,"26(22)",380000,null,12670,null,370000,"～",395000,{"$f":"C40*$J$10","v":38038},null,{"$f":"J40/2","v":19019},null,{"$f":"C40*$N$10","v":44573.999999999993},null,{"$f":"N40/2","v":22286.999999999996},null,{"$f":"C40*$R$10","v":66401.2},null,{"$f":"R40/2","v":33200.6},null,{"$f":"C40*$V$10","v":67214.400000000009},null,{"$f":"V40/2","v":33607.200000000004}]
[null,"27(23)",410000,null,13670,null,395000,"～",425000,{"$f":"C41*$J$10","v":41041},null,{"$f":"J41/2","v":20520.5},null,{"$f":"C41*$N$10","v":48092.999999999993},null,{"$f":"N41/2","v":24046.499999999996},null,{"$f":"C41*$R$10","v":71643.400000000009},null,{"$f":"R41/2","v":35821.700000000004},null,{"$f":"C41*$V$10","v":72520.800000000003},null,{"$f":"V41/2","v":36260.400000000001}]
[null,"28(24)",440000,null,14670,null,425000,"～",455000,{"$f":"C42*$J$10","v":44044},null,{"$f":"J42/2","v":22022},null,{"$f":"C42*$N$10","v":51611.999999999993},null,{"$f":"N42/2","v":25805.999999999996},null,{"$f":"C42*$R$10","v":76885.600000000006},null,{"$f":"R42/2","v":38442.800000000003},null,{"$f":"C42*$V$10","v":77827.199999999997},null,{"$f":"V42/2","v":38913.599999999999}]
[null,"29(25)",470000,null,15670,null,455000,"～",485000,{"$f":"C43*$J$10","v":47047},null,{"$f":"J43/2","v":23523.5},null,{"$f":"C43*$N$10","v":55130.999999999993},null,{"$f":"N43/2","v":27565.499999999996},null,{"$f":"C43*$R$10","v":82127.8},null,{"$f":"R43/2","v":41063.9},null,{"$f":"C43*$V$10","v":83133.600000000006},null,{"$f":"V43/2","v":41566.800000000003}]
[null,"30(26)",500000,null,16670,null,485000,"～",515000,{"$f":"C44*$J$10","v":50050},null,{"$f":"J44/2","v":25025},null,{"$f":"C44*$N$10","v":58649.999999999993},null,{"$f":"N44/2","v":29324.999999999996},null,{"$f":"C44*$R$10","v":87370},null,{"$f":"R44/2","v":43685},null,{"$f":"C44*$V$10","v":88440},null,{"$f":"V44/2","v":44220}]
[null,"31(27)",530000,null,17670,null,515000,"～",545000,{"$f":"C45*$J$10","v":53053},null,{"$f":"J45/2","v":26526.5},null,{"$f":"C45*$N$10","v":62168.999999999993},null,{"$f":"N45/2","v":31084.499999999996},null,{"$f":"C45*$R$10","v":92612.2},null,{"$f":"R45/2","v":46306.1},null,{"$f":"C45*$V$10","v":93746.400000000009},null,{"$f":"V45/2","v":46873.200000000004}]
[null,"32(28)",560000,null,18670,null,545000,"～",575000,{"$f":"C46*$J$10","v":56056},null,{"$f":"J46/2","v":28028},null,{"$f":"C46*$N$10","v":65688},null,{"$f":"N46/2","v":32844},null,{"$f":"C46*$R$10","v":97854.400000000009},null,{"$f":"R46/2","v":48927.200000000004},null,{"$f":"C46*$V$10","v":99052.800000000003},null,{"$f":"V46/2","v":49526.400000000001}]
[null,"33(29)",590000,null,19670,null,575000,"～",605000,{"$f":"C47*$J$10","v":59059},null,{"$f":"J47/2","v":29529.5},null,{"$f":"C47*$N$10","v":69206.999999999985},null,{"$f":"N47/2","v":34603.499999999993},null,{"$f":"C47*$R$10","v":103096.6},null,{"$f":"R47/2","v":51548.3},null,{"$f":"C47*$V$10","v":104359.20000000001},null,{"$f":"V47/2","v":52179.600000000006}]
[null,"34(30)",620000,null,20670,null,605000,"～",635000,{"$f":"C48*$J$10","v":62062},null,{"$f":"J48/2","v":31031},null,{"$f":"C48*$N$10","v":72725.999999999985},null,{"$f":"N48/2","v":36362.999999999993},null,{"$f":"C48*$R$10","v":108338.8},null,{"$f":"R48/2","v":54169.4},null,{"$f":"C48*$V$10","v":109665.60000000001},null,{"$f":"V48/2","v":54832.800000000003}]
[null,35,650000,null,21670,null,635000,"～",665000,{"$f":"C49*$J$10","v":65065},null,{"$f":"J49/2","v":32532.5},null,{"$f":"C49*$N$10","v":76244.999999999985},null,{"$f":"N49/2","v":38122.499999999993},null,"※厚生年金基金に加入している方の厚生年金保険\n　料率は、基金ごとに定められている免除保険料\n　率(2.4%～5.0%)を控除した率となります。\n\n　●一般の被保険者の方　…12.474%～15.074%\n　●坑内員の被保険者の方…12.688%～15.288%\n\n　加入する基金ごとに異なりますので、免除保険\n　料率および厚生年金基金の掛金については、加\n　入する厚生年金基金にお問い合わせください。\n"]
[null,36,680000,null,22670,null,665000,"～",695000,{"$f":"C50*$J$10","v":68068},null,{"$f":"J50/2","v":34034},null,{"$f":"C50*$N$10","v":79763.999999999985},null,{"$f":"N50/2","v":39881.999999999993}]
[null,37,710000,null,23670,null,695000,"～",730000,{"$f":"C51*$J$10","v":71071},null,{"$f":"J51/2","v":35535.5},null,{"$f":"C51*$N$10","v":83282.999999999985},null,{"$f":"N51/2","v":41641.499999999993}]
[null,38,750000,null,25000,null,730000,"～",770000,{"$f":"C52*$J$10","v":75075},null,{"$f":"J52/2","v":37537.5},null,{"$f":"C52*$N$10","v":87974.999999999985},null,{"$f":"N52/2","v":43987.499999999993}]
[null,39,790000,null,26330,null,770000,"～",810000,{"$f":"C53*$J$10","v":79079},null,{"$f":"J53/2","v":39539.5},null,{"$f":"C53*$N$10","v":92666.999999999985},null,{"$f":"N53/2","v":46333.499999999993}]
[null,40,830000,null,27670,null,810000,"～",855000,{"$f":"C54*$J$10","v":83083},null,{"$f":"J54/2","v":41541.5},null,{"$f":"C54*$N$10","v":97358.999999999985},null,{"$f":"N54/2","v":48679.499999999993}]
[null,41,880000,null,29330,null,855000,"～",905000,{"$f":"C55*$J$10","v":88088},null,{"$f":"J55/2","v":44044},null,{"$f":"C55*$N$10","v":103223.99999999999},null,{"$f":"N55/2","v":51611.999999999993}]
[null,42,930000,null,31000,null,905000,"～",955000,{"$f":"C56*$J$10","v":93093},null,{"$f":"J56/2","v":46546.5},null,{"$f":"C56*$N$10","v":109088.99999999999},null,{"$f":"N56/2","v":54544.499999999993}]
[null,43,980000,null,32670,null,955000,"～",1005000,{"$f":"C57*$J$10","v":98098},null,{"$f":"J57/2","v":49049},null,{"$f":"C57*$N$10","v":114953.99999999999},null,{"$f":"N57/2","v":57476.999999999993}]
[null,44,1030000,null,34330,null,1005000,"～",1055000,{"$f":"C58*$J$10","v":103103},null,{"$f":"J58/2","v":51551.5},null,{"$f":"C58*$N$10","v":120818.99999999999},null,{"$f":"N58/2","v":60409.499999999993}]
[null,45,1090000,null,36330,null,1055000,"～",1115000,{"$f":"C59*$J$10","v":109109},null,{"$f":"J59/2","v":54554.5},null,{"$f":"C59*$N$10","v":127856.99999999999},null,{"$f":"N59/2","v":63928.499999999993}]
[null,46,1150000,null,38330,null,1115000,"～",1175000,{"$f":"C60*$J$10","v":115115},null,{"$f":"J60/2","v":57557.5},null,{"$f":"C60*$N$10","v":134895},null,{"$f":"N60/2","v":67447.5}]
[null,47,1210000,null,40330,null,1175000,"～",null,{"$f":"C61*$J$10","v":121121},null,{"$f":"J61/2","v":60560.5},null,{"$f":"C61*$N$10","v":141932.99999999997},null,{"$f":"N61/2","v":70966.499999999985}]
[]
[{"$f":"J10","v":0.10009999999999999}]
[null,""]
["◆等級欄の（　）内の数字は、厚生年金保険の標準報酬月額等級です。"]
["　5(1)等級の「報酬月額」欄は、厚生年金保険の場合「101,000円未満」と読み替えてください。"]
["　34(30)等級の「報酬月額」欄は、厚生年金保険の場合「605,000円以上」と読み替えてください。"]
[null,""]
["◆平成26年度における全国健康保険協会の任意継続被保険者について、標準報酬月額の上限は、280,000円です。"]
[]
[]
["　○被保険者負担分（表の折半額の欄）に円未満の端数がある場合"]
["　　　①事業主が、給与から被保険者負担分を控除する場合、被保険者負担分の端数が50銭以下の場合は切り捨て、50銭を超える場合は切り上げて1円となります。"]
["　　　②被保険者が、被保険者負担分を事業主へ現金で支払う場合、被保険者負担分の端数が50銭未満の場合は切り捨て、50銭以上の場合は切り上げて1円となります。"]
["　　　（注）①、②にかかわらず、事業主と被保険者の間で特約がある場合には、特約に基づき端数処理をすることができます。"]
[]
["　○納入告知書の保険料額"]
["　　　 納入告知書の保険料額は、被保険者個々の保険料額を合算した金額になります。ただし、合算した金額に円未満の端数がある場合は、その端数を切り捨てた額となります。"]
[]
["　○賞与に係る保険料"]
["　　　 賞与に係る保険料額は、賞与額から1,000円未満の端数を切り捨てた額（標準賞与額）に、保険料率を乗じた額となります。"]
[" 　　　また、標準賞与額の上限は、健康保険は年間540万円（毎年4月1日から翌年3月31日までの累計額）となり、厚生年金保険と児童手当拠出金の場合は月間150万円となります。"]
[]
["　○児童手当拠出金"]
["　　　 厚生年金保険の被保険者を使用する事業主の方は、児童手当等の支給に要する費用の一部として児童手当拠出金を全額負担いただくことになります。この児童手当"]
["　　　 拠出金の額は、被保険者個々の厚生年金保険の標準報酬月額および標準賞与額に、拠出金率（0.15%）を乗じて得た額の総額となります。"]

{"sheet":"秋田","index":14,"n_rows":86,"n_cols":24,"rows_kept":86,"cut":false,"hidden":true,"merged":[[74,0,74,24],[75,0,75,16],[85,0,85,24],[86,0,86,16],[77,0,77,23],[79,0,79,16],[80,0,80,21],[81,0,81,24],[83,0,83,21],[84,0,84,24],[76,0,76,23],[48,17,60,24],[62,0,62,25],[64,0,64,24],[65,0,65,24],[66,0,66,24],[68,0,68,24],[71,0,71,16],[72,0,72,24],[73,0,73,24],[6,21,8,24],[9,9,10,12],[9,13,10,16],[9,17,10,20],[9,21,10,24],[11,13,12,14],[11,15,12,16],[11,17,12,18],[11,19,12,20],[11,21,12,22],[11,1,12,1],[11,2,12,3],[11,4,12,5],[11,9,12,10],[11,11,12,12],[11,23,12,24],[0,1,1,24],[2,1,3,23],[4,1,4,16],[5,1,10,5],[5,6,12,8],[5,9,5,16],[5,17,5,24],[6,9,8,12],[6,13,8,16],[6,17,8,20]]}
[null,"平成26年9月分(10月納付分)からの健康保険・厚生年金保険の保険料額表"]
[]
[null,"     ‣健康保険料率：平成24年3月分～　適用　　‣厚生年金保険料率：平成26年9月分～平成27年8月分　適用\n     ‣介護保険料率：平成26年3月分～　適用　　‣児童手当拠出金率：平成24年4月分～　適用\n"]
[]
[null,"（秋田県）",null,null,null,null,null,null,null,null,null,null,null,null,null,null,null,null,null,null,null,null,null,"（単位：円）"]
[null,"標　準　報　酬",null,null,null,null,"報　酬　月　額",null,null,"全国健康保険協会管掌健康保険料",null,null,null,null,null,null,null,"厚生年金保険料（厚生年金基金加入員を除く）"]
[null,null,null,null,null,null,null,null,null,"介護保険第２号被保険者\nに該当しない場合",null,null,null,"介護保険第２号被保険者\nに該当する場合",null,null,null,"一般の被保険者",null,null,null,"坑内員・船員"]
[]
[]
[null,null,null,null,null,null,null,null,null,0.1002,null,null,null,{"$f":"J10+0.0172","v":0.1174},null,null,null,0.17474000000000001,null,null,null,0.17688000000000001]
[]
[null,"等級","月　額",null,"日　額",null,null,null,null,"全　額",null,"折半額",null,"全　額",null,"折半額",null,"全　額",null,"折半額",null,"全　額",null,"折半額"]
[]
[null,null,null,null,null,null,"円以上",null,"円未満"]
[null,1,58000,null,1930,null,null,"～",63000,{"$f":"C15*$J$10","v":5811.5999999999995},null,{"$f":"J15/2","v":2905.7999999999997},null,{"$f":"C15*$N$10","v":6809.2},null,{"$f":"N15/2","v":3404.6}]
[null,2,68000,null,2270,null,63000,"～",73000,{"$f":"C16*$J$10","v":6813.5999999999995},null,{"$f":"J16/2","v":3406.7999999999997},null,{"$f":"C16*$N$10","v":7983.2000000000007},null,{"$f":"N16/2","v":3991.6000000000004}]
[null,3,78000,null,2600,null,73000,"～",83000,{"$f":"C17*$J$10","v":7815.5999999999995},null,{"$f":"J17/2","v":3907.7999999999997},null,{"$f":"C17*$N$10","v":9157.2000000000007},null,{"$f":"N17/2","v":4578.6000000000004}]
[null,4,88000,null,2930,null,83000,"～",93000,{"$f":"C18*$J$10","v":8817.6},null,{"$f":"J18/2","v":4408.8},null,{"$f":"C18*$N$10","v":10331.200000000001},null,{"$f":"N18/2","v":5165.6000000000004}]
[null,"5(1)",98000,null,3270,null,93000,"～",101000,{"$f":"C19*$J$10","v":9819.6},null,{"$f":"J19/2","v":4909.8},null,{"$f":"C19*$N$10","v":11505.2},null,{"$f":"N19/2","v":5752.6},null,{"$f":"C19*$R$10","v":17124.52},null,{"$f":"R19/2","v":8562.26},null,{"$f":"C19*$V$10","v":17334.240000000002},null,{"$f":"V19/2","v":8667.1200000000008}]
[null,"6(2)",104000,null,3470,null,101000,"～",107000,{"$f":"C20*$J$10","v":10420.799999999999},null,{"$f":"J20/2","v":5210.3999999999996},null,{"$f":"C20*$N$10","v":12209.6},null,{"$f":"N20/2","v":6104.8},null,{"$f":"C20*$R$10","v":18172.96},null,{"$f":"R20/2","v":9086.48},null,{"$f":"C20*$V$10","v":18395.52},null,{"$f":"V20/2","v":9197.76}]
[null,"7(3)",110000,null,3670,null,107000,"～",114000,{"$f":"C21*$J$10","v":11022},null,{"$f":"J21/2","v":5511},null,{"$f":"C21*$N$10","v":12914},null,{"$f":"N21/2","v":6457},null,{"$f":"C21*$R$10","v":19221.400000000001},null,{"$f":"R21/2","v":9610.7000000000007},null,{"$f":"C21*$V$10","v":19456.8},null,{"$f":"V21/2","v":9728.4}]
[null,"8(4)",118000,null,3930,null,114000,"～",122000,{"$f":"C22*$J$10","v":11823.6},null,{"$f":"J22/2","v":5911.8},null,{"$f":"C22*$N$10","v":13853.2},null,{"$f":"N22/2","v":6926.6},null,{"$f":"C22*$R$10","v":20619.32},null,{"$f":"R22/2","v":10309.66},null,{"$f":"C22*$V$10","v":20871.84},null,{"$f":"V22/2","v":10435.92}]
[null,"9(5)",126000,null,4200,null,122000,"～",130000,{"$f":"C23*$J$10","v":12625.199999999999},null,{"$f":"J23/2","v":6312.5999999999995},null,{"$f":"C23*$N$10","v":14792.400000000001},null,{"$f":"N23/2","v":7396.2000000000007},null,{"$f":"C23*$R$10","v":22017.24},null,{"$f":"R23/2","v":11008.62},null,{"$f":"C23*$V$10","v":22286.880000000001},null,{"$f":"V23/2","v":11143.44}]
[null,"10(6)",134000,null,4470,null,130000,"～",138000,{"$f":"C24*$J$10","v":13426.8},null,{"$f":"J24/2","v":6713.4},null,{"$f":"C24*$N$10","v":15731.6},null,{"$f":"N24/2","v":7865.8},null,{"$f":"C24*$R$10","v":23415.16},null,{"$f":"R24/2","v":11707.58},null,{"$f":"C24*$V$10","v":23701.920000000002},null,{"$f":"V24/2","v":11850.960000000001}]
[null,"11(7)",142000,null,4730,null,138000,"～",146000,{"$f":"C25*$J$10","v":14228.4},null,{"$f":"J25/2","v":7114.2},null,{"$f":"C25*$N$10","v":16670.8},null,{"$f":"N25/2","v":8335.4},null,{"$f":"C25*$R$10","v":24813.08},null,{"$f":"R25/2","v":12406.54},null,{"$f":"C25*$V$10","v":25116.960000000003},null,{"$f":"V25/2","v":12558.480000000001}]
[null,"12(8)",150000,null,5000,null,146000,"～",155000,{"$f":"C26*$J$10","v":15030},null,{"$f":"J26/2","v":7515},null,{"$f":"C26*$N$10","v":17610},null,{"$f":"N26/2","v":8805},null,{"$f":"C26*$R$10","v":26211},null,{"$f":"R26/2","v":13105.5},null,{"$f":"C26*$V$10","v":26532},null,{"$f":"V26/2","v":13266}]
[null,"13(9)",160000,null,5330,null,155000,"～",165000,{"$f":"C27*$J$10","v":16032},null,{"$f":"J27/2","v":8016},null,{"$f":"C27*$N$10","v":18784},null,{"$f":"N27/2","v":9392},null,{"$f":"C27*$R$10","v":27958.400000000001},null,{"$f":"R27/2","v":13979.2},null,{"$f":"C27*$V$10","v":28300.800000000003},null,{"$f":"V27/2","v":14150.400000000001}]
[null,"14(10)",170000,null,5670,null,165000,"～",175000,{"$f":"C28*$J$10","v":17034},null,{"$f":"J28/2","v":8517},null,{"$f":"C28*$N$10","v":19958},null,{"$f":"N28/2","v":9979},null,{"$f":"C28*$R$10","v":29705.800000000003},null,{"$f":"R28/2","v":14852.900000000001},null,{"$f":"C28*$V$10","v":30069.600000000002},null,{"$f":"V28/2","v":15034.800000000001}]
[null,"15(11)",180000,null,6000,null,175000,"～",185000,{"$f":"C29*$J$10","v":18036},null,{"$f":"J29/2","v":9018},null,{"$f":"C29*$N$10","v":21132},null,{"$f":"N29/2","v":10566},null,{"$f":"C29*$R$10","v":31453.200000000001},null,{"$f":"R29/2","v":15726.6},null,{"$f":"C29*$V$10","v":31838.400000000001},null,{"$f":"V29/2","v":15919.2}]
[null,"16(12)",190000,null,6330,null,185000,"～",195000,{"$f":"C30*$J$10","v":19038},null,{"$f":"J30/2","v":9519},null,{"$f":"C30*$N$10","v":22306},null,{"$f":"N30/2","v":11153},null,{"$f":"C30*$R$10","v":33200.6},null,{"$f":"R30/2","v":16600.3},null,{"$f":"C30*$V$10","v":33607.200000000004},null,{"$f":"V30/2","v":16803.600000000002}]
[null,"17(13)",200000,null,6670,null,195000,"～",210000,{"$f":"C31*$J$10","v":20040},null,{"$f":"J31/2","v":10020},null,{"$f":"C31*$N$10","v":23480},null,{"$f":"N31/2","v":11740},null,{"$f":"C31*$R$10","v":34948},null,{"$f":"R31/2","v":17474},null,{"$f":"C31*$V$10","v":35376},null,{"$f":"V31/2","v":17688}]
[null,"18(14)",220000,null,7330,null,210000,"～",230000,{"$f":"C32*$J$10","v":22044},null,{"$f":"J32/2","v":11022},null,{"$f":"C32*$N$10","v":25828},null,{"$f":"N32/2","v":12914},null,{"$f":"C32*$R$10","v":38442.800000000003},null,{"$f":"R32/2","v":19221.400000000001},null,{"$f":"C32*$V$10","v":38913.599999999999},null,{"$f":"V32/2","v":19456.8}]
[null,"19(15)",240000,null,8000,null,230000,"～",250000,{"$f":"C33*$J$10","v":24048},null,{"$f":"J33/2","v":12024},null,{"$f":"C33*$N$10","v":28176},null,{"$f":"N33/2","v":14088},null,{"$f":"C33*$R$10","v":41937.599999999999},null,{"$f":"R33/2","v":20968.8},null,{"$f":"C33*$V$10","v":42451.200000000004},null,{"$f":"V33/2","v":21225.600000000002}]
[null,"20(16)",260000,null,8670,null,250000,"～",270000,{"$f":"C34*$J$10","v":26052},null,{"$f":"J34/2","v":13026},null,{"$f":"C34*$N$10","v":30524},null,{"$f":"N34/2","v":15262},null,{"$f":"C34*$R$10","v":45432.4},null,{"$f":"R34/2","v":22716.2},null,{"$f":"C34*$V$10","v":45988.800000000003},null,{"$f":"V34/2","v":22994.400000000001}]
[null,"21(17)",280000,null,9330,null,270000,"～",290000,{"$f":"C35*$J$10","v":28056},null,{"$f":"J35/2","v":14028},null,{"$f":"C35*$N$10","v":32872},null,{"$f":"N35/2","v":16436},null,{"$f":"C35*$R$10","v":48927.200000000004},null,{"$f":"R35/2","v":24463.600000000002},null,{"$f":"C35*$V$10","v":49526.400000000001},null,{"$f":"V35/2","v":24763.200000000001}]
[null,"22(18)",300000,null,10000,null,290000,"～",310000,{"$f":"C36*$J$10","v":30060},null,{"$f":"J36/2","v":15030},null,{"$f":"C36*$N$10","v":35220},null,{"$f":"N36/2","v":17610},null,{"$f":"C36*$R$10","v":52422},null,{"$f":"R36/2","v":26211},null,{"$f":"C36*$V$10","v":53064},null,{"$f":"V36/2","v":26532}]
[null,"23(19)",320000,null,10670,null,310000,"～",330000,{"$f":"C37*$J$10","v":32064},null,{"$f":"J37/2","v":16032},null,{"$f":"C37*$N$10","v":37568},null,{"$f":"N37/2","v":18784},null,{"$f":"C37*$R$10","v":55916.800000000003},null,{"$f":"R37/2","v":27958.400000000001},null,{"$f":"C37*$V$10","v":56601.600000000006},null,{"$f":"V37/2","v":28300.800000000003}]
[null,"24(20)",340000,null,11330,null,330000,"～",350000,{"$f":"C38*$J$10","v":34068},null,{"$f":"J38/2","v":17034},null,{"$f":"C38*$N$10","v":39916},null,{"$f":"N38/2","v":19958},null,{"$f":"C38*$R$10","v":59411.600000000006},null,{"$f":"R38/2","v":29705.800000000003},null,{"$f":"C38*$V$10","v":60139.200000000004},null,{"$f":"V38/2","v":30069.600000000002}]
[null,"25(21)",360000,null,12000,null,350000,"～",370000,{"$f":"C39*$J$10","v":36072},null,{"$f":"J39/2","v":18036},null,{"$f":"C39*$N$10","v":42264},null,{"$f":"N39/2","v":21132},null,{"$f":"C39*$R$10","v":62906.400000000001},null,{"$f":"R39/2","v":31453.200000000001},null,{"$f":"C39*$V$10","v":63676.800000000003},null,{"$f":"V39/2","v":31838.400000000001}]
[null,"26(22)",380000,null,12670,null,370000,"～",395000,{"$f":"C40*$J$10","v":38076},null,{"$f":"J40/2","v":19038},null,{"$f":"C40*$N$10","v":44612},null,{"$f":"N40/2","v":22306},null,{"$f":"C40*$R$10","v":66401.2},null,{"$f":"R40/2","v":33200.6},null,{"$f":"C40*$V$10","v":67214.400000000009},null,{"$f":"V40/2","v":33607.200000000004}]
[null,"27(23)",410000,null,13670,null,395000,"～",425000,{"$f":"C41*$J$10","v":41082},null,{"$f":"J41/2","v":20541},null,{"$f":"C41*$N$10","v":48134},null,{"$f":"N41/2","v":24067},null,{"$f":"C41*$R$10","v":71643.400000000009},null,{"$f":"R41/2","v":35821.700000000004},null,{"$f":"C41*$V$10","v":72520.800000000003},null,{"$f":"V41/2","v":36260.400000000001}]
[null,"28(24)",440000,null,14670,null,425000,"～",455000,{"$f":"C42*$J$10","v":44088},null,{"$f":"J42/2","v":22044},null,{"$f":"C42*$N$10","v":51656},null,{"$f":"N42/2","v":25828},null,{"$f":"C42*$R$10","v":76885.600000000006},null,{"$f":"R42/2","v":38442.800000000003},null,{"$f":"C42*$V$10","v":77827.199999999997},null,{"$f":"V42/2","v":38913.599999999999}]
[null,"29(25)",470000,null,15670,null,455000,"～",485000,{"$f":"C43*$J$10","v":47094},null,{"$f":"J43/2","v":23547},null,{"$f":"C43*$N$10","v":55178},null,{"$f":"N43/2","v":27589},null,{"$f":"C43*$R$10","v":82127.8},null,{"$f":"R43/2","v":41063.9},null,{"$f":"C43*$V$10","v":83133.600000000006},null,{"$f":"V43/2","v":41566.800000000003}]
[null,"30(26)",500000,null,16670,null,485000,"～",515000,{"$f":"C44*$J$10","v":50100},null,{"$f":"J44/2","v":25050},null,{"$f":"C44*$N$10","v":58700},null,{"$f":"N44/2","v":29350},null,{"$f":"C44*$R$10","v":87370},null,{"$f":"R44/2","v":43685},null,{"$f":"C44*$V$10","v":88440},null,{"$f":"V44/2","v":44220}]
[null,"31(27)",530000,null,17670,null,515000,"～",545000,{"$f":"C45*$J$10","v":53106},null,{"$f":"J45/2","v":26553},null,{"$f":"C45*$N$10","v":62222},null,{"$f":"N45/2","v":31111},null,{"$f":"C45*$R$10","v":92612.2},null,{"$f":"R45/2","v":46306.1},null,{"$f":"C45*$V$10","v":93746.400000000009},null,{"$f":"V45/2","v":46873.200000000004}]
[null,"32(28)",560000,null,18670,null,545000,"～",575000,{"$f":"C46*$J$10","v":56112},null,{"$f":"J46/2","v":28056},null,{"$f":"C46*$N$10","v":65744},null,{"$f":"N46/2","v":32872},null,{"$f":"C46*$R$10","v":97854.400000000009},null,{"$f":"R46/2","v":48927.200000000004},null,{"$f":"C46*$V$10","v":99052.800000000003},null,{"$f":"V46/2","v":49526.400000000001}]
[null,"33(29)",590000,null,19670,null,575000,"～",605000,{"$f":"C47*$J$10","v":59118},null,{"$f":"J47/2","v":29559},null,{"$f":"C47*$N$10","v":69266},null,{"$f":"N47/2","v":34633},null,{"$f":"C47*$R$10","v":103096.6},null,{"$f":"R47/2","v":51548.3},null,{"$f":"C47*$V$10","v":104359.20000000001},null,{"$f":"V47/2","v":52179.600000000006}]
[null,"34(30)",620000,null,20670,null,605000,"～",635000,{"$f":"C48*$J$10","v":62124},null,{"$f":"J48/2","v":31062},null,{"$f":"C48*$N$10","v":72788},null,{"$f":"N48/2","v":36394},null,{"$f":"C48*$R$10","v":108338.8},null,{"$f":"R48/2","v":54169.4},null,{"$f":"C48*$V$10","v":109665.60000000001},null,{"$f":"V48/2","v":54832.800000000003}]
[null,35,650000,null,21670,null,635000,"～",665000,{"$f":"C49*$J$10","v":65130},null,{"$f":"J49/2","v":32565},null,{"$f":"C49*$N$10","v":76310},null,{"$f":"N49/2","v":38155},null,"※厚生年金基金に加入している方の厚生年金保険\n　料率は、基金ごとに定められている免除保険料\n　率(2.4%～5.0%)を控除した率となります。\n\n　●一般の被保険者の方　…12.474%～15.074%\n　●坑内員の被保険者の方…12.688%～15.288%\n\n　加入する基金ごとに異なりますので、免除保険\n　料率および厚生年金基金の掛金については、加\n　入する厚生年金基金にお問い合わせください。\n"]
[null,36,680000,null,22670,null,665000,"～",695000,{"$f":"C50*$J$10","v":68136},null,{"$f":"J50/2","v":34068},null,{"$f":"C50*$N$10","v":79832},null,{"$f":"N50/2","v":39916}]
[null,37,710000,null,23670,null,695000,"～",730000,{"$f":"C51*$J$10","v":71142},null,{"$f":"J51/2","v":35571},null,{"$f":"C51*$N$10","v":83354},null,{"$f":"N51/2","v":41677}]
[null,38,750000,null,25000,null,730000,"～",770000,{"$f":"C52*$J$10","v":75150},null,{"$f":"J52/2","v":37575},null,{"$f":"C52*$N$10","v":88050},null,{"$f":"N52/2","v":44025}]
[null,39,790000,null,26330,null,770000,"～",810000,{"$f":"C53*$J$10","v":79158},null,{"$f":"J53/2","v":39579},null,{"$f":"C53*$N$10","v":92746},null,{"$f":"N53/2","v":46373}]
[null,40,830000,null,27670,null,810000,"～",855000,{"$f":"C54*$J$10","v":83166},null,{"$f":"J54/2","v":41583},null,{"$f":"C54*$N$10","v":97442},null,{"$f":"N54/2","v":48721}]
[null,41,880000,null,29330,null,855000,"～",905000,{"$f":"C55*$J$10","v":88176},null,{"$f":"J55/2","v":44088},null,{"$f":"C55*$N$10","v":103312},null,{"$f":"N55/2","v":51656}]
[null,42,930000,null,31000,null,905000,"～",955000,{"$f":"C56*$J$10","v":93186},null,{"$f":"J56/2","v":46593},null,{"$f":"C56*$N$10","v":109182},null,{"$f":"N56/2","v":54591}]
[null,43,980000,null,32670,null,955000,"～",1005000,{"$f":"C57*$J$10","v":98196},null,{"$f":"J57/2","v":49098},null,{"$f":"C57*$N$10","v":115052},null,{"$f":"N57/2","v":57526}]
[null,44,1030000,null,34330,null,1005000,"～",1055000,{"$f":"C58*$J$10","v":103206},null,{"$f":"J58/2","v":51603},null,{"$f":"C58*$N$10","v":120922},null,{"$f":"N58/2","v":60461}]
[null,45,1090000,null,36330,null,1055000,"～",1115000,{"$f":"C59*$J$10","v":109218},null,{"$f":"J59/2","v":54609},null,{"$f":"C59*$N$10","v":127966},null,{"$f":"N59/2","v":63983}]
[null,46,1150000,null,38330,null,1115000,"～",1175000,{"$f":"C60*$J$10","v":115230},null,{"$f":"J60/2","v":57615},null,{"$f":"C60*$N$10","v":135010},null,{"$f":"N60/2","v":67505}]
[null,47,1210000,null,40330,null,1175000,"～",null,{"$f":"C61*$J$10","v":121242},null,{"$f":"J61/2","v":60621},null,{"$f":"C61*$N$10","v":142054},null,{"$f":"N61/2","v":71027}]
[]
[{"$f":"J10","v":0.1002}]
[null,""]
["◆等級欄の（　）内の数字は、厚生年金保険の標準報酬月額等級です。"]
["　5(1)等級の「報酬月額」欄は、厚生年金保険の場合「101,000円未満」と読み替えてください。"]
["　34(30)等級の「報酬月額」欄は、厚生年金保険の場合「605,000円以上」と読み替えてください。"]
[null,""]
["◆平成26年度における全国健康保険協会の任意継続被保険者について、標準報酬月額の上限は、280,000円です。"]
[]
[]
["　○被保険者負担分（表の折半額の欄）に円未満の端数がある場合"]
["　　　①事業主が、給与から被保険者負担分を控除する場合、被保険者負担分の端数が50銭以下の場合は切り捨て、50銭を超える場合は切り上げて1円となります。"]
["　　　②被保険者が、被保険者負担分を事業主へ現金で支払う場合、被保険者負担分の端数が50銭未満の場合は切り捨て、50銭以上の場合は切り上げて1円となります。"]
["　　　（注）①、②にかかわらず、事業主と被保険者の間で特約がある場合には、特約に基づき端数処理をすることができます。"]
[]
["　○納入告知書の保険料額"]
["　　　 納入告知書の保険料額は、被保険者個々の保険料額を合算した金額になります。ただし、合算した金額に円未満の端数がある場合は、その端数を切り捨てた額となります。"]
[]
["　○賞与に係る保険料"]
["　　　 賞与に係る保険料額は、賞与額から1,000円未満の端数を切り捨てた額（標準賞与額）に、保険料率を乗じた額となります。"]
[" 　　　また、標準賞与額の上限は、健康保険は年間540万円（毎年4月1日から翌年3月31日までの累計額）となり、厚生年金保険と児童手当拠出金の場合は月間150万円となります。"]
[]
["　○児童手当拠出金"]
["　　　 厚生年金保険の被保険者を使用する事業主の方は、児童手当等の支給に要する費用の一部として児童手当拠出金を全額負担いただくことになります。この児童手当"]
["　　　 拠出金の額は、被保険者個々の厚生年金保険の標準報酬月額および標準賞与額に、拠出金率（0.15%）を乗じて得た額の総額となります。"]

{"sheet":"山形","index":15,"n_rows":86,"n_cols":24,"rows_kept":86,"cut":false,"hidden":true,"merged":[[74,0,74,24],[75,0,75,16],[85,0,85,24],[86,0,86,16],[77,0,77,23],[79,0,79,16],[80,0,80,21],[81,0,81,24],[83,0,83,21],[84,0,84,24],[76,0,76,23],[48,17,60,24],[62,0,62,25],[64,0,64,24],[65,0,65,24],[66,0,66,24],[68,0,68,24],[71,0,71,16],[72,0,72,24],[73,0,73,24],[6,21,8,24],[9,9,10,12],[9,13,10,16],[9,17,10,20],[9,21,10,24],[11,13,12,14],[11,15,12,16],[11,17,12,18],[11,19,12,20],[11,21,12,22],[11,1,12,1],[11,2,12,3],[11,4,12,5],[11,9,12,10],[11,11,12,12],[11,23,12,24],[0,1,1,24],[2,1,3,23],[4,1,4,16],[5,1,10,5],[5,6,12,8],[5,9,5,16],[5,17,5,24],[6,9,8,12],[6,13,8,16],[6,17,8,20]]}
[null,"平成26年9月分(10月納付分)からの健康保険・厚生年金保険の保険料額表"]
[]
[null,"     ‣健康保険料率：平成24年3月分～　適用　　‣厚生年金保険料率：平成26年9月分～平成27年8月分　適用\n     ‣介護保険料率：平成26年3月分～　適用　　‣児童手当拠出金率：平成24年4月分～　適用\n"]
[]
[null,"（山形県）",null,null,null,null,null,null,null,null,null,null,null,null,null,null,null,null,null,null,null,null,null,"（単位：円）"]
[null,"標　準　報　酬",null,null,null,null,"報　酬　月　額",null,null,"全国健康保険協会管掌健康保険料",null,null,null,null,null,null,null,"厚生年金保険料（厚生年金基金加入員を除く）"]
[null,null,null,null,null,null,null,null,null,"介護保険第２号被保険者\nに該当しない場合",null,null,null,"介護保険第２号被保険者\nに該当する場合",null,null,null,"一般の被保険者",null,null,null,"坑内員・船員"]
[]
[]
[null,null,null,null,null,null,null,null,null,9.9599999999999994E-2,null,null,null,{"$f":"J10+0.0172","v":0.11679999999999999},null,null,null,0.17474000000000001,null,null,null,0.17688000000000001]
[]
[null,"等級","月　額",null,"日　額",null,null,null,null,"全　額",null,"折半額",null,"全　額",null,"折半額",null,"全　額",null,"折半額",null,"全　額",null,"折半額"]
[]
[null,null,null,null,null,null,"円以上",null,"円未満"]
[null,1,58000,null,1930,null,null,"～",63000,{"$f":"C15*$J$10","v":5776.7999999999993},null,{"$f":"J15/2","v":2888.3999999999996},null,{"$f":"C15*$N$10","v":6774.4},null,{"$f":"N15/2","v":3387.2}]
[null,2,68000,null,2270,null,63000,"～",73000,{"$f":"C16*$J$10","v":6772.7999999999993},null,{"$f":"J16/2","v":3386.3999999999996},null,{"$f":"C16*$N$10","v":7942.3999999999987},null,{"$f":"N16/2","v":3971.1999999999994}]
[null,3,78000,null,2600,null,73000,"～",83000,{"$f":"C17*$J$10","v":7768.7999999999993},null,{"$f":"J17/2","v":3884.3999999999996},null,{"$f":"C17*$N$10","v":9110.4},null,{"$f":"N17/2","v":4555.2}]
[null,4,88000,null,2930,null,83000,"～",93000,{"$f":"C18*$J$10","v":8764.7999999999993},null,{"$f":"J18/2","v":4382.3999999999996},null,{"$f":"C18*$N$10","v":10278.4},null,{"$f":"N18/2","v":5139.2}]
[null,"5(1)",98000,null,3270,null,93000,"～",101000,{"$f":"C19*$J$10","v":9760.7999999999993},null,{"$f":"J19/2","v":4880.3999999999996},null,{"$f":"C19*$N$10","v":11446.4},null,{"$f":"N19/2","v":5723.2},null,{"$f":"C19*$R$10","v":17124.52},null,{"$f":"R19/2","v":8562.26},null,{"$f":"C19*$V$10","v":17334.240000000002},null,{"$f":"V19/2","v":8667.1200000000008}]
[null,"6(2)",104000,null,3470,null,101000,"～",107000,{"$f":"C20*$J$10","v":10358.4},null,{"$f":"J20/2","v":5179.2},null,{"$f":"C20*$N$10","v":12147.199999999999},null,{"$f":"N20/2","v":6073.5999999999995},null,{"$f":"C20*$R$10","v":18172.96},null,{"$f":"R20/2","v":9086.48},null,{"$f":"C20*$V$10","v":18395.52},null,{"$f":"V20/2","v":9197.76}]
[null,"7(3)",110000,null,3670,null,107000,"～",114000,{"$f":"C21*$J$10","v":10956},null,{"$f":"J21/2","v":5478},null,{"$f":"C21*$N$10","v":12847.999999999998},null,{"$f":"N21/2","v":6423.9999999999991},null,{"$f":"C21*$R$10","v":19221.400000000001},null,{"$f":"R21/2","v":9610.7000000000007},null,{"$f":"C21*$V$10","v":19456.8},null,{"$f":"V21/2","v":9728.4}]
[null,"8(4)",118000,null,3930,null,114000,"～",122000,{"$f":"C22*$J$10","v":11752.8},null,{"$f":"J22/2","v":5876.4},null,{"$f":"C22*$N$10","v":13782.399999999998},null,{"$f":"N22/2","v":6891.1999999999989},null,{"$f":"C22*$R$10","v":20619.32},null,{"$f":"R22/2","v":10309.66},null,{"$f":"C22*$V$10","v":20871.84},null,{"$f":"V22/2","v":10435.92}]
[null,"9(5)",126000,null,4200,null,122000,"～",130000,{"$f":"C23*$J$10","v":12549.599999999999},null,{"$f":"J23/2","v":6274.7999999999993},null,{"$f":"C23*$N$10","v":14716.8},null,{"$f":"N23/2","v":7358.4},null,{"$f":"C23*$R$10","v":22017.24},null,{"$f":"R23/2","v":11008.62},null,{"$f":"C23*$V$10","v":22286.880000000001},null,{"$f":"V23/2","v":11143.44}]
[null,"10(6)",134000,null,4470,null,130000,"～",138000,{"$f":"C24*$J$10","v":13346.4},null,{"$f":"J24/2","v":6673.2},null,{"$f":"C24*$N$10","v":15651.199999999999},null,{"$f":"N24/2","v":7825.5999999999995},null,{"$f":"C24*$R$10","v":23415.16},null,{"$f":"R24/2","v":11707.58},null,{"$f":"C24*$V$10","v":23701.920000000002},null,{"$f":"V24/2","v":11850.960000000001}]
[null,"11(7)",142000,null,4730,null,138000,"～",146000,{"$f":"C25*$J$10","v":14143.199999999999},null,{"$f":"J25/2","v":7071.5999999999995},null,{"$f":"C25*$N$10","v":16585.599999999999},null,{"$f":"N25/2","v":8292.7999999999993},null,{"$f":"C25*$R$10","v":24813.08},null,{"$f":"R25/2","v":12406.54},null,{"$f":"C25*$V$10","v":25116.960000000003},null,{"$f":"V25/2","v":12558.480000000001}]
[null,"12(8)",150000,null,5000,null,146000,"～",155000,{"$f":"C26*$J$10","v":14940},null,{"$f":"J26/2","v":7470},null,{"$f":"C26*$N$10","v":17519.999999999996},null,{"$f":"N26/2","v":8759.9999999999982},null,{"$f":"C26*$R$10","v":26211},null,{"$f":"R26/2","v":13105.5},null,{"$f":"C26*$V$10","v":26532},null,{"$f":"V26/2","v":13266}]
[null,"13(9)",160000,null,5330,null,155000,"～",165000,{"$f":"C27*$J$10","v":15935.999999999998},null,{"$f":"J27/2","v":7967.9999999999991},null,{"$f":"C27*$N$10","v":18687.999999999996},null,{"$f":"N27/2","v":9343.9999999999982},null,{"$f":"C27*$R$10","v":27958.400000000001},null,{"$f":"R27/2","v":13979.2},null,{"$f":"C27*$V$10","v":28300.800000000003},null,{"$f":"V27/2","v":14150.400000000001}]
[null,"14(10)",170000,null,5670,null,165000,"～",175000,{"$f":"C28*$J$10","v":16932},null,{"$f":"J28/2","v":8466},null,{"$f":"C28*$N$10","v":19855.999999999996},null,{"$f":"N28/2","v":9927.9999999999982},null,{"$f":"C28*$R$10","v":29705.800000000003},null,{"$f":"R28/2","v":14852.900000000001},null,{"$f":"C28*$V$10","v":30069.600000000002},null,{"$f":"V28/2","v":15034.800000000001}]
[null,"15(11)",180000,null,6000,null,175000,"～",185000,{"$f":"C29*$J$10","v":17928},null,{"$f":"J29/2","v":8964},null,{"$f":"C29*$N$10","v":21023.999999999996},null,{"$f":"N29/2","v":10511.999999999998},null,{"$f":"C29*$R$10","v":31453.200000000001},null,{"$f":"R29/2","v":15726.6},null,{"$f":"C29*$V$10","v":31838.400000000001},null,{"$f":"V29/2","v":15919.2}]
[null,"16(12)",190000,null,6330,null,185000,"～",195000,{"$f":"C30*$J$10","v":18924},null,{"$f":"J30/2","v":9462},null,{"$f":"C30*$N$10","v":22191.999999999996},null,{"$f":"N30/2","v":11095.999999999998},null,{"$f":"C30*$R$10","v":33200.6},null,{"$f":"R30/2","v":16600.3},null,{"$f":"C30*$V$10","v":33607.200000000004},null,{"$f":"V30/2","v":16803.600000000002}]
[null,"17(13)",200000,null,6670,null,195000,"～",210000,{"$f":"C31*$J$10","v":19920},null,{"$f":"J31/2","v":9960},null,{"$f":"C31*$N$10","v":23359.999999999996},null,{"$f":"N31/2","v":11679.999999999998},null,{"$f":"C31*$R$10","v":34948},null,{"$f":"R31/2","v":17474},null,{"$f":"C31*$V$10","v":35376},null,{"$f":"V31/2","v":17688}]
[null,"18(14)",220000,null,7330,null,210000,"～",230000,{"$f":"C32*$J$10","v":21912},null,{"$f":"J32/2","v":10956},null,{"$f":"C32*$N$10","v":25695.999999999996},null,{"$f":"N32/2","v":12847.999999999998},null,{"$f":"C32*$R$10","v":38442.800000000003},null,{"$f":"R32/2","v":19221.400000000001},null,{"$f":"C32*$V$10","v":38913.599999999999},null,{"$f":"V32/2","v":19456.8}]
[null,"19(15)",240000,null,8000,null,230000,"～",250000,{"$f":"C33*$J$10","v":23904},null,{"$f":"J33/2","v":11952},null,{"$f":"C33*$N$10","v":28031.999999999996},null,{"$f":"N33/2","v":14015.999999999998},null,{"$f":"C33*$R$10","v":41937.599999999999},null,{"$f":"R33/2","v":20968.8},null,{"$f":"C33*$V$10","v":42451.200000000004},null,{"$f":"V33/2","v":21225.600000000002}]
[null,"20(16)",260000,null,8670,null,250000,"～",270000,{"$f":"C34*$J$10","v":25896},null,{"$f":"J34/2","v":12948},null,{"$f":"C34*$N$10","v":30367.999999999996},null,{"$f":"N34/2","v":15183.999999999998},null,{"$f":"C34*$R$10","v":45432.4},null,{"$f":"R34/2","v":22716.2},null,{"$f":"C34*$V$10","v":45988.800000000003},null,{"$f":"V34/2","v":22994.400000000001}]
[null,"21(17)",280000,null,9330,null,270000,"～",290000,{"$f":"C35*$J$10","v":27888},null,{"$f":"J35/2","v":13944},null,{"$f":"C35*$N$10","v":32703.999999999996},null,{"$f":"N35/2","v":16351.999999999998},null,{"$f":"C35*$R$10","v":48927.200000000004},null,{"$f":"R35/2","v":24463.600000000002},null,{"$f":"C35*$V$10","v":49526.400000000001},null,{"$f":"V35/2","v":24763.200000000001}]
[null,"22(18)",300000,null,10000,null,290000,"～",310000,{"$f":"C36*$J$10","v":29880},null,{"$f":"J36/2","v":14940},null,{"$f":"C36*$N$10","v":35039.999999999993},null,{"$f":"N36/2","v":17519.999999999996},null,{"$f":"C36*$R$10","v":52422},null,{"$f":"R36/2","v":26211},null,{"$f":"C36*$V$10","v":53064},null,{"$f":"V36/2","v":26532}]
[null,"23(19)",320000,null,10670,null,310000,"～",330000,{"$f":"C37*$J$10","v":31871.999999999996},null,{"$f":"J37/2","v":15935.999999999998},null,{"$f":"C37*$N$10","v":37375.999999999993},null,{"$f":"N37/2","v":18687.999999999996},null,{"$f":"C37*$R$10","v":55916.800000000003},null,{"$f":"R37/2","v":27958.400000000001},null,{"$f":"C37*$V$10","v":56601.600000000006},null,{"$f":"V37/2","v":28300.800000000003}]
[null,"24(20)",340000,null,11330,null,330000,"～",350000,{"$f":"C38*$J$10","v":33864},null,{"$f":"J38/2","v":16932},null,{"$f":"C38*$N$10","v":39711.999999999993},null,{"$f":"N38/2","v":19855.999999999996},null,{"$f":"C38*$R$10","v":59411.600000000006},null,{"$f":"R38/2","v":29705.800000000003},null,{"$f":"C38*$V$10","v":60139.200000000004},null,{"$f":"V38/2","v":30069.600000000002}]
[null,"25(21)",360000,null,12000,null,350000,"～",370000,{"$f":"C39*$J$10","v":35856},null,{"$f":"J39/2","v":17928},null,{"$f":"C39*$N$10","v":42047.999999999993},null,{"$f":"N39/2","v":21023.999999999996},null,{"$f":"C39*$R$10","v":62906.400000000001},null,{"$f":"R39/2","v":31453.200000000001},null,{"$f":"C39*$V$10","v":63676.800000000003},null,{"$f":"V39/2","v":31838.400000000001}]
[null,"26(22)",380000,null,12670,null,370000,"～",395000,{"$f":"C40*$J$10","v":37848},null,{"$f":"J40/2","v":18924},null,{"$f":"C40*$N$10","v":44383.999999999993},null,{"$f":"N40/2","v":22191.999999999996},null,{"$f":"C40*$R$10","v":66401.2},null,{"$f":"R40/2","v":33200.6},null,{"$f":"C40*$V$10","v":67214.400000000009},null,{"$f":"V40/2","v":33607.200000000004}]
[null,"27(23)",410000,null,13670,null,395000,"～",425000,{"$f":"C41*$J$10","v":40836},null,{"$f":"J41/2","v":20418},null,{"$f":"C41*$N$10","v":47887.999999999993},null,{"$f":"N41/2","v":23943.999999999996},null,{"$f":"C41*$R$10","v":71643.400000000009},null,{"$f":"R41/2","v":35821.700000000004},null,{"$f":"C41*$V$10","v":72520.800000000003},null,{"$f":"V41/2","v":36260.400000000001}]
[null,"28(24)",440000,null,14670,null,425000,"～",455000,{"$f":"C42*$J$10","v":43824},null,{"$f":"J42/2","v":21912},null,{"$f":"C42*$N$10","v":51391.999999999993},null,{"$f":"N42/2","v":25695.999999999996},null,{"$f":"C42*$R$10","v":76885.600000000006},null,{"$f":"R42/2","v":38442.800000000003},null,{"$f":"C42*$V$10","v":77827.199999999997},null,{"$f":"V42/2","v":38913.599999999999}]
[null,"29(25)",470000,null,15670,null,455000,"～",485000,{"$f":"C43*$J$10","v":46812},null,{"$f":"J43/2","v":23406},null,{"$f":"C43*$N$10","v":54895.999999999993},null,{"$f":"N43/2","v":27447.999999999996},null,{"$f":"C43*$R$10","v":82127.8},null,{"$f":"R43/2","v":41063.9},null,{"$f":"C43*$V$10","v":83133.600000000006},null,{"$f":"V43/2","v":41566.800000000003}]
[null,"30(26)",500000,null,16670,null,485000,"～",515000,{"$f":"C44*$J$10","v":49800},null,{"$f":"J44/2","v":24900},null,{"$f":"C44*$N$10","v":58399.999999999993},null,{"$f":"N44/2","v":29199.999999999996},null,{"$f":"C44*$R$10","v":87370},null,{"$f":"R44/2","v":43685},null,{"$f":"C44*$V$10","v":88440},null,{"$f":"V44/2","v":44220}]
[null,"31(27)",530000,null,17670,null,515000,"～",545000,{"$f":"C45*$J$10","v":52788},null,{"$f":"J45/2","v":26394},null,{"$f":"C45*$N$10","v":61903.999999999993},null,{"$f":"N45/2","v":30951.999999999996},null,{"$f":"C45*$R$10","v":92612.2},null,{"$f":"R45/2","v":46306.1},null,{"$f":"C45*$V$10","v":93746.400000000009},null,{"$f":"V45/2","v":46873.200000000004}]
[null,"32(28)",560000,null,18670,null,545000,"～",575000,{"$f":"C46*$J$10","v":55776},null,{"$f":"J46/2","v":27888},null,{"$f":"C46*$N$10","v":65407.999999999993},null,{"$f":"N46/2","v":32703.999999999996},null,{"$f":"C46*$R$10","v":97854.400000000009},null,{"$f":"R46/2","v":48927.200000000004},null,{"$f":"C46*$V$10","v":99052.800000000003},null,{"$f":"V46/2","v":49526.400000000001}]
[null,"33(29)",590000,null,19670,null,575000,"～",605000,{"$f":"C47*$J$10","v":58764},null,{"$f":"J47/2","v":29382},null,{"$f":"C47*$N$10","v":68911.999999999985},null,{"$f":"N47/2","v":34455.999999999993},null,{"$f":"C47*$R$10","v":103096.6},null,{"$f":"R47/2","v":51548.3},null,{"$f":"C47*$V$10","v":104359.20000000001},null,{"$f":"V47/2","v":52179.600000000006}]
[null,"34(30)",620000,null,20670,null,605000,"～",635000,{"$f":"C48*$J$10","v":61751.999999999993},null,{"$f":"J48/2","v":30875.999999999996},null,{"$f":"C48*$N$10","v":72415.999999999985},null,{"$f":"N48/2","v":36207.999999999993},null,{"$f":"C48*$R$10","v":108338.8},null,{"$f":"R48/2","v":54169.4},null,{"$f":"C48*$V$10","v":109665.60000000001},null,{"$f":"V48/2","v":54832.800000000003}]
[null,35,650000,null,21670,null,635000,"～",665000,{"$f":"C49*$J$10","v":64739.999999999993},null,{"$f":"J49/2","v":32369.999999999996},null,{"$f":"C49*$N$10","v":75919.999999999985},null,{"$f":"N49/2","v":37959.999999999993},null,"※厚生年金基金に加入している方の厚生年金保険\n　料率は、基金ごとに定められている免除保険料\n　率(2.4%～5.0%)を控除した率となります。\n\n　●一般の被保険者の方　…12.474%～15.074%\n　●坑内員の被保険者の方…12.688%～15.288%\n\n　加入する基金ごとに異なりますので、免除保険\n　料率および厚生年金基金の掛金については、加\n　入する厚生年金基金にお問い合わせください。\n"]
[null,36,680000,null,22670,null,665000,"～",695000,{"$f":"C50*$J$10","v":67728},null,{"$f":"J50/2","v":33864},null,{"$f":"C50*$N$10","v":79423.999999999985},null,{"$f":"N50/2","v":39711.999999999993}]
[null,37,710000,null,23670,null,695000,"～",730000,{"$f":"C51*$J$10","v":70716},null,{"$f":"J51/2","v":35358},null,{"$f":"C51*$N$10","v":82927.999999999985},null,{"$f":"N51/2","v":41463.999999999993}]
[null,38,750000,null,25000,null,730000,"～",770000,{"$f":"C52*$J$10","v":74700},null,{"$f":"J52/2","v":37350},null,{"$f":"C52*$N$10","v":87599.999999999985},null,{"$f":"N52/2","v":43799.999999999993}]
[null,39,790000,null,26330,null,770000,"～",810000,{"$f":"C53*$J$10","v":78684},null,{"$f":"J53/2","v":39342},null,{"$f":"C53*$N$10","v":92271.999999999985},null,{"$f":"N53/2","v":46135.999999999993}]
[null,40,830000,null,27670,null,810000,"～",855000,{"$f":"C54*$J$10","v":82668},null,{"$f":"J54/2","v":41334},null,{"$f":"C54*$N$10","v":96943.999999999985},null,{"$f":"N54/2","v":48471.999999999993}]
[null,41,880000,null,29330,null,855000,"～",905000,{"$f":"C55*$J$10","v":87648},null,{"$f":"J55/2","v":43824},null,{"$f":"C55*$N$10","v":102783.99999999999},null,{"$f":"N55/2","v":51391.999999999993}]
[null,42,930000,null,31000,null,905000,"～",955000,{"$f":"C56*$J$10","v":92628},null,{"$f":"J56/2","v":46314},null,{"$f":"C56*$N$10","v":108623.99999999999},null,{"$f":"N56/2","v":54311.999999999993}]
[null,43,980000,null,32670,null,955000,"～",1005000,{"$f":"C57*$J$10","v":97608},null,{"$f":"J57/2","v":48804},null,{"$f":"C57*$N$10","v":114463.99999999999},null,{"$f":"N57/2","v":57231.999999999993}]
[null,44,1030000,null,34330,null,1005000,"～",1055000,{"$f":"C58*$J$10","v":102588},null,{"$f":"J58/2","v":51294},null,{"$f":"C58*$N$10","v":120303.99999999999},null,{"$f":"N58/2","v":60151.999999999993}]
[null,45,1090000,null,36330,null,1055000,"～",1115000,{"$f":"C59*$J$10","v":108564},null,{"$f":"J59/2","v":54282},null,{"$f":"C59*$N$10","v":127311.99999999999},null,{"$f":"N59/2","v":63655.999999999993}]
[null,46,1150000,null,38330,null,1115000,"～",1175000,{"$f":"C60*$J$10","v":114540},null,{"$f":"J60/2","v":57270},null,{"$f":"C60*$N$10","v":134319.99999999997},null,{"$f":"N60/2","v":67159.999999999985}]
[null,47,1210000,null,40330,null,1175000,"～",null,{"$f":"C61*$J$10","v":120516},null,{"$f":"J61/2","v":60258},null,{"$f":"C61*$N$10","v":141327.99999999997},null,{"$f":"N61/2","v":70663.999999999985}]
[]
[{"$f":"J10","v":9.9599999999999994E-2}]
[null,""]
["◆等級欄の（　）内の数字は、厚生年金保険の標準報酬月額等級です。"]
["　5(1)等級の「報酬月額」欄は、厚生年金保険の場合「101,000円未満」と読み替えてください。"]
["　34(30)等級の「報酬月額」欄は、厚生年金保険の場合「605,000円以上」と読み替えてください。"]
[null,""]
["◆平成26年度における全国健康保険協会の任意継続被保険者について、標準報酬月額の上限は、280,000円です。"]
[]
[]
["　○被保険者負担分（表の折半額の欄）に円未満の端数がある場合"]
["　　　①事業主が、給与から被保険者負担分を控除する場合、被保険者負担分の端数が50銭以下の場合は切り捨て、50銭を超える場合は切り上げて1円となります。"]
["　　　②被保険者が、被保険者負担分を事業主へ現金で支払う場合、被保険者負担分の端数が50銭未満の場合は切り捨て、50銭以上の場合は切り上げて1円となります。"]
["　　　（注）①、②にかかわらず、事業主と被保険者の間で特約がある場合には、特約に基づき端数処理をすることができます。"]
[]
["　○納入告知書の保険料額"]
["　　　 納入告知書の保険料額は、被保険者個々の保険料額を合算した金額になります。ただし、合算した金額に円未満の端数がある場合は、その端数を切り捨てた額となります。"]
[]
["　○賞与に係る保険料"]
["　　　 賞与に係る保険料額は、賞与額から1,000円未満の端数を切り捨てた額（標準賞与額）に、保険料率を乗じた額となります。"]
[" 　　　また、標準賞与額の上限は、健康保険は年間540万円（毎年4月1日から翌年3月31日までの累計額）となり、厚生年金保険と児童手当拠出金の場合は月間150万円となります。"]
[]
["　○児童手当拠出金"]
["　　　 厚生年金保険の被保険者を使用する事業主の方は、児童手当等の支給に要する費用の一部として児童手当拠出金を全額負担いただくことになります。この児童手当"]
["　　　 拠出金の額は、被保険者個々の厚生年金保険の標準報酬月額および標準賞与額に、拠出金率（0.15%）を乗じて得た額の総額となります。"]

{"sheet":"福島","index":16,"n_rows":86,"n_cols":24,"rows_kept":86,"cut":false,"hidden":true,"merged":[[74,0,74,24],[75,0,75,16],[85,0,85,24],[86,0,86,16],[77,0,77,23],[79,0,79,16],[80,0,80,21],[81,0,81,24],[83,0,83,21],[84,0,84,24],[76,0,76,23],[48,17,60,24],[62,0,62,25],[64,0,64,24],[65,0,65,24],[66,0,66,24],[68,0,68,24],[71,0,71,16],[72,0,72,24],[73,0,73,24],[6,21,8,24],[9,9,10,12],[9,13,10,16],[9,17,10,20],[9,21,10,24],[11,13,12,14],[11,15,12,16],[11,17,12,18],[11,19,12,20],[11,21,12,22],[11,1,12,1],[11,2,12,3],[11,4,12,5],[11,9,12,10],[11,11,12,12],[11,23,12,24],[0,1,1,24],[2,1,3,23],[4,1,4,16],[5,1,10,5],[5,6,12,8],[5,9,5,16],[5,17,5,24],[6,9,8,12],[6,13,8,16],[6,17,8,20]]}
[null,"平成26年9月分(10月納付分)からの健康保険・厚生年金保険の保険料額表"]
[]
[null,"     ‣健康保険料率：平成24年3月分～　適用　　‣厚生年金保険料率：平成26年9月分～平成27年8月分　適用\n     ‣介護保険料率：平成26年3月分～　適用　　‣児童手当拠出金率：平成24年4月分～　適用\n"]
[]
[null,"（福島県）",null,null,null,null,null,null,null,null,null,null,null,null,null,null,null,null,null,null,null,null,null,"（単位：円）"]
[null,"標　準　報　酬",null,null,null,null,"報　酬　月　額",null,null,"全国健康保険協会管掌健康保険料",null,null,null,null,null,null,null,"厚生年金保険料（厚生年金基金加入員を除く）"]
[null,null,null,null,null,null,null,null,null,"介護保険第２号被保険者\nに該当しない場合",null,null,null,"介護保険第２号被保険者\nに該当する場合",null,null,null,"一般の被保険者",null,null,null,"坑内員・船員"]
[]
[]
[null,null,null,null,null,null,null,null,null,9.9599999999999994E-2,null,null,null,{"$f":"J10+0.0172","v":0.11679999999999999},null,null,null,0.17474000000000001,null,null,null,0.17688000000000001]
[]
[null,"等級","月　額",null,"日　額",null,null,null,null,"全　額",null,"折半額",null,"全　額",null,"折半額",null,"全　額",null,"折半額",null,"全　額",null,"折半額"]
[]
[null,null,null,null,null,null,"円以上",null,"円未満"]
[null,1,58000,null,1930,null,null,"～",63000,{"$f":"C15*$J$10","v":5776.7999999999993},null,{"$f":"J15/2","v":2888.3999999999996},null,{"$f":"C15*$N$10","v":6774.4},null,{"$f":"N15/2","v":3387.2}]
[null,2,68000,null,2270,null,63000,"～",73000,{"$f":"C16*$J$10","v":6772.7999999999993},null,{"$f":"J16/2","v":3386.3999999999996},null,{"$f":"C16*$N$10","v":7942.3999999999987},null,{"$f":"N16/2","v":3971.1999999999994}]
[null,3,78000,null,2600,null,73000,"～",83000,{"$f":"C17*$J$10","v":7768.7999999999993},null,{"$f":"J17/2","v":3884.3999999999996},null,{"$f":"C17*$N$10","v":9110.4},null,{"$f":"N17/2","v":4555.2}]
[null,4,88000,null,2930,null,83000,"～",93000,{"$f":"C18*$J$10","v":8764.7999999999993},null,{"$f":"J18/2","v":4382.3999999999996},null,{"$f":"C18*$N$10","v":10278.4},null,{"$f":"N18/2","v":5139.2}]
[null,"5(1)",98000,null,3270,null,93000,"～",101000,{"$f":"C19*$J$10","v":9760.7999999999993},null,{"$f":"J19/2","v":4880.3999999999996},null,{"$f":"C19*$N$10","v":11446.4},null,{"$f":"N19/2","v":5723.2},null,{"$f":"C19*$R$10","v":17124.52},null,{"$f":"R19/2","v":8562.26},null,{"$f":"C19*$V$10","v":17334.240000000002},null,{"$f":"V19/2","v":8667.1200000000008}]
[null,"6(2)",104000,null,3470,null,101000,"～",107000,{"$f":"C20*$J$10","v":10358.4},null,{"$f":"J20/2","v":5179.2},null,{"$f":"C20*$N$10","v":12147.199999999999},null,{"$f":"N20/2","v":6073.5999999999995},null,{"$f":"C20*$R$10","v":18172.96},null,{"$f":"R20/2","v":9086.48},null,{"$f":"C20*$V$10","v":18395.52},null,{"$f":"V20/2","v":9197.76}]
[null,"7(3)",110000,null,3670,null,107000,"～",114000,{"$f":"C21*$J$10","v":10956},null,{"$f":"J21/2","v":5478},null,{"$f":"C21*$N$10","v":12847.999999999998},null,{"$f":"N21/2","v":6423.9999999999991},null,{"$f":"C21*$R$10","v":19221.400000000001},null,{"$f":"R21/2","v":9610.7000000000007},null,{"$f":"C21*$V$10","v":19456.8},null,{"$f":"V21/2","v":9728.4}]
[null,"8(4)",118000,null,3930,null,114000,"～",122000,{"$f":"C22*$J$10","v":11752.8},null,{"$f":"J22/2","v":5876.4},null,{"$f":"C22*$N$10","v":13782.399999999998},null,{"$f":"N22/2","v":6891.1999999999989},null,{"$f":"C22*$R$10","v":20619.32},null,{"$f":"R22/2","v":10309.66},null,{"$f":"C22*$V$10","v":20871.84},null,{"$f":"V22/2","v":10435.92}]
[null,"9(5)",126000,null,4200,null,122000,"～",130000,{"$f":"C23*$J$10","v":12549.599999999999},null,{"$f":"J23/2","v":6274.7999999999993},null,{"$f":"C23*$N$10","v":14716.8},null,{"$f":"N23/2","v":7358.4},null,{"$f":"C23*$R$10","v":22017.24},null,{"$f":"R23/2","v":11008.62},null,{"$f":"C23*$V$10","v":22286.880000000001},null,{"$f":"V23/2","v":11143.44}]
[null,"10(6)",134000,null,4470,null,130000,"～",138000,{"$f":"C24*$J$10","v":13346.4},null,{"$f":"J24/2","v":6673.2},null,{"$f":"C24*$N$10","v":15651.199999999999},null,{"$f":"N24/2","v":7825.5999999999995},null,{"$f":"C24*$R$10","v":23415.16},null,{"$f":"R24/2","v":11707.58},null,{"$f":"C24*$V$10","v":23701.920000000002},null,{"$f":"V24/2","v":11850.960000000001}]
[null,"11(7)",142000,null,4730,null,138000,"～",146000,{"$f":"C25*$J$10","v":14143.199999999999},null,{"$f":"J25/2","v":7071.5999999999995},null,{"$f":"C25*$N$10","v":16585.599999999999},null,{"$f":"N25/2","v":8292.7999999999993},null,{"$f":"C25*$R$10","v":24813.08},null,{"$f":"R25/2","v":12406.54},null,{"$f":"C25*$V$10","v":25116.960000000003},null,{"$f":"V25/2","v":12558.480000000001}]
[null,"12(8)",150000,null,5000,null,146000,"～",155000,{"$f":"C26*$J$10","v":14940},null,{"$f":"J26/2","v":7470},null,{"$f":"C26*$N$10","v":17519.999999999996},null,{"$f":"N26/2","v":8759.9999999999982},null,{"$f":"C26*$R$10","v":26211},null,{"$f":"R26/2","v":13105.5},null,{"$f":"C26*$V$10","v":26532},null,{"$f":"V26/2","v":13266}]
[null,"13(9)",160000,null,5330,null,155000,"～",165000,{"$f":"C27*$J$10","v":15935.999999999998},null,{"$f":"J27/2","v":7967.9999999999991},null,{"$f":"C27*$N$10","v":18687.999999999996},null,{"$f":"N27/2","v":9343.9999999999982},null,{"$f":"C27*$R$10","v":27958.400000000001},null,{"$f":"R27/2","v":13979.2},null,{"$f":"C27*$V$10","v":28300.800000000003},null,{"$f":"V27/2","v":14150.400000000001}]
[null,"14(10)",170000,null,5670,null,165000,"～",175000,{"$f":"C28*$J$10","v":16932},null,{"$f":"J28/2","v":8466},null,{"$f":"C28*$N$10","v":19855.999999999996},null,{"$f":"N28/2","v":9927.9999999999982},null,{"$f":"C28*$R$10","v":29705.800000000003},null,{"$f":"R28/2","v":14852.900000000001},null,{"$f":"C28*$V$10","v":30069.600000000002},null,{"$f":"V28/2","v":15034.800000000001}]
[null,"15(11)",180000,null,6000,null,175000,"～",185000,{"$f":"C29*$J$10","v":17928},null,{"$f":"J29/2","v":8964},null,{"$f":"C29*$N$10","v":21023.999999999996},null,{"$f":"N29/2","v":10511.999999999998},null,{"$f":"C29*$R$10","v":31453.200000000001},null,{"$f":"R29/2","v":15726.6},null,{"$f":"C29*$V$10","v":31838.400000000001},null,{"$f":"V29/2","v":15919.2}]
[null,"16(12)",190000,null,6330,null,185000,"～",195000,{"$f":"C30*$J$10","v":18924},null,{"$f":"J30/2","v":9462},null,{"$f":"C30*$N$10","v":22191.999999999996},null,{"$f":"N30/2","v":11095.999999999998},null,{"$f":"C30*$R$10","v":33200.6},null,{"$f":"R30/2","v":16600.3},null,{"$f":"C30*$V$10","v":33607.200000000004},null,{"$f":"V30/2","v":16803.600000000002}]
[null,"17(13)",200000,null,6670,null,195000,"～",210000,{"$f":"C31*$J$10","v":19920},null,{"$f":"J31/2","v":9960},null,{"$f":"C31*$N$10","v":23359.999999999996},null,{"$f":"N31/2","v":11679.999999999998},null,{"$f":"C31*$R$10","v":34948},null,{"$f":"R31/2","v":17474},null,{"$f":"C31*$V$10","v":35376},null,{"$f":"V31/2","v":17688}]
[null,"18(14)",220000,null,7330,null,210000,"～",230000,{"$f":"C32*$J$10","v":21912},null,{"$f":"J32/2","v":10956},null,{"$f":"C32*$N$10","v":25695.999999999996},null,{"$f":"N32/2","v":12847.999999999998},null,{"$f":"C32*$R$10","v":38442.800000000003},null,{"$f":"R32/2","v":19221.400000000001},null,{"$f":"C32*$V$10","v":38913.599999999999},null,{"$f":"V32/2","v":19456.8}]
[null,"19(15)",240000,null,8000,null,230000,"～",250000,{"$f":"C33*$J$10","v":23904},null,{"$f":"J33/2","v":11952},null,{"$f":"C33*$N$10","v":28031.999999999996},null,{"$f":"N33/2","v":14015.999999999998},null,{"$f":"C33*$R$10","v":41937.599999999999},null,{"$f":"R33/2","v":20968.8},null,{"$f":"C33*$V$10","v":42451.200000000004},null,{"$f":"V33/2","v":21225.600000000002}]
[null,"20(16)",260000,null,8670,null,250000,"～",270000,{"$f":"C34*$J$10","v":25896},null,{"$f":"J34/2","v":12948},null,{"$f":"C34*$N$10","v":30367.999999999996},null,{"$f":"N34/2","v":15183.999999999998},null,{"$f":"C34*$R$10","v":45432.4},null,{"$f":"R34/2","v":22716.2},null,{"$f":"C34*$V$10","v":45988.800000000003},null,{"$f":"V34/2","v":22994.400000000001}]
[null,"21(17)",280000,null,9330,null,270000,"～",290000,{"$f":"C35*$J$10","v":27888},null,{"$f":"J35/2","v":13944},null,{"$f":"C35*$N$10","v":32703.999999999996},null,{"$f":"N35/2","v":16351.999999999998},null,{"$f":"C35*$R$10","v":48927.200000000004},null,{"$f":"R35/2","v":24463.600000000002},null,{"$f":"C35*$V$10","v":49526.400000000001},null,{"$f":"V35/2","v":24763.200000000001}]
[null,"22(18)",300000,null,10000,null,290000,"～",310000,{"$f":"C36*$J$10","v":29880},null,{"$f":"J36/2","v":14940},null,{"$f":"C36*$N$10","v":35039.999999999993},null,{"$f":"N36/2","v":17519.999999999996},null,{"$f":"C36*$R$10","v":52422},null,{"$f":"R36/2","v":26211},null,{"$f":"C36*$V$10","v":53064},null,{"$f":"V36/2","v":26532}]
[null,"23(19)",320000,null,10670,null,310000,"～",330000,{"$f":"C37*$J$10","v":31871.999999999996},null,{"$f":"J37/2","v":15935.999999999998},null,{"$f":"C37*$N$10","v":37375.999999999993},null,{"$f":"N37/2","v":18687.999999999996},null,{"$f":"C37*$R$10","v":55916.800000000003},null,{"$f":"R37/2","v":27958.400000000001},null,{"$f":"C37*$V$10","v":56601.600000000006},null,{"$f":"V37/2","v":28300.800000000003}]
[null,"24(20)",340000,null,11330,null,330000,"～",350000,{"$f":"C38*$J$10","v":33864},null,{"$f":"J38/2","v":16932},null,{"$f":"C38*$N$10","v":39711.999999999993},null,{"$f":"N38/2","v":19855.999999999996},null,{"$f":"C38*$R$10","v":59411.600000000006},null,{"$f":"R38/2","v":29705.800000000003},null,{"$f":"C38*$V$10","v":60139.200000000004},null,{"$f":"V38/2","v":30069.600000000002}]
[null,"25(21)",360000,null,12000,null,350000,"～",370000,{"$f":"C39*$J$10","v":35856},null,{"$f":"J39/2","v":17928},null,{"$f":"C39*$N$10","v":42047.999999999993},null,{"$f":"N39/2","v":21023.999999999996},null,{"$f":"C39*$R$10","v":62906.400000000001},null,{"$f":"R39/2","v":31453.200000000001},null,{"$f":"C39*$V$10","v":63676.800000000003},null,{"$f":"V39/2","v":31838.400000000001}]
[null,"26(22)",380000,null,12670,null,370000,"～",395000,{"$f":"C40*$J$10","v":37848},null,{"$f":"J40/2","v":18924},null,{"$f":"C40*$N$10","v":44383.999999999993},null,{"$f":"N40/2","v":22191.999999999996},null,{"$f":"C40*$R$10","v":66401.2},null,{"$f":"R40/2","v":33200.6},null,{"$f":"C40*$V$10","v":67214.400000000009},null,{"$f":"V40/2","v":33607.200000000004}]
[null,"27(23)",410000,null,13670,null,395000,"～",425000,{"$f":"C41*$J$10","v":40836},null,{"$f":"J41/2","v":20418},null,{"$f":"C41*$N$10","v":47887.999999999993},null,{"$f":"N41/2","v":23943.999999999996},null,{"$f":"C41*$R$10","v":71643.400000000009},null,{"$f":"R41/2","v":35821.700000000004},null,{"$f":"C41*$V$10","v":72520.800000000003},null,{"$f":"V41/2","v":36260.400000000001}]
[null,"28(24)",440000,null,14670,null,425000,"～",455000,{"$f":"C42*$J$10","v":43824},null,{"$f":"J42/2","v":21912},null,{"$f":"C42*$N$10","v":51391.999999999993},null,{"$f":"N42/2","v":25695.999999999996},null,{"$f":"C42*$R$10","v":76885.600000000006},null,{"$f":"R42/2","v":38442.800000000003},null,{"$f":"C42*$V$10","v":77827.199999999997},null,{"$f":"V42/2","v":38913.599999999999}]
[null,"29(25)",470000,null,15670,null,455000,"～",485000,{"$f":"C43*$J$10","v":46812},null,{"$f":"J43/2","v":23406},null,{"$f":"C43*$N$10","v":54895.999999999993},null,{"$f":"N43/2","v":27447.999999999996},null,{"$f":"C43*$R$10","v":82127.8},null,{"$f":"R43/2","v":41063.9},null,{"$f":"C43*$V$10","v":83133.600000000006},null,{"$f":"V43/2","v":41566.800000000003}]
[null,"30(26)",500000,null,16670,null,485000,"～",515000,{"$f":"C44*$J$10","v":49800},null,{"$f":"J44/2","v":24900},null,{"$f":"C44*$N$10","v":58399.999999999993},null,{"$f":"N44/2","v":29199.999999999996},null,{"$f":"C44*$R$10","v":87370},null,{"$f":"R44/2","v":43685},null,{"$f":"C44*$V$10","v":88440},null,{"$f":"V44/2","v":44220}]
[null,"31(27)",530000,null,17670,null,515000,"～",545000,{"$f":"C45*$J$10","v":52788},null,{"$f":"J45/2","v":26394},null,{"$f":"C45*$N$10","v":61903.999999999993},null,{"$f":"N45/2","v":30951.999999999996},null,{"$f":"C45*$R$10","v":92612.2},null,{"$f":"R45/2","v":46306.1},null,{"$f":"C45*$V$10","v":93746.400000000009},null,{"$f":"V45/2","v":46873.200000000004}]
[null,"32(28)",560000,null,18670,null,545000,"～",575000,{"$f":"C46*$J$10","v":55776},null,{"$f":"J46/2","v":27888},null,{"$f":"C46*$N$10","v":65407.999999999993},null,{"$f":"N46/2","v":32703.999999999996},null,{"$f":"C46*$R$10","v":97854.400000000009},null,{"$f":"R46/2","v":48927.200000000004},null,{"$f":"C46*$V$10","v":99052.800000000003},null,{"$f":"V46/2","v":49526.400000000001}]
[null,"33(29)",590000,null,19670,null,575000,"～",605000,{"$f":"C47*$J$10","v":58764},null,{"$f":"J47/2","v":29382},null,{"$f":"C47*$N$10","v":68911.999999999985},null,{"$f":"N47/2","v":34455.999999999993},null,{"$f":"C47*$R$10","v":103096.6},null,{"$f":"R47/2","v":51548.3},null,{"$f":"C47*$V$10","v":104359.20000000001},null,{"$f":"V47/2","v":52179.600000000006}]
[null,"34(30)",620000,null,20670,null,605000,"～",635000,{"$f":"C48*$J$10","v":61751.999999999993},null,{"$f":"J48/2","v":30875.999999999996},null,{"$f":"C48*$N$10","v":72415.999999999985},null,{"$f":"N48/2","v":36207.999999999993},null,{"$f":"C48*$R$10","v":108338.8},null,{"$f":"R48/2","v":54169.4},null,{"$f":"C48*$V$10","v":109665.60000000001},null,{"$f":"V48/2","v":54832.800000000003}]
[null,35,650000,null,21670,null,635000,"～",665000,{"$f":"C49*$J$10","v":64739.999999999993},null,{"$f":"J49/2","v":32369.999999999996},null,{"$f":"C49*$N$10","v":75919.999999999985},null,{"$f":"N49/2","v":37959.999999999993},null,"※厚生年金基金に加入している方の厚生年金保険\n　料率は、基金ごとに定められている免除保険料\n　率(2.4%～5.0%)を控除した率となります。\n\n　●一般の被保険者の方　…12.474%～15.074%\n　●坑内員の被保険者の方…12.688%～15.288%\n\n　加入する基金ごとに異なりますので、免除保険\n　料率および厚生年金基金の掛金については、加\n　入する厚生年金基金にお問い合わせください。\n"]
[null,36,680000,null,22670,null,665000,"～",695000,{"$f":"C50*$J$10","v":67728},null,{"$f":"J50/2","v":33864},null,{"$f":"C50*$N$10","v":79423.999999999985},null,{"$f":"N50/2","v":39711.999999999993}]
[null,37,710000,null,23670,null,695000,"～",730000,{"$f":"C51*$J$10","v":70716},null,{"$f":"J51/2","v":35358},null,{"$f":"C51*$N$10","v":82927.999999999985},null,{"$f":"N51/2","v":41463.999999999993}]
[null,38,750000,null,25000,null,730000,"～",770000,{"$f":"C52*$J$10","v":74700},null,{"$f":"J52/2","v":37350},null,{"$f":"C52*$N$10","v":87599.999999999985},null,{"$f":"N52/2","v":43799.999999999993}]
[null,39,790000,null,26330,null,770000,"～",810000,{"$f":"C53*$J$10","v":78684},null,{"$f":"J53/2","v":39342},null,{"$f":"C53*$N$10","v":92271.999999999985},null,{"$f":"N53/2","v":46135.999999999993}]
[null,40,830000,null,27670,null,810000,"～",855000,{"$f":"C54*$J$10","v":82668},null,{"$f":"J54/2","v":41334},null,{"$f":"C54*$N$10","v":96943.999999999985},null,{"$f":"N54/2","v":48471.999999999993}]
[null,41,880000,null,29330,null,855000,"～",905000,{"$f":"C55*$J$10","v":87648},null,{"$f":"J55/2","v":43824},null,{"$f":"C55*$N$10","v":102783.99999999999},null,{"$f":"N55/2","v":51391.999999999993}]
[null,42,930000,null,31000,null,905000,"～",955000,{"$f":"C56*$J$10","v":92628},null,{"$f":"J56/2","v":46314},null,{"$f":"C56*$N$10","v":108623.99999999999},null,{"$f":"N56/2","v":54311.999999999993}]
[null,43,980000,null,32670,null,955000,"～",1005000,{"$f":"C57*$J$10","v":97608},null,{"$f":"J57/2","v":48804},null,{"$f":"C57*$N$10","v":114463.99999999999},null,{"$f":"N57/2","v":57231.999999999993}]
[null,44,1030000,null,34330,null,1005000,"～",1055000,{"$f":"C58*$J$10","v":102588},null,{"$f":"J58/2","v":51294},null,{"$f":"C58*$N$10","v":120303.99999999999},null,{"$f":"N58/2","v":60151.999999999993}]
[null,45,1090000,null,36330,null,1055000,"～",1115000,{"$f":"C59*$J$10","v":108564},null,{"$f":"J59/2","v":54282},null,{"$f":"C59*$N$10","v":127311.99999999999},null,{"$f":"N59/2","v":63655.999999999993}]
[null,46,1150000,null,38330,null,1115000,"～",1175000,{"$f":"C60*$J$10","v":114540},null,{"$f":"J60/2","v":57270},null,{"$f":"C60*$N$10","v":134319.99999999997},null,{"$f":"N60/2","v":67159.999999999985}]
[null,47,1210000,null,40330,null,1175000,"～",null,{"$f":"C61*$J$10","v":120516},null,{"$f":"J61/2","v":60258},null,{"$f":"C61*$N$10","v":141327.99999999997},null,{"$f":"N61/2","v":70663.999999999985}]
[]
[{"$f":"J10","v":9.9599999999999994E-2}]
[null,""]
["◆等級欄の（　）内の数字は、厚生年金保険の標準報酬月額等級です。"]
["　5(1)等級の「報酬月額」欄は、厚生年金保険の場合「101,000円未満」と読み替えてください。"]
["　34(30)等級の「報酬月額」欄は、厚生年金保険の場合「605,000円以上」と読み替えてください。"]
[null,""]
["◆平成26年度における全国健康保険協会の任意継続被保険者について、標準報酬月額の上限は、280,000円です。"]
[]
[]
["　○被保険者負担分（表の折半額の欄）に円未満の端数がある場合"]
["　　　①事業主が、給与から被保険者負担分を控除する場合、被保険者負担分の端数が50銭以下の場合は切り捨て、50銭を超える場合は切り上げて1円となります。"]
["　　　②被保険者が、被保険者負担分を事業主へ現金で支払う場合、被保険者負担分の端数が50銭未満の場合は切り捨て、50銭以上の場合は切り上げて1円となります。"]
["　　　（注）①、②にかかわらず、事業主と被保険者の間で特約がある場合には、特約に基づき端数処理をすることができます。"]
[]
["　○納入告知書の保険料額"]
["　　　 納入告知書の保険料額は、被保険者個々の保険料額を合算した金額になります。ただし、合算した金額に円未満の端数がある場合は、その端数を切り捨てた額となります。"]
[]
["　○賞与に係る保険料"]
["　　　 賞与に係る保険料額は、賞与額から1,000円未満の端数を切り捨てた額（標準賞与額）に、保険料率を乗じた額となります。"]
[" 　　　また、標準賞与額の上限は、健康保険は年間540万円（毎年4月1日から翌年3月31日までの累計額）となり、厚生年金保険と児童手当拠出金の場合は月間150万円となります。"]
[]
["　○児童手当拠出金"]
["　　　 厚生年金保険の被保険者を使用する事業主の方は、児童手当等の支給に要する費用の一部として児童手当拠出金を全額負担いただくことになります。この児童手当"]
["　　　 拠出金の額は、被保険者個々の厚生年金保険の標準報酬月額および標準賞与額に、拠出金率（0.15%）を乗じて得た額の総額となります。"]

{"sheet":"茨城","index":17,"n_rows":86,"n_cols":24,"rows_kept":86,"cut":false,"hidden":true,"merged":[[74,0,74,24],[75,0,75,16],[85,0,85,24],[86,0,86,16],[77,0,77,23],[79,0,79,16],[80,0,80,21],[81,0,81,24],[83,0,83,21],[84,0,84,24],[76,0,76,23],[48,17,60,24],[62,0,62,25],[64,0,64,24],[65,0,65,24],[66,0,66,24],[68,0,68,24],[71,0,71,16],[72,0,72,24],[73,0,73,24],[6,21,8,24],[9,9,10,12],[9,13,10,16],[9,17,10,20],[9,21,10,24],[11,13,12,14],[11,15,12,16],[11,17,12,18],[11,19,12,20],[11,21,12,22],[11,1,12,1],[11,2,12,3],[11,4,12,5],[11,9,12,10],[11,11,12,12],[11,23,12,24],[0,1,1,24],[2,1,3,23],[4,1,4,16],[5,1,10,5],[5,6,12,8],[5,9,5,16],[5,17,5,24],[6,9,8,12],[6,13,8,16],[6,17,8,20]]}
[null,"平成26年9月分(10月納付分)からの健康保険・厚生年金保険の保険料額表"]
[]
[null,"     ‣健康保険料率：平成24年3月分～　適用　　‣厚生年金保険料率：平成26年9月分～平成27年8月分　適用\n     ‣介護保険料率：平成26年3月分～　適用　　‣児童手当拠出金率：平成24年4月分～　適用\n"]
[]
[null,"（茨城県）",null,null,null,null,null,null,null,null,null,null,null,null,null,null,null,null,null,null,null,null,null,"（単位：円）"]
[null,"標　準　報　酬",null,null,null,null,"報　酬　月　額",null,null,"全国健康保険協会管掌健康保険料",null,null,null,null,null,null,null,"厚生年金保険料（厚生年金基金加入員を除く）"]
[null,null,null,null,null,null,null,null,null,"介護保険第２号被保険者\nに該当しない場合",null,null,null,"介護保険第２号被保険者\nに該当する場合",null,null,null,"一般の被保険者",null,null,null,"坑内員・船員"]
[]
[]
[null,null,null,null,null,null,null,null,null,9.9299999999999999E-2,null,null,null,{"$f":"J10+0.0172","v":0.11649999999999999},null,null,null,0.17474000000000001,null,null,null,0.17688000000000001]
[]
[null,"等級","月　額",null,"日　額",null,null,null,null,"全　額",null,"折半額",null,"全　額",null,"折半額",null,"全　額",null,"折半額",null,"全　額",null,"折半額"]
[]
[null,null,null,null,null,null,"円以上",null,"円未満"]
[null,1,58000,null,1930,null,null,"～",63000,{"$f":"C15*$J$10","v":5759.4},null,{"$f":"J15/2","v":2879.7},null,{"$f":"C15*$N$10","v":6757},null,{"$f":"N15/2","v":3378.5}]
[null,2,68000,null,2270,null,63000,"～",73000,{"$f":"C16*$J$10","v":6752.4},null,{"$f":"J16/2","v":3376.2},null,{"$f":"C16*$N$10","v":7921.9999999999991},null,{"$f":"N16/2","v":3960.9999999999995}]
[null,3,78000,null,2600,null,73000,"～",83000,{"$f":"C17*$J$10","v":7745.4},null,{"$f":"J17/2","v":3872.7},null,{"$f":"C17*$N$10","v":9087},null,{"$f":"N17/2","v":4543.5}]
[null,4,88000,null,2930,null,83000,"～",93000,{"$f":"C18*$J$10","v":8738.4},null,{"$f":"J18/2","v":4369.2},null,{"$f":"C18*$N$10","v":10252},null,{"$f":"N18/2","v":5126}]
[null,"5(1)",98000,null,3270,null,93000,"～",101000,{"$f":"C19*$J$10","v":9731.4},null,{"$f":"J19/2","v":4865.7},null,{"$f":"C19*$N$10","v":11417},null,{"$f":"N19/2","v":5708.5},null,{"$f":"C19*$R$10","v":17124.52},null,{"$f":"R19/2","v":8562.26},null,{"$f":"C19*$V$10","v":17334.240000000002},null,{"$f":"V19/2","v":8667.1200000000008}]
[null,"6(2)",104000,null,3470,null,101000,"～",107000,{"$f":"C20*$J$10","v":10327.200000000001},null,{"$f":"J20/2","v":5163.6000000000004},null,{"$f":"C20*$N$10","v":12116},null,{"$f":"N20/2","v":6058},null,{"$f":"C20*$R$10","v":18172.96},null,{"$f":"R20/2","v":9086.48},null,{"$f":"C20*$V$10","v":18395.52},null,{"$f":"V20/2","v":9197.76}]
[null,"7(3)",110000,null,3670,null,107000,"～",114000,{"$f":"C21*$J$10","v":10923},null,{"$f":"J21/2","v":5461.5},null,{"$f":"C21*$N$10","v":12815},null,{"$f":"N21/2","v":6407.5},null,{"$f":"C21*$R$10","v":19221.400000000001},null,{"$f":"R21/2","v":9610.7000000000007},null,{"$f":"C21*$V$10","v":19456.8},null,{"$f":"V21/2","v":9728.4}]
[null,"8(4)",118000,null,3930,null,114000,"～",122000,{"$f":"C22*$J$10","v":11717.4},null,{"$f":"J22/2","v":5858.7},null,{"$f":"C22*$N$10","v":13747},null,{"$f":"N22/2","v":6873.5},null,{"$f":"C22*$R$10","v":20619.32},null,{"$f":"R22/2","v":10309.66},null,{"$f":"C22*$V$10","v":20871.84},null,{"$f":"V22/2","v":10435.92}]
[null,"9(5)",126000,null,4200,null,122000,"～",130000,{"$f":"C23*$J$10","v":12511.8},null,{"$f":"J23/2","v":6255.9},null,{"$f":"C23*$N$10","v":14678.999999999998},null,{"$f":"N23/2","v":7339.4999999999991},null,{"$f":"C23*$R$10","v":22017.24},null,{"$f":"R23/2","v":11008.62},null,{"$f":"C23*$V$10","v":22286.880000000001},null,{"$f":"V23/2","v":11143.44}]
[null,"10(6)",134000,null,4470,null,130000,"～",138000,{"$f":"C24*$J$10","v":13306.2},null,{"$f":"J24/2","v":6653.1},null,{"$f":"C24*$N$10","v":15610.999999999998},null,{"$f":"N24/2","v":7805.4999999999991},null,{"$f":"C24*$R$10","v":23415.16},null,{"$f":"R24/2","v":11707.58},null,{"$f":"C24*$V$10","v":23701.920000000002},null,{"$f":"V24/2","v":11850.960000000001}]
[null,"11(7)",142000,null,4730,null,138000,"～",146000,{"$f":"C25*$J$10","v":14100.6},null,{"$f":"J25/2","v":7050.3},null,{"$f":"C25*$N$10","v":16543},null,{"$f":"N25/2","v":8271.5},null,{"$f":"C25*$R$10","v":24813.08},null,{"$f":"R25/2","v":12406.54},null,{"$f":"C25*$V$10","v":25116.960000000003},null,{"$f":"V25/2","v":12558.480000000001}]
[null,"12(8)",150000,null,5000,null,146000,"～",155000,{"$f":"C26*$J$10","v":14895},null,{"$f":"J26/2","v":7447.5},null,{"$f":"C26*$N$10","v":17475},null,{"$f":"N26/2","v":8737.5},null,{"$f":"C26*$R$10","v":26211},null,{"$f":"R26/2","v":13105.5},null,{"$f":"C26*$V$10","v":26532},null,{"$f":"V26/2","v":13266}]
[null,"13(9)",160000,null,5330,null,155000,"～",165000,{"$f":"C27*$J$10","v":15888},null,{"$f":"J27/2","v":7944},null,{"$f":"C27*$N$10","v":18640},null,{"$f":"N27/2","v":9320},null,{"$f":"C27*$R$10","v":27958.400000000001},null,{"$f":"R27/2","v":13979.2},null,{"$f":"C27*$V$10","v":28300.800000000003},null,{"$f":"V27/2","v":14150.400000000001}]
[null,"14(10)",170000,null,5670,null,165000,"～",175000,{"$f":"C28*$J$10","v":16881},null,{"$f":"J28/2","v":8440.5},null,{"$f":"C28*$N$10","v":19805},null,{"$f":"N28/2","v":9902.5},null,{"$f":"C28*$R$10","v":29705.800000000003},null,{"$f":"R28/2","v":14852.900000000001},null,{"$f":"C28*$V$10","v":30069.600000000002},null,{"$f":"V28/2","v":15034.800000000001}]
[null,"15(11)",180000,null,6000,null,175000,"～",185000,{"$f":"C29*$J$10","v":17874},null,{"$f":"J29/2","v":8937},null,{"$f":"C29*$N$10","v":20970},null,{"$f":"N29/2","v":10485},null,{"$f":"C29*$R$10","v":31453.200000000001},null,{"$f":"R29/2","v":15726.6},null,{"$f":"C29*$V$10","v":31838.400000000001},null,{"$f":"V29/2","v":15919.2}]
[null,"16(12)",190000,null,6330,null,185000,"～",195000,{"$f":"C30*$J$10","v":18867},null,{"$f":"J30/2","v":9433.5},null,{"$f":"C30*$N$10","v":22135},null,{"$f":"N30/2","v":11067.5},null,{"$f":"C30*$R$10","v":33200.6},null,{"$f":"R30/2","v":16600.3},null,{"$f":"C30*$V$10","v":33607.200000000004},null,{"$f":"V30/2","v":16803.600000000002}]
[null,"17(13)",200000,null,6670,null,195000,"～",210000,{"$f":"C31*$J$10","v":19860},null,{"$f":"J31/2","v":9930},null,{"$f":"C31*$N$10","v":23300},null,{"$f":"N31/2","v":11650},null,{"$f":"C31*$R$10","v":34948},null,{"$f":"R31/2","v":17474},null,{"$f":"C31*$V$10","v":35376},null,{"$f":"V31/2","v":17688}]
[null,"18(14)",220000,null,7330,null,210000,"～",230000,{"$f":"C32*$J$10","v":21846},null,{"$f":"J32/2","v":10923},null,{"$f":"C32*$N$10","v":25630},null,{"$f":"N32/2","v":12815},null,{"$f":"C32*$R$10","v":38442.800000000003},null,{"$f":"R32/2","v":19221.400000000001},null,{"$f":"C32*$V$10","v":38913.599999999999},null,{"$f":"V32/2","v":19456.8}]
[null,"19(15)",240000,null,8000,null,230000,"～",250000,{"$f":"C33*$J$10","v":23832},null,{"$f":"J33/2","v":11916},null,{"$f":"C33*$N$10","v":27960},null,{"$f":"N33/2","v":13980},null,{"$f":"C33*$R$10","v":41937.599999999999},null,{"$f":"R33/2","v":20968.8},null,{"$f":"C33*$V$10","v":42451.200000000004},null,{"$f":"V33/2","v":21225.600000000002}]
[null,"20(16)",260000,null,8670,null,250000,"～",270000,{"$f":"C34*$J$10","v":25818},null,{"$f":"J34/2","v":12909},null,{"$f":"C34*$N$10","v":30289.999999999996},null,{"$f":"N34/2","v":15144.999999999998},null,{"$f":"C34*$R$10","v":45432.4},null,{"$f":"R34/2","v":22716.2},null,{"$f":"C34*$V$10","v":45988.800000000003},null,{"$f":"V34/2","v":22994.400000000001}]
[null,"21(17)",280000,null,9330,null,270000,"～",290000,{"$f":"C35*$J$10","v":27804},null,{"$f":"J35/2","v":13902},null,{"$f":"C35*$N$10","v":32619.999999999996},null,{"$f":"N35/2","v":16309.999999999998},null,{"$f":"C35*$R$10","v":48927.200000000004},null,{"$f":"R35/2","v":24463.600000000002},null,{"$f":"C35*$V$10","v":49526.400000000001},null,{"$f":"V35/2","v":24763.200000000001}]
[null,"22(18)",300000,null,10000,null,290000,"～",310000,{"$f":"C36*$J$10","v":29790},null,{"$f":"J36/2","v":14895},null,{"$f":"C36*$N$10","v":34950},null,{"$f":"N36/2","v":17475},null,{"$f":"C36*$R$10","v":52422},null,{"$f":"R36/2","v":26211},null,{"$f":"C36*$V$10","v":53064},null,{"$f":"V36/2","v":26532}]
[null,"23(19)",320000,null,10670,null,310000,"～",330000,{"$f":"C37*$J$10","v":31776},null,{"$f":"J37/2","v":15888},null,{"$f":"C37*$N$10","v":37280},null,{"$f":"N37/2","v":18640},null,{"$f":"C37*$R$10","v":55916.800000000003},null,{"$f":"R37/2","v":27958.400000000001},null,{"$f":"C37*$V$10","v":56601.600000000006},null,{"$f":"V37/2","v":28300.800000000003}]
[null,"24(20)",340000,null,11330,null,330000,"～",350000,{"$f":"C38*$J$10","v":33762},null,{"$f":"J38/2","v":16881},null,{"$f":"C38*$N$10","v":39610},null,{"$f":"N38/2","v":19805},null,{"$f":"C38*$R$10","v":59411.600000000006},null,{"$f":"R38/2","v":29705.800000000003},null,{"$f":"C38*$V$10","v":60139.200000000004},null,{"$f":"V38/2","v":30069.600000000002}]
[null,"25(21)",360000,null,12000,null,350000,"～",370000,{"$f":"C39*$J$10","v":35748},null,{"$f":"J39/2","v":17874},null,{"$f":"C39*$N$10","v":41940},null,{"$f":"N39/2","v":20970},null,{"$f":"C39*$R$10","v":62906.400000000001},null,{"$f":"R39/2","v":31453.200000000001},null,{"$f":"C39*$V$10","v":63676.800000000003},null,{"$f":"V39/2","v":31838.400000000001}]
[null,"26(22)",380000,null,12670,null,370000,"～",395000,{"$f":"C40*$J$10","v":37734},null,{"$f":"J40/2","v":18867},null,{"$f":"C40*$N$10","v":44270},null,{"$f":"N40/2","v":22135},null,{"$f":"C40*$R$10","v":66401.2},null,{"$f":"R40/2","v":33200.6},null,{"$f":"C40*$V$10","v":67214.400000000009},null,{"$f":"V40/2","v":33607.200000000004}]
[null,"27(23)",410000,null,13670,null,395000,"～",425000,{"$f":"C41*$J$10","v":40713},null,{"$f":"J41/2","v":20356.5},null,{"$f":"C41*$N$10","v":47765},null,{"$f":"N41/2","v":23882.5},null,{"$f":"C41*$R$10","v":71643.400000000009},null,{"$f":"R41/2","v":35821.700000000004},null,{"$f":"C41*$V$10","v":72520.800000000003},null,{"$f":"V41/2","v":36260.400000000001}]
[null,"28(24)",440000,null,14670,null,425000,"～",455000,{"$f":"C42*$J$10","v":43692},null,{"$f":"J42/2","v":21846},null,{"$f":"C42*$N$10","v":51260},null,{"$f":"N42/2","v":25630},null,{"$f":"C42*$R$10","v":76885.600000000006},null,{"$f":"R42/2","v":38442.800000000003},null,{"$f":"C42*$V$10","v":77827.199999999997},null,{"$f":"V42/2","v":38913.599999999999}]
[null,"29(25)",470000,null,15670,null,455000,"～",485000,{"$f":"C43*$J$10","v":46671},null,{"$f":"J43/2","v":23335.5},null,{"$f":"C43*$N$10","v":54755},null,{"$f":"N43/2","v":27377.5},null,{"$f":"C43*$R$10","v":82127.8},null,{"$f":"R43/2","v":41063.9},null,{"$f":"C43*$V$10","v":83133.600000000006},null,{"$f":"V43/2","v":41566.800000000003}]
[null,"30(26)",500000,null,16670,null,485000,"～",515000,{"$f":"C44*$J$10","v":49650},null,{"$f":"J44/2","v":24825},null,{"$f":"C44*$N$10","v":58249.999999999993},null,{"$f":"N44/2","v":29124.999999999996},null,{"$f":"C44*$R$10","v":87370},null,{"$f":"R44/2","v":43685},null,{"$f":"C44*$V$10","v":88440},null,{"$f":"V44/2","v":44220}]
[null,"31(27)",530000,null,17670,null,515000,"～",545000,{"$f":"C45*$J$10","v":52629},null,{"$f":"J45/2","v":26314.5},null,{"$f":"C45*$N$10","v":61744.999999999993},null,{"$f":"N45/2","v":30872.499999999996},null,{"$f":"C45*$R$10","v":92612.2},null,{"$f":"R45/2","v":46306.1},null,{"$f":"C45*$V$10","v":93746.400000000009},null,{"$f":"V45/2","v":46873.200000000004}]
[null,"32(28)",560000,null,18670,null,545000,"～",575000,{"$f":"C46*$J$10","v":55608},null,{"$f":"J46/2","v":27804},null,{"$f":"C46*$N$10","v":65239.999999999993},null,{"$f":"N46/2","v":32619.999999999996},null,{"$f":"C46*$R$10","v":97854.400000000009},null,{"$f":"R46/2","v":48927.200000000004},null,{"$f":"C46*$V$10","v":99052.800000000003},null,{"$f":"V46/2","v":49526.400000000001}]
[null,"33(29)",590000,null,19670,null,575000,"～",605000,{"$f":"C47*$J$10","v":58587},null,{"$f":"J47/2","v":29293.5},null,{"$f":"C47*$N$10","v":68735},null,{"$f":"N47/2","v":34367.5},null,{"$f":"C47*$R$10","v":103096.6},null,{"$f":"R47/2","v":51548.3},null,{"$f":"C47*$V$10","v":104359.20000000001},null,{"$f":"V47/2","v":52179.600000000006}]
[null,"34(30)",620000,null,20670,null,605000,"～",635000,{"$f":"C48*$J$10","v":61566},null,{"$f":"J48/2","v":30783},null,{"$f":"C48*$N$10","v":72230},null,{"$f":"N48/2","v":36115},null,{"$f":"C48*$R$10","v":108338.8},null,{"$f":"R48/2","v":54169.4},null,{"$f":"C48*$V$10","v":109665.60000000001},null,{"$f":"V48/2","v":54832.800000000003}]
[null,35,650000,null,21670,null,635000,"～",665000,{"$f":"C49*$J$10","v":64545},null,{"$f":"J49/2","v":32272.5},null,{"$f":"C49*$N$10","v":75725},null,{"$f":"N49/2","v":37862.5},null,"※厚生年金基金に加入している方の厚生年金保険\n　料率は、基金ごとに定められている免除保険料\n　率(2.4%～5.0%)を控除した率となります。\n\n　●一般の被保険者の方　…12.474%～15.074%\n　●坑内員の被保険者の方…12.688%～15.288%\n\n　加入する基金ごとに異なりますので、免除保険\n　料率および厚生年金基金の掛金については、加\n　入する厚生年金基金にお問い合わせください。\n"]
[null,36,680000,null,22670,null,665000,"～",695000,{"$f":"C50*$J$10","v":67524},null,{"$f":"J50/2","v":33762},null,{"$f":"C50*$N$10","v":79220},null,{"$f":"N50/2","v":39610}]
[null,37,710000,null,23670,null,695000,"～",730000,{"$f":"C51*$J$10","v":70503},null,{"$f":"J51/2","v":35251.5},null,{"$f":"C51*$N$10","v":82715},null,{"$f":"N51/2","v":41357.5}]
[null,38,750000,null,25000,null,730000,"～",770000,{"$f":"C52*$J$10","v":74475},null,{"$f":"J52/2","v":37237.5},null,{"$f":"C52*$N$10","v":87375},null,{"$f":"N52/2","v":43687.5}]
[null,39,790000,null,26330,null,770000,"～",810000,{"$f":"C53*$J$10","v":78447},null,{"$f":"J53/2","v":39223.5},null,{"$f":"C53*$N$10","v":92035},null,{"$f":"N53/2","v":46017.5}]
[null,40,830000,null,27670,null,810000,"～",855000,{"$f":"C54*$J$10","v":82419},null,{"$f":"J54/2","v":41209.5},null,{"$f":"C54*$N$10","v":96695},null,{"$f":"N54/2","v":48347.5}]
[null,41,880000,null,29330,null,855000,"～",905000,{"$f":"C55*$J$10","v":87384},null,{"$f":"J55/2","v":43692},null,{"$f":"C55*$N$10","v":102520},null,{"$f":"N55/2","v":51260}]
[null,42,930000,null,31000,null,905000,"～",955000,{"$f":"C56*$J$10","v":92349},null,{"$f":"J56/2","v":46174.5},null,{"$f":"C56*$N$10","v":108345},null,{"$f":"N56/2","v":54172.5}]
[null,43,980000,null,32670,null,955000,"～",1005000,{"$f":"C57*$J$10","v":97314},null,{"$f":"J57/2","v":48657},null,{"$f":"C57*$N$10","v":114169.99999999999},null,{"$f":"N57/2","v":57084.999999999993}]
[null,44,1030000,null,34330,null,1005000,"～",1055000,{"$f":"C58*$J$10","v":102279},null,{"$f":"J58/2","v":51139.5},null,{"$f":"C58*$N$10","v":119994.99999999999},null,{"$f":"N58/2","v":59997.499999999993}]
[null,45,1090000,null,36330,null,1055000,"～",1115000,{"$f":"C59*$J$10","v":108237},null,{"$f":"J59/2","v":54118.5},null,{"$f":"C59*$N$10","v":126984.99999999999},null,{"$f":"N59/2","v":63492.499999999993}]
[null,46,1150000,null,38330,null,1115000,"～",1175000,{"$f":"C60*$J$10","v":114195},null,{"$f":"J60/2","v":57097.5},null,{"$f":"C60*$N$10","v":133975},null,{"$f":"N60/2","v":66987.5}]
[null,47,1210000,null,40330,null,1175000,"～",null,{"$f":"C61*$J$10","v":120153},null,{"$f":"J61/2","v":60076.5},null,{"$f":"C61*$N$10","v":140965},null,{"$f":"N61/2","v":70482.5}]
[]
[{"$f":"J10","v":9.9299999999999999E-2}]
[null,""]
["◆等級欄の（　）内の数字は、厚生年金保険の標準報酬月額等級です。"]
["　5(1)等級の「報酬月額」欄は、厚生年金保険の場合「101,000円未満」と読み替えてください。"]
["　34(30)等級の「報酬月額」欄は、厚生年金保険の場合「605,000円以上」と読み替えてください。"]
[null,""]
["◆平成26年度における全国健康保険協会の任意継続被保険者について、標準報酬月額の上限は、280,000円です。"]
[]
[]
["　○被保険者負担分（表の折半額の欄）に円未満の端数がある場合"]
["　　　①事業主が、給与から被保険者負担分を控除する場合、被保険者負担分の端数が50銭以下の場合は切り捨て、50銭を超える場合は切り上げて1円となります。"]
["　　　②被保険者が、被保険者負担分を事業主へ現金で支払う場合、被保険者負担分の端数が50銭未満の場合は切り捨て、50銭以上の場合は切り上げて1円となります。"]
["　　　（注）①、②にかかわらず、事業主と被保険者の間で特約がある場合には、特約に基づき端数処理をすることができます。"]
[]
["　○納入告知書の保険料額"]
["　　　 納入告知書の保険料額は、被保険者個々の保険料額を合算した金額になります。ただし、合算した金額に円未満の端数がある場合は、その端数を切り捨てた額となります。"]
[]
["　○賞与に係る保険料"]
["　　　 賞与に係る保険料額は、賞与額から1,000円未満の端数を切り捨てた額（標準賞与額）に、保険料率を乗じた額となります。"]
[" 　　　また、標準賞与額の上限は、健康保険は年間540万円（毎年4月1日から翌年3月31日までの累計額）となり、厚生年金保険と児童手当拠出金の場合は月間150万円となります。"]
[]
["　○児童手当拠出金"]
["　　　 厚生年金保険の被保険者を使用する事業主の方は、児童手当等の支給に要する費用の一部として児童手当拠出金を全額負担いただくことになります。この児童手当"]
["　　　 拠出金の額は、被保険者個々の厚生年金保険の標準報酬月額および標準賞与額に、拠出金率（0.15%）を乗じて得た額の総額となります。"]

{"sheet":"栃木","index":18,"n_rows":86,"n_cols":24,"rows_kept":86,"cut":false,"hidden":true,"merged":[[74,0,74,24],[75,0,75,16],[85,0,85,24],[86,0,86,16],[77,0,77,23],[79,0,79,16],[80,0,80,21],[81,0,81,24],[83,0,83,21],[84,0,84,24],[76,0,76,23],[48,17,60,24],[62,0,62,25],[64,0,64,24],[65,0,65,24],[66,0,66,24],[68,0,68,24],[71,0,71,16],[72,0,72,24],[73,0,73,24],[6,21,8,24],[9,9,10,12],[9,13,10,16],[9,17,10,20],[9,21,10,24],[11,13,12,14],[11,15,12,16],[11,17,12,18],[11,19,12,20],[11,21,12,22],[11,1,12,1],[11,2,12,3],[11,4,12,5],[11,9,12,10],[11,11,12,12],[11,23,12,24],[0,1,1,24],[2,1,3,23],[4,1,4,16],[5,1,10,5],[5,6,12,8],[5,9,5,16],[5,17,5,24],[6,9,8,12],[6,13,8,16],[6,17,8,20]]}
[null,"平成26年9月分(10月納付分)からの健康保険・厚生年金保険の保険料額表"]
[]
[null,"     ‣健康保険料率：平成24年3月分～　適用　　‣厚生年金保険料率：平成26年9月分～平成27年8月分　適用\n     ‣介護保険料率：平成26年3月分～　適用　　‣児童手当拠出金率：平成24年4月分～　適用\n"]
[]
[null,"（栃木県）",null,null,null,null,null,null,null,null,null,null,null,null,null,null,null,null,null,null,null,null,null,"（単位：円）"]
[null,"標　準　報　酬",null,null,null,null,"報　酬　月　額",null,null,"全国健康保険協会管掌健康保険料",null,null,null,null,null,null,null,"厚生年金保険料（厚生年金基金加入員を除く）"]
[null,null,null,null,null,null,null,null,null,"介護保険第２号被保険者\nに該当しない場合",null,null,null,"介護保険第２号被保険者\nに該当する場合",null,null,null,"一般の被保険者",null,null,null,"坑内員・船員"]
[]
[]
[null,null,null,null,null,null,null,null,null,9.9500000000000005E-2,null,null,null,{"$f":"J10+0.0172","v":0.1167},null,null,null,0.17474000000000001,null,null,null,0.17688000000000001]
[]
[null,"等級","月　額",null,"日　額",null,null,null,null,"全　額",null,"折半額",null,"全　額",null,"折半額",null,"全　額",null,"折半額",null,"全　額",null,"折半額"]
[]
[null,null,null,null,null,null,"円以上",null,"円未満"]
[null,1,58000,null,1930,null,null,"～",63000,{"$f":"C15*$J$10","v":5771},null,{"$f":"J15/2","v":2885.5},null,{"$f":"C15*$N$10","v":6768.5999999999995},null,{"$f":"N15/2","v":3384.2999999999997}]
[null,2,68000,null,2270,null,63000,"～",73000,{"$f":"C16*$J$10","v":6766},null,{"$f":"J16/2","v":3383},null,{"$f":"C16*$N$10","v":7935.5999999999995},null,{"$f":"N16/2","v":3967.7999999999997}]
[null,3,78000,null,2600,null,73000,"～",83000,{"$f":"C17*$J$10","v":7761},null,{"$f":"J17/2","v":3880.5},null,{"$f":"C17*$N$10","v":9102.6},null,{"$f":"N17/2","v":4551.3}]
[null,4,88000,null,2930,null,83000,"～",93000,{"$f":"C18*$J$10","v":8756},null,{"$f":"J18/2","v":4378},null,{"$f":"C18*$N$10","v":10269.6},null,{"$f":"N18/2","v":5134.8}]
[null,"5(1)",98000,null,3270,null,93000,"～",101000,{"$f":"C19*$J$10","v":9751},null,{"$f":"J19/2","v":4875.5},null,{"$f":"C19*$N$10","v":11436.6},null,{"$f":"N19/2","v":5718.3},null,{"$f":"C19*$R$10","v":17124.52},null,{"$f":"R19/2","v":8562.26},null,{"$f":"C19*$V$10","v":17334.240000000002},null,{"$f":"V19/2","v":8667.1200000000008}]
[null,"6(2)",104000,null,3470,null,101000,"～",107000,{"$f":"C20*$J$10","v":10348},null,{"$f":"J20/2","v":5174},null,{"$f":"C20*$N$10","v":12136.8},null,{"$f":"N20/2","v":6068.4},null,{"$f":"C20*$R$10","v":18172.96},null,{"$f":"R20/2","v":9086.48},null,{"$f":"C20*$V$10","v":18395.52},null,{"$f":"V20/2","v":9197.76}]
[null,"7(3)",110000,null,3670,null,107000,"～",114000,{"$f":"C21*$J$10","v":10945},null,{"$f":"J21/2","v":5472.5},null,{"$f":"C21*$N$10","v":12837},null,{"$f":"N21/2","v":6418.5},null,{"$f":"C21*$R$10","v":19221.400000000001},null,{"$f":"R21/2","v":9610.7000000000007},null,{"$f":"C21*$V$10","v":19456.8},null,{"$f":"V21/2","v":9728.4}]
[null,"8(4)",118000,null,3930,null,114000,"～",122000,{"$f":"C22*$J$10","v":11741},null,{"$f":"J22/2","v":5870.5},null,{"$f":"C22*$N$10","v":13770.6},null,{"$f":"N22/2","v":6885.3},null,{"$f":"C22*$R$10","v":20619.32},null,{"$f":"R22/2","v":10309.66},null,{"$f":"C22*$V$10","v":20871.84},null,{"$f":"V22/2","v":10435.92}]
[null,"9(5)",126000,null,4200,null,122000,"～",130000,{"$f":"C23*$J$10","v":12537},null,{"$f":"J23/2","v":6268.5},null,{"$f":"C23*$N$10","v":14704.199999999999},null,{"$f":"N23/2","v":7352.0999999999995},null,{"$f":"C23*$R$10","v":22017.24},null,{"$f":"R23/2","v":11008.62},null,{"$f":"C23*$V$10","v":22286.880000000001},null,{"$f":"V23/2","v":11143.44}]
[null,"10(6)",134000,null,4470,null,130000,"～",138000,{"$f":"C24*$J$10","v":13333},null,{"$f":"J24/2","v":6666.5},null,{"$f":"C24*$N$10","v":15637.8},null,{"$f":"N24/2","v":7818.9},null,{"$f":"C24*$R$10","v":23415.16},null,{"$f":"R24/2","v":11707.58},null,{"$f":"C24*$V$10","v":23701.920000000002},null,{"$f":"V24/2","v":11850.960000000001}]
[null,"11(7)",142000,null,4730,null,138000,"～",146000,{"$f":"C25*$J$10","v":14129},null,{"$f":"J25/2","v":7064.5},null,{"$f":"C25*$N$10","v":16571.400000000001},null,{"$f":"N25/2","v":8285.7000000000007},null,{"$f":"C25*$R$10","v":24813.08},null,{"$f":"R25/2","v":12406.54},null,{"$f":"C25*$V$10","v":25116.960000000003},null,{"$f":"V25/2","v":12558.480000000001}]
[null,"12(8)",150000,null,5000,null,146000,"～",155000,{"$f":"C26*$J$10","v":14925},null,{"$f":"J26/2","v":7462.5},null,{"$f":"C26*$N$10","v":17505},null,{"$f":"N26/2","v":8752.5},null,{"$f":"C26*$R$10","v":26211},null,{"$f":"R26/2","v":13105.5},null,{"$f":"C26*$V$10","v":26532},null,{"$f":"V26/2","v":13266}]
[null,"13(9)",160000,null,5330,null,155000,"～",165000,{"$f":"C27*$J$10","v":15920},null,{"$f":"J27/2","v":7960},null,{"$f":"C27*$N$10","v":18672},null,{"$f":"N27/2","v":9336},null,{"$f":"C27*$R$10","v":27958.400000000001},null,{"$f":"R27/2","v":13979.2},null,{"$f":"C27*$V$10","v":28300.800000000003},null,{"$f":"V27/2","v":14150.400000000001}]
[null,"14(10)",170000,null,5670,null,165000,"～",175000,{"$f":"C28*$J$10","v":16915},null,{"$f":"J28/2","v":8457.5},null,{"$f":"C28*$N$10","v":19839},null,{"$f":"N28/2","v":9919.5},null,{"$f":"C28*$R$10","v":29705.800000000003},null,{"$f":"R28/2","v":14852.900000000001},null,{"$f":"C28*$V$10","v":30069.600000000002},null,{"$f":"V28/2","v":15034.800000000001}]
[null,"15(11)",180000,null,6000,null,175000,"～",185000,{"$f":"C29*$J$10","v":17910},null,{"$f":"J29/2","v":8955},null,{"$f":"C29*$N$10","v":21006},null,{"$f":"N29/2","v":10503},null,{"$f":"C29*$R$10","v":31453.200000000001},null,{"$f":"R29/2","v":15726.6},null,{"$f":"C29*$V$10","v":31838.400000000001},null,{"$f":"V29/2","v":15919.2}]
[null,"16(12)",190000,null,6330,null,185000,"～",195000,{"$f":"C30*$J$10","v":18905},null,{"$f":"J30/2","v":9452.5},null,{"$f":"C30*$N$10","v":22173},null,{"$f":"N30/2","v":11086.5},null,{"$f":"C30*$R$10","v":33200.6},null,{"$f":"R30/2","v":16600.3},null,{"$f":"C30*$V$10","v":33607.200000000004},null,{"$f":"V30/2","v":16803.600000000002}]
[null,"17(13)",200000,null,6670,null,195000,"～",210000,{"$f":"C31*$J$10","v":19900},null,{"$f":"J31/2","v":9950},null,{"$f":"C31*$N$10","v":23340},null,{"$f":"N31/2","v":11670},null,{"$f":"C31*$R$10","v":34948},null,{"$f":"R31/2","v":17474},null,{"$f":"C31*$V$10","v":35376},null,{"$f":"V31/2","v":17688}]
[null,"18(14)",220000,null,7330,null,210000,"～",230000,{"$f":"C32*$J$10","v":21890},null,{"$f":"J32/2","v":10945},null,{"$f":"C32*$N$10","v":25674},null,{"$f":"N32/2","v":12837},null,{"$f":"C32*$R$10","v":38442.800000000003},null,{"$f":"R32/2","v":19221.400000000001},null,{"$f":"C32*$V$10","v":38913.599999999999},null,{"$f":"V32/2","v":19456.8}]
[null,"19(15)",240000,null,8000,null,230000,"～",250000,{"$f":"C33*$J$10","v":23880},null,{"$f":"J33/2","v":11940},null,{"$f":"C33*$N$10","v":28008},null,{"$f":"N33/2","v":14004},null,{"$f":"C33*$R$10","v":41937.599999999999},null,{"$f":"R33/2","v":20968.8},null,{"$f":"C33*$V$10","v":42451.200000000004},null,{"$f":"V33/2","v":21225.600000000002}]
[null,"20(16)",260000,null,8670,null,250000,"～",270000,{"$f":"C34*$J$10","v":25870},null,{"$f":"J34/2","v":12935},null,{"$f":"C34*$N$10","v":30342},null,{"$f":"N34/2","v":15171},null,{"$f":"C34*$R$10","v":45432.4},null,{"$f":"R34/2","v":22716.2},null,{"$f":"C34*$V$10","v":45988.800000000003},null,{"$f":"V34/2","v":22994.400000000001}]
[null,"21(17)",280000,null,9330,null,270000,"～",290000,{"$f":"C35*$J$10","v":27860},null,{"$f":"J35/2","v":13930},null,{"$f":"C35*$N$10","v":32676},null,{"$f":"N35/2","v":16338},null,{"$f":"C35*$R$10","v":48927.200000000004},null,{"$f":"R35/2","v":24463.600000000002},null,{"$f":"C35*$V$10","v":49526.400000000001},null,{"$f":"V35/2","v":24763.200000000001}]
[null,"22(18)",300000,null,10000,null,290000,"～",310000,{"$f":"C36*$J$10","v":29850},null,{"$f":"J36/2","v":14925},null,{"$f":"C36*$N$10","v":35010},null,{"$f":"N36/2","v":17505},null,{"$f":"C36*$R$10","v":52422},null,{"$f":"R36/2","v":26211},null,{"$f":"C36*$V$10","v":53064},null,{"$f":"V36/2","v":26532}]
[null,"23(19)",320000,null,10670,null,310000,"～",330000,{"$f":"C37*$J$10","v":31840},null,{"$f":"J37/2","v":15920},null,{"$f":"C37*$N$10","v":37344},null,{"$f":"N37/2","v":18672},null,{"$f":"C37*$R$10","v":55916.800000000003},null,{"$f":"R37/2","v":27958.400000000001},null,{"$f":"C37*$V$10","v":56601.600000000006},null,{"$f":"V37/2","v":28300.800000000003}]
[null,"24(20)",340000,null,11330,null,330000,"～",350000,{"$f":"C38*$J$10","v":33830},null,{"$f":"J38/2","v":16915},null,{"$f":"C38*$N$10","v":39678},null,{"$f":"N38/2","v":19839},null,{"$f":"C38*$R$10","v":59411.600000000006},null,{"$f":"R38/2","v":29705.800000000003},null,{"$f":"C38*$V$10","v":60139.200000000004},null,{"$f":"V38/2","v":30069.600000000002}]
[null,"25(21)",360000,null,12000,null,350000,"～",370000,{"$f":"C39*$J$10","v":35820},null,{"$f":"J39/2","v":17910},null,{"$f":"C39*$N$10","v":42012},null,{"$f":"N39/2","v":21006},null,{"$f":"C39*$R$10","v":62906.400000000001},null,{"$f":"R39/2","v":31453.200000000001},null,{"$f":"C39*$V$10","v":63676.800000000003},null,{"$f":"V39/2","v":31838.400000000001}]
[null,"26(22)",380000,null,12670,null,370000,"～",395000,{"$f":"C40*$J$10","v":37810},null,{"$f":"J40/2","v":18905},null,{"$f":"C40*$N$10","v":44346},null,{"$f":"N40/2","v":22173},null,{"$f":"C40*$R$10","v":66401.2},null,{"$f":"R40/2","v":33200.6},null,{"$f":"C40*$V$10","v":67214.400000000009},null,{"$f":"V40/2","v":33607.200000000004}]
[null,"27(23)",410000,null,13670,null,395000,"～",425000,{"$f":"C41*$J$10","v":40795},null,{"$f":"J41/2","v":20397.5},null,{"$f":"C41*$N$10","v":47847},null,{"$f":"N41/2","v":23923.5},null,{"$f":"C41*$R$10","v":71643.400000000009},null,{"$f":"R41/2","v":35821.700000000004},null,{"$f":"C41*$V$10","v":72520.800000000003},null,{"$f":"V41/2","v":36260.400000000001}]
[null,"28(24)",440000,null,14670,null,425000,"～",455000,{"$f":"C42*$J$10","v":43780},null,{"$f":"J42/2","v":21890},null,{"$f":"C42*$N$10","v":51348},null,{"$f":"N42/2","v":25674},null,{"$f":"C42*$R$10","v":76885.600000000006},null,{"$f":"R42/2","v":38442.800000000003},null,{"$f":"C42*$V$10","v":77827.199999999997},null,{"$f":"V42/2","v":38913.599999999999}]
[null,"29(25)",470000,null,15670,null,455000,"～",485000,{"$f":"C43*$J$10","v":46765},null,{"$f":"J43/2","v":23382.5},null,{"$f":"C43*$N$10","v":54849},null,{"$f":"N43/2","v":27424.5},null,{"$f":"C43*$R$10","v":82127.8},null,{"$f":"R43/2","v":41063.9},null,{"$f":"C43*$V$10","v":83133.600000000006},null,{"$f":"V43/2","v":41566.800000000003}]
[null,"30(26)",500000,null,16670,null,485000,"～",515000,{"$f":"C44*$J$10","v":49750},null,{"$f":"J44/2","v":24875},null,{"$f":"C44*$N$10","v":58350},null,{"$f":"N44/2","v":29175},null,{"$f":"C44*$R$10","v":87370},null,{"$f":"R44/2","v":43685},null,{"$f":"C44*$V$10","v":88440},null,{"$f":"V44/2","v":44220}]
[null,"31(27)",530000,null,17670,null,515000,"～",545000,{"$f":"C45*$J$10","v":52735},null,{"$f":"J45/2","v":26367.5},null,{"$f":"C45*$N$10","v":61851},null,{"$f":"N45/2","v":30925.5},null,{"$f":"C45*$R$10","v":92612.2},null,{"$f":"R45/2","v":46306.1},null,{"$f":"C45*$V$10","v":93746.400000000009},null,{"$f":"V45/2","v":46873.200000000004}]
[null,"32(28)",560000,null,18670,null,545000,"～",575000,{"$f":"C46*$J$10","v":55720},null,{"$f":"J46/2","v":27860},null,{"$f":"C46*$N$10","v":65352},null,{"$f":"N46/2","v":32676},null,{"$f":"C46*$R$10","v":97854.400000000009},null,{"$f":"R46/2","v":48927.200000000004},null,{"$f":"C46*$V$10","v":99052.800000000003},null,{"$f":"V46/2","v":49526.400000000001}]
[null,"33(29)",590000,null,19670,null,575000,"～",605000,{"$f":"C47*$J$10","v":58705},null,{"$f":"J47/2","v":29352.5},null,{"$f":"C47*$N$10","v":68853},null,{"$f":"N47/2","v":34426.5},null,{"$f":"C47*$R$10","v":103096.6},null,{"$f":"R47/2","v":51548.3},null,{"$f":"C47*$V$10","v":104359.20000000001},null,{"$f":"V47/2","v":52179.600000000006}]
[null,"34(30)",620000,null,20670,null,605000,"～",635000,{"$f":"C48*$J$10","v":61690},null,{"$f":"J48/2","v":30845},null,{"$f":"C48*$N$10","v":72354},null,{"$f":"N48/2","v":36177},null,{"$f":"C48*$R$10","v":108338.8},null,{"$f":"R48/2","v":54169.4},null,{"$f":"C48*$V$10","v":109665.60000000001},null,{"$f":"V48/2","v":54832.800000000003}]
[null,35,650000,null,21670,null,635000,"～",665000,{"$f":"C49*$J$10","v":64675},null,{"$f":"J49/2","v":32337.5},null,{"$f":"C49*$N$10","v":75855},null,{"$f":"N49/2","v":37927.5},null,"※厚生年金基金に加入している方の厚生年金保険\n　料率は、基金ごとに定められている免除保険料\n　率(2.4%～5.0%)を控除した率となります。\n\n　●一般の被保険者の方　…12.474%～15.074%\n　●坑内員の被保険者の方…12.688%～15.288%\n\n　加入する基金ごとに異なりますので、免除保険\n　料率および厚生年金基金の掛金については、加\n　入する厚生年金基金にお問い合わせください。\n"]
[null,36,680000,null,22670,null,665000,"～",695000,{"$f":"C50*$J$10","v":67660},null,{"$f":"J50/2","v":33830},null,{"$f":"C50*$N$10","v":79356},null,{"$f":"N50/2","v":39678}]
[null,37,710000,null,23670,null,695000,"～",730000,{"$f":"C51*$J$10","v":70645},null,{"$f":"J51/2","v":35322.5},null,{"$f":"C51*$N$10","v":82857},null,{"$f":"N51/2","v":41428.5}]
[null,38,750000,null,25000,null,730000,"～",770000,{"$f":"C52*$J$10","v":74625},null,{"$f":"J52/2","v":37312.5},null,{"$f":"C52*$N$10","v":87525},null,{"$f":"N52/2","v":43762.5}]
[null,39,790000,null,26330,null,770000,"～",810000,{"$f":"C53*$J$10","v":78605},null,{"$f":"J53/2","v":39302.5},null,{"$f":"C53*$N$10","v":92193},null,{"$f":"N53/2","v":46096.5}]
[null,40,830000,null,27670,null,810000,"～",855000,{"$f":"C54*$J$10","v":82585},null,{"$f":"J54/2","v":41292.5},null,{"$f":"C54*$N$10","v":96861},null,{"$f":"N54/2","v":48430.5}]
[null,41,880000,null,29330,null,855000,"～",905000,{"$f":"C55*$J$10","v":87560},null,{"$f":"J55/2","v":43780},null,{"$f":"C55*$N$10","v":102696},null,{"$f":"N55/2","v":51348}]
[null,42,930000,null,31000,null,905000,"～",955000,{"$f":"C56*$J$10","v":92535},null,{"$f":"J56/2","v":46267.5},null,{"$f":"C56*$N$10","v":108531},null,{"$f":"N56/2","v":54265.5}]
[null,43,980000,null,32670,null,955000,"～",1005000,{"$f":"C57*$J$10","v":97510},null,{"$f":"J57/2","v":48755},null,{"$f":"C57*$N$10","v":114366},null,{"$f":"N57/2","v":57183}]
[null,44,1030000,null,34330,null,1005000,"～",1055000,{"$f":"C58*$J$10","v":102485},null,{"$f":"J58/2","v":51242.5},null,{"$f":"C58*$N$10","v":120201},null,{"$f":"N58/2","v":60100.5}]
[null,45,1090000,null,36330,null,1055000,"～",1115000,{"$f":"C59*$J$10","v":108455},null,{"$f":"J59/2","v":54227.5},null,{"$f":"C59*$N$10","v":127203},null,{"$f":"N59/2","v":63601.5}]
[null,46,1150000,null,38330,null,1115000,"～",1175000,{"$f":"C60*$J$10","v":114425},null,{"$f":"J60/2","v":57212.5},null,{"$f":"C60*$N$10","v":134205},null,{"$f":"N60/2","v":67102.5}]
[null,47,1210000,null,40330,null,1175000,"～",null,{"$f":"C61*$J$10","v":120395},null,{"$f":"J61/2","v":60197.5},null,{"$f":"C61*$N$10","v":141207},null,{"$f":"N61/2","v":70603.5}]
[]
[{"$f":"J10","v":9.9500000000000005E-2}]
[null,""]
["◆等級欄の（　）内の数字は、厚生年金保険の標準報酬月額等級です。"]
["　5(1)等級の「報酬月額」欄は、厚生年金保険の場合「101,000円未満」と読み替えてください。"]
["　34(30)等級の「報酬月額」欄は、厚生年金保険の場合「605,000円以上」と読み替えてください。"]
[null,""]
["◆平成26年度における全国健康保険協会の任意継続被保険者について、標準報酬月額の上限は、280,000円です。"]
[]
[]
["　○被保険者負担分（表の折半額の欄）に円未満の端数がある場合"]
["　　　①事業主が、給与から被保険者負担分を控除する場合、被保険者負担分の端数が50銭以下の場合は切り捨て、50銭を超える場合は切り上げて1円となります。"]
["　　　②被保険者が、被保険者負担分を事業主へ現金で支払う場合、被保険者負担分の端数が50銭未満の場合は切り捨て、50銭以上の場合は切り上げて1円となります。"]
["　　　（注）①、②にかかわらず、事業主と被保険者の間で特約がある場合には、特約に基づき端数処理をすることができます。"]
[]
["　○納入告知書の保険料額"]
["　　　 納入告知書の保険料額は、被保険者個々の保険料額を合算した金額になります。ただし、合算した金額に円未満の端数がある場合は、その端数を切り捨てた額となります。"]
[]
["　○賞与に係る保険料"]
["　　　 賞与に係る保険料額は、賞与額から1,000円未満の端数を切り捨てた額（標準賞与額）に、保険料率を乗じた額となります。"]
[" 　　　また、標準賞与額の上限は、健康保険は年間540万円（毎年4月1日から翌年3月31日までの累計額）となり、厚生年金保険と児童手当拠出金の場合は月間150万円となります。"]
[]
["　○児童手当拠出金"]
["　　　 厚生年金保険の被保険者を使用する事業主の方は、児童手当等の支給に要する費用の一部として児童手当拠出金を全額負担いただくことになります。この児童手当"]
["　　　 拠出金の額は、被保険者個々の厚生年金保険の標準報酬月額および標準賞与額に、拠出金率（0.15%）を乗じて得た額の総額となります。"]

{"sheet":"群馬","index":19,"n_rows":86,"n_cols":24,"rows_kept":86,"cut":false,"hidden":true,"merged":[[74,0,74,24],[75,0,75,16],[85,0,85,24],[86,0,86,16],[77,0,77,23],[79,0,79,16],[80,0,80,21],[81,0,81,24],[83,0,83,21],[84,0,84,24],[76,0,76,23],[48,17,60,24],[62,0,62,25],[64,0,64,24],[65,0,65,24],[66,0,66,24],[68,0,68,24],[71,0,71,16],[72,0,72,24],[73,0,73,24],[6,21,8,24],[9,9,10,12],[9,13,10,16],[9,17,10,20],[9,21,10,24],[11,13,12,14],[11,15,12,16],[11,17,12,18],[11,19,12,20],[11,21,12,22],[11,1,12,1],[11,2,12,3],[11,4,12,5],[11,9,12,10],[11,11,12,12],[11,23,12,24],[0,1,1,24],[2,1,3,23],[4,1,4,16],[5,1,10,5],[5,6,12,8],[5,9,5,16],[5,17,5,24],[6,9,8,12],[6,13,8,16],[6,17,8,20]]}
[null,"平成26年9月分(10月納付分)からの健康保険・厚生年金保険の保険料額表"]
[]
[null,"     ‣健康保険料率：平成24年3月分～　適用　　‣厚生年金保険料率：平成26年9月分～平成27年8月分　適用\n     ‣介護保険料率：平成26年3月分～　適用　　‣児童手当拠出金率：平成24年4月分～　適用\n"]
[]
[null,"（群馬県）",null,null,null,null,null,null,null,null,null,null,null,null,null,null,null,null,null,null,null,null,null,"（単位：円）"]
[null,"標　準　報　酬",null,null,null,null,"報　酬　月　額",null,null,"全国健康保険協会管掌健康保険料",null,null,null,null,null,null,null,"厚生年金保険料（厚生年金基金加入員を除く）"]
[null,null,null,null,null,null,null,null,null,"介護保険第２号被保険者\nに該当しない場合",null,null,null,"介護保険第２号被保険者\nに該当する場合",null,null,null,"一般の被保険者",null,null,null,"坑内員・船員"]
[]
[]
[null,null,null,null,null,null,null,null,null,9.9500000000000005E-2,null,null,null,{"$f":"J10+0.0172","v":0.1167},null,null,null,0.17474000000000001,null,null,null,0.17688000000000001]
[]
[null,"等級","月　額",null,"日　額",null,null,null,null,"全　額",null,"折半額",null,"全　額",null,"折半額",null,"全　額",null,"折半額",null,"全　額",null,"折半額"]
[]
[null,null,null,null,null,null,"円以上",null,"円未満"]
[null,1,58000,null,1930,null,null,"～",63000,{"$f":"C15*$J$10","v":5771},null,{"$f":"J15/2","v":2885.5},null,{"$f":"C15*$N$10","v":6768.5999999999995},null,{"$f":"N15/2","v":3384.2999999999997}]
[null,2,68000,null,2270,null,63000,"～",73000,{"$f":"C16*$J$10","v":6766},null,{"$f":"J16/2","v":3383},null,{"$f":"C16*$N$10","v":7935.5999999999995},null,{"$f":"N16/2","v":3967.7999999999997}]
[null,3,78000,null,2600,null,73000,"～",83000,{"$f":"C17*$J$10","v":7761},null,{"$f":"J17/2","v":3880.5},null,{"$f":"C17*$N$10","v":9102.6},null,{"$f":"N17/2","v":4551.3}]
[null,4,88000,null,2930,null,83000,"～",93000,{"$f":"C18*$J$10","v":8756},null,{"$f":"J18/2","v":4378},null,{"$f":"C18*$N$10","v":10269.6},null,{"$f":"N18/2","v":5134.8}]
[null,"5(1)",98000,null,3270,null,93000,"～",101000,{"$f":"C19*$J$10","v":9751},null,{"$f":"J19/2","v":4875.5},null,{"$f":"C19*$N$10","v":11436.6},null,{"$f":"N19/2","v":5718.3},null,{"$f":"C19*$R$10","v":17124.52},null,{"$f":"R19/2","v":8562.26},null,{"$f":"C19*$V$10","v":17334.240000000002},null,{"$f":"V19/2","v":8667.1200000000008}]
[null,"6(2)",104000,null,3470,null,101000,"～",107000,{"$f":"C20*$J$10","v":10348},null,{"$f":"J20/2","v":5174},null,{"$f":"C20*$N$10","v":12136.8},null,{"$f":"N20/2","v":6068.4},null,{"$f":"C20*$R$10","v":18172.96},null,{"$f":"R20/2","v":9086.48},null,{"$f":"C20*$V$10","v":18395.52},null,{"$f":"V20/2","v":9197.76}]
[null,"7(3)",110000,null,3670,null,107000,"～",114000,{"$f":"C21*$J$10","v":10945},null,{"$f":"J21/2","v":5472.5},null,{"$f":"C21*$N$10","v":12837},null,{"$f":"N21/2","v":6418.5},null,{"$f":"C21*$R$10","v":19221.400000000001},null,{"$f":"R21/2","v":9610.7000000000007},null,{"$f":"C21*$V$10","v":19456.8},null,{"$f":"V21/2","v":9728.4}]
[null,"8(4)",118000,null,3930,null,114000,"～",122000,{"$f":"C22*$J$10","v":11741},null,{"$f":"J22/2","v":5870.5},null,{"$f":"C22*$N$10","v":13770.6},null,{"$f":"N22/2","v":6885.3},null,{"$f":"C22*$R$10","v":20619.32},null,{"$f":"R22/2","v":10309.66},null,{"$f":"C22*$V$10","v":20871.84},null,{"$f":"V22/2","v":10435.92}]
[null,"9(5)",126000,null,4200,null,122000,"～",130000,{"$f":"C23*$J$10","v":12537},null,{"$f":"J23/2","v":6268.5},null,{"$f":"C23*$N$10","v":14704.199999999999},null,{"$f":"N23/2","v":7352.0999999999995},null,{"$f":"C23*$R$10","v":22017.24},null,{"$f":"R23/2","v":11008.62},null,{"$f":"C23*$V$10","v":22286.880000000001},null,{"$f":"V23/2","v":11143.44}]
[null,"10(6)",134000,null,4470,null,130000,"～",138000,{"$f":"C24*$J$10","v":13333},null,{"$f":"J24/2","v":6666.5},null,{"$f":"C24*$N$10","v":15637.8},null,{"$f":"N24/2","v":7818.9},null,{"$f":"C24*$R$10","v":23415.16},null,{"$f":"R24/2","v":11707.58},null,{"$f":"C24*$V$10","v":23701.920000000002},null,{"$f":"V24/2","v":11850.960000000001}]
[null,"11(7)",142000,null,4730,null,138000,"～",146000,{"$f":"C25*$J$10","v":14129},null,{"$f":"J25/2","v":7064.5},null,{"$f":"C25*$N$10","v":16571.400000000001},null,{"$f":"N25/2","v":8285.7000000000007},null,{"$f":"C25*$R$10","v":24813.08},null,{"$f":"R25/2","v":12406.54},null,{"$f":"C25*$V$10","v":25116.960000000003},null,{"$f":"V25/2","v":12558.480000000001}]
[null,"12(8)",150000,null,5000,null,146000,"～",155000,{"$f":"C26*$J$10","v":14925},null,{"$f":"J26/2","v":7462.5},null,{"$f":"C26*$N$10","v":17505},null,{"$f":"N26/2","v":8752.5},null,{"$f":"C26*$R$10","v":26211},null,{"$f":"R26/2","v":13105.5},null,{"$f":"C26*$V$10","v":26532},null,{"$f":"V26/2","v":13266}]
[null,"13(9)",160000,null,5330,null,155000,"～",165000,{"$f":"C27*$J$10","v":15920},null,{"$f":"J27/2","v":7960},null,{"$f":"C27*$N$10","v":18672},null,{"$f":"N27/2","v":9336},null,{"$f":"C27*$R$10","v":27958.400000000001},null,{"$f":"R27/2","v":13979.2},null,{"$f":"C27*$V$10","v":28300.800000000003},null,{"$f":"V27/2","v":14150.400000000001}]
[null,"14(10)",170000,null,5670,null,165000,"～",175000,{"$f":"C28*$J$10","v":16915},null,{"$f":"J28/2","v":8457.5},null,{"$f":"C28*$N$10","v":19839},null,{"$f":"N28/2","v":9919.5},null,{"$f":"C28*$R$10","v":29705.800000000003},null,{"$f":"R28/2","v":14852.900000000001},null,{"$f":"C28*$V$10","v":30069.600000000002},null,{"$f":"V28/2","v":15034.800000000001}]
[null,"15(11)",180000,null,6000,null,175000,"～",185000,{"$f":"C29*$J$10","v":17910},null,{"$f":"J29/2","v":8955},null,{"$f":"C29*$N$10","v":21006},null,{"$f":"N29/2","v":10503},null,{"$f":"C29*$R$10","v":31453.200000000001},null,{"$f":"R29/2","v":15726.6},null,{"$f":"C29*$V$10","v":31838.400000000001},null,{"$f":"V29/2","v":15919.2}]
[null,"16(12)",190000,null,6330,null,185000,"～",195000,{"$f":"C30*$J$10","v":18905},null,{"$f":"J30/2","v":9452.5},null,{"$f":"C30*$N$10","v":22173},null,{"$f":"N30/2","v":11086.5},null,{"$f":"C30*$R$10","v":33200.6},null,{"$f":"R30/2","v":16600.3},null,{"$f":"C30*$V$10","v":33607.200000000004},null,{"$f":"V30/2","v":16803.600000000002}]
[null,"17(13)",200000,null,6670,null,195000,"～",210000,{"$f":"C31*$J$10","v":19900},null,{"$f":"J31/2","v":9950},null,{"$f":"C31*$N$10","v":23340},null,{"$f":"N31/2","v":11670},null,{"$f":"C31*$R$10","v":34948},null,{"$f":"R31/2","v":17474},null,{"$f":"C31*$V$10","v":35376},null,{"$f":"V31/2","v":17688}]
[null,"18(14)",220000,null,7330,null,210000,"～",230000,{"$f":"C32*$J$10","v":21890},null,{"$f":"J32/2","v":10945},null,{"$f":"C32*$N$10","v":25674},null,{"$f":"N32/2","v":12837},null,{"$f":"C32*$R$10","v":38442.800000000003},null,{"$f":"R32/2","v":19221.400000000001},null,{"$f":"C32*$V$10","v":38913.599999999999},null,{"$f":"V32/2","v":19456.8}]
[null,"19(15)",240000,null,8000,null,230000,"～",250000,{"$f":"C33*$J$10","v":23880},null,{"$f":"J33/2","v":11940},null,{"$f":"C33*$N$10","v":28008},null,{"$f":"N33/2","v":14004},null,{"$f":"C33*$R$10","v":41937.599999999999},null,{"$f":"R33/2","v":20968.8},null,{"$f":"C33*$V$10","v":42451.200000000004},null,{"$f":"V33/2","v":21225.600000000002}]
[null,"20(16)",260000,null,8670,null,250000,"～",270000,{"$f":"C34*$J$10","v":25870},null,{"$f":"J34/2","v":12935},null,{"$f":"C34*$N$10","v":30342},null,{"$f":"N34/2","v":15171},null,{"$f":"C34*$R$10","v":45432.4},null,{"$f":"R34/2","v":22716.2},null,{"$f":"C34*$V$10","v":45988.800000000003},null,{"$f":"V34/2","v":22994.400000000001}]
[null,"21(17)",280000,null,9330,null,270000,"～",290000,{"$f":"C35*$J$10","v":27860},null,{"$f":"J35/2","v":13930},null,{"$f":"C35*$N$10","v":32676},null,{"$f":"N35/2","v":16338},null,{"$f":"C35*$R$10","v":48927.200000000004},null,{"$f":"R35/2","v":24463.600000000002},null,{"$f":"C35*$V$10","v":49526.400000000001},null,{"$f":"V35/2","v":24763.200000000001}]
[null,"22(18)",300000,null,10000,null,290000,"～",310000,{"$f":"C36*$J$10","v":29850},null,{"$f":"J36/2","v":14925},null,{"$f":"C36*$N$10","v":35010},null,{"$f":"N36/2","v":17505},null,{"$f":"C36*$R$10","v":52422},null,{"$f":"R36/2","v":26211},null,{"$f":"C36*$V$10","v":53064},null,{"$f":"V36/2","v":26532}]
[null,"23(19)",320000,null,10670,null,310000,"～",330000,{"$f":"C37*$J$10","v":31840},null,{"$f":"J37/2","v":15920},null,{"$f":"C37*$N$10","v":37344},null,{"$f":"N37/2","v":18672},null,{"$f":"C37*$R$10","v":55916.800000000003},null,{"$f":"R37/2","v":27958.400000000001},null,{"$f":"C37*$V$10","v":56601.600000000006},null,{"$f":"V37/2","v":28300.800000000003}]
[null,"24(20)",340000,null,11330,null,330000,"～",350000,{"$f":"C38*$J$10","v":33830},null,{"$f":"J38/2","v":16915},null,{"$f":"C38*$N$10","v":39678},null,{"$f":"N38/2","v":19839},null,{"$f":"C38*$R$10","v":59411.600000000006},null,{"$f":"R38/2","v":29705.800000000003},null,{"$f":"C38*$V$10","v":60139.200000000004},null,{"$f":"V38/2","v":30069.600000000002}]
[null,"25(21)",360000,null,12000,null,350000,"～",370000,{"$f":"C39*$J$10","v":35820},null,{"$f":"J39/2","v":17910},null,{"$f":"C39*$N$10","v":42012},null,{"$f":"N39/2","v":21006},null,{"$f":"C39*$R$10","v":62906.400000000001},null,{"$f":"R39/2","v":31453.200000000001},null,{"$f":"C39*$V$10","v":63676.800000000003},null,{"$f":"V39/2","v":31838.400000000001}]
[null,"26(22)",380000,null,12670,null,370000,"～",395000,{"$f":"C40*$J$10","v":37810},null,{"$f":"J40/2","v":18905},null,{"$f":"C40*$N$10","v":44346},null,{"$f":"N40/2","v":22173},null,{"$f":"C40*$R$10","v":66401.2},null,{"$f":"R40/2","v":33200.6},null,{"$f":"C40*$V$10","v":67214.400000000009},null,{"$f":"V40/2","v":33607.200000000004}]
[null,"27(23)",410000,null,13670,null,395000,"～",425000,{"$f":"C41*$J$10","v":40795},null,{"$f":"J41/2","v":20397.5},null,{"$f":"C41*$N$10","v":47847},null,{"$f":"N41/2","v":23923.5},null,{"$f":"C41*$R$10","v":71643.400000000009},null,{"$f":"R41/2","v":35821.700000000004},null,{"$f":"C41*$V$10","v":72520.800000000003},null,{"$f":"V41/2","v":36260.400000000001}]
[null,"28(24)",440000,null,14670,null,425000,"～",455000,{"$f":"C42*$J$10","v":43780},null,{"$f":"J42/2","v":21890},null,{"$f":"C42*$N$10","v":51348},null,{"$f":"N42/2","v":25674},null,{"$f":"C42*$R$10","v":76885.600000000006},null,{"$f":"R42/2","v":38442.800000000003},null,{"$f":"C42*$V$10","v":77827.199999999997},null,{"$f":"V42/2","v":38913.599999999999}]
[null,"29(25)",470000,null,15670,null,455000,"～",485000,{"$f":"C43*$J$10","v":46765},null,{"$f":"J43/2","v":23382.5},null,{"$f":"C43*$N$10","v":54849},null,{"$f":"N43/2","v":27424.5},null,{"$f":"C43*$R$10","v":82127.8},null,{"$f":"R43/2","v":41063.9},null,{"$f":"C43*$V$10","v":83133.600000000006},null,{"$f":"V43/2","v":41566.800000000003}]
[null,"30(26)",500000,null,16670,null,485000,"～",515000,{"$f":"C44*$J$10","v":49750},null,{"$f":"J44/2","v":24875},null,{"$f":"C44*$N$10","v":58350},null,{"$f":"N44/2","v":29175},null,{"$f":"C44*$R$10","v":87370},null,{"$f":"R44/2","v":43685},null,{"$f":"C44*$V$10","v":88440},null,{"$f":"V44/2","v":44220}]
[null,"31(27)",530000,null,17670,null,515000,"～",545000,{"$f":"C45*$J$10","v":52735},null,{"$f":"J45/2","v":26367.5},null,{"$f":"C45*$N$10","v":61851},null,{"$f":"N45/2","v":30925.5},null,{"$f":"C45*$R$10","v":92612.2},null,{"$f":"R45/2","v":46306.1},null,{"$f":"C45*$V$10","v":93746.400000000009},null,{"$f":"V45/2","v":46873.200000000004}]
[null,"32(28)",560000,null,18670,null,545000,"～",575000,{"$f":"C46*$J$10","v":55720},null,{"$f":"J46/2","v":27860},null,{"$f":"C46*$N$10","v":65352},null,{"$f":"N46/2","v":32676},null,{"$f":"C46*$R$10","v":97854.400000000009},null,{"$f":"R46/2","v":48927.200000000004},null,{"$f":"C46*$V$10","v":99052.800000000003},null,{"$f":"V46/2","v":49526.400000000001}]
[null,"33(29)",590000,null,19670,null,575000,"～",605000,{"$f":"C47*$J$10","v":58705},null,{"$f":"J47/2","v":29352.5},null,{"$f":"C47*$N$10","v":68853},null,{"$f":"N47/2","v":34426.5},null,{"$f":"C47*$R$10","v":103096.6},null,{"$f":"R47/2","v":51548.3},null,{"$f":"C47*$V$10","v":104359.20000000001},null,{"$f":"V47/2","v":52179.600000000006}]
[null,"34(30)",620000,null,20670,null,605000,"～",635000,{"$f":"C48*$J$10","v":61690},null,{"$f":"J48/2","v":30845},null,{"$f":"C48*$N$10","v":72354},null,{"$f":"N48/2","v":36177},null,{"$f":"C48*$R$10","v":108338.8},null,{"$f":"R48/2","v":54169.4},null,{"$f":"C48*$V$10","v":109665.60000000001},null,{"$f":"V48/2","v":54832.800000000003}]
[null,35,650000,null,21670,null,635000,"～",665000,{"$f":"C49*$J$10","v":64675},null,{"$f":"J49/2","v":32337.5},null,{"$f":"C49*$N$10","v":75855},null,{"$f":"N49/2","v":37927.5},null,"※厚生年金基金に加入している方の厚生年金保険\n　料率は、基金ごとに定められている免除保険料\n　率(2.4%～5.0%)を控除した率となります。\n\n　●一般の被保険者の方　…12.474%～15.074%\n　●坑内員の被保険者の方…12.688%～15.288%\n\n　加入する基金ごとに異なりますので、免除保険\n　料率および厚生年金基金の掛金については、加\n　入する厚生年金基金にお問い合わせください。\n"]
[null,36,680000,null,22670,null,665000,"～",695000,{"$f":"C50*$J$10","v":67660},null,{"$f":"J50/2","v":33830},null,{"$f":"C50*$N$10","v":79356},null,{"$f":"N50/2","v":39678}]
[null,37,710000,null,23670,null,695000,"～",730000,{"$f":"C51*$J$10","v":70645},null,{"$f":"J51/2","v":35322.5},null,{"$f":"C51*$N$10","v":82857},null,{"$f":"N51/2","v":41428.5}]
[null,38,750000,null,25000,null,730000,"～",770000,{"$f":"C52*$J$10","v":74625},null,{"$f":"J52/2","v":37312.5},null,{"$f":"C52*$N$10","v":87525},null,{"$f":"N52/2","v":43762.5}]
[null,39,790000,null,26330,null,770000,"～",810000,{"$f":"C53*$J$10","v":78605},null,{"$f":"J53/2","v":39302.5},null,{"$f":"C53*$N$10","v":92193},null,{"$f":"N53/2","v":46096.5}]
[null,40,830000,null,27670,null,810000,"～",855000,{"$f":"C54*$J$10","v":82585},null,{"$f":"J54/2","v":41292.5},null,{"$f":"C54*$N$10","v":96861},null,{"$f":"N54/2","v":48430.5}]
[null,41,880000,null,29330,null,855000,"～",905000,{"$f":"C55*$J$10","v":87560},null,{"$f":"J55/2","v":43780},null,{"$f":"C55*$N$10","v":102696},null,{"$f":"N55/2","v":51348}]
[null,42,930000,null,31000,null,905000,"～",955000,{"$f":"C56*$J$10","v":92535},null,{"$f":"J56/2","v":46267.5},null,{"$f":"C56*$N$10","v":108531},null,{"$f":"N56/2","v":54265.5}]
[null,43,980000,null,32670,null,955000,"～",1005000,{"$f":"C57*$J$10","v":97510},null,{"$f":"J57/2","v":48755},null,{"$f":"C57*$N$10","v":114366},null,{"$f":"N57/2","v":57183}]
[null,44,1030000,null,34330,null,1005000,"～",1055000,{"$f":"C58*$J$10","v":102485},null,{"$f":"J58/2","v":51242.5},null,{"$f":"C58*$N$10","v":120201},null,{"$f":"N58/2","v":60100.5}]
[null,45,1090000,null,36330,null,1055000,"～",1115000,{"$f":"C59*$J$10","v":108455},null,{"$f":"J59/2","v":54227.5},null,{"$f":"C59*$N$10","v":127203},null,{"$f":"N59/2","v":63601.5}]
[null,46,1150000,null,38330,null,1115000,"～",1175000,{"$f":"C60*$J$10","v":114425},null,{"$f":"J60/2","v":57212.5},null,{"$f":"C60*$N$10","v":134205},null,{"$f":"N60/2","v":67102.5}]
[null,47,1210000,null,40330,null,1175000,"～",null,{"$f":"C61*$J$10","v":120395},null,{"$f":"J61/2","v":60197.5},null,{"$f":"C61*$N$10","v":141207},null,{"$f":"N61/2","v":70603.5}]
[]
[{"$f":"J10","v":9.9500000000000005E-2}]
[null,""]
["◆等級欄の（　）内の数字は、厚生年金保険の標準報酬月額等級です。"]
["　5(1)等級の「報酬月額」欄は、厚生年金保険の場合「101,000円未満」と読み替えてください。"]
["　34(30)等級の「報酬月額」欄は、厚生年金保険の場合「605,000円以上」と読み替えてください。"]
[null,""]
["◆平成26年度における全国健康保険協会の任意継続被保険者について、標準報酬月額の上限は、280,000円です。"]
[]
[]
["　○被保険者負担分（表の折半額の欄）に円未満の端数がある場合"]
["　　　①事業主が、給与から被保険者負担分を控除する場合、被保険者負担分の端数が50銭以下の場合は切り捨て、50銭を超える場合は切り上げて1円となります。"]
["　　　②被保険者が、被保険者負担分を事業主へ現金で支払う場合、被保険者負担分の端数が50銭未満の場合は切り捨て、50銭以上の場合は切り上げて1円となります。"]
["　　　（注）①、②にかかわらず、事業主と被保険者の間で特約がある場合には、特約に基づき端数処理をすることができます。"]
[]
["　○納入告知書の保険料額"]
["　　　 納入告知書の保険料額は、被保険者個々の保険料額を合算した金額になります。ただし、合算した金額に円未満の端数がある場合は、その端数を切り捨てた額となります。"]
[]
["　○賞与に係る保険料"]
["　　　 賞与に係る保険料額は、賞与額から1,000円未満の端数を切り捨てた額（標準賞与額）に、保険料率を乗じた額となります。"]
[" 　　　また、標準賞与額の上限は、健康保険は年間540万円（毎年4月1日から翌年3月31日までの累計額）となり、厚生年金保険と児童手当拠出金の場合は月間150万円となります。"]
[]
["　○児童手当拠出金"]
["　　　 厚生年金保険の被保険者を使用する事業主の方は、児童手当等の支給に要する費用の一部として児童手当拠出金を全額負担いただくことになります。この児童手当"]
["　　　 拠出金の額は、被保険者個々の厚生年金保険の標準報酬月額および標準賞与額に、拠出金率（0.15%）を乗じて得た額の総額となります。"]

{"sheet":"埼玉","index":20,"n_rows":86,"n_cols":24,"rows_kept":86,"cut":false,"hidden":true,"merged":[[74,0,74,24],[75,0,75,16],[85,0,85,24],[86,0,86,16],[77,0,77,23],[79,0,79,16],[80,0,80,21],[81,0,81,24],[83,0,83,21],[84,0,84,24],[76,0,76,23],[48,17,60,24],[62,0,62,25],[64,0,64,24],[65,0,65,24],[66,0,66,24],[68,0,68,24],[71,0,71,16],[72,0,72,24],[73,0,73,24],[6,21,8,24],[9,9,10,12],[9,13,10,16],[9,17,10,20],[9,21,10,24],[11,13,12,14],[11,15,12,16],[11,17,12,18],[11,19,12,20],[11,21,12,22],[11,1,12,1],[11,2,12,3],[11,4,12,5],[11,9,12,10],[11,11,12,12],[11,23,12,24],[0,1,1,24],[2,1,3,23],[4,1,4,16],[5,1,10,5],[5,6,12,8],[5,9,5,16],[5,17,5,24],[6,9,8,12],[6,13,8,16],[6,17,8,20]]}
[null,"平成26年9月分(10月納付分)からの健康保険・厚生年金保険の保険料額表"]
[]
[null,"     ‣健康保険料率：平成24年3月分～　適用　　‣厚生年金保険料率：平成26年9月分～平成27年8月分　適用\n     ‣介護保険料率：平成26年3月分～　適用　　‣児童手当拠出金率：平成24年4月分～　適用\n"]
[]
[null,"（埼玉県）",null,null,null,null,null,null,null,null,null,null,null,null,null,null,null,null,null,null,null,null,null,"（単位：円）"]
[null,"標　準　報　酬",null,null,null,null,"報　酬　月　額",null,null,"全国健康保険協会管掌健康保険料",null,null,null,null,null,null,null,"厚生年金保険料（厚生年金基金加入員を除く）"]
[null,null,null,null,null,null,null,null,null,"介護保険第２号被保険者\nに該当しない場合",null,null,null,"介護保険第２号被保険者\nに該当する場合",null,null,null,"一般の被保険者",null,null,null,"坑内員・船員"]
[]
[]
[null,null,null,null,null,null,null,null,null,9.9400000000000002E-2,null,null,null,{"$f":"J10+0.0172","v":0.11660000000000001},null,null,null,0.17474000000000001,null,null,null,0.17688000000000001]
[]
[null,"等級","月　額",null,"日　額",null,null,null,null,"全　額",null,"折半額",null,"全　額",null,"折半額",null,"全　額",null,"折半額",null,"全　額",null,"折半額"]
[]
[null,null,null,null,null,null,"円以上",null,"円未満"]
[null,1,58000,null,1930,null,null,"～",63000,{"$f":"C15*$J$10","v":5765.2},null,{"$f":"J15/2","v":2882.6},null,{"$f":"C15*$N$10","v":6762.8},null,{"$f":"N15/2","v":3381.4}]
[null,2,68000,null,2270,null,63000,"～",73000,{"$f":"C16*$J$10","v":6759.2},null,{"$f":"J16/2","v":3379.6},null,{"$f":"C16*$N$10","v":7928.8},null,{"$f":"N16/2","v":3964.4}]
[null,3,78000,null,2600,null,73000,"～",83000,{"$f":"C17*$J$10","v":7753.2},null,{"$f":"J17/2","v":3876.6},null,{"$f":"C17*$N$10","v":9094.8000000000011},null,{"$f":"N17/2","v":4547.4000000000005}]
[null,4,88000,null,2930,null,83000,"～",93000,{"$f":"C18*$J$10","v":8747.2000000000007},null,{"$f":"J18/2","v":4373.6000000000004},null,{"$f":"C18*$N$10","v":10260.800000000001},null,{"$f":"N18/2","v":5130.4000000000005}]
[null,"5(1)",98000,null,3270,null,93000,"～",101000,{"$f":"C19*$J$10","v":9741.2000000000007},null,{"$f":"J19/2","v":4870.6000000000004},null,{"$f":"C19*$N$10","v":11426.800000000001},null,{"$f":"N19/2","v":5713.4000000000005},null,{"$f":"C19*$R$10","v":17124.52},null,{"$f":"R19/2","v":8562.26},null,{"$f":"C19*$V$10","v":17334.240000000002},null,{"$f":"V19/2","v":8667.1200000000008}]
[null,"6(2)",104000,null,3470,null,101000,"～",107000,{"$f":"C20*$J$10","v":10337.6},null,{"$f":"J20/2","v":5168.8},null,{"$f":"C20*$N$10","v":12126.400000000001},null,{"$f":"N20/2","v":6063.2000000000007},null,{"$f":"C20*$R$10","v":18172.96},null,{"$f":"R20/2","v":9086.48},null,{"$f":"C20*$V$10","v":18395.52},null,{"$f":"V20/2","v":9197.76}]
[null,"7(3)",110000,null,3670,null,107000,"～",114000,{"$f":"C21*$J$10","v":10934},null,{"$f":"J21/2","v":5467},null,{"$f":"C21*$N$10","v":12826.000000000002},null,{"$f":"N21/2","v":6413.0000000000009},null,{"$f":"C21*$R$10","v":19221.400000000001},null,{"$f":"R21/2","v":9610.7000000000007},null,{"$f":"C21*$V$10","v":19456.8},null,{"$f":"V21/2","v":9728.4}]
[null,"8(4)",118000,null,3930,null,114000,"～",122000,{"$f":"C22*$J$10","v":11729.2},null,{"$f":"J22/2","v":5864.6},null,{"$f":"C22*$N$10","v":13758.800000000001},null,{"$f":"N22/2","v":6879.4000000000005},null,{"$f":"C22*$R$10","v":20619.32},null,{"$f":"R22/2","v":10309.66},null,{"$f":"C22*$V$10","v":20871.84},null,{"$f":"V22/2","v":10435.92}]
[null,"9(5)",126000,null,4200,null,122000,"～",130000,{"$f":"C23*$J$10","v":12524.4},null,{"$f":"J23/2","v":6262.2},null,{"$f":"C23*$N$10","v":14691.6},null,{"$f":"N23/2","v":7345.8},null,{"$f":"C23*$R$10","v":22017.24},null,{"$f":"R23/2","v":11008.62},null,{"$f":"C23*$V$10","v":22286.880000000001},null,{"$f":"V23/2","v":11143.44}]
[null,"10(6)",134000,null,4470,null,130000,"～",138000,{"$f":"C24*$J$10","v":13319.6},null,{"$f":"J24/2","v":6659.8},null,{"$f":"C24*$N$10","v":15624.400000000001},null,{"$f":"N24/2","v":7812.2000000000007},null,{"$f":"C24*$R$10","v":23415.16},null,{"$f":"R24/2","v":11707.58},null,{"$f":"C24*$V$10","v":23701.920000000002},null,{"$f":"V24/2","v":11850.960000000001}]
[null,"11(7)",142000,null,4730,null,138000,"～",146000,{"$f":"C25*$J$10","v":14114.800000000001},null,{"$f":"J25/2","v":7057.4000000000005},null,{"$f":"C25*$N$10","v":16557.2},null,{"$f":"N25/2","v":8278.6},null,{"$f":"C25*$R$10","v":24813.08},null,{"$f":"R25/2","v":12406.54},null,{"$f":"C25*$V$10","v":25116.960000000003},null,{"$f":"V25/2","v":12558.480000000001}]
[null,"12(8)",150000,null,5000,null,146000,"～",155000,{"$f":"C26*$J$10","v":14910},null,{"$f":"J26/2","v":7455},null,{"$f":"C26*$N$10","v":17490},null,{"$f":"N26/2","v":8745},null,{"$f":"C26*$R$10","v":26211},null,{"$f":"R26/2","v":13105.5},null,{"$f":"C26*$V$10","v":26532},null,{"$f":"V26/2","v":13266}]
[null,"13(9)",160000,null,5330,null,155000,"～",165000,{"$f":"C27*$J$10","v":15904},null,{"$f":"J27/2","v":7952},null,{"$f":"C27*$N$10","v":18656},null,{"$f":"N27/2","v":9328},null,{"$f":"C27*$R$10","v":27958.400000000001},null,{"$f":"R27/2","v":13979.2},null,{"$f":"C27*$V$10","v":28300.800000000003},null,{"$f":"V27/2","v":14150.400000000001}]
[null,"14(10)",170000,null,5670,null,165000,"～",175000,{"$f":"C28*$J$10","v":16898},null,{"$f":"J28/2","v":8449},null,{"$f":"C28*$N$10","v":19822},null,{"$f":"N28/2","v":9911},null,{"$f":"C28*$R$10","v":29705.800000000003},null,{"$f":"R28/2","v":14852.900000000001},null,{"$f":"C28*$V$10","v":30069.600000000002},null,{"$f":"V28/2","v":15034.800000000001}]
[null,"15(11)",180000,null,6000,null,175000,"～",185000,{"$f":"C29*$J$10","v":17892},null,{"$f":"J29/2","v":8946},null,{"$f":"C29*$N$10","v":20988},null,{"$f":"N29/2","v":10494},null,{"$f":"C29*$R$10","v":31453.200000000001},null,{"$f":"R29/2","v":15726.6},null,{"$f":"C29*$V$10","v":31838.400000000001},null,{"$f":"V29/2","v":15919.2}]
[null,"16(12)",190000,null,6330,null,185000,"～",195000,{"$f":"C30*$J$10","v":18886},null,{"$f":"J30/2","v":9443},null,{"$f":"C30*$N$10","v":22154},null,{"$f":"N30/2","v":11077},null,{"$f":"C30*$R$10","v":33200.6},null,{"$f":"R30/2","v":16600.3},null,{"$f":"C30*$V$10","v":33607.200000000004},null,{"$f":"V30/2","v":16803.600000000002}]
[null,"17(13)",200000,null,6670,null,195000,"～",210000,{"$f":"C31*$J$10","v":19880},null,{"$f":"J31/2","v":9940},null,{"$f":"C31*$N$10","v":23320.000000000004},null,{"$f":"N31/2","v":11660.000000000002},null,{"$f":"C31*$R$10","v":34948},null,{"$f":"R31/2","v":17474},null,{"$f":"C31*$V$10","v":35376},null,{"$f":"V31/2","v":17688}]
[null,"18(14)",220000,null,7330,null,210000,"～",230000,{"$f":"C32*$J$10","v":21868},null,{"$f":"J32/2","v":10934},null,{"$f":"C32*$N$10","v":25652.000000000004},null,{"$f":"N32/2","v":12826.000000000002},null,{"$f":"C32*$R$10","v":38442.800000000003},null,{"$f":"R32/2","v":19221.400000000001},null,{"$f":"C32*$V$10","v":38913.599999999999},null,{"$f":"V32/2","v":19456.8}]
[null,"19(15)",240000,null,8000,null,230000,"～",250000,{"$f":"C33*$J$10","v":23856},null,{"$f":"J33/2","v":11928},null,{"$f":"C33*$N$10","v":27984.000000000004},null,{"$f":"N33/2","v":13992.000000000002},null,{"$f":"C33*$R$10","v":41937.599999999999},null,{"$f":"R33/2","v":20968.8},null,{"$f":"C33*$V$10","v":42451.200000000004},null,{"$f":"V33/2","v":21225.600000000002}]
[null,"20(16)",260000,null,8670,null,250000,"～",270000,{"$f":"C34*$J$10","v":25844},null,{"$f":"J34/2","v":12922},null,{"$f":"C34*$N$10","v":30316.000000000004},null,{"$f":"N34/2","v":15158.000000000002},null,{"$f":"C34*$R$10","v":45432.4},null,{"$f":"R34/2","v":22716.2},null,{"$f":"C34*$V$10","v":45988.800000000003},null,{"$f":"V34/2","v":22994.400000000001}]
[null,"21(17)",280000,null,9330,null,270000,"～",290000,{"$f":"C35*$J$10","v":27832},null,{"$f":"J35/2","v":13916},null,{"$f":"C35*$N$10","v":32648.000000000004},null,{"$f":"N35/2","v":16324.000000000002},null,{"$f":"C35*$R$10","v":48927.200000000004},null,{"$f":"R35/2","v":24463.600000000002},null,{"$f":"C35*$V$10","v":49526.400000000001},null,{"$f":"V35/2","v":24763.200000000001}]
[null,"22(18)",300000,null,10000,null,290000,"～",310000,{"$f":"C36*$J$10","v":29820},null,{"$f":"J36/2","v":14910},null,{"$f":"C36*$N$10","v":34980},null,{"$f":"N36/2","v":17490},null,{"$f":"C36*$R$10","v":52422},null,{"$f":"R36/2","v":26211},null,{"$f":"C36*$V$10","v":53064},null,{"$f":"V36/2","v":26532}]
[null,"23(19)",320000,null,10670,null,310000,"～",330000,{"$f":"C37*$J$10","v":31808},null,{"$f":"J37/2","v":15904},null,{"$f":"C37*$N$10","v":37312},null,{"$f":"N37/2","v":18656},null,{"$f":"C37*$R$10","v":55916.800000000003},null,{"$f":"R37/2","v":27958.400000000001},null,{"$f":"C37*$V$10","v":56601.600000000006},null,{"$f":"V37/2","v":28300.800000000003}]
[null,"24(20)",340000,null,11330,null,330000,"～",350000,{"$f":"C38*$J$10","v":33796},null,{"$f":"J38/2","v":16898},null,{"$f":"C38*$N$10","v":39644},null,{"$f":"N38/2","v":19822},null,{"$f":"C38*$R$10","v":59411.600000000006},null,{"$f":"R38/2","v":29705.800000000003},null,{"$f":"C38*$V$10","v":60139.200000000004},null,{"$f":"V38/2","v":30069.600000000002}]
[null,"25(21)",360000,null,12000,null,350000,"～",370000,{"$f":"C39*$J$10","v":35784},null,{"$f":"J39/2","v":17892},null,{"$f":"C39*$N$10","v":41976},null,{"$f":"N39/2","v":20988},null,{"$f":"C39*$R$10","v":62906.400000000001},null,{"$f":"R39/2","v":31453.200000000001},null,{"$f":"C39*$V$10","v":63676.800000000003},null,{"$f":"V39/2","v":31838.400000000001}]
[null,"26(22)",380000,null,12670,null,370000,"～",395000,{"$f":"C40*$J$10","v":37772},null,{"$f":"J40/2","v":18886},null,{"$f":"C40*$N$10","v":44308},null,{"$f":"N40/2","v":22154},null,{"$f":"C40*$R$10","v":66401.2},null,{"$f":"R40/2","v":33200.6},null,{"$f":"C40*$V$10","v":67214.400000000009},null,{"$f":"V40/2","v":33607.200000000004}]
[null,"27(23)",410000,null,13670,null,395000,"～",425000,{"$f":"C41*$J$10","v":40754},null,{"$f":"J41/2","v":20377},null,{"$f":"C41*$N$10","v":47806.000000000007},null,{"$f":"N41/2","v":23903.000000000004},null,{"$f":"C41*$R$10","v":71643.400000000009},null,{"$f":"R41/2","v":35821.700000000004},null,{"$f":"C41*$V$10","v":72520.800000000003},null,{"$f":"V41/2","v":36260.400000000001}]
[null,"28(24)",440000,null,14670,null,425000,"～",455000,{"$f":"C42*$J$10","v":43736},null,{"$f":"J42/2","v":21868},null,{"$f":"C42*$N$10","v":51304.000000000007},null,{"$f":"N42/2","v":25652.000000000004},null,{"$f":"C42*$R$10","v":76885.600000000006},null,{"$f":"R42/2","v":38442.800000000003},null,{"$f":"C42*$V$10","v":77827.199999999997},null,{"$f":"V42/2","v":38913.599999999999}]
[null,"29(25)",470000,null,15670,null,455000,"～",485000,{"$f":"C43*$J$10","v":46718},null,{"$f":"J43/2","v":23359},null,{"$f":"C43*$N$10","v":54802.000000000007},null,{"$f":"N43/2","v":27401.000000000004},null,{"$f":"C43*$R$10","v":82127.8},null,{"$f":"R43/2","v":41063.9},null,{"$f":"C43*$V$10","v":83133.600000000006},null,{"$f":"V43/2","v":41566.800000000003}]
[null,"30(26)",500000,null,16670,null,485000,"～",515000,{"$f":"C44*$J$10","v":49700},null,{"$f":"J44/2","v":24850},null,{"$f":"C44*$N$10","v":58300.000000000007},null,{"$f":"N44/2","v":29150.000000000004},null,{"$f":"C44*$R$10","v":87370},null,{"$f":"R44/2","v":43685},null,{"$f":"C44*$V$10","v":88440},null,{"$f":"V44/2","v":44220}]
[null,"31(27)",530000,null,17670,null,515000,"～",545000,{"$f":"C45*$J$10","v":52682},null,{"$f":"J45/2","v":26341},null,{"$f":"C45*$N$10","v":61798.000000000007},null,{"$f":"N45/2","v":30899.000000000004},null,{"$f":"C45*$R$10","v":92612.2},null,{"$f":"R45/2","v":46306.1},null,{"$f":"C45*$V$10","v":93746.400000000009},null,{"$f":"V45/2","v":46873.200000000004}]
[null,"32(28)",560000,null,18670,null,545000,"～",575000,{"$f":"C46*$J$10","v":55664},null,{"$f":"J46/2","v":27832},null,{"$f":"C46*$N$10","v":65296.000000000007},null,{"$f":"N46/2","v":32648.000000000004},null,{"$f":"C46*$R$10","v":97854.400000000009},null,{"$f":"R46/2","v":48927.200000000004},null,{"$f":"C46*$V$10","v":99052.800000000003},null,{"$f":"V46/2","v":49526.400000000001}]
[null,"33(29)",590000,null,19670,null,575000,"～",605000,{"$f":"C47*$J$10","v":58646},null,{"$f":"J47/2","v":29323},null,{"$f":"C47*$N$10","v":68794},null,{"$f":"N47/2","v":34397},null,{"$f":"C47*$R$10","v":103096.6},null,{"$f":"R47/2","v":51548.3},null,{"$f":"C47*$V$10","v":104359.20000000001},null,{"$f":"V47/2","v":52179.600000000006}]
[null,"34(30)",620000,null,20670,null,605000,"～",635000,{"$f":"C48*$J$10","v":61628},null,{"$f":"J48/2","v":30814},null,{"$f":"C48*$N$10","v":72292},null,{"$f":"N48/2","v":36146},null,{"$f":"C48*$R$10","v":108338.8},null,{"$f":"R48/2","v":54169.4},null,{"$f":"C48*$V$10","v":109665.60000000001},null,{"$f":"V48/2","v":54832.800000000003}]
[null,35,650000,null,21670,null,635000,"～",665000,{"$f":"C49*$J$10","v":64610},null,{"$f":"J49/2","v":32305},null,{"$f":"C49*$N$10","v":75790},null,{"$f":"N49/2","v":37895},null,"※厚生年金基金に加入している方の厚生年金保険\n　料率は、基金ごとに定められている免除保険料\n　率(2.4%～5.0%)を控除した率となります。\n\n　●一般の被保険者の方　…12.474%～15.074%\n　●坑内員の被保険者の方…12.688%～15.288%\n\n　加入する基金ごとに異なりますので、免除保険\n　料率および厚生年金基金の掛金については、加\n　入する厚生年金基金にお問い合わせください。\n"]
[null,36,680000,null,22670,null,665000,"～",695000,{"$f":"C50*$J$10","v":67592},null,{"$f":"J50/2","v":33796},null,{"$f":"C50*$N$10","v":79288},null,{"$f":"N50/2","v":39644}]
[null,37,710000,null,23670,null,695000,"～",730000,{"$f":"C51*$J$10","v":70574},null,{"$f":"J51/2","v":35287},null,{"$f":"C51*$N$10","v":82786},null,{"$f":"N51/2","v":41393}]
[null,38,750000,null,25000,null,730000,"～",770000,{"$f":"C52*$J$10","v":74550},null,{"$f":"J52/2","v":37275},null,{"$f":"C52*$N$10","v":87450},null,{"$f":"N52/2","v":43725}]
[null,39,790000,null,26330,null,770000,"～",810000,{"$f":"C53*$J$10","v":78526},null,{"$f":"J53/2","v":39263},null,{"$f":"C53*$N$10","v":92114},null,{"$f":"N53/2","v":46057}]
[null,40,830000,null,27670,null,810000,"～",855000,{"$f":"C54*$J$10","v":82502},null,{"$f":"J54/2","v":41251},null,{"$f":"C54*$N$10","v":96778.000000000015},null,{"$f":"N54/2","v":48389.000000000007}]
[null,41,880000,null,29330,null,855000,"～",905000,{"$f":"C55*$J$10","v":87472},null,{"$f":"J55/2","v":43736},null,{"$f":"C55*$N$10","v":102608.00000000001},null,{"$f":"N55/2","v":51304.000000000007}]
[null,42,930000,null,31000,null,905000,"～",955000,{"$f":"C56*$J$10","v":92442},null,{"$f":"J56/2","v":46221},null,{"$f":"C56*$N$10","v":108438.00000000001},null,{"$f":"N56/2","v":54219.000000000007}]
[null,43,980000,null,32670,null,955000,"～",1005000,{"$f":"C57*$J$10","v":97412},null,{"$f":"J57/2","v":48706},null,{"$f":"C57*$N$10","v":114268.00000000001},null,{"$f":"N57/2","v":57134.000000000007}]
[null,44,1030000,null,34330,null,1005000,"～",1055000,{"$f":"C58*$J$10","v":102382},null,{"$f":"J58/2","v":51191},null,{"$f":"C58*$N$10","v":120098.00000000001},null,{"$f":"N58/2","v":60049.000000000007}]
[null,45,1090000,null,36330,null,1055000,"～",1115000,{"$f":"C59*$J$10","v":108346},null,{"$f":"J59/2","v":54173},null,{"$f":"C59*$N$10","v":127094.00000000001},null,{"$f":"N59/2","v":63547.000000000007}]
[null,46,1150000,null,38330,null,1115000,"～",1175000,{"$f":"C60*$J$10","v":114310},null,{"$f":"J60/2","v":57155},null,{"$f":"C60*$N$10","v":134090},null,{"$f":"N60/2","v":67045}]
[null,47,1210000,null,40330,null,1175000,"～",null,{"$f":"C61*$J$10","v":120274},null,{"$f":"J61/2","v":60137},null,{"$f":"C61*$N$10","v":141086},null,{"$f":"N61/2","v":70543}]
[]
[{"$f":"J10","v":9.9400000000000002E-2}]
[null,""]
["◆等級欄の（　）内の数字は、厚生年金保険の標準報酬月額等級です。"]
["　5(1)等級の「報酬月額」欄は、厚生年金保険の場合「101,000円未満」と読み替えてください。"]
["　34(30)等級の「報酬月額」欄は、厚生年金保険の場合「605,000円以上」と読み替えてください。"]
[null,""]
["◆平成26年度における全国健康保険協会の任意継続被保険者について、標準報酬月額の上限は、280,000円です。"]
[]
[]
["　○被保険者負担分（表の折半額の欄）に円未満の端数がある場合"]
["　　　①事業主が、給与から被保険者負担分を控除する場合、被保険者負担分の端数が50銭以下の場合は切り捨て、50銭を超える場合は切り上げて1円となります。"]
["　　　②被保険者が、被保険者負担分を事業主へ現金で支払う場合、被保険者負担分の端数が50銭未満の場合は切り捨て、50銭以上の場合は切り上げて1円となります。"]
["　　　（注）①、②にかかわらず、事業主と被保険者の間で特約がある場合には、特約に基づき端数処理をすることができます。"]
[]
["　○納入告知書の保険料額"]
["　　　 納入告知書の保険料額は、被保険者個々の保険料額を合算した金額になります。ただし、合算した金額に円未満の端数がある場合は、その端数を切り捨てた額となります。"]
[]
["　○賞与に係る保険料"]
["　　　 賞与に係る保険料額は、賞与額から1,000円未満の端数を切り捨てた額（標準賞与額）に、保険料率を乗じた額となります。"]
[" 　　　また、標準賞与額の上限は、健康保険は年間540万円（毎年4月1日から翌年3月31日までの累計額）となり、厚生年金保険と児童手当拠出金の場合は月間150万円となります。"]
[]
["　○児童手当拠出金"]
["　　　 厚生年金保険の被保険者を使用する事業主の方は、児童手当等の支給に要する費用の一部として児童手当拠出金を全額負担いただくことになります。この児童手当"]
["　　　 拠出金の額は、被保険者個々の厚生年金保険の標準報酬月額および標準賞与額に、拠出金率（0.15%）を乗じて得た額の総額となります。"]

{"sheet":"千葉","index":21,"n_rows":86,"n_cols":24,"rows_kept":86,"cut":false,"hidden":true,"merged":[[74,0,74,24],[75,0,75,16],[85,0,85,24],[86,0,86,16],[77,0,77,23],[79,0,79,16],[80,0,80,21],[81,0,81,24],[83,0,83,21],[84,0,84,24],[76,0,76,23],[48,17,60,24],[62,0,62,25],[64,0,64,24],[65,0,65,24],[66,0,66,24],[68,0,68,24],[71,0,71,16],[72,0,72,24],[73,0,73,24],[6,21,8,24],[9,9,10,12],[9,13,10,16],[9,17,10,20],[9,21,10,24],[11,13,12,14],[11,15,12,16],[11,17,12,18],[11,19,12,20],[11,21,12,22],[11,1,12,1],[11,2,12,3],[11,4,12,5],[11,9,12,10],[11,11,12,12],[11,23,12,24],[0,1,1,24],[2,1,3,23],[4,1,4,16],[5,1,10,5],[5,6,12,8],[5,9,5,16],[5,17,5,24],[6,9,8,12],[6,13,8,16],[6,17,8,20]]}
[null,"平成26年9月分(10月納付分)からの健康保険・厚生年金保険の保険料額表"]
[]
[null,"     ‣健康保険料率：平成24年3月分～　適用　　‣厚生年金保険料率：平成26年9月分～平成27年8月分　適用\n     ‣介護保険料率：平成26年3月分～　適用　　‣児童手当拠出金率：平成24年4月分～　適用\n"]
[]
[null,"（千葉県）",null,null,null,null,null,null,null,null,null,null,null,null,null,null,null,null,null,null,null,null,null,"（単位：円）"]
[null,"標　準　報　酬",null,null,null,null,"報　酬　月　額",null,null,"全国健康保険協会管掌健康保険料",null,null,null,null,null,null,null,"厚生年金保険料（厚生年金基金加入員を除く）"]
[null,null,null,null,null,null,null,null,null,"介護保険第２号被保険者\nに該当しない場合",null,null,null,"介護保険第２号被保険者\nに該当する場合",null,null,null,"一般の被保険者",null,null,null,"坑内員・船員"]
[]
[]
[null,null,null,null,null,null,null,null,null,9.9299999999999999E-2,null,null,null,{"$f":"J10+0.0172","v":0.11649999999999999},null,null,null,0.17474000000000001,null,null,null,0.17688000000000001]
[]
[null,"等級","月　額",null,"日　額",null,null,null,null,"全　額",null,"折半額",null,"全　額",null,"折半額",null,"全　額",null,"折半額",null,"全　額",null,"折半額"]
[]
[null,null,null,null,null,null,"円以上",null,"円未満"]
[null,1,58000,null,1930,null,null,"～",63000,{"$f":"C15*$J$10","v":5759.4},null,{"$f":"J15/2","v":2879.7},null,{"$f":"C15*$N$10","v":6757},null,{"$f":"N15/2","v":3378.5}]
[null,2,68000,null,2270,null,63000,"～",73000,{"$f":"C16*$J$10","v":6752.4},null,{"$f":"J16/2","v":3376.2},null,{"$f":"C16*$N$10","v":7921.9999999999991},null,{"$f":"N16/2","v":3960.9999999999995}]
[null,3,78000,null,2600,null,73000,"～",83000,{"$f":"C17*$J$10","v":7745.4},null,{"$f":"J17/2","v":3872.7},null,{"$f":"C17*$N$10","v":9087},null,{"$f":"N17/2","v":4543.5}]
[null,4,88000,null,2930,null,83000,"～",93000,{"$f":"C18*$J$10","v":8738.4},null,{"$f":"J18/2","v":4369.2},null,{"$f":"C18*$N$10","v":10252},null,{"$f":"N18/2","v":5126}]
[null,"5(1)",98000,null,3270,null,93000,"～",101000,{"$f":"C19*$J$10","v":9731.4},null,{"$f":"J19/2","v":4865.7},null,{"$f":"C19*$N$10","v":11417},null,{"$f":"N19/2","v":5708.5},null,{"$f":"C19*$R$10","v":17124.52},null,{"$f":"R19/2","v":8562.26},null,{"$f":"C19*$V$10","v":17334.240000000002},null,{"$f":"V19/2","v":8667.1200000000008}]
[null,"6(2)",104000,null,3470,null,101000,"～",107000,{"$f":"C20*$J$10","v":10327.200000000001},null,{"$f":"J20/2","v":5163.6000000000004},null,{"$f":"C20*$N$10","v":12116},null,{"$f":"N20/2","v":6058},null,{"$f":"C20*$R$10","v":18172.96},null,{"$f":"R20/2","v":9086.48},null,{"$f":"C20*$V$10","v":18395.52},null,{"$f":"V20/2","v":9197.76}]
[null,"7(3)",110000,null,3670,null,107000,"～",114000,{"$f":"C21*$J$10","v":10923},null,{"$f":"J21/2","v":5461.5},null,{"$f":"C21*$N$10","v":12815},null,{"$f":"N21/2","v":6407.5},null,{"$f":"C21*$R$10","v":19221.400000000001},null,{"$f":"R21/2","v":9610.7000000000007},null,{"$f":"C21*$V$10","v":19456.8},null,{"$f":"V21/2","v":9728.4}]
[null,"8(4)",118000,null,3930,null,114000,"～",122000,{"$f":"C22*$J$10","v":11717.4},null,{"$f":"J22/2","v":5858.7},null,{"$f":"C22*$N$10","v":13747},null,{"$f":"N22/2","v":6873.5},null,{"$f":"C22*$R$10","v":20619.32},null,{"$f":"R22/2","v":10309.66},null,{"$f":"C22*$V$10","v":20871.84},null,{"$f":"V22/2","v":10435.92}]
[null,"9(5)",126000,null,4200,null,122000,"～",130000,{"$f":"C23*$J$10","v":12511.8},null,{"$f":"J23/2","v":6255.9},null,{"$f":"C23*$N$10","v":14678.999999999998},null,{"$f":"N23/2","v":7339.4999999999991},null,{"$f":"C23*$R$10","v":22017.24},null,{"$f":"R23/2","v":11008.62},null,{"$f":"C23*$V$10","v":22286.880000000001},null,{"$f":"V23/2","v":11143.44}]
[null,"10(6)",134000,null,4470,null,130000,"～",138000,{"$f":"C24*$J$10","v":13306.2},null,{"$f":"J24/2","v":6653.1},null,{"$f":"C24*$N$10","v":15610.999999999998},null,{"$f":"N24/2","v":7805.4999999999991},null,{"$f":"C24*$R$10","v":23415.16},null,{"$f":"R24/2","v":11707.58},null,{"$f":"C24*$V$10","v":23701.920000000002},null,{"$f":"V24/2","v":11850.960000000001}]
[null,"11(7)",142000,null,4730,null,138000,"～",146000,{"$f":"C25*$J$10","v":14100.6},null,{"$f":"J25/2","v":7050.3},null,{"$f":"C25*$N$10","v":16543},null,{"$f":"N25/2","v":8271.5},null,{"$f":"C25*$R$10","v":24813.08},null,{"$f":"R25/2","v":12406.54},null,{"$f":"C25*$V$10","v":25116.960000000003},null,{"$f":"V25/2","v":12558.480000000001}]
[null,"12(8)",150000,null,5000,null,146000,"～",155000,{"$f":"C26*$J$10","v":14895},null,{"$f":"J26/2","v":7447.5},null,{"$f":"C26*$N$10","v":17475},null,{"$f":"N26/2","v":8737.5},null,{"$f":"C26*$R$10","v":26211},null,{"$f":"R26/2","v":13105.5},null,{"$f":"C26*$V$10","v":26532},null,{"$f":"V26/2","v":13266}]
[null,"13(9)",160000,null,5330,null,155000,"～",165000,{"$f":"C27*$J$10","v":15888},null,{"$f":"J27/2","v":7944},null,{"$f":"C27*$N$10","v":18640},null,{"$f":"N27/2","v":9320},null,{"$f":"C27*$R$10","v":27958.400000000001},null,{"$f":"R27/2","v":13979.2},null,{"$f":"C27*$V$10","v":28300.800000000003},null,{"$f":"V27/2","v":14150.400000000001}]
[null,"14(10)",170000,null,5670,null,165000,"～",175000,{"$f":"C28*$J$10","v":16881},null,{"$f":"J28/2","v":8440.5},null,{"$f":"C28*$N$10","v":19805},null,{"$f":"N28/2","v":9902.5},null,{"$f":"C28*$R$10","v":29705.800000000003},null,{"$f":"R28/2","v":14852.900000000001},null,{"$f":"C28*$V$10","v":30069.600000000002},null,{"$f":"V28/2","v":15034.800000000001}]
[null,"15(11)",180000,null,6000,null,175000,"～",185000,{"$f":"C29*$J$10","v":17874},null,{"$f":"J29/2","v":8937},null,{"$f":"C29*$N$10","v":20970},null,{"$f":"N29/2","v":10485},null,{"$f":"C29*$R$10","v":31453.200000000001},null,{"$f":"R29/2","v":15726.6},null,{"$f":"C29*$V$10","v":31838.400000000001},null,{"$f":"V29/2","v":15919.2}]
[null,"16(12)",190000,null,6330,null,185000,"～",195000,{"$f":"C30*$J$10","v":18867},null,{"$f":"J30/2","v":9433.5},null,{"$f":"C30*$N$10","v":22135},null,{"$f":"N30/2","v":11067.5},null,{"$f":"C30*$R$10","v":33200.6},null,{"$f":"R30/2","v":16600.3},null,{"$f":"C30*$V$10","v":33607.200000000004},null,{"$f":"V30/2","v":16803.600000000002}]
[null,"17(13)",200000,null,6670,null,195000,"～",210000,{"$f":"C31*$J$10","v":19860},null,{"$f":"J31/2","v":9930},null,{"$f":"C31*$N$10","v":23300},null,{"$f":"N31/2","v":11650},null,{"$f":"C31*$R$10","v":34948},null,{"$f":"R31/2","v":17474},null,{"$f":"C31*$V$10","v":35376},null,{"$f":"V31/2","v":17688}]
[null,"18(14)",220000,null,7330,null,210000,"～",230000,{"$f":"C32*$J$10","v":21846},null,{"$f":"J32/2","v":10923},null,{"$f":"C32*$N$10","v":25630},null,{"$f":"N32/2","v":12815},null,{"$f":"C32*$R$10","v":38442.800000000003},null,{"$f":"R32/2","v":19221.400000000001},null,{"$f":"C32*$V$10","v":38913.599999999999},null,{"$f":"V32/2","v":19456.8}]
[null,"19(15)",240000,null,8000,null,230000,"～",250000,{"$f":"C33*$J$10","v":23832},null,{"$f":"J33/2","v":11916},null,{"$f":"C33*$N$10","v":27960},null,{"$f":"N33/2","v":13980},null,{"$f":"C33*$R$10","v":41937.599999999999},null,{"$f":"R33/2","v":20968.8},null,{"$f":"C33*$V$10","v":42451.200000000004},null,{"$f":"V33/2","v":21225.600000000002}]
[null,"20(16)",260000,null,8670,null,250000,"～",270000,{"$f":"C34*$J$10","v":25818},null,{"$f":"J34/2","v":12909},null,{"$f":"C34*$N$10","v":30289.999999999996},null,{"$f":"N34/2","v":15144.999999999998},null,{"$f":"C34*$R$10","v":45432.4},null,{"$f":"R34/2","v":22716.2},null,{"$f":"C34*$V$10","v":45988.800000000003},null,{"$f":"V34/2","v":22994.400000000001}]
[null,"21(17)",280000,null,9330,null,270000,"～",290000,{"$f":"C35*$J$10","v":27804},null,{"$f":"J35/2","v":13902},null,{"$f":"C35*$N$10","v":32619.999999999996},null,{"$f":"N35/2","v":16309.999999999998},null,{"$f":"C35*$R$10","v":48927.200000000004},null,{"$f":"R35/2","v":24463.600000000002},null,{"$f":"C35*$V$10","v":49526.400000000001},null,{"$f":"V35/2","v":24763.200000000001}]
[null,"22(18)",300000,null,10000,null,290000,"～",310000,{"$f":"C36*$J$10","v":29790},null,{"$f":"J36/2","v":14895},null,{"$f":"C36*$N$10","v":34950},null,{"$f":"N36/2","v":17475},null,{"$f":"C36*$R$10","v":52422},null,{"$f":"R36/2","v":26211},null,{"$f":"C36*$V$10","v":53064},null,{"$f":"V36/2","v":26532}]
[null,"23(19)",320000,null,10670,null,310000,"～",330000,{"$f":"C37*$J$10","v":31776},null,{"$f":"J37/2","v":15888},null,{"$f":"C37*$N$10","v":37280},null,{"$f":"N37/2","v":18640},null,{"$f":"C37*$R$10","v":55916.800000000003},null,{"$f":"R37/2","v":27958.400000000001},null,{"$f":"C37*$V$10","v":56601.600000000006},null,{"$f":"V37/2","v":28300.800000000003}]
[null,"24(20)",340000,null,11330,null,330000,"～",350000,{"$f":"C38*$J$10","v":33762},null,{"$f":"J38/2","v":16881},null,{"$f":"C38*$N$10","v":39610},null,{"$f":"N38/2","v":19805},null,{"$f":"C38*$R$10","v":59411.600000000006},null,{"$f":"R38/2","v":29705.800000000003},null,{"$f":"C38*$V$10","v":60139.200000000004},null,{"$f":"V38/2","v":30069.600000000002}]
[null,"25(21)",360000,null,12000,null,350000,"～",370000,{"$f":"C39*$J$10","v":35748},null,{"$f":"J39/2","v":17874},null,{"$f":"C39*$N$10","v":41940},null,{"$f":"N39/2","v":20970},null,{"$f":"C39*$R$10","v":62906.400000000001},null,{"$f":"R39/2","v":31453.200000000001},null,{"$f":"C39*$V$10","v":63676.800000000003},null,{"$f":"V39/2","v":31838.400000000001}]
[null,"26(22)",380000,null,12670,null,370000,"～",395000,{"$f":"C40*$J$10","v":37734},null,{"$f":"J40/2","v":18867},null,{"$f":"C40*$N$10","v":44270},null,{"$f":"N40/2","v":22135},null,{"$f":"C40*$R$10","v":66401.2},null,{"$f":"R40/2","v":33200.6},null,{"$f":"C40*$V$10","v":67214.400000000009},null,{"$f":"V40/2","v":33607.200000000004}]
[null,"27(23)",410000,null,13670,null,395000,"～",425000,{"$f":"C41*$J$10","v":40713},null,{"$f":"J41/2","v":20356.5},null,{"$f":"C41*$N$10","v":47765},null,{"$f":"N41/2","v":23882.5},null,{"$f":"C41*$R$10","v":71643.400000000009},null,{"$f":"R41/2","v":35821.700000000004},null,{"$f":"C41*$V$10","v":72520.800000000003},null,{"$f":"V41/2","v":36260.400000000001}]
[null,"28(24)",440000,null,14670,null,425000,"～",455000,{"$f":"C42*$J$10","v":43692},null,{"$f":"J42/2","v":21846},null,{"$f":"C42*$N$10","v":51260},null,{"$f":"N42/2","v":25630},null,{"$f":"C42*$R$10","v":76885.600000000006},null,{"$f":"R42/2","v":38442.800000000003},null,{"$f":"C42*$V$10","v":77827.199999999997},null,{"$f":"V42/2","v":38913.599999999999}]
[null,"29(25)",470000,null,15670,null,455000,"～",485000,{"$f":"C43*$J$10","v":46671},null,{"$f":"J43/2","v":23335.5},null,{"$f":"C43*$N$10","v":54755},null,{"$f":"N43/2","v":27377.5},null,{"$f":"C43*$R$10","v":82127.8},null,{"$f":"R43/2","v":41063.9},null,{"$f":"C43*$V$10","v":83133.600000000006},null,{"$f":"V43/2","v":41566.800000000003}]
[null,"30(26)",500000,null,16670,null,485000,"～",515000,{"$f":"C44*$J$10","v":49650},null,{"$f":"J44/2","v":24825},null,{"$f":"C44*$N$10","v":58249.999999999993},null,{"$f":"N44/2","v":29124.999999999996},null,{"$f":"C44*$R$10","v":87370},null,{"$f":"R44/2","v":43685},null,{"$f":"C44*$V$10","v":88440},null,{"$f":"V44/2","v":44220}]
[null,"31(27)",530000,null,17670,null,515000,"～",545000,{"$f":"C45*$J$10","v":52629},null,{"$f":"J45/2","v":26314.5},null,{"$f":"C45*$N$10","v":61744.999999999993},null,{"$f":"N45/2","v":30872.499999999996},null,{"$f":"C45*$R$10","v":92612.2},null,{"$f":"R45/2","v":46306.1},null,{"$f":"C45*$V$10","v":93746.400000000009},null,{"$f":"V45/2","v":46873.200000000004}]
[null,"32(28)",560000,null,18670,null,545000,"～",575000,{"$f":"C46*$J$10","v":55608},null,{"$f":"J46/2","v":27804},null,{"$f":"C46*$N$10","v":65239.999999999993},null,{"$f":"N46/2","v":32619.999999999996},null,{"$f":"C46*$R$10","v":97854.400000000009},null,{"$f":"R46/2","v":48927.200000000004},null,{"$f":"C46*$V$10","v":99052.800000000003},null,{"$f":"V46/2","v":49526.400000000001}]
[null,"33(29)",590000,null,19670,null,575000,"～",605000,{"$f":"C47*$J$10","v":58587},null,{"$f":"J47/2","v":29293.5},null,{"$f":"C47*$N$10","v":68735},null,{"$f":"N47/2","v":34367.5},null,{"$f":"C47*$R$10","v":103096.6},null,{"$f":"R47/2","v":51548.3},null,{"$f":"C47*$V$10","v":104359.20000000001},null,{"$f":"V47/2","v":52179.600000000006}]
[null,"34(30)",620000,null,20670,null,605000,"～",635000,{"$f":"C48*$J$10","v":61566},null,{"$f":"J48/2","v":30783},null,{"$f":"C48*$N$10","v":72230},null,{"$f":"N48/2","v":36115},null,{"$f":"C48*$R$10","v":108338.8},null,{"$f":"R48/2","v":54169.4},null,{"$f":"C48*$V$10","v":109665.60000000001},null,{"$f":"V48/2","v":54832.800000000003}]
[null,35,650000,null,21670,null,635000,"～",665000,{"$f":"C49*$J$10","v":64545},null,{"$f":"J49/2","v":32272.5},null,{"$f":"C49*$N$10","v":75725},null,{"$f":"N49/2","v":37862.5},null,"※厚生年金基金に加入している方の厚生年金保険\n　料率は、基金ごとに定められている免除保険料\n　率(2.4%～5.0%)を控除した率となります。\n\n　●一般の被保険者の方　…12.474%～15.074%\n　●坑内員の被保険者の方…12.688%～15.288%\n\n　加入する基金ごとに異なりますので、免除保険\n　料率および厚生年金基金の掛金については、加\n　入する厚生年金基金にお問い合わせください。\n"]
[null,36,680000,null,22670,null,665000,"～",695000,{"$f":"C50*$J$10","v":67524},null,{"$f":"J50/2","v":33762},null,{"$f":"C50*$N$10","v":79220},null,{"$f":"N50/2","v":39610}]
[null,37,710000,null,23670,null,695000,"～",730000,{"$f":"C51*$J$10","v":70503},null,{"$f":"J51/2","v":35251.5},null,{"$f":"C51*$N$10","v":82715},null,{"$f":"N51/2","v":41357.5}]
[null,38,750000,null,25000,null,730000,"～",770000,{"$f":"C52*$J$10","v":74475},null,{"$f":"J52/2","v":37237.5},null,{"$f":"C52*$N$10","v":87375},null,{"$f":"N52/2","v":43687.5}]
[null,39,790000,null,26330,null,770000,"～",810000,{"$f":"C53*$J$10","v":78447},null,{"$f":"J53/2","v":39223.5},null,{"$f":"C53*$N$10","v":92035},null,{"$f":"N53/2","v":46017.5}]
[null,40,830000,null,27670,null,810000,"～",855000,{"$f":"C54*$J$10","v":82419},null,{"$f":"J54/2","v":41209.5},null,{"$f":"C54*$N$10","v":96695},null,{"$f":"N54/2","v":48347.5}]
[null,41,880000,null,29330,null,855000,"～",905000,{"$f":"C55*$J$10","v":87384},null,{"$f":"J55/2","v":43692},null,{"$f":"C55*$N$10","v":102520},null,{"$f":"N55/2","v":51260}]
[null,42,930000,null,31000,null,905000,"～",955000,{"$f":"C56*$J$10","v":92349},null,{"$f":"J56/2","v":46174.5},null,{"$f":"C56*$N$10","v":108345},null,{"$f":"N56/2","v":54172.5}]
[null,43,980000,null,32670,null,955000,"～",1005000,{"$f":"C57*$J$10","v":97314},null,{"$f":"J57/2","v":48657},null,{"$f":"C57*$N$10","v":114169.99999999999},null,{"$f":"N57/2","v":57084.999999999993}]
[null,44,1030000,null,34330,null,1005000,"～",1055000,{"$f":"C58*$J$10","v":102279},null,{"$f":"J58/2","v":51139.5},null,{"$f":"C58*$N$10","v":119994.99999999999},null,{"$f":"N58/2","v":59997.499999999993}]
[null,45,1090000,null,36330,null,1055000,"～",1115000,{"$f":"C59*$J$10","v":108237},null,{"$f":"J59/2","v":54118.5},null,{"$f":"C59*$N$10","v":126984.99999999999},null,{"$f":"N59/2","v":63492.499999999993}]
[null,46,1150000,null,38330,null,1115000,"～",1175000,{"$f":"C60*$J$10","v":114195},null,{"$f":"J60/2","v":57097.5},null,{"$f":"C60*$N$10","v":133975},null,{"$f":"N60/2","v":66987.5}]
[null,47,1210000,null,40330,null,1175000,"～",null,{"$f":"C61*$J$10","v":120153},null,{"$f":"J61/2","v":60076.5},null,{"$f":"C61*$N$10","v":140965},null,{"$f":"N61/2","v":70482.5}]
[]
[{"$f":"J10","v":9.9299999999999999E-2}]
[null,""]
["◆等級欄の（　）内の数字は、厚生年金保険の標準報酬月額等級です。"]
["　5(1)等級の「報酬月額」欄は、厚生年金保険の場合「101,000円未満」と読み替えてください。"]
["　34(30)等級の「報酬月額」欄は、厚生年金保険の場合「605,000円以上」と読み替えてください。"]
[null,""]
["◆平成26年度における全国健康保険協会の任意継続被保険者について、標準報酬月額の上限は、280,000円です。"]
[]
[]
["　○被保険者負担分（表の折半額の欄）に円未満の端数がある場合"]
["　　　①事業主が、給与から被保険者負担分を控除する場合、被保険者負担分の端数が50銭以下の場合は切り捨て、50銭を超える場合は切り上げて1円となります。"]
["　　　②被保険者が、被保険者負担分を事業主へ現金で支払う場合、被保険者負担分の端数が50銭未満の場合は切り捨て、50銭以上の場合は切り上げて1円となります。"]
["　　　（注）①、②にかかわらず、事業主と被保険者の間で特約がある場合には、特約に基づき端数処理をすることができます。"]
[]
["　○納入告知書の保険料額"]
["　　　 納入告知書の保険料額は、被保険者個々の保険料額を合算した金額になります。ただし、合算した金額に円未満の端数がある場合は、その端数を切り捨てた額となります。"]
[]
["　○賞与に係る保険料"]
["　　　 賞与に係る保険料額は、賞与額から1,000円未満の端数を切り捨てた額（標準賞与額）に、保険料率を乗じた額となります。"]
[" 　　　また、標準賞与額の上限は、健康保険は年間540万円（毎年4月1日から翌年3月31日までの累計額）となり、厚生年金保険と児童手当拠出金の場合は月間150万円となります。"]
[]
["　○児童手当拠出金"]
["　　　 厚生年金保険の被保険者を使用する事業主の方は、児童手当等の支給に要する費用の一部として児童手当拠出金を全額負担いただくことになります。この児童手当"]
["　　　 拠出金の額は、被保険者個々の厚生年金保険の標準報酬月額および標準賞与額に、拠出金率（0.15%）を乗じて得た額の総額となります。"]

{"sheet":"東京","index":22,"n_rows":86,"n_cols":24,"rows_kept":86,"cut":false,"hidden":true,"merged":[[74,0,74,24],[75,0,75,16],[85,0,85,24],[86,0,86,16],[77,0,77,23],[79,0,79,16],[80,0,80,21],[81,0,81,24],[83,0,83,21],[84,0,84,24],[76,0,76,23],[48,17,60,24],[62,0,62,25],[64,0,64,24],[65,0,65,24],[66,0,66,24],[68,0,68,24],[71,0,71,16],[72,0,72,24],[73,0,73,24],[6,21,8,24],[9,9,10,12],[9,13,10,16],[9,17,10,20],[9,21,10,24],[11,13,12,14],[11,15,12,16],[11,17,12,18],[11,19,12,20],[11,21,12,22],[11,1,12,1],[11,2,12,3],[11,4,12,5],[11,9,12,10],[11,11,12,12],[11,23,12,24],[0,1,1,24],[2,1,3,23],[4,1,4,16],[5,1,10,5],[5,6,12,8],[5,9,5,16],[5,17,5,24],[6,9,8,12],[6,13,8,16],[6,17,8,20]]}
[null,"平成26年9月分(10月納付分)からの健康保険・厚生年金保険の保険料額表"]
[]
[null,"     ‣健康保険料率：平成24年3月分～　適用　　‣厚生年金保険料率：平成26年9月分～平成27年8月分　適用\n     ‣介護保険料率：平成26年3月分～　適用　　‣児童手当拠出金率：平成24年4月分～　適用\n"]
[]
[null,"（東京都）",null,null,null,null,null,null,null,null,null,null,null,null,null,null,null,null,null,null,null,null,null,"（単位：円）"]
[null,"標　準　報　酬",null,null,null,null,"報　酬　月　額",null,null,"全国健康保険協会管掌健康保険料",null,null,null,null,null,null,null,"厚生年金保険料（厚生年金基金加入員を除く）"]
[null,null,null,null,null,null,null,null,null,"介護保険第２号被保険者\nに該当しない場合",null,null,null,"介護保険第２号被保険者\nに該当する場合",null,null,null,"一般の被保険者",null,null,null,"坑内員・船員"]
[]
[]
[null,null,null,null,null,null,null,null,null,9.9699999999999997E-2,null,null,null,{"$f":"J10+0.0172","v":0.1169},null,null,null,0.17474000000000001,null,null,null,0.17688000000000001]
[]
[null,"等級","月　額",null,"日　額",null,null,null,null,"全　額",null,"折半額",null,"全　額",null,"折半額",null,"全　額",null,"折半額",null,"全　額",null,"折半額"]
[]
[null,null,null,null,null,null,"円以上",null,"円未満"]
[null,1,58000,null,1930,null,null,"～",63000,{"$f":"C15*$J$10","v":5782.5999999999995},null,{"$f":"J15/2","v":2891.2999999999997},null,{"$f":"C15*$N$10","v":6780.2},null,{"$f":"N15/2","v":3390.1}]
[null,2,68000,null,2270,null,63000,"～",73000,{"$f":"C16*$J$10","v":6779.5999999999995},null,{"$f":"J16/2","v":3389.7999999999997},null,{"$f":"C16*$N$10","v":7949.2},null,{"$f":"N16/2","v":3974.6}]
[null,3,78000,null,2600,null,73000,"～",83000,{"$f":"C17*$J$10","v":7776.5999999999995},null,{"$f":"J17/2","v":3888.2999999999997},null,{"$f":"C17*$N$10","v":9118.2000000000007},null,{"$f":"N17/2","v":4559.1000000000004}]
[null,4,88000,null,2930,null,83000,"～",93000,{"$f":"C18*$J$10","v":8773.6},null,{"$f":"J18/2","v":4386.8},null,{"$f":"C18*$N$10","v":10287.200000000001},null,{"$f":"N18/2","v":5143.6000000000004}]
[null,"5(1)",98000,null,3270,null,93000,"～",101000,{"$f":"C19*$J$10","v":9770.6},null,{"$f":"J19/2","v":4885.3},null,{"$f":"C19*$N$10","v":11456.2},null,{"$f":"N19/2","v":5728.1},null,{"$f":"C19*$R$10","v":17124.52},null,{"$f":"R19/2","v":8562.26},null,{"$f":"C19*$V$10","v":17334.240000000002},null,{"$f":"V19/2","v":8667.1200000000008}]
[null,"6(2)",104000,null,3470,null,101000,"～",107000,{"$f":"C20*$J$10","v":10368.799999999999},null,{"$f":"J20/2","v":5184.3999999999996},null,{"$f":"C20*$N$10","v":12157.6},null,{"$f":"N20/2","v":6078.8},null,{"$f":"C20*$R$10","v":18172.96},null,{"$f":"R20/2","v":9086.48},null,{"$f":"C20*$V$10","v":18395.52},null,{"$f":"V20/2","v":9197.76}]
[null,"7(3)",110000,null,3670,null,107000,"～",114000,{"$f":"C21*$J$10","v":10967},null,{"$f":"J21/2","v":5483.5},null,{"$f":"C21*$N$10","v":12859},null,{"$f":"N21/2","v":6429.5},null,{"$f":"C21*$R$10","v":19221.400000000001},null,{"$f":"R21/2","v":9610.7000000000007},null,{"$f":"C21*$V$10","v":19456.8},null,{"$f":"V21/2","v":9728.4}]
[null,"8(4)",118000,null,3930,null,114000,"～",122000,{"$f":"C22*$J$10","v":11764.6},null,{"$f":"J22/2","v":5882.3},null,{"$f":"C22*$N$10","v":13794.2},null,{"$f":"N22/2","v":6897.1},null,{"$f":"C22*$R$10","v":20619.32},null,{"$f":"R22/2","v":10309.66},null,{"$f":"C22*$V$10","v":20871.84},null,{"$f":"V22/2","v":10435.92}]
[null,"9(5)",126000,null,4200,null,122000,"～",130000,{"$f":"C23*$J$10","v":12562.199999999999},null,{"$f":"J23/2","v":6281.0999999999995},null,{"$f":"C23*$N$10","v":14729.4},null,{"$f":"N23/2","v":7364.7},null,{"$f":"C23*$R$10","v":22017.24},null,{"$f":"R23/2","v":11008.62},null,{"$f":"C23*$V$10","v":22286.880000000001},null,{"$f":"V23/2","v":11143.44}]
[null,"10(6)",134000,null,4470,null,130000,"～",138000,{"$f":"C24*$J$10","v":13359.8},null,{"$f":"J24/2","v":6679.9},null,{"$f":"C24*$N$10","v":15664.6},null,{"$f":"N24/2","v":7832.3},null,{"$f":"C24*$R$10","v":23415.16},null,{"$f":"R24/2","v":11707.58},null,{"$f":"C24*$V$10","v":23701.920000000002},null,{"$f":"V24/2","v":11850.960000000001}]
[null,"11(7)",142000,null,4730,null,138000,"～",146000,{"$f":"C25*$J$10","v":14157.4},null,{"$f":"J25/2","v":7078.7},null,{"$f":"C25*$N$10","v":16599.8},null,{"$f":"N25/2","v":8299.9},null,{"$f":"C25*$R$10","v":24813.08},null,{"$f":"R25/2","v":12406.54},null,{"$f":"C25*$V$10","v":25116.960000000003},null,{"$f":"V25/2","v":12558.480000000001}]
[null,"12(8)",150000,null,5000,null,146000,"～",155000,{"$f":"C26*$J$10","v":14955},null,{"$f":"J26/2","v":7477.5},null,{"$f":"C26*$N$10","v":17535},null,{"$f":"N26/2","v":8767.5},null,{"$f":"C26*$R$10","v":26211},null,{"$f":"R26/2","v":13105.5},null,{"$f":"C26*$V$10","v":26532},null,{"$f":"V26/2","v":13266}]
[null,"13(9)",160000,null,5330,null,155000,"～",165000,{"$f":"C27*$J$10","v":15952},null,{"$f":"J27/2","v":7976},null,{"$f":"C27*$N$10","v":18704},null,{"$f":"N27/2","v":9352},null,{"$f":"C27*$R$10","v":27958.400000000001},null,{"$f":"R27/2","v":13979.2},null,{"$f":"C27*$V$10","v":28300.800000000003},null,{"$f":"V27/2","v":14150.400000000001}]
[null,"14(10)",170000,null,5670,null,165000,"～",175000,{"$f":"C28*$J$10","v":16949},null,{"$f":"J28/2","v":8474.5},null,{"$f":"C28*$N$10","v":19873},null,{"$f":"N28/2","v":9936.5},null,{"$f":"C28*$R$10","v":29705.800000000003},null,{"$f":"R28/2","v":14852.900000000001},null,{"$f":"C28*$V$10","v":30069.600000000002},null,{"$f":"V28/2","v":15034.800000000001}]
[null,"15(11)",180000,null,6000,null,175000,"～",185000,{"$f":"C29*$J$10","v":17946},null,{"$f":"J29/2","v":8973},null,{"$f":"C29*$N$10","v":21042},null,{"$f":"N29/2","v":10521},null,{"$f":"C29*$R$10","v":31453.200000000001},null,{"$f":"R29/2","v":15726.6},null,{"$f":"C29*$V$10","v":31838.400000000001},null,{"$f":"V29/2","v":15919.2}]
[null,"16(12)",190000,null,6330,null,185000,"～",195000,{"$f":"C30*$J$10","v":18943},null,{"$f":"J30/2","v":9471.5},null,{"$f":"C30*$N$10","v":22211},null,{"$f":"N30/2","v":11105.5},null,{"$f":"C30*$R$10","v":33200.6},null,{"$f":"R30/2","v":16600.3},null,{"$f":"C30*$V$10","v":33607.200000000004},null,{"$f":"V30/2","v":16803.600000000002}]
[null,"17(13)",200000,null,6670,null,195000,"～",210000,{"$f":"C31*$J$10","v":19940},null,{"$f":"J31/2","v":9970},null,{"$f":"C31*$N$10","v":23380},null,{"$f":"N31/2","v":11690},null,{"$f":"C31*$R$10","v":34948},null,{"$f":"R31/2","v":17474},null,{"$f":"C31*$V$10","v":35376},null,{"$f":"V31/2","v":17688}]
[null,"18(14)",220000,null,7330,null,210000,"～",230000,{"$f":"C32*$J$10","v":21934},null,{"$f":"J32/2","v":10967},null,{"$f":"C32*$N$10","v":25718},null,{"$f":"N32/2","v":12859},null,{"$f":"C32*$R$10","v":38442.800000000003},null,{"$f":"R32/2","v":19221.400000000001},null,{"$f":"C32*$V$10","v":38913.599999999999},null,{"$f":"V32/2","v":19456.8}]
[null,"19(15)",240000,null,8000,null,230000,"～",250000,{"$f":"C33*$J$10","v":23928},null,{"$f":"J33/2","v":11964},null,{"$f":"C33*$N$10","v":28056},null,{"$f":"N33/2","v":14028},null,{"$f":"C33*$R$10","v":41937.599999999999},null,{"$f":"R33/2","v":20968.8},null,{"$f":"C33*$V$10","v":42451.200000000004},null,{"$f":"V33/2","v":21225.600000000002}]
[null,"20(16)",260000,null,8670,null,250000,"～",270000,{"$f":"C34*$J$10","v":25922},null,{"$f":"J34/2","v":12961},null,{"$f":"C34*$N$10","v":30394},null,{"$f":"N34/2","v":15197},null,{"$f":"C34*$R$10","v":45432.4},null,{"$f":"R34/2","v":22716.2},null,{"$f":"C34*$V$10","v":45988.800000000003},null,{"$f":"V34/2","v":22994.400000000001}]
[null,"21(17)",280000,null,9330,null,270000,"～",290000,{"$f":"C35*$J$10","v":27916},null,{"$f":"J35/2","v":13958},null,{"$f":"C35*$N$10","v":32732},null,{"$f":"N35/2","v":16366},null,{"$f":"C35*$R$10","v":48927.200000000004},null,{"$f":"R35/2","v":24463.600000000002},null,{"$f":"C35*$V$10","v":49526.400000000001},null,{"$f":"V35/2","v":24763.200000000001}]
[null,"22(18)",300000,null,10000,null,290000,"～",310000,{"$f":"C36*$J$10","v":29910},null,{"$f":"J36/2","v":14955},null,{"$f":"C36*$N$10","v":35070},null,{"$f":"N36/2","v":17535},null,{"$f":"C36*$R$10","v":52422},null,{"$f":"R36/2","v":26211},null,{"$f":"C36*$V$10","v":53064},null,{"$f":"V36/2","v":26532}]
[null,"23(19)",320000,null,10670,null,310000,"～",330000,{"$f":"C37*$J$10","v":31904},null,{"$f":"J37/2","v":15952},null,{"$f":"C37*$N$10","v":37408},null,{"$f":"N37/2","v":18704},null,{"$f":"C37*$R$10","v":55916.800000000003},null,{"$f":"R37/2","v":27958.400000000001},null,{"$f":"C37*$V$10","v":56601.600000000006},null,{"$f":"V37/2","v":28300.800000000003}]
[null,"24(20)",340000,null,11330,null,330000,"～",350000,{"$f":"C38*$J$10","v":33898},null,{"$f":"J38/2","v":16949},null,{"$f":"C38*$N$10","v":39746},null,{"$f":"N38/2","v":19873},null,{"$f":"C38*$R$10","v":59411.600000000006},null,{"$f":"R38/2","v":29705.800000000003},null,{"$f":"C38*$V$10","v":60139.200000000004},null,{"$f":"V38/2","v":30069.600000000002}]
[null,"25(21)",360000,null,12000,null,350000,"～",370000,{"$f":"C39*$J$10","v":35892},null,{"$f":"J39/2","v":17946},null,{"$f":"C39*$N$10","v":42084},null,{"$f":"N39/2","v":21042},null,{"$f":"C39*$R$10","v":62906.400000000001},null,{"$f":"R39/2","v":31453.200000000001},null,{"$f":"C39*$V$10","v":63676.800000000003},null,{"$f":"V39/2","v":31838.400000000001}]
[null,"26(22)",380000,null,12670,null,370000,"～",395000,{"$f":"C40*$J$10","v":37886},null,{"$f":"J40/2","v":18943},null,{"$f":"C40*$N$10","v":44422},null,{"$f":"N40/2","v":22211},null,{"$f":"C40*$R$10","v":66401.2},null,{"$f":"R40/2","v":33200.6},null,{"$f":"C40*$V$10","v":67214.400000000009},null,{"$f":"V40/2","v":33607.200000000004}]
[null,"27(23)",410000,null,13670,null,395000,"～",425000,{"$f":"C41*$J$10","v":40877},null,{"$f":"J41/2","v":20438.5},null,{"$f":"C41*$N$10","v":47929},null,{"$f":"N41/2","v":23964.5},null,{"$f":"C41*$R$10","v":71643.400000000009},null,{"$f":"R41/2","v":35821.700000000004},null,{"$f":"C41*$V$10","v":72520.800000000003},null,{"$f":"V41/2","v":36260.400000000001}]
[null,"28(24)",440000,null,14670,null,425000,"～",455000,{"$f":"C42*$J$10","v":43868},null,{"$f":"J42/2","v":21934},null,{"$f":"C42*$N$10","v":51436},null,{"$f":"N42/2","v":25718},null,{"$f":"C42*$R$10","v":76885.600000000006},null,{"$f":"R42/2","v":38442.800000000003},null,{"$f":"C42*$V$10","v":77827.199999999997},null,{"$f":"V42/2","v":38913.599999999999}]
[null,"29(25)",470000,null,15670,null,455000,"～",485000,{"$f":"C43*$J$10","v":46859},null,{"$f":"J43/2","v":23429.5},null,{"$f":"C43*$N$10","v":54943},null,{"$f":"N43/2","v":27471.5},null,{"$f":"C43*$R$10","v":82127.8},null,{"$f":"R43/2","v":41063.9},null,{"$f":"C43*$V$10","v":83133.600000000006},null,{"$f":"V43/2","v":41566.800000000003}]
[null,"30(26)",500000,null,16670,null,485000,"～",515000,{"$f":"C44*$J$10","v":49850},null,{"$f":"J44/2","v":24925},null,{"$f":"C44*$N$10","v":58450},null,{"$f":"N44/2","v":29225},null,{"$f":"C44*$R$10","v":87370},null,{"$f":"R44/2","v":43685},null,{"$f":"C44*$V$10","v":88440},null,{"$f":"V44/2","v":44220}]
[null,"31(27)",530000,null,17670,null,515000,"～",545000,{"$f":"C45*$J$10","v":52841},null,{"$f":"J45/2","v":26420.5},null,{"$f":"C45*$N$10","v":61957},null,{"$f":"N45/2","v":30978.5},null,{"$f":"C45*$R$10","v":92612.2},null,{"$f":"R45/2","v":46306.1},null,{"$f":"C45*$V$10","v":93746.400000000009},null,{"$f":"V45/2","v":46873.200000000004}]
[null,"32(28)",560000,null,18670,null,545000,"～",575000,{"$f":"C46*$J$10","v":55832},null,{"$f":"J46/2","v":27916},null,{"$f":"C46*$N$10","v":65464},null,{"$f":"N46/2","v":32732},null,{"$f":"C46*$R$10","v":97854.400000000009},null,{"$f":"R46/2","v":48927.200000000004},null,{"$f":"C46*$V$10","v":99052.800000000003},null,{"$f":"V46/2","v":49526.400000000001}]
[null,"33(29)",590000,null,19670,null,575000,"～",605000,{"$f":"C47*$J$10","v":58823},null,{"$f":"J47/2","v":29411.5},null,{"$f":"C47*$N$10","v":68971},null,{"$f":"N47/2","v":34485.5},null,{"$f":"C47*$R$10","v":103096.6},null,{"$f":"R47/2","v":51548.3},null,{"$f":"C47*$V$10","v":104359.20000000001},null,{"$f":"V47/2","v":52179.600000000006}]
[null,"34(30)",620000,null,20670,null,605000,"～",635000,{"$f":"C48*$J$10","v":61814},null,{"$f":"J48/2","v":30907},null,{"$f":"C48*$N$10","v":72478},null,{"$f":"N48/2","v":36239},null,{"$f":"C48*$R$10","v":108338.8},null,{"$f":"R48/2","v":54169.4},null,{"$f":"C48*$V$10","v":109665.60000000001},null,{"$f":"V48/2","v":54832.800000000003}]
[null,35,650000,null,21670,null,635000,"～",665000,{"$f":"C49*$J$10","v":64805},null,{"$f":"J49/2","v":32402.5},null,{"$f":"C49*$N$10","v":75985},null,{"$f":"N49/2","v":37992.5},null,"※厚生年金基金に加入している方の厚生年金保険\n　料率は、基金ごとに定められている免除保険料\n　率(2.4%～5.0%)を控除した率となります。\n\n　●一般の被保険者の方　…12.474%～15.074%\n　●坑内員の被保険者の方…12.688%～15.288%\n\n　加入する基金ごとに異なりますので、免除保険\n　料率および厚生年金基金の掛金については、加\n　入する厚生年金基金にお問い合わせください。\n"]
[null,36,680000,null,22670,null,665000,"～",695000,{"$f":"C50*$J$10","v":67796},null,{"$f":"J50/2","v":33898},null,{"$f":"C50*$N$10","v":79492},null,{"$f":"N50/2","v":39746}]
[null,37,710000,null,23670,null,695000,"～",730000,{"$f":"C51*$J$10","v":70787},null,{"$f":"J51/2","v":35393.5},null,{"$f":"C51*$N$10","v":82999},null,{"$f":"N51/2","v":41499.5}]
[null,38,750000,null,25000,null,730000,"～",770000,{"$f":"C52*$J$10","v":74775},null,{"$f":"J52/2","v":37387.5},null,{"$f":"C52*$N$10","v":87675},null,{"$f":"N52/2","v":43837.5}]
[null,39,790000,null,26330,null,770000,"～",810000,{"$f":"C53*$J$10","v":78763},null,{"$f":"J53/2","v":39381.5},null,{"$f":"C53*$N$10","v":92351},null,{"$f":"N53/2","v":46175.5}]
[null,40,830000,null,27670,null,810000,"～",855000,{"$f":"C54*$J$10","v":82751},null,{"$f":"J54/2","v":41375.5},null,{"$f":"C54*$N$10","v":97027},null,{"$f":"N54/2","v":48513.5}]
[null,41,880000,null,29330,null,855000,"～",905000,{"$f":"C55*$J$10","v":87736},null,{"$f":"J55/2","v":43868},null,{"$f":"C55*$N$10","v":102872},null,{"$f":"N55/2","v":51436}]
[null,42,930000,null,31000,null,905000,"～",955000,{"$f":"C56*$J$10","v":92721},null,{"$f":"J56/2","v":46360.5},null,{"$f":"C56*$N$10","v":108717},null,{"$f":"N56/2","v":54358.5}]
[null,43,980000,null,32670,null,955000,"～",1005000,{"$f":"C57*$J$10","v":97706},null,{"$f":"J57/2","v":48853},null,{"$f":"C57*$N$10","v":114562},null,{"$f":"N57/2","v":57281}]
[null,44,1030000,null,34330,null,1005000,"～",1055000,{"$f":"C58*$J$10","v":102691},null,{"$f":"J58/2","v":51345.5},null,{"$f":"C58*$N$10","v":120407},null,{"$f":"N58/2","v":60203.5}]
[null,45,1090000,null,36330,null,1055000,"～",1115000,{"$f":"C59*$J$10","v":108673},null,{"$f":"J59/2","v":54336.5},null,{"$f":"C59*$N$10","v":127421},null,{"$f":"N59/2","v":63710.5}]
[null,46,1150000,null,38330,null,1115000,"～",1175000,{"$f":"C60*$J$10","v":114655},null,{"$f":"J60/2","v":57327.5},null,{"$f":"C60*$N$10","v":134435},null,{"$f":"N60/2","v":67217.5}]
[null,47,1210000,null,40330,null,1175000,"～",null,{"$f":"C61*$J$10","v":120637},null,{"$f":"J61/2","v":60318.5},null,{"$f":"C61*$N$10","v":141449},null,{"$f":"N61/2","v":70724.5}]
[]
[{"$f":"J10","v":9.9699999999999997E-2}]
[null,""]
["◆等級欄の（　）内の数字は、厚生年金保険の標準報酬月額等級です。"]
["　5(1)等級の「報酬月額」欄は、厚生年金保険の場合「101,000円未満」と読み替えてください。"]
["　34(30)等級の「報酬月額」欄は、厚生年金保険の場合「605,000円以上」と読み替えてください。"]
[null,""]
["◆平成26年度における全国健康保険協会の任意継続被保険者について、標準報酬月額の上限は、280,000円です。"]
[]
[]
["　○被保険者負担分（表の折半額の欄）に円未満の端数がある場合"]
["　　　①事業主が、給与から被保険者負担分を控除する場合、被保険者負担分の端数が50銭以下の場合は切り捨て、50銭を超える場合は切り上げて1円となります。"]
["　　　②被保険者が、被保険者負担分を事業主へ現金で支払う場合、被保険者負担分の端数が50銭未満の場合は切り捨て、50銭以上の場合は切り上げて1円となります。"]
["　　　（注）①、②にかかわらず、事業主と被保険者の間で特約がある場合には、特約に基づき端数処理をすることができます。"]
[]
["　○納入告知書の保険料額"]
["　　　 納入告知書の保険料額は、被保険者個々の保険料額を合算した金額になります。ただし、合算した金額に円未満の端数がある場合は、その端数を切り捨てた額となります。"]
[]
["　○賞与に係る保険料"]
["　　　 賞与に係る保険料額は、賞与額から1,000円未満の端数を切り捨てた額（標準賞与額）に、保険料率を乗じた額となります。"]
[" 　　　また、標準賞与額の上限は、健康保険は年間540万円（毎年4月1日から翌年3月31日までの累計額）となり、厚生年金保険と児童手当拠出金の場合は月間150万円となります。"]
[]
["　○児童手当拠出金"]
["　　　 厚生年金保険の被保険者を使用する事業主の方は、児童手当等の支給に要する費用の一部として児童手当拠出金を全額負担いただくことになります。この児童手当"]
["　　　 拠出金の額は、被保険者個々の厚生年金保険の標準報酬月額および標準賞与額に、拠出金率（0.15%）を乗じて得た額の総額となります。"]

{"sheet":"神奈川","index":23,"n_rows":86,"n_cols":24,"rows_kept":86,"cut":false,"hidden":true,"merged":[[74,0,74,24],[75,0,75,16],[85,0,85,24],[86,0,86,16],[77,0,77,23],[79,0,79,16],[80,0,80,21],[81,0,81,24],[83,0,83,21],[84,0,84,24],[76,0,76,23],[48,17,60,24],[62,0,62,25],[64,0,64,24],[65,0,65,24],[66,0,66,24],[68,0,68,24],[71,0,71,16],[72,0,72,24],[73,0,73,24],[6,21,8,24],[9,9,10,12],[9,13,10,16],[9,17,10,20],[9,21,10,24],[11,13,12,14],[11,15,12,16],[11,17,12,18],[11,19,12,20],[11,21,12,22],[11,1,12,1],[11,2,12,3],[11,4,12,5],[11,9,12,10],[11,11,12,12],[11,23,12,24],[0,1,1,24],[2,1,3,23],[4,1,4,16],[5,1,10,5],[5,6,12,8],[5,9,5,16],[5,17,5,24],[6,9,8,12],[6,13,8,16],[6,17,8,20]]}
[null,"平成26年9月分(10月納付分)からの健康保険・厚生年金保険の保険料額表"]
[]
[null,"     ‣健康保険料率：平成24年3月分～　適用　　‣厚生年金保険料率：平成26年9月分～平成27年8月分　適用\n     ‣介護保険料率：平成26年3月分～　適用　　‣児童手当拠出金率：平成24年4月分～　適用\n"]
[]
[null,"（神奈川県）",null,null,null,null,null,null,null,null,null,null,null,null,null,null,null,null,null,null,null,null,null,"（単位：円）"]
[null,"標　準　報　酬",null,null,null,null,"報　酬　月　額",null,null,"全国健康保険協会管掌健康保険料",null,null,null,null,null,null,null,"厚生年金保険料（厚生年金基金加入員を除く）"]
[null,null,null,null,null,null,null,null,null,"介護保険第２号被保険者\nに該当しない場合",null,null,null,"介護保険第２号被保険者\nに該当する場合",null,null,null,"一般の被保険者",null,null,null,"坑内員・船員"]
[]
[]
[null,null,null,null,null,null,null,null,null,9.98E-2,null,null,null,{"$f":"J10+0.0172","v":0.11699999999999999},null,null,null,0.17474000000000001,null,null,null,0.17688000000000001]
[]
[null,"等級","月　額",null,"日　額",null,null,null,null,"全　額",null,"折半額",null,"全　額",null,"折半額",null,"全　額",null,"折半額",null,"全　額",null,"折半額"]
[]
[null,null,null,null,null,null,"円以上",null,"円未満"]
[null,1,58000,null,1930,null,null,"～",63000,{"$f":"C15*$J$10","v":5788.4},null,{"$f":"J15/2","v":2894.2},null,{"$f":"C15*$N$10","v":6786},null,{"$f":"N15/2","v":3393}]
[null,2,68000,null,2270,null,63000,"～",73000,{"$f":"C16*$J$10","v":6786.4},null,{"$f":"J16/2","v":3393.2},null,{"$f":"C16*$N$10","v":7955.9999999999991},null,{"$f":"N16/2","v":3977.9999999999995}]
[null,3,78000,null,2600,null,73000,"～",83000,{"$f":"C17*$J$10","v":7784.4},null,{"$f":"J17/2","v":3892.2},null,{"$f":"C17*$N$10","v":9126},null,{"$f":"N17/2","v":4563}]
[null,4,88000,null,2930,null,83000,"～",93000,{"$f":"C18*$J$10","v":8782.4},null,{"$f":"J18/2","v":4391.2},null,{"$f":"C18*$N$10","v":10296},null,{"$f":"N18/2","v":5148}]
[null,"5(1)",98000,null,3270,null,93000,"～",101000,{"$f":"C19*$J$10","v":9780.4},null,{"$f":"J19/2","v":4890.2},null,{"$f":"C19*$N$10","v":11466},null,{"$f":"N19/2","v":5733},null,{"$f":"C19*$R$10","v":17124.52},null,{"$f":"R19/2","v":8562.26},null,{"$f":"C19*$V$10","v":17334.240000000002},null,{"$f":"V19/2","v":8667.1200000000008}]
[null,"6(2)",104000,null,3470,null,101000,"～",107000,{"$f":"C20*$J$10","v":10379.200000000001},null,{"$f":"J20/2","v":5189.6000000000004},null,{"$f":"C20*$N$10","v":12168},null,{"$f":"N20/2","v":6084},null,{"$f":"C20*$R$10","v":18172.96},null,{"$f":"R20/2","v":9086.48},null,{"$f":"C20*$V$10","v":18395.52},null,{"$f":"V20/2","v":9197.76}]
[null,"7(3)",110000,null,3670,null,107000,"～",114000,{"$f":"C21*$J$10","v":10978},null,{"$f":"J21/2","v":5489},null,{"$f":"C21*$N$10","v":12870},null,{"$f":"N21/2","v":6435},null,{"$f":"C21*$R$10","v":19221.400000000001},null,{"$f":"R21/2","v":9610.7000000000007},null,{"$f":"C21*$V$10","v":19456.8},null,{"$f":"V21/2","v":9728.4}]
[null,"8(4)",118000,null,3930,null,114000,"～",122000,{"$f":"C22*$J$10","v":11776.4},null,{"$f":"J22/2","v":5888.2},null,{"$f":"C22*$N$10","v":13806},null,{"$f":"N22/2","v":6903},null,{"$f":"C22*$R$10","v":20619.32},null,{"$f":"R22/2","v":10309.66},null,{"$f":"C22*$V$10","v":20871.84},null,{"$f":"V22/2","v":10435.92}]
[null,"9(5)",126000,null,4200,null,122000,"～",130000,{"$f":"C23*$J$10","v":12574.8},null,{"$f":"J23/2","v":6287.4},null,{"$f":"C23*$N$10","v":14742},null,{"$f":"N23/2","v":7371},null,{"$f":"C23*$R$10","v":22017.24},null,{"$f":"R23/2","v":11008.62},null,{"$f":"C23*$V$10","v":22286.880000000001},null,{"$f":"V23/2","v":11143.44}]
[null,"10(6)",134000,null,4470,null,130000,"～",138000,{"$f":"C24*$J$10","v":13373.2},null,{"$f":"J24/2","v":6686.6},null,{"$f":"C24*$N$10","v":15677.999999999998},null,{"$f":"N24/2","v":7838.9999999999991},null,{"$f":"C24*$R$10","v":23415.16},null,{"$f":"R24/2","v":11707.58},null,{"$f":"C24*$V$10","v":23701.920000000002},null,{"$f":"V24/2","v":11850.960000000001}]
[null,"11(7)",142000,null,4730,null,138000,"～",146000,{"$f":"C25*$J$10","v":14171.6},null,{"$f":"J25/2","v":7085.8},null,{"$f":"C25*$N$10","v":16614},null,{"$f":"N25/2","v":8307},null,{"$f":"C25*$R$10","v":24813.08},null,{"$f":"R25/2","v":12406.54},null,{"$f":"C25*$V$10","v":25116.960000000003},null,{"$f":"V25/2","v":12558.480000000001}]
[null,"12(8)",150000,null,5000,null,146000,"～",155000,{"$f":"C26*$J$10","v":14970},null,{"$f":"J26/2","v":7485},null,{"$f":"C26*$N$10","v":17550},null,{"$f":"N26/2","v":8775},null,{"$f":"C26*$R$10","v":26211},null,{"$f":"R26/2","v":13105.5},null,{"$f":"C26*$V$10","v":26532},null,{"$f":"V26/2","v":13266}]
[null,"13(9)",160000,null,5330,null,155000,"～",165000,{"$f":"C27*$J$10","v":15968},null,{"$f":"J27/2","v":7984},null,{"$f":"C27*$N$10","v":18720},null,{"$f":"N27/2","v":9360},null,{"$f":"C27*$R$10","v":27958.400000000001},null,{"$f":"R27/2","v":13979.2},null,{"$f":"C27*$V$10","v":28300.800000000003},null,{"$f":"V27/2","v":14150.400000000001}]
[null,"14(10)",170000,null,5670,null,165000,"～",175000,{"$f":"C28*$J$10","v":16966},null,{"$f":"J28/2","v":8483},null,{"$f":"C28*$N$10","v":19890},null,{"$f":"N28/2","v":9945},null,{"$f":"C28*$R$10","v":29705.800000000003},null,{"$f":"R28/2","v":14852.900000000001},null,{"$f":"C28*$V$10","v":30069.600000000002},null,{"$f":"V28/2","v":15034.800000000001}]
[null,"15(11)",180000,null,6000,null,175000,"～",185000,{"$f":"C29*$J$10","v":17964},null,{"$f":"J29/2","v":8982},null,{"$f":"C29*$N$10","v":21060},null,{"$f":"N29/2","v":10530},null,{"$f":"C29*$R$10","v":31453.200000000001},null,{"$f":"R29/2","v":15726.6},null,{"$f":"C29*$V$10","v":31838.400000000001},null,{"$f":"V29/2","v":15919.2}]
[null,"16(12)",190000,null,6330,null,185000,"～",195000,{"$f":"C30*$J$10","v":18962},null,{"$f":"J30/2","v":9481},null,{"$f":"C30*$N$10","v":22230},null,{"$f":"N30/2","v":11115},null,{"$f":"C30*$R$10","v":33200.6},null,{"$f":"R30/2","v":16600.3},null,{"$f":"C30*$V$10","v":33607.200000000004},null,{"$f":"V30/2","v":16803.600000000002}]
[null,"17(13)",200000,null,6670,null,195000,"～",210000,{"$f":"C31*$J$10","v":19960},null,{"$f":"J31/2","v":9980},null,{"$f":"C31*$N$10","v":23400},null,{"$f":"N31/2","v":11700},null,{"$f":"C31*$R$10","v":34948},null,{"$f":"R31/2","v":17474},null,{"$f":"C31*$V$10","v":35376},null,{"$f":"V31/2","v":17688}]
[null,"18(14)",220000,null,7330,null,210000,"～",230000,{"$f":"C32*$J$10","v":21956},null,{"$f":"J32/2","v":10978},null,{"$f":"C32*$N$10","v":25740},null,{"$f":"N32/2","v":12870},null,{"$f":"C32*$R$10","v":38442.800000000003},null,{"$f":"R32/2","v":19221.400000000001},null,{"$f":"C32*$V$10","v":38913.599999999999},null,{"$f":"V32/2","v":19456.8}]
[null,"19(15)",240000,null,8000,null,230000,"～",250000,{"$f":"C33*$J$10","v":23952},null,{"$f":"J33/2","v":11976},null,{"$f":"C33*$N$10","v":28080},null,{"$f":"N33/2","v":14040},null,{"$f":"C33*$R$10","v":41937.599999999999},null,{"$f":"R33/2","v":20968.8},null,{"$f":"C33*$V$10","v":42451.200000000004},null,{"$f":"V33/2","v":21225.600000000002}]
[null,"20(16)",260000,null,8670,null,250000,"～",270000,{"$f":"C34*$J$10","v":25948},null,{"$f":"J34/2","v":12974},null,{"$f":"C34*$N$10","v":30419.999999999996},null,{"$f":"N34/2","v":15209.999999999998},null,{"$f":"C34*$R$10","v":45432.4},null,{"$f":"R34/2","v":22716.2},null,{"$f":"C34*$V$10","v":45988.800000000003},null,{"$f":"V34/2","v":22994.400000000001}]
[null,"21(17)",280000,null,9330,null,270000,"～",290000,{"$f":"C35*$J$10","v":27944},null,{"$f":"J35/2","v":13972},null,{"$f":"C35*$N$10","v":32759.999999999996},null,{"$f":"N35/2","v":16379.999999999998},null,{"$f":"C35*$R$10","v":48927.200000000004},null,{"$f":"R35/2","v":24463.600000000002},null,{"$f":"C35*$V$10","v":49526.400000000001},null,{"$f":"V35/2","v":24763.200000000001}]
[null,"22(18)",300000,null,10000,null,290000,"～",310000,{"$f":"C36*$J$10","v":29940},null,{"$f":"J36/2","v":14970},null,{"$f":"C36*$N$10","v":35100},null,{"$f":"N36/2","v":17550},null,{"$f":"C36*$R$10","v":52422},null,{"$f":"R36/2","v":26211},null,{"$f":"C36*$V$10","v":53064},null,{"$f":"V36/2","v":26532}]
[null,"23(19)",320000,null,10670,null,310000,"～",330000,{"$f":"C37*$J$10","v":31936},null,{"$f":"J37/2","v":15968},null,{"$f":"C37*$N$10","v":37440},null,{"$f":"N37/2","v":18720},null,{"$f":"C37*$R$10","v":55916.800000000003},null,{"$f":"R37/2","v":27958.400000000001},null,{"$f":"C37*$V$10","v":56601.600000000006},null,{"$f":"V37/2","v":28300.800000000003}]
[null,"24(20)",340000,null,11330,null,330000,"～",350000,{"$f":"C38*$J$10","v":33932},null,{"$f":"J38/2","v":16966},null,{"$f":"C38*$N$10","v":39780},null,{"$f":"N38/2","v":19890},null,{"$f":"C38*$R$10","v":59411.600000000006},null,{"$f":"R38/2","v":29705.800000000003},null,{"$f":"C38*$V$10","v":60139.200000000004},null,{"$f":"V38/2","v":30069.600000000002}]
[null,"25(21)",360000,null,12000,null,350000,"～",370000,{"$f":"C39*$J$10","v":35928},null,{"$f":"J39/2","v":17964},null,{"$f":"C39*$N$10","v":42120},null,{"$f":"N39/2","v":21060},null,{"$f":"C39*$R$10","v":62906.400000000001},null,{"$f":"R39/2","v":31453.200000000001},null,{"$f":"C39*$V$10","v":63676.800000000003},null,{"$f":"V39/2","v":31838.400000000001}]
[null,"26(22)",380000,null,12670,null,370000,"～",395000,{"$f":"C40*$J$10","v":37924},null,{"$f":"J40/2","v":18962},null,{"$f":"C40*$N$10","v":44460},null,{"$f":"N40/2","v":22230},null,{"$f":"C40*$R$10","v":66401.2},null,{"$f":"R40/2","v":33200.6},null,{"$f":"C40*$V$10","v":67214.400000000009},null,{"$f":"V40/2","v":33607.200000000004}]
[null,"27(23)",410000,null,13670,null,395000,"～",425000,{"$f":"C41*$J$10","v":40918},null,{"$f":"J41/2","v":20459},null,{"$f":"C41*$N$10","v":47970},null,{"$f":"N41/2","v":23985},null,{"$f":"C41*$R$10","v":71643.400000000009},null,{"$f":"R41/2","v":35821.700000000004},null,{"$f":"C41*$V$10","v":72520.800000000003},null,{"$f":"V41/2","v":36260.400000000001}]
[null,"28(24)",440000,null,14670,null,425000,"～",455000,{"$f":"C42*$J$10","v":43912},null,{"$f":"J42/2","v":21956},null,{"$f":"C42*$N$10","v":51480},null,{"$f":"N42/2","v":25740},null,{"$f":"C42*$R$10","v":76885.600000000006},null,{"$f":"R42/2","v":38442.800000000003},null,{"$f":"C42*$V$10","v":77827.199999999997},null,{"$f":"V42/2","v":38913.599999999999}]
[null,"29(25)",470000,null,15670,null,455000,"～",485000,{"$f":"C43*$J$10","v":46906},null,{"$f":"J43/2","v":23453},null,{"$f":"C43*$N$10","v":54990},null,{"$f":"N43/2","v":27495},null,{"$f":"C43*$R$10","v":82127.8},null,{"$f":"R43/2","v":41063.9},null,{"$f":"C43*$V$10","v":83133.600000000006},null,{"$f":"V43/2","v":41566.800000000003}]
[null,"30(26)",500000,null,16670,null,485000,"～",515000,{"$f":"C44*$J$10","v":49900},null,{"$f":"J44/2","v":24950},null,{"$f":"C44*$N$10","v":58500},null,{"$f":"N44/2","v":29250},null,{"$f":"C44*$R$10","v":87370},null,{"$f":"R44/2","v":43685},null,{"$f":"C44*$V$10","v":88440},null,{"$f":"V44/2","v":44220}]
[null,"31(27)",530000,null,17670,null,515000,"～",545000,{"$f":"C45*$J$10","v":52894},null,{"$f":"J45/2","v":26447},null,{"$f":"C45*$N$10","v":62009.999999999993},null,{"$f":"N45/2","v":31004.999999999996},null,{"$f":"C45*$R$10","v":92612.2},null,{"$f":"R45/2","v":46306.1},null,{"$f":"C45*$V$10","v":93746.400000000009},null,{"$f":"V45/2","v":46873.200000000004}]
[null,"32(28)",560000,null,18670,null,545000,"～",575000,{"$f":"C46*$J$10","v":55888},null,{"$f":"J46/2","v":27944},null,{"$f":"C46*$N$10","v":65519.999999999993},null,{"$f":"N46/2","v":32759.999999999996},null,{"$f":"C46*$R$10","v":97854.400000000009},null,{"$f":"R46/2","v":48927.200000000004},null,{"$f":"C46*$V$10","v":99052.800000000003},null,{"$f":"V46/2","v":49526.400000000001}]
[null,"33(29)",590000,null,19670,null,575000,"～",605000,{"$f":"C47*$J$10","v":58882},null,{"$f":"J47/2","v":29441},null,{"$f":"C47*$N$10","v":69030},null,{"$f":"N47/2","v":34515},null,{"$f":"C47*$R$10","v":103096.6},null,{"$f":"R47/2","v":51548.3},null,{"$f":"C47*$V$10","v":104359.20000000001},null,{"$f":"V47/2","v":52179.600000000006}]
[null,"34(30)",620000,null,20670,null,605000,"～",635000,{"$f":"C48*$J$10","v":61876},null,{"$f":"J48/2","v":30938},null,{"$f":"C48*$N$10","v":72540},null,{"$f":"N48/2","v":36270},null,{"$f":"C48*$R$10","v":108338.8},null,{"$f":"R48/2","v":54169.4},null,{"$f":"C48*$V$10","v":109665.60000000001},null,{"$f":"V48/2","v":54832.800000000003}]
[null,35,650000,null,21670,null,635000,"～",665000,{"$f":"C49*$J$10","v":64870},null,{"$f":"J49/2","v":32435},null,{"$f":"C49*$N$10","v":76050},null,{"$f":"N49/2","v":38025},null,"※厚生年金基金に加入している方の厚生年金保険\n　料率は、基金ごとに定められている免除保険料\n　率(2.4%～5.0%)を控除した率となります。\n\n　●一般の被保険者の方　…12.474%～15.074%\n　●坑内員の被保険者の方…12.688%～15.288%\n\n　加入する基金ごとに異なりますので、免除保険\n　料率および厚生年金基金の掛金については、加\n　入する厚生年金基金にお問い合わせください。\n"]
[null,36,680000,null,22670,null,665000,"～",695000,{"$f":"C50*$J$10","v":67864},null,{"$f":"J50/2","v":33932},null,{"$f":"C50*$N$10","v":79560},null,{"$f":"N50/2","v":39780}]
[null,37,710000,null,23670,null,695000,"～",730000,{"$f":"C51*$J$10","v":70858},null,{"$f":"J51/2","v":35429},null,{"$f":"C51*$N$10","v":83070},null,{"$f":"N51/2","v":41535}]
[null,38,750000,null,25000,null,730000,"～",770000,{"$f":"C52*$J$10","v":74850},null,{"$f":"J52/2","v":37425},null,{"$f":"C52*$N$10","v":87750},null,{"$f":"N52/2","v":43875}]
[null,39,790000,null,26330,null,770000,"～",810000,{"$f":"C53*$J$10","v":78842},null,{"$f":"J53/2","v":39421},null,{"$f":"C53*$N$10","v":92430},null,{"$f":"N53/2","v":46215}]
[null,40,830000,null,27670,null,810000,"～",855000,{"$f":"C54*$J$10","v":82834},null,{"$f":"J54/2","v":41417},null,{"$f":"C54*$N$10","v":97110},null,{"$f":"N54/2","v":48555}]
[null,41,880000,null,29330,null,855000,"～",905000,{"$f":"C55*$J$10","v":87824},null,{"$f":"J55/2","v":43912},null,{"$f":"C55*$N$10","v":102960},null,{"$f":"N55/2","v":51480}]
[null,42,930000,null,31000,null,905000,"～",955000,{"$f":"C56*$J$10","v":92814},null,{"$f":"J56/2","v":46407},null,{"$f":"C56*$N$10","v":108810},null,{"$f":"N56/2","v":54405}]
[null,43,980000,null,32670,null,955000,"～",1005000,{"$f":"C57*$J$10","v":97804},null,{"$f":"J57/2","v":48902},null,{"$f":"C57*$N$10","v":114660},null,{"$f":"N57/2","v":57330}]
[null,44,1030000,null,34330,null,1005000,"～",1055000,{"$f":"C58*$J$10","v":102794},null,{"$f":"J58/2","v":51397},null,{"$f":"C58*$N$10","v":120509.99999999999},null,{"$f":"N58/2","v":60254.999999999993}]
[null,45,1090000,null,36330,null,1055000,"～",1115000,{"$f":"C59*$J$10","v":108782},null,{"$f":"J59/2","v":54391},null,{"$f":"C59*$N$10","v":127529.99999999999},null,{"$f":"N59/2","v":63764.999999999993}]
[null,46,1150000,null,38330,null,1115000,"～",1175000,{"$f":"C60*$J$10","v":114770},null,{"$f":"J60/2","v":57385},null,{"$f":"C60*$N$10","v":134550},null,{"$f":"N60/2","v":67275}]
[null,47,1210000,null,40330,null,1175000,"～",null,{"$f":"C61*$J$10","v":120758},null,{"$f":"J61/2","v":60379},null,{"$f":"C61*$N$10","v":141570},null,{"$f":"N61/2","v":70785}]
[]
[{"$f":"J10","v":9.98E-2}]
[null,""]
["◆等級欄の（　）内の数字は、厚生年金保険の標準報酬月額等級です。"]
["　5(1)等級の「報酬月額」欄は、厚生年金保険の場合「101,000円未満」と読み替えてください。"]
["　34(30)等級の「報酬月額」欄は、厚生年金保険の場合「605,000円以上」と読み替えてください。"]
[null,""]
["◆平成26年度における全国健康保険協会の任意継続被保険者について、標準報酬月額の上限は、280,000円です。"]
[]
[]
["　○被保険者負担分（表の折半額の欄）に円未満の端数がある場合"]
["　　　①事業主が、給与から被保険者負担分を控除する場合、被保険者負担分の端数が50銭以下の場合は切り捨て、50銭を超える場合は切り上げて1円となります。"]
["　　　②被保険者が、被保険者負担分を事業主へ現金で支払う場合、被保険者負担分の端数が50銭未満の場合は切り捨て、50銭以上の場合は切り上げて1円となります。"]
["　　　（注）①、②にかかわらず、事業主と被保険者の間で特約がある場合には、特約に基づき端数処理をすることができます。"]
[]
["　○納入告知書の保険料額"]
["　　　 納入告知書の保険料額は、被保険者個々の保険料額を合算した金額になります。ただし、合算した金額に円未満の端数がある場合は、その端数を切り捨てた額となります。"]
[]
["　○賞与に係る保険料"]
["　　　 賞与に係る保険料額は、賞与額から1,000円未満の端数を切り捨てた額（標準賞与額）に、保険料率を乗じた額となります。"]
[" 　　　また、標準賞与額の上限は、健康保険は年間540万円（毎年4月1日から翌年3月31日までの累計額）となり、厚生年金保険と児童手当拠出金の場合は月間150万円となります。"]
[]
["　○児童手当拠出金"]
["　　　 厚生年金保険の被保険者を使用する事業主の方は、児童手当等の支給に要する費用の一部として児童手当拠出金を全額負担いただくことになります。この児童手当"]
["　　　 拠出金の額は、被保険者個々の厚生年金保険の標準報酬月額および標準賞与額に、拠出金率（0.15%）を乗じて得た額の総額となります。"]

{"sheet":"新潟","index":24,"n_rows":86,"n_cols":24,"rows_kept":86,"cut":false,"hidden":true,"merged":[[74,0,74,24],[75,0,75,16],[85,0,85,24],[86,0,86,16],[77,0,77,23],[79,0,79,16],[80,0,80,21],[81,0,81,24],[83,0,83,21],[84,0,84,24],[76,0,76,23],[48,17,60,24],[62,0,62,25],[64,0,64,24],[65,0,65,24],[66,0,66,24],[68,0,68,24],[71,0,71,16],[72,0,72,24],[73,0,73,24],[6,21,8,24],[9,9,10,12],[9,13,10,16],[9,17,10,20],[9,21,10,24],[11,13,12,14],[11,15,12,16],[11,17,12,18],[11,19,12,20],[11,21,12,22],[11,1,12,1],[11,2,12,3],[11,4,12,5],[11,9,12,10],[11,11,12,12],[11,23,12,24],[0,1,1,24],[2,1,3,23],[4,1,4,16],[5,1,10,5],[5,6,12,8],[5,9,5,16],[5,17,5,24],[6,9,8,12],[6,13,8,16],[6,17,8,20]]}
[null,"平成26年9月分(10月納付分)からの健康保険・厚生年金保険の保険料額表"]
[]
[null,"     ‣健康保険料率：平成24年3月分～　適用　　‣厚生年金保険料率：平成26年9月分～平成27年8月分　適用\n     ‣介護保険料率：平成26年3月分～　適用　　‣児童手当拠出金率：平成24年4月分～　適用\n"]
[]
[null,"（新潟県）",null,null,null,null,null,null,null,null,null,null,null,null,null,null,null,null,null,null,null,null,null,"（単位：円）"]
[null,"標　準　報　酬",null,null,null,null,"報　酬　月　額",null,null,"全国健康保険協会管掌健康保険料",null,null,null,null,null,null,null,"厚生年金保険料（厚生年金基金加入員を除く）"]
[null,null,null,null,null,null,null,null,null,"介護保険第２号被保険者\nに該当しない場合",null,null,null,"介護保険第２号被保険者\nに該当する場合",null,null,null,"一般の被保険者",null,null,null,"坑内員・船員"]
[]
[]
[null,null,null,null,null,null,null,null,null,9.9000000000000005E-2,null,null,null,{"$f":"J10+0.0172","v":0.1162},null,null,null,0.17474000000000001,null,null,null,0.17688000000000001]
[]
[null,"等級","月　額",null,"日　額",null,null,null,null,"全　額",null,"折半額",null,"全　額",null,"折半額",null,"全　額",null,"折半額",null,"全　額",null,"折半額"]
[]
[null,null,null,null,null,null,"円以上",null,"円未満"]
[null,1,58000,null,1930,null,null,"～",63000,{"$f":"C15*$J$10","v":5742},null,{"$f":"J15/2","v":2871},null,{"$f":"C15*$N$10","v":6739.5999999999995},null,{"$f":"N15/2","v":3369.7999999999997}]
[null,2,68000,null,2270,null,63000,"～",73000,{"$f":"C16*$J$10","v":6732},null,{"$f":"J16/2","v":3366},null,{"$f":"C16*$N$10","v":7901.5999999999995},null,{"$f":"N16/2","v":3950.7999999999997}]
[null,3,78000,null,2600,null,73000,"～",83000,{"$f":"C17*$J$10","v":7722},null,{"$f":"J17/2","v":3861},null,{"$f":"C17*$N$10","v":9063.6},null,{"$f":"N17/2","v":4531.8}]
[null,4,88000,null,2930,null,83000,"～",93000,{"$f":"C18*$J$10","v":8712},null,{"$f":"J18/2","v":4356},null,{"$f":"C18*$N$10","v":10225.6},null,{"$f":"N18/2","v":5112.8}]
[null,"5(1)",98000,null,3270,null,93000,"～",101000,{"$f":"C19*$J$10","v":9702},null,{"$f":"J19/2","v":4851},null,{"$f":"C19*$N$10","v":11387.6},null,{"$f":"N19/2","v":5693.8},null,{"$f":"C19*$R$10","v":17124.52},null,{"$f":"R19/2","v":8562.26},null,{"$f":"C19*$V$10","v":17334.240000000002},null,{"$f":"V19/2","v":8667.1200000000008}]
[null,"6(2)",104000,null,3470,null,101000,"～",107000,{"$f":"C20*$J$10","v":10296},null,{"$f":"J20/2","v":5148},null,{"$f":"C20*$N$10","v":12084.8},null,{"$f":"N20/2","v":6042.4},null,{"$f":"C20*$R$10","v":18172.96},null,{"$f":"R20/2","v":9086.48},null,{"$f":"C20*$V$10","v":18395.52},null,{"$f":"V20/2","v":9197.76}]
[null,"7(3)",110000,null,3670,null,107000,"～",114000,{"$f":"C21*$J$10","v":10890},null,{"$f":"J21/2","v":5445},null,{"$f":"C21*$N$10","v":12782},null,{"$f":"N21/2","v":6391},null,{"$f":"C21*$R$10","v":19221.400000000001},null,{"$f":"R21/2","v":9610.7000000000007},null,{"$f":"C21*$V$10","v":19456.8},null,{"$f":"V21/2","v":9728.4}]
[null,"8(4)",118000,null,3930,null,114000,"～",122000,{"$f":"C22*$J$10","v":11682},null,{"$f":"J22/2","v":5841},null,{"$f":"C22*$N$10","v":13711.6},null,{"$f":"N22/2","v":6855.8},null,{"$f":"C22*$R$10","v":20619.32},null,{"$f":"R22/2","v":10309.66},null,{"$f":"C22*$V$10","v":20871.84},null,{"$f":"V22/2","v":10435.92}]
[null,"9(5)",126000,null,4200,null,122000,"～",130000,{"$f":"C23*$J$10","v":12474},null,{"$f":"J23/2","v":6237},null,{"$f":"C23*$N$10","v":14641.199999999999},null,{"$f":"N23/2","v":7320.5999999999995},null,{"$f":"C23*$R$10","v":22017.24},null,{"$f":"R23/2","v":11008.62},null,{"$f":"C23*$V$10","v":22286.880000000001},null,{"$f":"V23/2","v":11143.44}]
[null,"10(6)",134000,null,4470,null,130000,"～",138000,{"$f":"C24*$J$10","v":13266},null,{"$f":"J24/2","v":6633},null,{"$f":"C24*$N$10","v":15570.8},null,{"$f":"N24/2","v":7785.4},null,{"$f":"C24*$R$10","v":23415.16},null,{"$f":"R24/2","v":11707.58},null,{"$f":"C24*$V$10","v":23701.920000000002},null,{"$f":"V24/2","v":11850.960000000001}]
[null,"11(7)",142000,null,4730,null,138000,"～",146000,{"$f":"C25*$J$10","v":14058},null,{"$f":"J25/2","v":7029},null,{"$f":"C25*$N$10","v":16500.400000000001},null,{"$f":"N25/2","v":8250.2000000000007},null,{"$f":"C25*$R$10","v":24813.08},null,{"$f":"R25/2","v":12406.54},null,{"$f":"C25*$V$10","v":25116.960000000003},null,{"$f":"V25/2","v":12558.480000000001}]
[null,"12(8)",150000,null,5000,null,146000,"～",155000,{"$f":"C26*$J$10","v":14850},null,{"$f":"J26/2","v":7425},null,{"$f":"C26*$N$10","v":17430},null,{"$f":"N26/2","v":8715},null,{"$f":"C26*$R$10","v":26211},null,{"$f":"R26/2","v":13105.5},null,{"$f":"C26*$V$10","v":26532},null,{"$f":"V26/2","v":13266}]
[null,"13(9)",160000,null,5330,null,155000,"～",165000,{"$f":"C27*$J$10","v":15840},null,{"$f":"J27/2","v":7920},null,{"$f":"C27*$N$10","v":18592},null,{"$f":"N27/2","v":9296},null,{"$f":"C27*$R$10","v":27958.400000000001},null,{"$f":"R27/2","v":13979.2},null,{"$f":"C27*$V$10","v":28300.800000000003},null,{"$f":"V27/2","v":14150.400000000001}]
[null,"14(10)",170000,null,5670,null,165000,"～",175000,{"$f":"C28*$J$10","v":16830},null,{"$f":"J28/2","v":8415},null,{"$f":"C28*$N$10","v":19754},null,{"$f":"N28/2","v":9877},null,{"$f":"C28*$R$10","v":29705.800000000003},null,{"$f":"R28/2","v":14852.900000000001},null,{"$f":"C28*$V$10","v":30069.600000000002},null,{"$f":"V28/2","v":15034.800000000001}]
[null,"15(11)",180000,null,6000,null,175000,"～",185000,{"$f":"C29*$J$10","v":17820},null,{"$f":"J29/2","v":8910},null,{"$f":"C29*$N$10","v":20916},null,{"$f":"N29/2","v":10458},null,{"$f":"C29*$R$10","v":31453.200000000001},null,{"$f":"R29/2","v":15726.6},null,{"$f":"C29*$V$10","v":31838.400000000001},null,{"$f":"V29/2","v":15919.2}]
[null,"16(12)",190000,null,6330,null,185000,"～",195000,{"$f":"C30*$J$10","v":18810},null,{"$f":"J30/2","v":9405},null,{"$f":"C30*$N$10","v":22078},null,{"$f":"N30/2","v":11039},null,{"$f":"C30*$R$10","v":33200.6},null,{"$f":"R30/2","v":16600.3},null,{"$f":"C30*$V$10","v":33607.200000000004},null,{"$f":"V30/2","v":16803.600000000002}]
[null,"17(13)",200000,null,6670,null,195000,"～",210000,{"$f":"C31*$J$10","v":19800},null,{"$f":"J31/2","v":9900},null,{"$f":"C31*$N$10","v":23240},null,{"$f":"N31/2","v":11620},null,{"$f":"C31*$R$10","v":34948},null,{"$f":"R31/2","v":17474},null,{"$f":"C31*$V$10","v":35376},null,{"$f":"V31/2","v":17688}]
[null,"18(14)",220000,null,7330,null,210000,"～",230000,{"$f":"C32*$J$10","v":21780},null,{"$f":"J32/2","v":10890},null,{"$f":"C32*$N$10","v":25564},null,{"$f":"N32/2","v":12782},null,{"$f":"C32*$R$10","v":38442.800000000003},null,{"$f":"R32/2","v":19221.400000000001},null,{"$f":"C32*$V$10","v":38913.599999999999},null,{"$f":"V32/2","v":19456.8}]
[null,"19(15)",240000,null,8000,null,230000,"～",250000,{"$f":"C33*$J$10","v":23760},null,{"$f":"J33/2","v":11880},null,{"$f":"C33*$N$10","v":27888},null,{"$f":"N33/2","v":13944},null,{"$f":"C33*$R$10","v":41937.599999999999},null,{"$f":"R33/2","v":20968.8},null,{"$f":"C33*$V$10","v":42451.200000000004},null,{"$f":"V33/2","v":21225.600000000002}]
[null,"20(16)",260000,null,8670,null,250000,"～",270000,{"$f":"C34*$J$10","v":25740},null,{"$f":"J34/2","v":12870},null,{"$f":"C34*$N$10","v":30212},null,{"$f":"N34/2","v":15106},null,{"$f":"C34*$R$10","v":45432.4},null,{"$f":"R34/2","v":22716.2},null,{"$f":"C34*$V$10","v":45988.800000000003},null,{"$f":"V34/2","v":22994.400000000001}]
[null,"21(17)",280000,null,9330,null,270000,"～",290000,{"$f":"C35*$J$10","v":27720},null,{"$f":"J35/2","v":13860},null,{"$f":"C35*$N$10","v":32536},null,{"$f":"N35/2","v":16268},null,{"$f":"C35*$R$10","v":48927.200000000004},null,{"$f":"R35/2","v":24463.600000000002},null,{"$f":"C35*$V$10","v":49526.400000000001},null,{"$f":"V35/2","v":24763.200000000001}]
[null,"22(18)",300000,null,10000,null,290000,"～",310000,{"$f":"C36*$J$10","v":29700},null,{"$f":"J36/2","v":14850},null,{"$f":"C36*$N$10","v":34860},null,{"$f":"N36/2","v":17430},null,{"$f":"C36*$R$10","v":52422},null,{"$f":"R36/2","v":26211},null,{"$f":"C36*$V$10","v":53064},null,{"$f":"V36/2","v":26532}]
[null,"23(19)",320000,null,10670,null,310000,"～",330000,{"$f":"C37*$J$10","v":31680},null,{"$f":"J37/2","v":15840},null,{"$f":"C37*$N$10","v":37184},null,{"$f":"N37/2","v":18592},null,{"$f":"C37*$R$10","v":55916.800000000003},null,{"$f":"R37/2","v":27958.400000000001},null,{"$f":"C37*$V$10","v":56601.600000000006},null,{"$f":"V37/2","v":28300.800000000003}]
[null,"24(20)",340000,null,11330,null,330000,"～",350000,{"$f":"C38*$J$10","v":33660},null,{"$f":"J38/2","v":16830},null,{"$f":"C38*$N$10","v":39508},null,{"$f":"N38/2","v":19754},null,{"$f":"C38*$R$10","v":59411.600000000006},null,{"$f":"R38/2","v":29705.800000000003},null,{"$f":"C38*$V$10","v":60139.200000000004},null,{"$f":"V38/2","v":30069.600000000002}]
[null,"25(21)",360000,null,12000,null,350000,"～",370000,{"$f":"C39*$J$10","v":35640},null,{"$f":"J39/2","v":17820},null,{"$f":"C39*$N$10","v":41832},null,{"$f":"N39/2","v":20916},null,{"$f":"C39*$R$10","v":62906.400000000001},null,{"$f":"R39/2","v":31453.200000000001},null,{"$f":"C39*$V$10","v":63676.800000000003},null,{"$f":"V39/2","v":31838.400000000001}]
[null,"26(22)",380000,null,12670,null,370000,"～",395000,{"$f":"C40*$J$10","v":37620},null,{"$f":"J40/2","v":18810},null,{"$f":"C40*$N$10","v":44156},null,{"$f":"N40/2","v":22078},null,{"$f":"C40*$R$10","v":66401.2},null,{"$f":"R40/2","v":33200.6},null,{"$f":"C40*$V$10","v":67214.400000000009},null,{"$f":"V40/2","v":33607.200000000004}]
[null,"27(23)",410000,null,13670,null,395000,"～",425000,{"$f":"C41*$J$10","v":40590},null,{"$f":"J41/2","v":20295},null,{"$f":"C41*$N$10","v":47642},null,{"$f":"N41/2","v":23821},null,{"$f":"C41*$R$10","v":71643.400000000009},null,{"$f":"R41/2","v":35821.700000000004},null,{"$f":"C41*$V$10","v":72520.800000000003},null,{"$f":"V41/2","v":36260.400000000001}]
[null,"28(24)",440000,null,14670,null,425000,"～",455000,{"$f":"C42*$J$10","v":43560},null,{"$f":"J42/2","v":21780},null,{"$f":"C42*$N$10","v":51128},null,{"$f":"N42/2","v":25564},null,{"$f":"C42*$R$10","v":76885.600000000006},null,{"$f":"R42/2","v":38442.800000000003},null,{"$f":"C42*$V$10","v":77827.199999999997},null,{"$f":"V42/2","v":38913.599999999999}]
[null,"29(25)",470000,null,15670,null,455000,"～",485000,{"$f":"C43*$J$10","v":46530},null,{"$f":"J43/2","v":23265},null,{"$f":"C43*$N$10","v":54614},null,{"$f":"N43/2","v":27307},null,{"$f":"C43*$R$10","v":82127.8},null,{"$f":"R43/2","v":41063.9},null,{"$f":"C43*$V$10","v":83133.600000000006},null,{"$f":"V43/2","v":41566.800000000003}]
[null,"30(26)",500000,null,16670,null,485000,"～",515000,{"$f":"C44*$J$10","v":49500},null,{"$f":"J44/2","v":24750},null,{"$f":"C44*$N$10","v":58100},null,{"$f":"N44/2","v":29050},null,{"$f":"C44*$R$10","v":87370},null,{"$f":"R44/2","v":43685},null,{"$f":"C44*$V$10","v":88440},null,{"$f":"V44/2","v":44220}]
[null,"31(27)",530000,null,17670,null,515000,"～",545000,{"$f":"C45*$J$10","v":52470},null,{"$f":"J45/2","v":26235},null,{"$f":"C45*$N$10","v":61586},null,{"$f":"N45/2","v":30793},null,{"$f":"C45*$R$10","v":92612.2},null,{"$f":"R45/2","v":46306.1},null,{"$f":"C45*$V$10","v":93746.400000000009},null,{"$f":"V45/2","v":46873.200000000004}]
[null,"32(28)",560000,null,18670,null,545000,"～",575000,{"$f":"C46*$J$10","v":55440},null,{"$f":"J46/2","v":27720},null,{"$f":"C46*$N$10","v":65072},null,{"$f":"N46/2","v":32536},null,{"$f":"C46*$R$10","v":97854.400000000009},null,{"$f":"R46/2","v":48927.200000000004},null,{"$f":"C46*$V$10","v":99052.800000000003},null,{"$f":"V46/2","v":49526.400000000001}]
[null,"33(29)",590000,null,19670,null,575000,"～",605000,{"$f":"C47*$J$10","v":58410},null,{"$f":"J47/2","v":29205},null,{"$f":"C47*$N$10","v":68558},null,{"$f":"N47/2","v":34279},null,{"$f":"C47*$R$10","v":103096.6},null,{"$f":"R47/2","v":51548.3},null,{"$f":"C47*$V$10","v":104359.20000000001},null,{"$f":"V47/2","v":52179.600000000006}]
[null,"34(30)",620000,null,20670,null,605000,"～",635000,{"$f":"C48*$J$10","v":61380},null,{"$f":"J48/2","v":30690},null,{"$f":"C48*$N$10","v":72044},null,{"$f":"N48/2","v":36022},null,{"$f":"C48*$R$10","v":108338.8},null,{"$f":"R48/2","v":54169.4},null,{"$f":"C48*$V$10","v":109665.60000000001},null,{"$f":"V48/2","v":54832.800000000003}]
[null,35,650000,null,21670,null,635000,"～",665000,{"$f":"C49*$J$10","v":64350},null,{"$f":"J49/2","v":32175},null,{"$f":"C49*$N$10","v":75530},null,{"$f":"N49/2","v":37765},null,"※厚生年金基金に加入している方の厚生年金保険\n　料率は、基金ごとに定められている免除保険料\n　率(2.4%～5.0%)を控除した率となります。\n\n　●一般の被保険者の方　…12.474%～15.074%\n　●坑内員の被保険者の方…12.688%～15.288%\n\n　加入する基金ごとに異なりますので、免除保険\n　料率および厚生年金基金の掛金については、加\n　入する厚生年金基金にお問い合わせください。\n"]
[null,36,680000,null,22670,null,665000,"～",695000,{"$f":"C50*$J$10","v":67320},null,{"$f":"J50/2","v":33660},null,{"$f":"C50*$N$10","v":79016},null,{"$f":"N50/2","v":39508}]
[null,37,710000,null,23670,null,695000,"～",730000,{"$f":"C51*$J$10","v":70290},null,{"$f":"J51/2","v":35145},null,{"$f":"C51*$N$10","v":82502},null,{"$f":"N51/2","v":41251}]
[null,38,750000,null,25000,null,730000,"～",770000,{"$f":"C52*$J$10","v":74250},null,{"$f":"J52/2","v":37125},null,{"$f":"C52*$N$10","v":87150},null,{"$f":"N52/2","v":43575}]
[null,39,790000,null,26330,null,770000,"～",810000,{"$f":"C53*$J$10","v":78210},null,{"$f":"J53/2","v":39105},null,{"$f":"C53*$N$10","v":91798},null,{"$f":"N53/2","v":45899}]
[null,40,830000,null,27670,null,810000,"～",855000,{"$f":"C54*$J$10","v":82170},null,{"$f":"J54/2","v":41085},null,{"$f":"C54*$N$10","v":96446},null,{"$f":"N54/2","v":48223}]
[null,41,880000,null,29330,null,855000,"～",905000,{"$f":"C55*$J$10","v":87120},null,{"$f":"J55/2","v":43560},null,{"$f":"C55*$N$10","v":102256},null,{"$f":"N55/2","v":51128}]
[null,42,930000,null,31000,null,905000,"～",955000,{"$f":"C56*$J$10","v":92070},null,{"$f":"J56/2","v":46035},null,{"$f":"C56*$N$10","v":108066},null,{"$f":"N56/2","v":54033}]
[null,43,980000,null,32670,null,955000,"～",1005000,{"$f":"C57*$J$10","v":97020},null,{"$f":"J57/2","v":48510},null,{"$f":"C57*$N$10","v":113876},null,{"$f":"N57/2","v":56938}]
[null,44,1030000,null,34330,null,1005000,"～",1055000,{"$f":"C58*$J$10","v":101970},null,{"$f":"J58/2","v":50985},null,{"$f":"C58*$N$10","v":119686},null,{"$f":"N58/2","v":59843}]
[null,45,1090000,null,36330,null,1055000,"～",1115000,{"$f":"C59*$J$10","v":107910},null,{"$f":"J59/2","v":53955},null,{"$f":"C59*$N$10","v":126658},null,{"$f":"N59/2","v":63329}]
[null,46,1150000,null,38330,null,1115000,"～",1175000,{"$f":"C60*$J$10","v":113850},null,{"$f":"J60/2","v":56925},null,{"$f":"C60*$N$10","v":133630},null,{"$f":"N60/2","v":66815}]
[null,47,1210000,null,40330,null,1175000,"～",null,{"$f":"C61*$J$10","v":119790},null,{"$f":"J61/2","v":59895},null,{"$f":"C61*$N$10","v":140602},null,{"$f":"N61/2","v":70301}]
[]
[{"$f":"J10","v":9.9000000000000005E-2}]
[null,""]
["◆等級欄の（　）内の数字は、厚生年金保険の標準報酬月額等級です。"]
["　5(1)等級の「報酬月額」欄は、厚生年金保険の場合「101,000円未満」と読み替えてください。"]
["　34(30)等級の「報酬月額」欄は、厚生年金保険の場合「605,000円以上」と読み替えてください。"]
[null,""]
["◆平成26年度における全国健康保険協会の任意継続被保険者について、標準報酬月額の上限は、280,000円です。"]
[]
[]
["　○被保険者負担分（表の折半額の欄）に円未満の端数がある場合"]
["　　　①事業主が、給与から被保険者負担分を控除する場合、被保険者負担分の端数が50銭以下の場合は切り捨て、50銭を超える場合は切り上げて1円となります。"]
["　　　②被保険者が、被保険者負担分を事業主へ現金で支払う場合、被保険者負担分の端数が50銭未満の場合は切り捨て、50銭以上の場合は切り上げて1円となります。"]
["　　　（注）①、②にかかわらず、事業主と被保険者の間で特約がある場合には、特約に基づき端数処理をすることができます。"]
[]
["　○納入告知書の保険料額"]
["　　　 納入告知書の保険料額は、被保険者個々の保険料額を合算した金額になります。ただし、合算した金額に円未満の端数がある場合は、その端数を切り捨てた額となります。"]
[]
["　○賞与に係る保険料"]
["　　　 賞与に係る保険料額は、賞与額から1,000円未満の端数を切り捨てた額（標準賞与額）に、保険料率を乗じた額となります。"]
[" 　　　また、標準賞与額の上限は、健康保険は年間540万円（毎年4月1日から翌年3月31日までの累計額）となり、厚生年金保険と児童手当拠出金の場合は月間150万円となります。"]
[]
["　○児童手当拠出金"]
["　　　 厚生年金保険の被保険者を使用する事業主の方は、児童手当等の支給に要する費用の一部として児童手当拠出金を全額負担いただくことになります。この児童手当"]
["　　　 拠出金の額は、被保険者個々の厚生年金保険の標準報酬月額および標準賞与額に、拠出金率（0.15%）を乗じて得た額の総額となります。"]

{"sheet":"富山","index":25,"n_rows":86,"n_cols":24,"rows_kept":86,"cut":false,"hidden":true,"merged":[[74,0,74,24],[75,0,75,16],[85,0,85,24],[86,0,86,16],[77,0,77,23],[79,0,79,16],[80,0,80,21],[81,0,81,24],[83,0,83,21],[84,0,84,24],[76,0,76,23],[48,17,60,24],[62,0,62,25],[64,0,64,24],[65,0,65,24],[66,0,66,24],[68,0,68,24],[71,0,71,16],[72,0,72,24],[73,0,73,24],[6,21,8,24],[9,9,10,12],[9,13,10,16],[9,17,10,20],[9,21,10,24],[11,13,12,14],[11,15,12,16],[11,17,12,18],[11,19,12,20],[11,21,12,22],[11,1,12,1],[11,2,12,3],[11,4,12,5],[11,9,12,10],[11,11,12,12],[11,23,12,24],[0,1,1,24],[2,1,3,23],[4,1,4,16],[5,1,10,5],[5,6,12,8],[5,9,5,16],[5,17,5,24],[6,9,8,12],[6,13,8,16],[6,17,8,20]]}
[null,"平成26年9月分(10月納付分)からの健康保険・厚生年金保険の保険料額表"]
[]
[null,"     ‣健康保険料率：平成24年3月分～　適用　　‣厚生年金保険料率：平成26年9月分～平成27年8月分　適用\n     ‣介護保険料率：平成26年3月分～　適用　　‣児童手当拠出金率：平成24年4月分～　適用\n"]
[]
[null,"（富山県）",null,null,null,null,null,null,null,null,null,null,null,null,null,null,null,null,null,null,null,null,null,"（単位：円）"]
[null,"標　準　報　酬",null,null,null,null,"報　酬　月　額",null,null,"全国健康保険協会管掌健康保険料",null,null,null,null,null,null,null,"厚生年金保険料（厚生年金基金加入員を除く）"]
[null,null,null,null,null,null,null,null,null,"介護保険第２号被保険者\nに該当しない場合",null,null,null,"介護保険第２号被保険者\nに該当する場合",null,null,null,"一般の被保険者",null,null,null,"坑内員・船員"]
[]
[]
[null,null,null,null,null,null,null,null,null,9.9299999999999999E-2,null,null,null,{"$f":"J10+0.0172","v":0.11649999999999999},null,null,null,0.17474000000000001,null,null,null,0.17688000000000001]
[]
[null,"等級","月　額",null,"日　額",null,null,null,null,"全　額",null,"折半額",null,"全　額",null,"折半額",null,"全　額",null,"折半額",null,"全　額",null,"折半額"]
[]
[null,null,null,null,null,null,"円以上",null,"円未満"]
[null,1,58000,null,1930,null,null,"～",63000,{"$f":"C15*$J$10","v":5759.4},null,{"$f":"J15/2","v":2879.7},null,{"$f":"C15*$N$10","v":6757},null,{"$f":"N15/2","v":3378.5}]
[null,2,68000,null,2270,null,63000,"～",73000,{"$f":"C16*$J$10","v":6752.4},null,{"$f":"J16/2","v":3376.2},null,{"$f":"C16*$N$10","v":7921.9999999999991},null,{"$f":"N16/2","v":3960.9999999999995}]
[null,3,78000,null,2600,null,73000,"～",83000,{"$f":"C17*$J$10","v":7745.4},null,{"$f":"J17/2","v":3872.7},null,{"$f":"C17*$N$10","v":9087},null,{"$f":"N17/2","v":4543.5}]
[null,4,88000,null,2930,null,83000,"～",93000,{"$f":"C18*$J$10","v":8738.4},null,{"$f":"J18/2","v":4369.2},null,{"$f":"C18*$N$10","v":10252},null,{"$f":"N18/2","v":5126}]
[null,"5(1)",98000,null,3270,null,93000,"～",101000,{"$f":"C19*$J$10","v":9731.4},null,{"$f":"J19/2","v":4865.7},null,{"$f":"C19*$N$10","v":11417},null,{"$f":"N19/2","v":5708.5},null,{"$f":"C19*$R$10","v":17124.52},null,{"$f":"R19/2","v":8562.26},null,{"$f":"C19*$V$10","v":17334.240000000002},null,{"$f":"V19/2","v":8667.1200000000008}]
[null,"6(2)",104000,null,3470,null,101000,"～",107000,{"$f":"C20*$J$10","v":10327.200000000001},null,{"$f":"J20/2","v":5163.6000000000004},null,{"$f":"C20*$N$10","v":12116},null,{"$f":"N20/2","v":6058},null,{"$f":"C20*$R$10","v":18172.96},null,{"$f":"R20/2","v":9086.48},null,{"$f":"C20*$V$10","v":18395.52},null,{"$f":"V20/2","v":9197.76}]
[null,"7(3)",110000,null,3670,null,107000,"～",114000,{"$f":"C21*$J$10","v":10923},null,{"$f":"J21/2","v":5461.5},null,{"$f":"C21*$N$10","v":12815},null,{"$f":"N21/2","v":6407.5},null,{"$f":"C21*$R$10","v":19221.400000000001},null,{"$f":"R21/2","v":9610.7000000000007},null,{"$f":"C21*$V$10","v":19456.8},null,{"$f":"V21/2","v":9728.4}]
[null,"8(4)",118000,null,3930,null,114000,"～",122000,{"$f":"C22*$J$10","v":11717.4},null,{"$f":"J22/2","v":5858.7},null,{"$f":"C22*$N$10","v":13747},null,{"$f":"N22/2","v":6873.5},null,{"$f":"C22*$R$10","v":20619.32},null,{"$f":"R22/2","v":10309.66},null,{"$f":"C22*$V$10","v":20871.84},null,{"$f":"V22/2","v":10435.92}]
[null,"9(5)",126000,null,4200,null,122000,"～",130000,{"$f":"C23*$J$10","v":12511.8},null,{"$f":"J23/2","v":6255.9},null,{"$f":"C23*$N$10","v":14678.999999999998},null,{"$f":"N23/2","v":7339.4999999999991},null,{"$f":"C23*$R$10","v":22017.24},null,{"$f":"R23/2","v":11008.62},null,{"$f":"C23*$V$10","v":22286.880000000001},null,{"$f":"V23/2","v":11143.44}]
[null,"10(6)",134000,null,4470,null,130000,"～",138000,{"$f":"C24*$J$10","v":13306.2},null,{"$f":"J24/2","v":6653.1},null,{"$f":"C24*$N$10","v":15610.999999999998},null,{"$f":"N24/2","v":7805.4999999999991},null,{"$f":"C24*$R$10","v":23415.16},null,{"$f":"R24/2","v":11707.58},null,{"$f":"C24*$V$10","v":23701.920000000002},null,{"$f":"V24/2","v":11850.960000000001}]
[null,"11(7)",142000,null,4730,null,138000,"～",146000,{"$f":"C25*$J$10","v":14100.6},null,{"$f":"J25/2","v":7050.3},null,{"$f":"C25*$N$10","v":16543},null,{"$f":"N25/2","v":8271.5},null,{"$f":"C25*$R$10","v":24813.08},null,{"$f":"R25/2","v":12406.54},null,{"$f":"C25*$V$10","v":25116.960000000003},null,{"$f":"V25/2","v":12558.480000000001}]
[null,"12(8)",150000,null,5000,null,146000,"～",155000,{"$f":"C26*$J$10","v":14895},null,{"$f":"J26/2","v":7447.5},null,{"$f":"C26*$N$10","v":17475},null,{"$f":"N26/2","v":8737.5},null,{"$f":"C26*$R$10","v":26211},null,{"$f":"R26/2","v":13105.5},null,{"$f":"C26*$V$10","v":26532},null,{"$f":"V26/2","v":13266}]
[null,"13(9)",160000,null,5330,null,155000,"～",165000,{"$f":"C27*$J$10","v":15888},null,{"$f":"J27/2","v":7944},null,{"$f":"C27*$N$10","v":18640},null,{"$f":"N27/2","v":9320},null,{"$f":"C27*$R$10","v":27958.400000000001},null,{"$f":"R27/2","v":13979.2},null,{"$f":"C27*$V$10","v":28300.800000000003},null,{"$f":"V27/2","v":14150.400000000001}]
[null,"14(10)",170000,null,5670,null,165000,"～",175000,{"$f":"C28*$J$10","v":16881},null,{"$f":"J28/2","v":8440.5},null,{"$f":"C28*$N$10","v":19805},null,{"$f":"N28/2","v":9902.5},null,{"$f":"C28*$R$10","v":29705.800000000003},null,{"$f":"R28/2","v":14852.900000000001},null,{"$f":"C28*$V$10","v":30069.600000000002},null,{"$f":"V28/2","v":15034.800000000001}]
[null,"15(11)",180000,null,6000,null,175000,"～",185000,{"$f":"C29*$J$10","v":17874},null,{"$f":"J29/2","v":8937},null,{"$f":"C29*$N$10","v":20970},null,{"$f":"N29/2","v":10485},null,{"$f":"C29*$R$10","v":31453.200000000001},null,{"$f":"R29/2","v":15726.6},null,{"$f":"C29*$V$10","v":31838.400000000001},null,{"$f":"V29/2","v":15919.2}]
[null,"16(12)",190000,null,6330,null,185000,"～",195000,{"$f":"C30*$J$10","v":18867},null,{"$f":"J30/2","v":9433.5},null,{"$f":"C30*$N$10","v":22135},null,{"$f":"N30/2","v":11067.5},null,{"$f":"C30*$R$10","v":33200.6},null,{"$f":"R30/2","v":16600.3},null,{"$f":"C30*$V$10","v":33607.200000000004},null,{"$f":"V30/2","v":16803.600000000002}]
[null,"17(13)",200000,null,6670,null,195000,"～",210000,{"$f":"C31*$J$10","v":19860},null,{"$f":"J31/2","v":9930},null,{"$f":"C31*$N$10","v":23300},null,{"$f":"N31/2","v":11650},null,{"$f":"C31*$R$10","v":34948},null,{"$f":"R31/2","v":17474},null,{"$f":"C31*$V$10","v":35376},null,{"$f":"V31/2","v":17688}]
[null,"18(14)",220000,null,7330,null,210000,"～",230000,{"$f":"C32*$J$10","v":21846},null,{"$f":"J32/2","v":10923},null,{"$f":"C32*$N$10","v":25630},null,{"$f":"N32/2","v":12815},null,{"$f":"C32*$R$10","v":38442.800000000003},null,{"$f":"R32/2","v":19221.400000000001},null,{"$f":"C32*$V$10","v":38913.599999999999},null,{"$f":"V32/2","v":19456.8}]
[null,"19(15)",240000,null,8000,null,230000,"～",250000,{"$f":"C33*$J$10","v":23832},null,{"$f":"J33/2","v":11916},null,{"$f":"C33*$N$10","v":27960},null,{"$f":"N33/2","v":13980},null,{"$f":"C33*$R$10","v":41937.599999999999},null,{"$f":"R33/2","v":20968.8},null,{"$f":"C33*$V$10","v":42451.200000000004},null,{"$f":"V33/2","v":21225.600000000002}]
[null,"20(16)",260000,null,8670,null,250000,"～",270000,{"$f":"C34*$J$10","v":25818},null,{"$f":"J34/2","v":12909},null,{"$f":"C34*$N$10","v":30289.999999999996},null,{"$f":"N34/2","v":15144.999999999998},null,{"$f":"C34*$R$10","v":45432.4},null,{"$f":"R34/2","v":22716.2},null,{"$f":"C34*$V$10","v":45988.800000000003},null,{"$f":"V34/2","v":22994.400000000001}]
[null,"21(17)",280000,null,9330,null,270000,"～",290000,{"$f":"C35*$J$10","v":27804},null,{"$f":"J35/2","v":13902},null,{"$f":"C35*$N$10","v":32619.999999999996},null,{"$f":"N35/2","v":16309.999999999998},null,{"$f":"C35*$R$10","v":48927.200000000004},null,{"$f":"R35/2","v":24463.600000000002},null,{"$f":"C35*$V$10","v":49526.400000000001},null,{"$f":"V35/2","v":24763.200000000001}]
[null,"22(18)",300000,null,10000,null,290000,"～",310000,{"$f":"C36*$J$10","v":29790},null,{"$f":"J36/2","v":14895},null,{"$f":"C36*$N$10","v":34950},null,{"$f":"N36/2","v":17475},null,{"$f":"C36*$R$10","v":52422},null,{"$f":"R36/2","v":26211},null,{"$f":"C36*$V$10","v":53064},null,{"$f":"V36/2","v":26532}]
[null,"23(19)",320000,null,10670,null,310000,"～",330000,{"$f":"C37*$J$10","v":31776},null,{"$f":"J37/2","v":15888},null,{"$f":"C37*$N$10","v":37280},null,{"$f":"N37/2","v":18640},null,{"$f":"C37*$R$10","v":55916.800000000003},null,{"$f":"R37/2","v":27958.400000000001},null,{"$f":"C37*$V$10","v":56601.600000000006},null,{"$f":"V37/2","v":28300.800000000003}]
[null,"24(20)",340000,null,11330,null,330000,"～",350000,{"$f":"C38*$J$10","v":33762},null,{"$f":"J38/2","v":16881},null,{"$f":"C38*$N$10","v":39610},null,{"$f":"N38/2","v":19805},null,{"$f":"C38*$R$10","v":59411.600000000006},null,{"$f":"R38/2","v":29705.800000000003},null,{"$f":"C38*$V$10","v":60139.200000000004},null,{"$f":"V38/2","v":30069.600000000002}]
[null,"25(21)",360000,null,12000,null,350000,"～",370000,{"$f":"C39*$J$10","v":35748},null,{"$f":"J39/2","v":17874},null,{"$f":"C39*$N$10","v":41940},null,{"$f":"N39/2","v":20970},null,{"$f":"C39*$R$10","v":62906.400000000001},null,{"$f":"R39/2","v":31453.200000000001},null,{"$f":"C39*$V$10","v":63676.800000000003},null,{"$f":"V39/2","v":31838.400000000001}]
[null,"26(22)",380000,null,12670,null,370000,"～",395000,{"$f":"C40*$J$10","v":37734},null,{"$f":"J40/2","v":18867},null,{"$f":"C40*$N$10","v":44270},null,{"$f":"N40/2","v":22135},null,{"$f":"C40*$R$10","v":66401.2},null,{"$f":"R40/2","v":33200.6},null,{"$f":"C40*$V$10","v":67214.400000000009},null,{"$f":"V40/2","v":33607.200000000004}]
[null,"27(23)",410000,null,13670,null,395000,"～",425000,{"$f":"C41*$J$10","v":40713},null,{"$f":"J41/2","v":20356.5},null,{"$f":"C41*$N$10","v":47765},null,{"$f":"N41/2","v":23882.5},null,{"$f":"C41*$R$10","v":71643.400000000009},null,{"$f":"R41/2","v":35821.700000000004},null,{"$f":"C41*$V$10","v":72520.800000000003},null,{"$f":"V41/2","v":36260.400000000001}]
[null,"28(24)",440000,null,14670,null,425000,"～",455000,{"$f":"C42*$J$10","v":43692},null,{"$f":"J42/2","v":21846},null,{"$f":"C42*$N$10","v":51260},null,{"$f":"N42/2","v":25630},null,{"$f":"C42*$R$10","v":76885.600000000006},null,{"$f":"R42/2","v":38442.800000000003},null,{"$f":"C42*$V$10","v":77827.199999999997},null,{"$f":"V42/2","v":38913.599999999999}]
[null,"29(25)",470000,null,15670,null,455000,"～",485000,{"$f":"C43*$J$10","v":46671},null,{"$f":"J43/2","v":23335.5},null,{"$f":"C43*$N$10","v":54755},null,{"$f":"N43/2","v":27377.5},null,{"$f":"C43*$R$10","v":82127.8},null,{"$f":"R43/2","v":41063.9},null,{"$f":"C43*$V$10","v":83133.600000000006},null,{"$f":"V43/2","v":41566.800000000003}]
[null,"30(26)",500000,null,16670,null,485000,"～",515000,{"$f":"C44*$J$10","v":49650},null,{"$f":"J44/2","v":24825},null,{"$f":"C44*$N$10","v":58249.999999999993},null,{"$f":"N44/2","v":29124.999999999996},null,{"$f":"C44*$R$10","v":87370},null,{"$f":"R44/2","v":43685},null,{"$f":"C44*$V$10","v":88440},null,{"$f":"V44/2","v":44220}]
[null,"31(27)",530000,null,17670,null,515000,"～",545000,{"$f":"C45*$J$10","v":52629},null,{"$f":"J45/2","v":26314.5},null,{"$f":"C45*$N$10","v":61744.999999999993},null,{"$f":"N45/2","v":30872.499999999996},null,{"$f":"C45*$R$10","v":92612.2},null,{"$f":"R45/2","v":46306.1},null,{"$f":"C45*$V$10","v":93746.400000000009},null,{"$f":"V45/2","v":46873.200000000004}]
[null,"32(28)",560000,null,18670,null,545000,"～",575000,{"$f":"C46*$J$10","v":55608},null,{"$f":"J46/2","v":27804},null,{"$f":"C46*$N$10","v":65239.999999999993},null,{"$f":"N46/2","v":32619.999999999996},null,{"$f":"C46*$R$10","v":97854.400000000009},null,{"$f":"R46/2","v":48927.200000000004},null,{"$f":"C46*$V$10","v":99052.800000000003},null,{"$f":"V46/2","v":49526.400000000001}]
[null,"33(29)",590000,null,19670,null,575000,"～",605000,{"$f":"C47*$J$10","v":58587},null,{"$f":"J47/2","v":29293.5},null,{"$f":"C47*$N$10","v":68735},null,{"$f":"N47/2","v":34367.5},null,{"$f":"C47*$R$10","v":103096.6},null,{"$f":"R47/2","v":51548.3},null,{"$f":"C47*$V$10","v":104359.20000000001},null,{"$f":"V47/2","v":52179.600000000006}]
[null,"34(30)",620000,null,20670,null,605000,"～",635000,{"$f":"C48*$J$10","v":61566},null,{"$f":"J48/2","v":30783},null,{"$f":"C48*$N$10","v":72230},null,{"$f":"N48/2","v":36115},null,{"$f":"C48*$R$10","v":108338.8},null,{"$f":"R48/2","v":54169.4},null,{"$f":"C48*$V$10","v":109665.60000000001},null,{"$f":"V48/2","v":54832.800000000003}]
[null,35,650000,null,21670,null,635000,"～",665000,{"$f":"C49*$J$10","v":64545},null,{"$f":"J49/2","v":32272.5},null,{"$f":"C49*$N$10","v":75725},null,{"$f":"N49/2","v":37862.5},null,"※厚生年金基金に加入している方の厚生年金保険\n　料率は、基金ごとに定められている免除保険料\n　率(2.4%～5.0%)を控除した率となります。\n\n　●一般の被保険者の方　…12.474%～15.074%\n　●坑内員の被保険者の方…12.688%～15.288%\n\n　加入する基金ごとに異なりますので、免除保険\n　料率および厚生年金基金の掛金については、加\n　入する厚生年金基金にお問い合わせください。\n"]
[null,36,680000,null,22670,null,665000,"～",695000,{"$f":"C50*$J$10","v":67524},null,{"$f":"J50/2","v":33762},null,{"$f":"C50*$N$10","v":79220},null,{"$f":"N50/2","v":39610}]
[null,37,710000,null,23670,null,695000,"～",730000,{"$f":"C51*$J$10","v":70503},null,{"$f":"J51/2","v":35251.5},null,{"$f":"C51*$N$10","v":82715},null,{"$f":"N51/2","v":41357.5}]
[null,38,750000,null,25000,null,730000,"～",770000,{"$f":"C52*$J$10","v":74475},null,{"$f":"J52/2","v":37237.5},null,{"$f":"C52*$N$10","v":87375},null,{"$f":"N52/2","v":43687.5}]
[null,39,790000,null,26330,null,770000,"～",810000,{"$f":"C53*$J$10","v":78447},null,{"$f":"J53/2","v":39223.5},null,{"$f":"C53*$N$10","v":92035},null,{"$f":"N53/2","v":46017.5}]
[null,40,830000,null,27670,null,810000,"～",855000,{"$f":"C54*$J$10","v":82419},null,{"$f":"J54/2","v":41209.5},null,{"$f":"C54*$N$10","v":96695},null,{"$f":"N54/2","v":48347.5}]
[null,41,880000,null,29330,null,855000,"～",905000,{"$f":"C55*$J$10","v":87384},null,{"$f":"J55/2","v":43692},null,{"$f":"C55*$N$10","v":102520},null,{"$f":"N55/2","v":51260}]
[null,42,930000,null,31000,null,905000,"～",955000,{"$f":"C56*$J$10","v":92349},null,{"$f":"J56/2","v":46174.5},null,{"$f":"C56*$N$10","v":108345},null,{"$f":"N56/2","v":54172.5}]
[null,43,980000,null,32670,null,955000,"～",1005000,{"$f":"C57*$J$10","v":97314},null,{"$f":"J57/2","v":48657},null,{"$f":"C57*$N$10","v":114169.99999999999},null,{"$f":"N57/2","v":57084.999999999993}]
[null,44,1030000,null,34330,null,1005000,"～",1055000,{"$f":"C58*$J$10","v":102279},null,{"$f":"J58/2","v":51139.5},null,{"$f":"C58*$N$10","v":119994.99999999999},null,{"$f":"N58/2","v":59997.499999999993}]
[null,45,1090000,null,36330,null,1055000,"～",1115000,{"$f":"C59*$J$10","v":108237},null,{"$f":"J59/2","v":54118.5},null,{"$f":"C59*$N$10","v":126984.99999999999},null,{"$f":"N59/2","v":63492.499999999993}]
[null,46,1150000,null,38330,null,1115000,"～",1175000,{"$f":"C60*$J$10","v":114195},null,{"$f":"J60/2","v":57097.5},null,{"$f":"C60*$N$10","v":133975},null,{"$f":"N60/2","v":66987.5}]
[null,47,1210000,null,40330,null,1175000,"～",null,{"$f":"C61*$J$10","v":120153},null,{"$f":"J61/2","v":60076.5},null,{"$f":"C61*$N$10","v":140965},null,{"$f":"N61/2","v":70482.5}]
[]
[9.9299999999999999E-2]
[null,""]
["◆等級欄の（　）内の数字は、厚生年金保険の標準報酬月額等級です。"]
["　5(1)等級の「報酬月額」欄は、厚生年金保険の場合「101,000円未満」と読み替えてください。"]
["　34(30)等級の「報酬月額」欄は、厚生年金保険の場合「605,000円以上」と読み替えてください。"]
[null,""]
["◆平成26年度における全国健康保険協会の任意継続被保険者について、標準報酬月額の上限は、280,000円です。"]
[]
[]
["　○被保険者負担分（表の折半額の欄）に円未満の端数がある場合"]
["　　　①事業主が、給与から被保険者負担分を控除する場合、被保険者負担分の端数が50銭以下の場合は切り捨て、50銭を超える場合は切り上げて1円となります。"]
["　　　②被保険者が、被保険者負担分を事業主へ現金で支払う場合、被保険者負担分の端数が50銭未満の場合は切り捨て、50銭以上の場合は切り上げて1円となります。"]
["　　　（注）①、②にかかわらず、事業主と被保険者の間で特約がある場合には、特約に基づき端数処理をすることができます。"]
[]
["　○納入告知書の保険料額"]
["　　　 納入告知書の保険料額は、被保険者個々の保険料額を合算した金額になります。ただし、合算した金額に円未満の端数がある場合は、その端数を切り捨てた額となります。"]
[]
["　○賞与に係る保険料"]
["　　　 賞与に係る保険料額は、賞与額から1,000円未満の端数を切り捨てた額（標準賞与額）に、保険料率を乗じた額となります。"]
[" 　　　また、標準賞与額の上限は、健康保険は年間540万円（毎年4月1日から翌年3月31日までの累計額）となり、厚生年金保険と児童手当拠出金の場合は月間150万円となります。"]
[]
["　○児童手当拠出金"]
["　　　 厚生年金保険の被保険者を使用する事業主の方は、児童手当等の支給に要する費用の一部として児童手当拠出金を全額負担いただくことになります。この児童手当"]
["　　　 拠出金の額は、被保険者個々の厚生年金保険の標準報酬月額および標準賞与額に、拠出金率（0.15%）を乗じて得た額の総額となります。"]

{"sheet":"石川","index":26,"n_rows":86,"n_cols":24,"rows_kept":86,"cut":false,"hidden":true,"merged":[[74,0,74,24],[75,0,75,16],[85,0,85,24],[86,0,86,16],[77,0,77,23],[79,0,79,16],[80,0,80,21],[81,0,81,24],[83,0,83,21],[84,0,84,24],[76,0,76,23],[48,17,60,24],[62,0,62,25],[64,0,64,24],[65,0,65,24],[66,0,66,24],[68,0,68,24],[71,0,71,16],[72,0,72,24],[73,0,73,24],[6,21,8,24],[9,9,10,12],[9,13,10,16],[9,17,10,20],[9,21,10,24],[11,13,12,14],[11,15,12,16],[11,17,12,18],[11,19,12,20],[11,21,12,22],[11,1,12,1],[11,2,12,3],[11,4,12,5],[11,9,12,10],[11,11,12,12],[11,23,12,24],[0,1,1,24],[2,1,3,23],[4,1,4,16],[5,1,10,5],[5,6,12,8],[5,9,5,16],[5,17,5,24],[6,9,8,12],[6,13,8,16],[6,17,8,20]]}
[null,"平成26年9月分(10月納付分)からの健康保険・厚生年金保険の保険料額表"]
[]
[null,"     ‣健康保険料率：平成24年3月分～　適用　　‣厚生年金保険料率：平成26年9月分～平成27年8月分　適用\n     ‣介護保険料率：平成26年3月分～　適用　　‣児童手当拠出金率：平成24年4月分～　適用\n"]
[]
[null,"（石川県）",null,null,null,null,null,null,null,null,null,null,null,null,null,null,null,null,null,null,null,null,null,"（単位：円）"]
[null,"標　準　報　酬",null,null,null,null,"報　酬　月　額",null,null,"全国健康保険協会管掌健康保険料",null,null,null,null,null,null,null,"厚生年金保険料（厚生年金基金加入員を除く）"]
[null,null,null,null,null,null,null,null,null,"介護保険第２号被保険者\nに該当しない場合",null,null,null,"介護保険第２号被保険者\nに該当する場合",null,null,null,"一般の被保険者",null,null,null,"坑内員・船員"]
[]
[]
[null,null,null,null,null,null,null,null,null,0.1003,null,null,null,{"$f":"J10+0.0172","v":0.11749999999999999},null,null,null,0.17474000000000001,null,null,null,0.17688000000000001]
[]
[null,"等級","月　額",null,"日　額",null,null,null,null,"全　額",null,"折半額",null,"全　額",null,"折半額",null,"全　額",null,"折半額",null,"全　額",null,"折半額"]
[]
[null,null,null,null,null,null,"円以上",null,"円未満"]
[null,1,58000,null,1930,null,null,"～",63000,{"$f":"C15*$J$10","v":5817.4},null,{"$f":"J15/2","v":2908.7},null,{"$f":"C15*$N$10","v":6815},null,{"$f":"N15/2","v":3407.5}]
[null,2,68000,null,2270,null,63000,"～",73000,{"$f":"C16*$J$10","v":6820.4},null,{"$f":"J16/2","v":3410.2},null,{"$f":"C16*$N$10","v":7990},null,{"$f":"N16/2","v":3995}]
[null,3,78000,null,2600,null,73000,"～",83000,{"$f":"C17*$J$10","v":7823.4},null,{"$f":"J17/2","v":3911.7},null,{"$f":"C17*$N$10","v":9165},null,{"$f":"N17/2","v":4582.5}]
[null,4,88000,null,2930,null,83000,"～",93000,{"$f":"C18*$J$10","v":8826.4},null,{"$f":"J18/2","v":4413.2},null,{"$f":"C18*$N$10","v":10340},null,{"$f":"N18/2","v":5170}]
[null,"5(1)",98000,null,3270,null,93000,"～",101000,{"$f":"C19*$J$10","v":9829.4},null,{"$f":"J19/2","v":4914.7},null,{"$f":"C19*$N$10","v":11515},null,{"$f":"N19/2","v":5757.5},null,{"$f":"C19*$R$10","v":17124.52},null,{"$f":"R19/2","v":8562.26},null,{"$f":"C19*$V$10","v":17334.240000000002},null,{"$f":"V19/2","v":8667.1200000000008}]
[null,"6(2)",104000,null,3470,null,101000,"～",107000,{"$f":"C20*$J$10","v":10431.200000000001},null,{"$f":"J20/2","v":5215.6000000000004},null,{"$f":"C20*$N$10","v":12220},null,{"$f":"N20/2","v":6110},null,{"$f":"C20*$R$10","v":18172.96},null,{"$f":"R20/2","v":9086.48},null,{"$f":"C20*$V$10","v":18395.52},null,{"$f":"V20/2","v":9197.76}]
[null,"7(3)",110000,null,3670,null,107000,"～",114000,{"$f":"C21*$J$10","v":11033},null,{"$f":"J21/2","v":5516.5},null,{"$f":"C21*$N$10","v":12925},null,{"$f":"N21/2","v":6462.5},null,{"$f":"C21*$R$10","v":19221.400000000001},null,{"$f":"R21/2","v":9610.7000000000007},null,{"$f":"C21*$V$10","v":19456.8},null,{"$f":"V21/2","v":9728.4}]
[null,"8(4)",118000,null,3930,null,114000,"～",122000,{"$f":"C22*$J$10","v":11835.4},null,{"$f":"J22/2","v":5917.7},null,{"$f":"C22*$N$10","v":13865},null,{"$f":"N22/2","v":6932.5},null,{"$f":"C22*$R$10","v":20619.32},null,{"$f":"R22/2","v":10309.66},null,{"$f":"C22*$V$10","v":20871.84},null,{"$f":"V22/2","v":10435.92}]
[null,"9(5)",126000,null,4200,null,122000,"～",130000,{"$f":"C23*$J$10","v":12637.8},null,{"$f":"J23/2","v":6318.9},null,{"$f":"C23*$N$10","v":14805},null,{"$f":"N23/2","v":7402.5},null,{"$f":"C23*$R$10","v":22017.24},null,{"$f":"R23/2","v":11008.62},null,{"$f":"C23*$V$10","v":22286.880000000001},null,{"$f":"V23/2","v":11143.44}]
[null,"10(6)",134000,null,4470,null,130000,"～",138000,{"$f":"C24*$J$10","v":13440.2},null,{"$f":"J24/2","v":6720.1},null,{"$f":"C24*$N$10","v":15745},null,{"$f":"N24/2","v":7872.5},null,{"$f":"C24*$R$10","v":23415.16},null,{"$f":"R24/2","v":11707.58},null,{"$f":"C24*$V$10","v":23701.920000000002},null,{"$f":"V24/2","v":11850.960000000001}]
[null,"11(7)",142000,null,4730,null,138000,"～",146000,{"$f":"C25*$J$10","v":14242.6},null,{"$f":"J25/2","v":7121.3},null,{"$f":"C25*$N$10","v":16685},null,{"$f":"N25/2","v":8342.5},null,{"$f":"C25*$R$10","v":24813.08},null,{"$f":"R25/2","v":12406.54},null,{"$f":"C25*$V$10","v":25116.960000000003},null,{"$f":"V25/2","v":12558.480000000001}]
[null,"12(8)",150000,null,5000,null,146000,"～",155000,{"$f":"C26*$J$10","v":15045},null,{"$f":"J26/2","v":7522.5},null,{"$f":"C26*$N$10","v":17625},null,{"$f":"N26/2","v":8812.5},null,{"$f":"C26*$R$10","v":26211},null,{"$f":"R26/2","v":13105.5},null,{"$f":"C26*$V$10","v":26532},null,{"$f":"V26/2","v":13266}]
[null,"13(9)",160000,null,5330,null,155000,"～",165000,{"$f":"C27*$J$10","v":16048},null,{"$f":"J27/2","v":8024},null,{"$f":"C27*$N$10","v":18800},null,{"$f":"N27/2","v":9400},null,{"$f":"C27*$R$10","v":27958.400000000001},null,{"$f":"R27/2","v":13979.2},null,{"$f":"C27*$V$10","v":28300.800000000003},null,{"$f":"V27/2","v":14150.400000000001}]
[null,"14(10)",170000,null,5670,null,165000,"～",175000,{"$f":"C28*$J$10","v":17051},null,{"$f":"J28/2","v":8525.5},null,{"$f":"C28*$N$10","v":19975},null,{"$f":"N28/2","v":9987.5},null,{"$f":"C28*$R$10","v":29705.800000000003},null,{"$f":"R28/2","v":14852.900000000001},null,{"$f":"C28*$V$10","v":30069.600000000002},null,{"$f":"V28/2","v":15034.800000000001}]
[null,"15(11)",180000,null,6000,null,175000,"～",185000,{"$f":"C29*$J$10","v":18054},null,{"$f":"J29/2","v":9027},null,{"$f":"C29*$N$10","v":21150},null,{"$f":"N29/2","v":10575},null,{"$f":"C29*$R$10","v":31453.200000000001},null,{"$f":"R29/2","v":15726.6},null,{"$f":"C29*$V$10","v":31838.400000000001},null,{"$f":"V29/2","v":15919.2}]
[null,"16(12)",190000,null,6330,null,185000,"～",195000,{"$f":"C30*$J$10","v":19057},null,{"$f":"J30/2","v":9528.5},null,{"$f":"C30*$N$10","v":22325},null,{"$f":"N30/2","v":11162.5},null,{"$f":"C30*$R$10","v":33200.6},null,{"$f":"R30/2","v":16600.3},null,{"$f":"C30*$V$10","v":33607.200000000004},null,{"$f":"V30/2","v":16803.600000000002}]
[null,"17(13)",200000,null,6670,null,195000,"～",210000,{"$f":"C31*$J$10","v":20060},null,{"$f":"J31/2","v":10030},null,{"$f":"C31*$N$10","v":23500},null,{"$f":"N31/2","v":11750},null,{"$f":"C31*$R$10","v":34948},null,{"$f":"R31/2","v":17474},null,{"$f":"C31*$V$10","v":35376},null,{"$f":"V31/2","v":17688}]
[null,"18(14)",220000,null,7330,null,210000,"～",230000,{"$f":"C32*$J$10","v":22066},null,{"$f":"J32/2","v":11033},null,{"$f":"C32*$N$10","v":25850},null,{"$f":"N32/2","v":12925},null,{"$f":"C32*$R$10","v":38442.800000000003},null,{"$f":"R32/2","v":19221.400000000001},null,{"$f":"C32*$V$10","v":38913.599999999999},null,{"$f":"V32/2","v":19456.8}]
[null,"19(15)",240000,null,8000,null,230000,"～",250000,{"$f":"C33*$J$10","v":24072},null,{"$f":"J33/2","v":12036},null,{"$f":"C33*$N$10","v":28200},null,{"$f":"N33/2","v":14100},null,{"$f":"C33*$R$10","v":41937.599999999999},null,{"$f":"R33/2","v":20968.8},null,{"$f":"C33*$V$10","v":42451.200000000004},null,{"$f":"V33/2","v":21225.600000000002}]
[null,"20(16)",260000,null,8670,null,250000,"～",270000,{"$f":"C34*$J$10","v":26078},null,{"$f":"J34/2","v":13039},null,{"$f":"C34*$N$10","v":30550},null,{"$f":"N34/2","v":15275},null,{"$f":"C34*$R$10","v":45432.4},null,{"$f":"R34/2","v":22716.2},null,{"$f":"C34*$V$10","v":45988.800000000003},null,{"$f":"V34/2","v":22994.400000000001}]
[null,"21(17)",280000,null,9330,null,270000,"～",290000,{"$f":"C35*$J$10","v":28084},null,{"$f":"J35/2","v":14042},null,{"$f":"C35*$N$10","v":32900},null,{"$f":"N35/2","v":16450},null,{"$f":"C35*$R$10","v":48927.200000000004},null,{"$f":"R35/2","v":24463.600000000002},null,{"$f":"C35*$V$10","v":49526.400000000001},null,{"$f":"V35/2","v":24763.200000000001}]
[null,"22(18)",300000,null,10000,null,290000,"～",310000,{"$f":"C36*$J$10","v":30090},null,{"$f":"J36/2","v":15045},null,{"$f":"C36*$N$10","v":35250},null,{"$f":"N36/2","v":17625},null,{"$f":"C36*$R$10","v":52422},null,{"$f":"R36/2","v":26211},null,{"$f":"C36*$V$10","v":53064},null,{"$f":"V36/2","v":26532}]
[null,"23(19)",320000,null,10670,null,310000,"～",330000,{"$f":"C37*$J$10","v":32096},null,{"$f":"J37/2","v":16048},null,{"$f":"C37*$N$10","v":37600},null,{"$f":"N37/2","v":18800},null,{"$f":"C37*$R$10","v":55916.800000000003},null,{"$f":"R37/2","v":27958.400000000001},null,{"$f":"C37*$V$10","v":56601.600000000006},null,{"$f":"V37/2","v":28300.800000000003}]
[null,"24(20)",340000,null,11330,null,330000,"～",350000,{"$f":"C38*$J$10","v":34102},null,{"$f":"J38/2","v":17051},null,{"$f":"C38*$N$10","v":39950},null,{"$f":"N38/2","v":19975},null,{"$f":"C38*$R$10","v":59411.600000000006},null,{"$f":"R38/2","v":29705.800000000003},null,{"$f":"C38*$V$10","v":60139.200000000004},null,{"$f":"V38/2","v":30069.600000000002}]
[null,"25(21)",360000,null,12000,null,350000,"～",370000,{"$f":"C39*$J$10","v":36108},null,{"$f":"J39/2","v":18054},null,{"$f":"C39*$N$10","v":42300},null,{"$f":"N39/2","v":21150},null,{"$f":"C39*$R$10","v":62906.400000000001},null,{"$f":"R39/2","v":31453.200000000001},null,{"$f":"C39*$V$10","v":63676.800000000003},null,{"$f":"V39/2","v":31838.400000000001}]
[null,"26(22)",380000,null,12670,null,370000,"～",395000,{"$f":"C40*$J$10","v":38114},null,{"$f":"J40/2","v":19057},null,{"$f":"C40*$N$10","v":44650},null,{"$f":"N40/2","v":22325},null,{"$f":"C40*$R$10","v":66401.2},null,{"$f":"R40/2","v":33200.6},null,{"$f":"C40*$V$10","v":67214.400000000009},null,{"$f":"V40/2","v":33607.200000000004}]
[null,"27(23)",410000,null,13670,null,395000,"～",425000,{"$f":"C41*$J$10","v":41123},null,{"$f":"J41/2","v":20561.5},null,{"$f":"C41*$N$10","v":48175},null,{"$f":"N41/2","v":24087.5},null,{"$f":"C41*$R$10","v":71643.400000000009},null,{"$f":"R41/2","v":35821.700000000004},null,{"$f":"C41*$V$10","v":72520.800000000003},null,{"$f":"V41/2","v":36260.400000000001}]
[null,"28(24)",440000,null,14670,null,425000,"～",455000,{"$f":"C42*$J$10","v":44132},null,{"$f":"J42/2","v":22066},null,{"$f":"C42*$N$10","v":51700},null,{"$f":"N42/2","v":25850},null,{"$f":"C42*$R$10","v":76885.600000000006},null,{"$f":"R42/2","v":38442.800000000003},null,{"$f":"C42*$V$10","v":77827.199999999997},null,{"$f":"V42/2","v":38913.599999999999}]
[null,"29(25)",470000,null,15670,null,455000,"～",485000,{"$f":"C43*$J$10","v":47141},null,{"$f":"J43/2","v":23570.5},null,{"$f":"C43*$N$10","v":55225},null,{"$f":"N43/2","v":27612.5},null,{"$f":"C43*$R$10","v":82127.8},null,{"$f":"R43/2","v":41063.9},null,{"$f":"C43*$V$10","v":83133.600000000006},null,{"$f":"V43/2","v":41566.800000000003}]
[null,"30(26)",500000,null,16670,null,485000,"～",515000,{"$f":"C44*$J$10","v":50150},null,{"$f":"J44/2","v":25075},null,{"$f":"C44*$N$10","v":58750},null,{"$f":"N44/2","v":29375},null,{"$f":"C44*$R$10","v":87370},null,{"$f":"R44/2","v":43685},null,{"$f":"C44*$V$10","v":88440},null,{"$f":"V44/2","v":44220}]
[null,"31(27)",530000,null,17670,null,515000,"～",545000,{"$f":"C45*$J$10","v":53159},null,{"$f":"J45/2","v":26579.5},null,{"$f":"C45*$N$10","v":62275},null,{"$f":"N45/2","v":31137.5},null,{"$f":"C45*$R$10","v":92612.2},null,{"$f":"R45/2","v":46306.1},null,{"$f":"C45*$V$10","v":93746.400000000009},null,{"$f":"V45/2","v":46873.200000000004}]
[null,"32(28)",560000,null,18670,null,545000,"～",575000,{"$f":"C46*$J$10","v":56168},null,{"$f":"J46/2","v":28084},null,{"$f":"C46*$N$10","v":65800},null,{"$f":"N46/2","v":32900},null,{"$f":"C46*$R$10","v":97854.400000000009},null,{"$f":"R46/2","v":48927.200000000004},null,{"$f":"C46*$V$10","v":99052.800000000003},null,{"$f":"V46/2","v":49526.400000000001}]
[null,"33(29)",590000,null,19670,null,575000,"～",605000,{"$f":"C47*$J$10","v":59177},null,{"$f":"J47/2","v":29588.5},null,{"$f":"C47*$N$10","v":69325},null,{"$f":"N47/2","v":34662.5},null,{"$f":"C47*$R$10","v":103096.6},null,{"$f":"R47/2","v":51548.3},null,{"$f":"C47*$V$10","v":104359.20000000001},null,{"$f":"V47/2","v":52179.600000000006}]
[null,"34(30)",620000,null,20670,null,605000,"～",635000,{"$f":"C48*$J$10","v":62186},null,{"$f":"J48/2","v":31093},null,{"$f":"C48*$N$10","v":72850},null,{"$f":"N48/2","v":36425},null,{"$f":"C48*$R$10","v":108338.8},null,{"$f":"R48/2","v":54169.4},null,{"$f":"C48*$V$10","v":109665.60000000001},null,{"$f":"V48/2","v":54832.800000000003}]
[null,35,650000,null,21670,null,635000,"～",665000,{"$f":"C49*$J$10","v":65195},null,{"$f":"J49/2","v":32597.5},null,{"$f":"C49*$N$10","v":76375},null,{"$f":"N49/2","v":38187.5},null,"※厚生年金基金に加入している方の厚生年金保険\n　料率は、基金ごとに定められている免除保険料\n　率(2.4%～5.0%)を控除した率となります。\n\n　●一般の被保険者の方　…12.474%～15.074%\n　●坑内員の被保険者の方…12.688%～15.288%\n\n　加入する基金ごとに異なりますので、免除保険\n　料率および厚生年金基金の掛金については、加\n　入する厚生年金基金にお問い合わせください。\n"]
[null,36,680000,null,22670,null,665000,"～",695000,{"$f":"C50*$J$10","v":68204},null,{"$f":"J50/2","v":34102},null,{"$f":"C50*$N$10","v":79900},null,{"$f":"N50/2","v":39950}]
[null,37,710000,null,23670,null,695000,"～",730000,{"$f":"C51*$J$10","v":71213},null,{"$f":"J51/2","v":35606.5},null,{"$f":"C51*$N$10","v":83425},null,{"$f":"N51/2","v":41712.5}]
[null,38,750000,null,25000,null,730000,"～",770000,{"$f":"C52*$J$10","v":75225},null,{"$f":"J52/2","v":37612.5},null,{"$f":"C52*$N$10","v":88125},null,{"$f":"N52/2","v":44062.5}]
[null,39,790000,null,26330,null,770000,"～",810000,{"$f":"C53*$J$10","v":79237},null,{"$f":"J53/2","v":39618.5},null,{"$f":"C53*$N$10","v":92825},null,{"$f":"N53/2","v":46412.5}]
[null,40,830000,null,27670,null,810000,"～",855000,{"$f":"C54*$J$10","v":83249},null,{"$f":"J54/2","v":41624.5},null,{"$f":"C54*$N$10","v":97525},null,{"$f":"N54/2","v":48762.5}]
[null,41,880000,null,29330,null,855000,"～",905000,{"$f":"C55*$J$10","v":88264},null,{"$f":"J55/2","v":44132},null,{"$f":"C55*$N$10","v":103400},null,{"$f":"N55/2","v":51700}]
[null,42,930000,null,31000,null,905000,"～",955000,{"$f":"C56*$J$10","v":93279},null,{"$f":"J56/2","v":46639.5},null,{"$f":"C56*$N$10","v":109275},null,{"$f":"N56/2","v":54637.5}]
[null,43,980000,null,32670,null,955000,"～",1005000,{"$f":"C57*$J$10","v":98294},null,{"$f":"J57/2","v":49147},null,{"$f":"C57*$N$10","v":115150},null,{"$f":"N57/2","v":57575}]
[null,44,1030000,null,34330,null,1005000,"～",1055000,{"$f":"C58*$J$10","v":103309},null,{"$f":"J58/2","v":51654.5},null,{"$f":"C58*$N$10","v":121025},null,{"$f":"N58/2","v":60512.5}]
[null,45,1090000,null,36330,null,1055000,"～",1115000,{"$f":"C59*$J$10","v":109327},null,{"$f":"J59/2","v":54663.5},null,{"$f":"C59*$N$10","v":128075},null,{"$f":"N59/2","v":64037.5}]
[null,46,1150000,null,38330,null,1115000,"～",1175000,{"$f":"C60*$J$10","v":115345},null,{"$f":"J60/2","v":57672.5},null,{"$f":"C60*$N$10","v":135125},null,{"$f":"N60/2","v":67562.5}]
[null,47,1210000,null,40330,null,1175000,"～",null,{"$f":"C61*$J$10","v":121363},null,{"$f":"J61/2","v":60681.5},null,{"$f":"C61*$N$10","v":142175},null,{"$f":"N61/2","v":71087.5}]
[]
[{"$f":"J10","v":0.1003}]
[null,""]
["◆等級欄の（　）内の数字は、厚生年金保険の標準報酬月額等級です。"]
["　5(1)等級の「報酬月額」欄は、厚生年金保険の場合「101,000円未満」と読み替えてください。"]
["　34(30)等級の「報酬月額」欄は、厚生年金保険の場合「605,000円以上」と読み替えてください。"]
[null,""]
["◆平成26年度における全国健康保険協会の任意継続被保険者について、標準報酬月額の上限は、280,000円です。"]
[]
[]
["　○被保険者負担分（表の折半額の欄）に円未満の端数がある場合"]
["　　　①事業主が、給与から被保険者負担分を控除する場合、被保険者負担分の端数が50銭以下の場合は切り捨て、50銭を超える場合は切り上げて1円となります。"]
["　　　②被保険者が、被保険者負担分を事業主へ現金で支払う場合、被保険者負担分の端数が50銭未満の場合は切り捨て、50銭以上の場合は切り上げて1円となります。"]
["　　　（注）①、②にかかわらず、事業主と被保険者の間で特約がある場合には、特約に基づき端数処理をすることができます。"]
[]
["　○納入告知書の保険料額"]
["　　　 納入告知書の保険料額は、被保険者個々の保険料額を合算した金額になります。ただし、合算した金額に円未満の端数がある場合は、その端数を切り捨てた額となります。"]
[]
["　○賞与に係る保険料"]
["　　　 賞与に係る保険料額は、賞与額から1,000円未満の端数を切り捨てた額（標準賞与額）に、保険料率を乗じた額となります。"]
[" 　　　また、標準賞与額の上限は、健康保険は年間540万円（毎年4月1日から翌年3月31日までの累計額）となり、厚生年金保険と児童手当拠出金の場合は月間150万円となります。"]
[]
["　○児童手当拠出金"]
["　　　 厚生年金保険の被保険者を使用する事業主の方は、児童手当等の支給に要する費用の一部として児童手当拠出金を全額負担いただくことになります。この児童手当"]
["　　　 拠出金の額は、被保険者個々の厚生年金保険の標準報酬月額および標準賞与額に、拠出金率（0.15%）を乗じて得た額の総額となります。"]

{"sheet":"福井","index":27,"n_rows":86,"n_cols":24,"rows_kept":86,"cut":false,"hidden":true,"merged":[[74,0,74,24],[75,0,75,16],[85,0,85,24],[86,0,86,16],[77,0,77,23],[79,0,79,16],[80,0,80,21],[81,0,81,24],[83,0,83,21],[84,0,84,24],[76,0,76,23],[48,17,60,24],[62,0,62,25],[64,0,64,24],[65,0,65,24],[66,0,66,24],[68,0,68,24],[71,0,71,16],[72,0,72,24],[73,0,73,24],[6,21,8,24],[9,9,10,12],[9,13,10,16],[9,17,10,20],[9,21,10,24],[11,13,12,14],[11,15,12,16],[11,17,12,18],[11,19,12,20],[11,21,12,22],[11,1,12,1],[11,2,12,3],[11,4,12,5],[11,9,12,10],[11,11,12,12],[11,23,12,24],[0,1,1,24],[2,1,3,23],[4,1,4,16],[5,1,10,5],[5,6,12,8],[5,9,5,16],[5,17,5,24],[6,9,8,12],[6,13,8,16],[6,17,8,20]]}
[null,"平成26年9月分(10月納付分)からの健康保険・厚生年金保険の保険料額表"]
[]
[null,"     ‣健康保険料率：平成24年3月分～　適用　　‣厚生年金保険料率：平成26年9月分～平成27年8月分　適用\n     ‣介護保険料率：平成26年3月分～　適用　　‣児童手当拠出金率：平成24年4月分～　適用\n"]
[]
[null,"（福井県）",null,null,null,null,null,null,null,null,null,null,null,null,null,null,null,null,null,null,null,null,null,"（単位：円）"]
[null,"標　準　報　酬",null,null,null,null,"報　酬　月　額",null,null,"全国健康保険協会管掌健康保険料",null,null,null,null,null,null,null,"厚生年金保険料（厚生年金基金加入員を除く）"]
[null,null,null,null,null,null,null,null,null,"介護保険第２号被保険者\nに該当しない場合",null,null,null,"介護保険第２号被保険者\nに該当する場合",null,null,null,"一般の被保険者",null,null,null,"坑内員・船員"]
[]
[]
[null,null,null,null,null,null,null,null,null,0.1002,null,null,null,{"$f":"J10+0.0172","v":0.1174},null,null,null,0.17474000000000001,null,null,null,0.17688000000000001]
[]
[null,"等級","月　額",null,"日　額",null,null,null,null,"全　額",null,"折半額",null,"全　額",null,"折半額",null,"全　額",null,"折半額",null,"全　額",null,"折半額"]
[]
[null,null,null,null,null,null,"円以上",null,"円未満"]
[null,1,58000,null,1930,null,null,"～",63000,{"$f":"C15*$J$10","v":5811.5999999999995},null,{"$f":"J15/2","v":2905.7999999999997},null,{"$f":"C15*$N$10","v":6809.2},null,{"$f":"N15/2","v":3404.6}]
[null,2,68000,null,2270,null,63000,"～",73000,{"$f":"C16*$J$10","v":6813.5999999999995},null,{"$f":"J16/2","v":3406.7999999999997},null,{"$f":"C16*$N$10","v":7983.2000000000007},null,{"$f":"N16/2","v":3991.6000000000004}]
[null,3,78000,null,2600,null,73000,"～",83000,{"$f":"C17*$J$10","v":7815.5999999999995},null,{"$f":"J17/2","v":3907.7999999999997},null,{"$f":"C17*$N$10","v":9157.2000000000007},null,{"$f":"N17/2","v":4578.6000000000004}]
[null,4,88000,null,2930,null,83000,"～",93000,{"$f":"C18*$J$10","v":8817.6},null,{"$f":"J18/2","v":4408.8},null,{"$f":"C18*$N$10","v":10331.200000000001},null,{"$f":"N18/2","v":5165.6000000000004}]
[null,"5(1)",98000,null,3270,null,93000,"～",101000,{"$f":"C19*$J$10","v":9819.6},null,{"$f":"J19/2","v":4909.8},null,{"$f":"C19*$N$10","v":11505.2},null,{"$f":"N19/2","v":5752.6},null,{"$f":"C19*$R$10","v":17124.52},null,{"$f":"R19/2","v":8562.26},null,{"$f":"C19*$V$10","v":17334.240000000002},null,{"$f":"V19/2","v":8667.1200000000008}]
[null,"6(2)",104000,null,3470,null,101000,"～",107000,{"$f":"C20*$J$10","v":10420.799999999999},null,{"$f":"J20/2","v":5210.3999999999996},null,{"$f":"C20*$N$10","v":12209.6},null,{"$f":"N20/2","v":6104.8},null,{"$f":"C20*$R$10","v":18172.96},null,{"$f":"R20/2","v":9086.48},null,{"$f":"C20*$V$10","v":18395.52},null,{"$f":"V20/2","v":9197.76}]
[null,"7(3)",110000,null,3670,null,107000,"～",114000,{"$f":"C21*$J$10","v":11022},null,{"$f":"J21/2","v":5511},null,{"$f":"C21*$N$10","v":12914},null,{"$f":"N21/2","v":6457},null,{"$f":"C21*$R$10","v":19221.400000000001},null,{"$f":"R21/2","v":9610.7000000000007},null,{"$f":"C21*$V$10","v":19456.8},null,{"$f":"V21/2","v":9728.4}]
[null,"8(4)",118000,null,3930,null,114000,"～",122000,{"$f":"C22*$J$10","v":11823.6},null,{"$f":"J22/2","v":5911.8},null,{"$f":"C22*$N$10","v":13853.2},null,{"$f":"N22/2","v":6926.6},null,{"$f":"C22*$R$10","v":20619.32},null,{"$f":"R22/2","v":10309.66},null,{"$f":"C22*$V$10","v":20871.84},null,{"$f":"V22/2","v":10435.92}]
[null,"9(5)",126000,null,4200,null,122000,"～",130000,{"$f":"C23*$J$10","v":12625.199999999999},null,{"$f":"J23/2","v":6312.5999999999995},null,{"$f":"C23*$N$10","v":14792.400000000001},null,{"$f":"N23/2","v":7396.2000000000007},null,{"$f":"C23*$R$10","v":22017.24},null,{"$f":"R23/2","v":11008.62},null,{"$f":"C23*$V$10","v":22286.880000000001},null,{"$f":"V23/2","v":11143.44}]
[null,"10(6)",134000,null,4470,null,130000,"～",138000,{"$f":"C24*$J$10","v":13426.8},null,{"$f":"J24/2","v":6713.4},null,{"$f":"C24*$N$10","v":15731.6},null,{"$f":"N24/2","v":7865.8},null,{"$f":"C24*$R$10","v":23415.16},null,{"$f":"R24/2","v":11707.58},null,{"$f":"C24*$V$10","v":23701.920000000002},null,{"$f":"V24/2","v":11850.960000000001}]
[null,"11(7)",142000,null,4730,null,138000,"～",146000,{"$f":"C25*$J$10","v":14228.4},null,{"$f":"J25/2","v":7114.2},null,{"$f":"C25*$N$10","v":16670.8},null,{"$f":"N25/2","v":8335.4},null,{"$f":"C25*$R$10","v":24813.08},null,{"$f":"R25/2","v":12406.54},null,{"$f":"C25*$V$10","v":25116.960000000003},null,{"$f":"V25/2","v":12558.480000000001}]
[null,"12(8)",150000,null,5000,null,146000,"～",155000,{"$f":"C26*$J$10","v":15030},null,{"$f":"J26/2","v":7515},null,{"$f":"C26*$N$10","v":17610},null,{"$f":"N26/2","v":8805},null,{"$f":"C26*$R$10","v":26211},null,{"$f":"R26/2","v":13105.5},null,{"$f":"C26*$V$10","v":26532},null,{"$f":"V26/2","v":13266}]
[null,"13(9)",160000,null,5330,null,155000,"～",165000,{"$f":"C27*$J$10","v":16032},null,{"$f":"J27/2","v":8016},null,{"$f":"C27*$N$10","v":18784},null,{"$f":"N27/2","v":9392},null,{"$f":"C27*$R$10","v":27958.400000000001},null,{"$f":"R27/2","v":13979.2},null,{"$f":"C27*$V$10","v":28300.800000000003},null,{"$f":"V27/2","v":14150.400000000001}]
[null,"14(10)",170000,null,5670,null,165000,"～",175000,{"$f":"C28*$J$10","v":17034},null,{"$f":"J28/2","v":8517},null,{"$f":"C28*$N$10","v":19958},null,{"$f":"N28/2","v":9979},null,{"$f":"C28*$R$10","v":29705.800000000003},null,{"$f":"R28/2","v":14852.900000000001},null,{"$f":"C28*$V$10","v":30069.600000000002},null,{"$f":"V28/2","v":15034.800000000001}]
[null,"15(11)",180000,null,6000,null,175000,"～",185000,{"$f":"C29*$J$10","v":18036},null,{"$f":"J29/2","v":9018},null,{"$f":"C29*$N$10","v":21132},null,{"$f":"N29/2","v":10566},null,{"$f":"C29*$R$10","v":31453.200000000001},null,{"$f":"R29/2","v":15726.6},null,{"$f":"C29*$V$10","v":31838.400000000001},null,{"$f":"V29/2","v":15919.2}]
[null,"16(12)",190000,null,6330,null,185000,"～",195000,{"$f":"C30*$J$10","v":19038},null,{"$f":"J30/2","v":9519},null,{"$f":"C30*$N$10","v":22306},null,{"$f":"N30/2","v":11153},null,{"$f":"C30*$R$10","v":33200.6},null,{"$f":"R30/2","v":16600.3},null,{"$f":"C30*$V$10","v":33607.200000000004},null,{"$f":"V30/2","v":16803.600000000002}]
[null,"17(13)",200000,null,6670,null,195000,"～",210000,{"$f":"C31*$J$10","v":20040},null,{"$f":"J31/2","v":10020},null,{"$f":"C31*$N$10","v":23480},null,{"$f":"N31/2","v":11740},null,{"$f":"C31*$R$10","v":34948},null,{"$f":"R31/2","v":17474},null,{"$f":"C31*$V$10","v":35376},null,{"$f":"V31/2","v":17688}]
[null,"18(14)",220000,null,7330,null,210000,"～",230000,{"$f":"C32*$J$10","v":22044},null,{"$f":"J32/2","v":11022},null,{"$f":"C32*$N$10","v":25828},null,{"$f":"N32/2","v":12914},null,{"$f":"C32*$R$10","v":38442.800000000003},null,{"$f":"R32/2","v":19221.400000000001},null,{"$f":"C32*$V$10","v":38913.599999999999},null,{"$f":"V32/2","v":19456.8}]
[null,"19(15)",240000,null,8000,null,230000,"～",250000,{"$f":"C33*$J$10","v":24048},null,{"$f":"J33/2","v":12024},null,{"$f":"C33*$N$10","v":28176},null,{"$f":"N33/2","v":14088},null,{"$f":"C33*$R$10","v":41937.599999999999},null,{"$f":"R33/2","v":20968.8},null,{"$f":"C33*$V$10","v":42451.200000000004},null,{"$f":"V33/2","v":21225.600000000002}]
[null,"20(16)",260000,null,8670,null,250000,"～",270000,{"$f":"C34*$J$10","v":26052},null,{"$f":"J34/2","v":13026},null,{"$f":"C34*$N$10","v":30524},null,{"$f":"N34/2","v":15262},null,{"$f":"C34*$R$10","v":45432.4},null,{"$f":"R34/2","v":22716.2},null,{"$f":"C34*$V$10","v":45988.800000000003},null,{"$f":"V34/2","v":22994.400000000001}]
[null,"21(17)",280000,null,9330,null,270000,"～",290000,{"$f":"C35*$J$10","v":28056},null,{"$f":"J35/2","v":14028},null,{"$f":"C35*$N$10","v":32872},null,{"$f":"N35/2","v":16436},null,{"$f":"C35*$R$10","v":48927.200000000004},null,{"$f":"R35/2","v":24463.600000000002},null,{"$f":"C35*$V$10","v":49526.400000000001},null,{"$f":"V35/2","v":24763.200000000001}]
[null,"22(18)",300000,null,10000,null,290000,"～",310000,{"$f":"C36*$J$10","v":30060},null,{"$f":"J36/2","v":15030},null,{"$f":"C36*$N$10","v":35220},null,{"$f":"N36/2","v":17610},null,{"$f":"C36*$R$10","v":52422},null,{"$f":"R36/2","v":26211},null,{"$f":"C36*$V$10","v":53064},null,{"$f":"V36/2","v":26532}]
[null,"23(19)",320000,null,10670,null,310000,"～",330000,{"$f":"C37*$J$10","v":32064},null,{"$f":"J37/2","v":16032},null,{"$f":"C37*$N$10","v":37568},null,{"$f":"N37/2","v":18784},null,{"$f":"C37*$R$10","v":55916.800000000003},null,{"$f":"R37/2","v":27958.400000000001},null,{"$f":"C37*$V$10","v":56601.600000000006},null,{"$f":"V37/2","v":28300.800000000003}]
[null,"24(20)",340000,null,11330,null,330000,"～",350000,{"$f":"C38*$J$10","v":34068},null,{"$f":"J38/2","v":17034},null,{"$f":"C38*$N$10","v":39916},null,{"$f":"N38/2","v":19958},null,{"$f":"C38*$R$10","v":59411.600000000006},null,{"$f":"R38/2","v":29705.800000000003},null,{"$f":"C38*$V$10","v":60139.200000000004},null,{"$f":"V38/2","v":30069.600000000002}]
[null,"25(21)",360000,null,12000,null,350000,"～",370000,{"$f":"C39*$J$10","v":36072},null,{"$f":"J39/2","v":18036},null,{"$f":"C39*$N$10","v":42264},null,{"$f":"N39/2","v":21132},null,{"$f":"C39*$R$10","v":62906.400000000001},null,{"$f":"R39/2","v":31453.200000000001},null,{"$f":"C39*$V$10","v":63676.800000000003},null,{"$f":"V39/2","v":31838.400000000001}]
[null,"26(22)",380000,null,12670,null,370000,"～",395000,{"$f":"C40*$J$10","v":38076},null,{"$f":"J40/2","v":19038},null,{"$f":"C40*$N$10","v":44612},null,{"$f":"N40/2","v":22306},null,{"$f":"C40*$R$10","v":66401.2},null,{"$f":"R40/2","v":33200.6},null,{"$f":"C40*$V$10","v":67214.400000000009},null,{"$f":"V40/2","v":33607.200000000004}]
[null,"27(23)",410000,null,13670,null,395000,"～",425000,{"$f":"C41*$J$10","v":41082},null,{"$f":"J41/2","v":20541},null,{"$f":"C41*$N$10","v":48134},null,{"$f":"N41/2","v":24067},null,{"$f":"C41*$R$10","v":71643.400000000009},null,{"$f":"R41/2","v":35821.700000000004},null,{"$f":"C41*$V$10","v":72520.800000000003},null,{"$f":"V41/2","v":36260.400000000001}]
[null,"28(24)",440000,null,14670,null,425000,"～",455000,{"$f":"C42*$J$10","v":44088},null,{"$f":"J42/2","v":22044},null,{"$f":"C42*$N$10","v":51656},null,{"$f":"N42/2","v":25828},null,{"$f":"C42*$R$10","v":76885.600000000006},null,{"$f":"R42/2","v":38442.800000000003},null,{"$f":"C42*$V$10","v":77827.199999999997},null,{"$f":"V42/2","v":38913.599999999999}]
[null,"29(25)",470000,null,15670,null,455000,"～",485000,{"$f":"C43*$J$10","v":47094},null,{"$f":"J43/2","v":23547},null,{"$f":"C43*$N$10","v":55178},null,{"$f":"N43/2","v":27589},null,{"$f":"C43*$R$10","v":82127.8},null,{"$f":"R43/2","v":41063.9},null,{"$f":"C43*$V$10","v":83133.600000000006},null,{"$f":"V43/2","v":41566.800000000003}]
[null,"30(26)",500000,null,16670,null,485000,"～",515000,{"$f":"C44*$J$10","v":50100},null,{"$f":"J44/2","v":25050},null,{"$f":"C44*$N$10","v":58700},null,{"$f":"N44/2","v":29350},null,{"$f":"C44*$R$10","v":87370},null,{"$f":"R44/2","v":43685},null,{"$f":"C44*$V$10","v":88440},null,{"$f":"V44/2","v":44220}]
[null,"31(27)",530000,null,17670,null,515000,"～",545000,{"$f":"C45*$J$10","v":53106},null,{"$f":"J45/2","v":26553},null,{"$f":"C45*$N$10","v":62222},null,{"$f":"N45/2","v":31111},null,{"$f":"C45*$R$10","v":92612.2},null,{"$f":"R45/2","v":46306.1},null,{"$f":"C45*$V$10","v":93746.400000000009},null,{"$f":"V45/2","v":46873.200000000004}]
[null,"32(28)",560000,null,18670,null,545000,"～",575000,{"$f":"C46*$J$10","v":56112},null,{"$f":"J46/2","v":28056},null,{"$f":"C46*$N$10","v":65744},null,{"$f":"N46/2","v":32872},null,{"$f":"C46*$R$10","v":97854.400000000009},null,{"$f":"R46/2","v":48927.200000000004},null,{"$f":"C46*$V$10","v":99052.800000000003},null,{"$f":"V46/2","v":49526.400000000001}]
[null,"33(29)",590000,null,19670,null,575000,"～",605000,{"$f":"C47*$J$10","v":59118},null,{"$f":"J47/2","v":29559},null,{"$f":"C47*$N$10","v":69266},null,{"$f":"N47/2","v":34633},null,{"$f":"C47*$R$10","v":103096.6},null,{"$f":"R47/2","v":51548.3},null,{"$f":"C47*$V$10","v":104359.20000000001},null,{"$f":"V47/2","v":52179.600000000006}]
[null,"34(30)",620000,null,20670,null,605000,"～",635000,{"$f":"C48*$J$10","v":62124},null,{"$f":"J48/2","v":31062},null,{"$f":"C48*$N$10","v":72788},null,{"$f":"N48/2","v":36394},null,{"$f":"C48*$R$10","v":108338.8},null,{"$f":"R48/2","v":54169.4},null,{"$f":"C48*$V$10","v":109665.60000000001},null,{"$f":"V48/2","v":54832.800000000003}]
[null,35,650000,null,21670,null,635000,"～",665000,{"$f":"C49*$J$10","v":65130},null,{"$f":"J49/2","v":32565},null,{"$f":"C49*$N$10","v":76310},null,{"$f":"N49/2","v":38155},null,"※厚生年金基金に加入している方の厚生年金保険\n　料率は、基金ごとに定められている免除保険料\n　率(2.4%～5.0%)を控除した率となります。\n\n　●一般の被保険者の方　…12.474%～15.074%\n　●坑内員の被保険者の方…12.688%～15.288%\n\n　加入する基金ごとに異なりますので、免除保険\n　料率および厚生年金基金の掛金については、加\n　入する厚生年金基金にお問い合わせください。\n"]
[null,36,680000,null,22670,null,665000,"～",695000,{"$f":"C50*$J$10","v":68136},null,{"$f":"J50/2","v":34068},null,{"$f":"C50*$N$10","v":79832},null,{"$f":"N50/2","v":39916}]
[null,37,710000,null,23670,null,695000,"～",730000,{"$f":"C51*$J$10","v":71142},null,{"$f":"J51/2","v":35571},null,{"$f":"C51*$N$10","v":83354},null,{"$f":"N51/2","v":41677}]
[null,38,750000,null,25000,null,730000,"～",770000,{"$f":"C52*$J$10","v":75150},null,{"$f":"J52/2","v":37575},null,{"$f":"C52*$N$10","v":88050},null,{"$f":"N52/2","v":44025}]
[null,39,790000,null,26330,null,770000,"～",810000,{"$f":"C53*$J$10","v":79158},null,{"$f":"J53/2","v":39579},null,{"$f":"C53*$N$10","v":92746},null,{"$f":"N53/2","v":46373}]
[null,40,830000,null,27670,null,810000,"～",855000,{"$f":"C54*$J$10","v":83166},null,{"$f":"J54/2","v":41583},null,{"$f":"C54*$N$10","v":97442},null,{"$f":"N54/2","v":48721}]
[null,41,880000,null,29330,null,855000,"～",905000,{"$f":"C55*$J$10","v":88176},null,{"$f":"J55/2","v":44088},null,{"$f":"C55*$N$10","v":103312},null,{"$f":"N55/2","v":51656}]
[null,42,930000,null,31000,null,905000,"～",955000,{"$f":"C56*$J$10","v":93186},null,{"$f":"J56/2","v":46593},null,{"$f":"C56*$N$10","v":109182},null,{"$f":"N56/2","v":54591}]
[null,43,980000,null,32670,null,955000,"～",1005000,{"$f":"C57*$J$10","v":98196},null,{"$f":"J57/2","v":49098},null,{"$f":"C57*$N$10","v":115052},null,{"$f":"N57/2","v":57526}]
[null,44,1030000,null,34330,null,1005000,"～",1055000,{"$f":"C58*$J$10","v":103206},null,{"$f":"J58/2","v":51603},null,{"$f":"C58*$N$10","v":120922},null,{"$f":"N58/2","v":60461}]
[null,45,1090000,null,36330,null,1055000,"～",1115000,{"$f":"C59*$J$10","v":109218},null,{"$f":"J59/2","v":54609},null,{"$f":"C59*$N$10","v":127966},null,{"$f":"N59/2","v":63983}]
[null,46,1150000,null,38330,null,1115000,"～",1175000,{"$f":"C60*$J$10","v":115230},null,{"$f":"J60/2","v":57615},null,{"$f":"C60*$N$10","v":135010},null,{"$f":"N60/2","v":67505}]
[null,47,1210000,null,40330,null,1175000,"～",null,{"$f":"C61*$J$10","v":121242},null,{"$f":"J61/2","v":60621},null,{"$f":"C61*$N$10","v":142054},null,{"$f":"N61/2","v":71027}]
[]
[{"$f":"J10","v":0.1002}]
[null,""]
["◆等級欄の（　）内の数字は、厚生年金保険の標準報酬月額等級です。"]
["　5(1)等級の「報酬月額」欄は、厚生年金保険の場合「101,000円未満」と読み替えてください。"]
["　34(30)等級の「報酬月額」欄は、厚生年金保険の場合「605,000円以上」と読み替えてください。"]
[null,""]
["◆平成26年度における全国健康保険協会の任意継続被保険者について、標準報酬月額の上限は、280,000円です。"]
[]
[]
["　○被保険者負担分（表の折半額の欄）に円未満の端数がある場合"]
["　　　①事業主が、給与から被保険者負担分を控除する場合、被保険者負担分の端数が50銭以下の場合は切り捨て、50銭を超える場合は切り上げて1円となります。"]
["　　　②被保険者が、被保険者負担分を事業主へ現金で支払う場合、被保険者負担分の端数が50銭未満の場合は切り捨て、50銭以上の場合は切り上げて1円となります。"]
["　　　（注）①、②にかかわらず、事業主と被保険者の間で特約がある場合には、特約に基づき端数処理をすることができます。"]
[]
["　○納入告知書の保険料額"]
["　　　 納入告知書の保険料額は、被保険者個々の保険料額を合算した金額になります。ただし、合算した金額に円未満の端数がある場合は、その端数を切り捨てた額となります。"]
[]
["　○賞与に係る保険料"]
["　　　 賞与に係る保険料額は、賞与額から1,000円未満の端数を切り捨てた額（標準賞与額）に、保険料率を乗じた額となります。"]
[" 　　　また、標準賞与額の上限は、健康保険は年間540万円（毎年4月1日から翌年3月31日までの累計額）となり、厚生年金保険と児童手当拠出金の場合は月間150万円となります。"]
[]
["　○児童手当拠出金"]
["　　　 厚生年金保険の被保険者を使用する事業主の方は、児童手当等の支給に要する費用の一部として児童手当拠出金を全額負担いただくことになります。この児童手当"]
["　　　 拠出金の額は、被保険者個々の厚生年金保険の標準報酬月額および標準賞与額に、拠出金率（0.15%）を乗じて得た額の総額となります。"]

{"sheet":"山梨","index":28,"n_rows":86,"n_cols":24,"rows_kept":86,"cut":false,"hidden":true,"merged":[[74,0,74,24],[75,0,75,16],[85,0,85,24],[86,0,86,16],[77,0,77,23],[79,0,79,16],[80,0,80,21],[81,0,81,24],[83,0,83,21],[84,0,84,24],[76,0,76,23],[48,17,60,24],[62,0,62,25],[64,0,64,24],[65,0,65,24],[66,0,66,24],[68,0,68,24],[71,0,71,16],[72,0,72,24],[73,0,73,24],[6,21,8,24],[9,9,10,12],[9,13,10,16],[9,17,10,20],[9,21,10,24],[11,13,12,14],[11,15,12,16],[11,17,12,18],[11,19,12,20],[11,21,12,22],[11,1,12,1],[11,2,12,3],[11,4,12,5],[11,9,12,10],[11,11,12,12],[11,23,12,24],[0,1,1,24],[2,1,3,23],[4,1,4,16],[5,1,10,5],[5,6,12,8],[5,9,5,16],[5,17,5,24],[6,9,8,12],[6,13,8,16],[6,17,8,20]]}
[null,"平成26年9月分(10月納付分)からの健康保険・厚生年金保険の保険料額表"]
[]
[null,"     ‣健康保険料率：平成24年3月分～　適用　　‣厚生年金保険料率：平成26年9月分～平成27年8月分　適用\n     ‣介護保険料率：平成26年3月分～　適用　　‣児童手当拠出金率：平成24年4月分～　適用\n"]
[]
[null,"（山梨県）",null,null,null,null,null,null,null,null,null,null,null,null,null,null,null,null,null,null,null,null,null,"（単位：円）"]
[null,"標　準　報　酬",null,null,null,null,"報　酬　月　額",null,null,"全国健康保険協会管掌健康保険料",null,null,null,null,null,null,null,"厚生年金保険料（厚生年金基金加入員を除く）"]
[null,null,null,null,null,null,null,null,null,"介護保険第２号被保険者\nに該当しない場合",null,null,null,"介護保険第２号被保険者\nに該当する場合",null,null,null,"一般の被保険者",null,null,null,"坑内員・船員"]
[]
[]
[null,null,null,null,null,null,null,null,null,9.9400000000000002E-2,null,null,null,{"$f":"J10+0.0172","v":0.11660000000000001},null,null,null,0.17474000000000001,null,null,null,0.17688000000000001]
[]
[null,"等級","月　額",null,"日　額",null,null,null,null,"全　額",null,"折半額",null,"全　額",null,"折半額",null,"全　額",null,"折半額",null,"全　額",null,"折半額"]
[]
[null,null,null,null,null,null,"円以上",null,"円未満"]
[null,1,58000,null,1930,null,null,"～",63000,{"$f":"C15*$J$10","v":5765.2},null,{"$f":"J15/2","v":2882.6},null,{"$f":"C15*$N$10","v":6762.8},null,{"$f":"N15/2","v":3381.4}]
[null,2,68000,null,2270,null,63000,"～",73000,{"$f":"C16*$J$10","v":6759.2},null,{"$f":"J16/2","v":3379.6},null,{"$f":"C16*$N$10","v":7928.8},null,{"$f":"N16/2","v":3964.4}]
[null,3,78000,null,2600,null,73000,"～",83000,{"$f":"C17*$J$10","v":7753.2},null,{"$f":"J17/2","v":3876.6},null,{"$f":"C17*$N$10","v":9094.8000000000011},null,{"$f":"N17/2","v":4547.4000000000005}]
[null,4,88000,null,2930,null,83000,"～",93000,{"$f":"C18*$J$10","v":8747.2000000000007},null,{"$f":"J18/2","v":4373.6000000000004},null,{"$f":"C18*$N$10","v":10260.800000000001},null,{"$f":"N18/2","v":5130.4000000000005}]
[null,"5(1)",98000,null,3270,null,93000,"～",101000,{"$f":"C19*$J$10","v":9741.2000000000007},null,{"$f":"J19/2","v":4870.6000000000004},null,{"$f":"C19*$N$10","v":11426.800000000001},null,{"$f":"N19/2","v":5713.4000000000005},null,{"$f":"C19*$R$10","v":17124.52},null,{"$f":"R19/2","v":8562.26},null,{"$f":"C19*$V$10","v":17334.240000000002},null,{"$f":"V19/2","v":8667.1200000000008}]
[null,"6(2)",104000,null,3470,null,101000,"～",107000,{"$f":"C20*$J$10","v":10337.6},null,{"$f":"J20/2","v":5168.8},null,{"$f":"C20*$N$10","v":12126.400000000001},null,{"$f":"N20/2","v":6063.2000000000007},null,{"$f":"C20*$R$10","v":18172.96},null,{"$f":"R20/2","v":9086.48},null,{"$f":"C20*$V$10","v":18395.52},null,{"$f":"V20/2","v":9197.76}]
[null,"7(3)",110000,null,3670,null,107000,"～",114000,{"$f":"C21*$J$10","v":10934},null,{"$f":"J21/2","v":5467},null,{"$f":"C21*$N$10","v":12826.000000000002},null,{"$f":"N21/2","v":6413.0000000000009},null,{"$f":"C21*$R$10","v":19221.400000000001},null,{"$f":"R21/2","v":9610.7000000000007},null,{"$f":"C21*$V$10","v":19456.8},null,{"$f":"V21/2","v":9728.4}]
[null,"8(4)",118000,null,3930,null,114000,"～",122000,{"$f":"C22*$J$10","v":11729.2},null,{"$f":"J22/2","v":5864.6},null,{"$f":"C22*$N$10","v":13758.800000000001},null,{"$f":"N22/2","v":6879.4000000000005},null,{"$f":"C22*$R$10","v":20619.32},null,{"$f":"R22/2","v":10309.66},null,{"$f":"C22*$V$10","v":20871.84},null,{"$f":"V22/2","v":10435.92}]
[null,"9(5)",126000,null,4200,null,122000,"～",130000,{"$f":"C23*$J$10","v":12524.4},null,{"$f":"J23/2","v":6262.2},null,{"$f":"C23*$N$10","v":14691.6},null,{"$f":"N23/2","v":7345.8},null,{"$f":"C23*$R$10","v":22017.24},null,{"$f":"R23/2","v":11008.62},null,{"$f":"C23*$V$10","v":22286.880000000001},null,{"$f":"V23/2","v":11143.44}]
[null,"10(6)",134000,null,4470,null,130000,"～",138000,{"$f":"C24*$J$10","v":13319.6},null,{"$f":"J24/2","v":6659.8},null,{"$f":"C24*$N$10","v":15624.400000000001},null,{"$f":"N24/2","v":7812.2000000000007},null,{"$f":"C24*$R$10","v":23415.16},null,{"$f":"R24/2","v":11707.58},null,{"$f":"C24*$V$10","v":23701.920000000002},null,{"$f":"V24/2","v":11850.960000000001}]
[null,"11(7)",142000,null,4730,null,138000,"～",146000,{"$f":"C25*$J$10","v":14114.800000000001},null,{"$f":"J25/2","v":7057.4000000000005},null,{"$f":"C25*$N$10","v":16557.2},null,{"$f":"N25/2","v":8278.6},null,{"$f":"C25*$R$10","v":24813.08},null,{"$f":"R25/2","v":12406.54},null,{"$f":"C25*$V$10","v":25116.960000000003},null,{"$f":"V25/2","v":12558.480000000001}]
[null,"12(8)",150000,null,5000,null,146000,"～",155000,{"$f":"C26*$J$10","v":14910},null,{"$f":"J26/2","v":7455},null,{"$f":"C26*$N$10","v":17490},null,{"$f":"N26/2","v":8745},null,{"$f":"C26*$R$10","v":26211},null,{"$f":"R26/2","v":13105.5},null,{"$f":"C26*$V$10","v":26532},null,{"$f":"V26/2","v":13266}]
[null,"13(9)",160000,null,5330,null,155000,"～",165000,{"$f":"C27*$J$10","v":15904},null,{"$f":"J27/2","v":7952},null,{"$f":"C27*$N$10","v":18656},null,{"$f":"N27/2","v":9328},null,{"$f":"C27*$R$10","v":27958.400000000001},null,{"$f":"R27/2","v":13979.2},null,{"$f":"C27*$V$10","v":28300.800000000003},null,{"$f":"V27/2","v":14150.400000000001}]
[null,"14(10)",170000,null,5670,null,165000,"～",175000,{"$f":"C28*$J$10","v":16898},null,{"$f":"J28/2","v":8449},null,{"$f":"C28*$N$10","v":19822},null,{"$f":"N28/2","v":9911},null,{"$f":"C28*$R$10","v":29705.800000000003},null,{"$f":"R28/2","v":14852.900000000001},null,{"$f":"C28*$V$10","v":30069.600000000002},null,{"$f":"V28/2","v":15034.800000000001}]
[null,"15(11)",180000,null,6000,null,175000,"～",185000,{"$f":"C29*$J$10","v":17892},null,{"$f":"J29/2","v":8946},null,{"$f":"C29*$N$10","v":20988},null,{"$f":"N29/2","v":10494},null,{"$f":"C29*$R$10","v":31453.200000000001},null,{"$f":"R29/2","v":15726.6},null,{"$f":"C29*$V$10","v":31838.400000000001},null,{"$f":"V29/2","v":15919.2}]
[null,"16(12)",190000,null,6330,null,185000,"～",195000,{"$f":"C30*$J$10","v":18886},null,{"$f":"J30/2","v":9443},null,{"$f":"C30*$N$10","v":22154},null,{"$f":"N30/2","v":11077},null,{"$f":"C30*$R$10","v":33200.6},null,{"$f":"R30/2","v":16600.3},null,{"$f":"C30*$V$10","v":33607.200000000004},null,{"$f":"V30/2","v":16803.600000000002}]
[null,"17(13)",200000,null,6670,null,195000,"～",210000,{"$f":"C31*$J$10","v":19880},null,{"$f":"J31/2","v":9940},null,{"$f":"C31*$N$10","v":23320.000000000004},null,{"$f":"N31/2","v":11660.000000000002},null,{"$f":"C31*$R$10","v":34948},null,{"$f":"R31/2","v":17474},null,{"$f":"C31*$V$10","v":35376},null,{"$f":"V31/2","v":17688}]
[null,"18(14)",220000,null,7330,null,210000,"～",230000,{"$f":"C32*$J$10","v":21868},null,{"$f":"J32/2","v":10934},null,{"$f":"C32*$N$10","v":25652.000000000004},null,{"$f":"N32/2","v":12826.000000000002},null,{"$f":"C32*$R$10","v":38442.800000000003},null,{"$f":"R32/2","v":19221.400000000001},null,{"$f":"C32*$V$10","v":38913.599999999999},null,{"$f":"V32/2","v":19456.8}]
[null,"19(15)",240000,null,8000,null,230000,"～",250000,{"$f":"C33*$J$10","v":23856},null,{"$f":"J33/2","v":11928},null,{"$f":"C33*$N$10","v":27984.000000000004},null,{"$f":"N33/2","v":13992.000000000002},null,{"$f":"C33*$R$10","v":41937.599999999999},null,{"$f":"R33/2","v":20968.8},null,{"$f":"C33*$V$10","v":42451.200000000004},null,{"$f":"V33/2","v":21225.600000000002}]
[null,"20(16)",260000,null,8670,null,250000,"～",270000,{"$f":"C34*$J$10","v":25844},null,{"$f":"J34/2","v":12922},null,{"$f":"C34*$N$10","v":30316.000000000004},null,{"$f":"N34/2","v":15158.000000000002},null,{"$f":"C34*$R$10","v":45432.4},null,{"$f":"R34/2","v":22716.2},null,{"$f":"C34*$V$10","v":45988.800000000003},null,{"$f":"V34/2","v":22994.400000000001}]
[null,"21(17)",280000,null,9330,null,270000,"～",290000,{"$f":"C35*$J$10","v":27832},null,{"$f":"J35/2","v":13916},null,{"$f":"C35*$N$10","v":32648.000000000004},null,{"$f":"N35/2","v":16324.000000000002},null,{"$f":"C35*$R$10","v":48927.200000000004},null,{"$f":"R35/2","v":24463.600000000002},null,{"$f":"C35*$V$10","v":49526.400000000001},null,{"$f":"V35/2","v":24763.200000000001}]
[null,"22(18)",300000,null,10000,null,290000,"～",310000,{"$f":"C36*$J$10","v":29820},null,{"$f":"J36/2","v":14910},null,{"$f":"C36*$N$10","v":34980},null,{"$f":"N36/2","v":17490},null,{"$f":"C36*$R$10","v":52422},null,{"$f":"R36/2","v":26211},null,{"$f":"C36*$V$10","v":53064},null,{"$f":"V36/2","v":26532}]
[null,"23(19)",320000,null,10670,null,310000,"～",330000,{"$f":"C37*$J$10","v":31808},null,{"$f":"J37/2","v":15904},null,{"$f":"C37*$N$10","v":37312},null,{"$f":"N37/2","v":18656},null,{"$f":"C37*$R$10","v":55916.800000000003},null,{"$f":"R37/2","v":27958.400000000001},null,{"$f":"C37*$V$10","v":56601.600000000006},null,{"$f":"V37/2","v":28300.800000000003}]
[null,"24(20)",340000,null,11330,null,330000,"～",350000,{"$f":"C38*$J$10","v":33796},null,{"$f":"J38/2","v":16898},null,{"$f":"C38*$N$10","v":39644},null,{"$f":"N38/2","v":19822},null,{"$f":"C38*$R$10","v":59411.600000000006},null,{"$f":"R38/2","v":29705.800000000003},null,{"$f":"C38*$V$10","v":60139.200000000004},null,{"$f":"V38/2","v":30069.600000000002}]
[null,"25(21)",360000,null,12000,null,350000,"～",370000,{"$f":"C39*$J$10","v":35784},null,{"$f":"J39/2","v":17892},null,{"$f":"C39*$N$10","v":41976},null,{"$f":"N39/2","v":20988},null,{"$f":"C39*$R$10","v":62906.400000000001},null,{"$f":"R39/2","v":31453.200000000001},null,{"$f":"C39*$V$10","v":63676.800000000003},null,{"$f":"V39/2","v":31838.400000000001}]
[null,"26(22)",380000,null,12670,null,370000,"～",395000,{"$f":"C40*$J$10","v":37772},null,{"$f":"J40/2","v":18886},null,{"$f":"C40*$N$10","v":44308},null,{"$f":"N40/2","v":22154},null,{"$f":"C40*$R$10","v":66401.2},null,{"$f":"R40/2","v":33200.6},null,{"$f":"C40*$V$10","v":67214.400000000009},null,{"$f":"V40/2","v":33607.200000000004}]
[null,"27(23)",410000,null,13670,null,395000,"～",425000,{"$f":"C41*$J$10","v":40754},null,{"$f":"J41/2","v":20377},null,{"$f":"C41*$N$10","v":47806.000000000007},null,{"$f":"N41/2","v":23903.000000000004},null,{"$f":"C41*$R$10","v":71643.400000000009},null,{"$f":"R41/2","v":35821.700000000004},null,{"$f":"C41*$V$10","v":72520.800000000003},null,{"$f":"V41/2","v":36260.400000000001}]
[null,"28(24)",440000,null,14670,null,425000,"～",455000,{"$f":"C42*$J$10","v":43736},null,{"$f":"J42/2","v":21868},null,{"$f":"C42*$N$10","v":51304.000000000007},null,{"$f":"N42/2","v":25652.000000000004},null,{"$f":"C42*$R$10","v":76885.600000000006},null,{"$f":"R42/2","v":38442.800000000003},null,{"$f":"C42*$V$10","v":77827.199999999997},null,{"$f":"V42/2","v":38913.599999999999}]
[null,"29(25)",470000,null,15670,null,455000,"～",485000,{"$f":"C43*$J$10","v":46718},null,{"$f":"J43/2","v":23359},null,{"$f":"C43*$N$10","v":54802.000000000007},null,{"$f":"N43/2","v":27401.000000000004},null,{"$f":"C43*$R$10","v":82127.8},null,{"$f":"R43/2","v":41063.9},null,{"$f":"C43*$V$10","v":83133.600000000006},null,{"$f":"V43/2","v":41566.800000000003}]
[null,"30(26)",500000,null,16670,null,485000,"～",515000,{"$f":"C44*$J$10","v":49700},null,{"$f":"J44/2","v":24850},null,{"$f":"C44*$N$10","v":58300.000000000007},null,{"$f":"N44/2","v":29150.000000000004},null,{"$f":"C44*$R$10","v":87370},null,{"$f":"R44/2","v":43685},null,{"$f":"C44*$V$10","v":88440},null,{"$f":"V44/2","v":44220}]
[null,"31(27)",530000,null,17670,null,515000,"～",545000,{"$f":"C45*$J$10","v":52682},null,{"$f":"J45/2","v":26341},null,{"$f":"C45*$N$10","v":61798.000000000007},null,{"$f":"N45/2","v":30899.000000000004},null,{"$f":"C45*$R$10","v":92612.2},null,{"$f":"R45/2","v":46306.1},null,{"$f":"C45*$V$10","v":93746.400000000009},null,{"$f":"V45/2","v":46873.200000000004}]
[null,"32(28)",560000,null,18670,null,545000,"～",575000,{"$f":"C46*$J$10","v":55664},null,{"$f":"J46/2","v":27832},null,{"$f":"C46*$N$10","v":65296.000000000007},null,{"$f":"N46/2","v":32648.000000000004},null,{"$f":"C46*$R$10","v":97854.400000000009},null,{"$f":"R46/2","v":48927.200000000004},null,{"$f":"C46*$V$10","v":99052.800000000003},null,{"$f":"V46/2","v":49526.400000000001}]
[null,"33(29)",590000,null,19670,null,575000,"～",605000,{"$f":"C47*$J$10","v":58646},null,{"$f":"J47/2","v":29323},null,{"$f":"C47*$N$10","v":68794},null,{"$f":"N47/2","v":34397},null,{"$f":"C47*$R$10","v":103096.6},null,{"$f":"R47/2","v":51548.3},null,{"$f":"C47*$V$10","v":104359.20000000001},null,{"$f":"V47/2","v":52179.600000000006}]
[null,"34(30)",620000,null,20670,null,605000,"～",635000,{"$f":"C48*$J$10","v":61628},null,{"$f":"J48/2","v":30814},null,{"$f":"C48*$N$10","v":72292},null,{"$f":"N48/2","v":36146},null,{"$f":"C48*$R$10","v":108338.8},null,{"$f":"R48/2","v":54169.4},null,{"$f":"C48*$V$10","v":109665.60000000001},null,{"$f":"V48/2","v":54832.800000000003}]
[null,35,650000,null,21670,null,635000,"～",665000,{"$f":"C49*$J$10","v":64610},null,{"$f":"J49/2","v":32305},null,{"$f":"C49*$N$10","v":75790},null,{"$f":"N49/2","v":37895},null,"※厚生年金基金に加入している方の厚生年金保険\n　料率は、基金ごとに定められている免除保険料\n　率(2.4%～5.0%)を控除した率となります。\n\n　●一般の被保険者の方　…12.474%～15.074%\n　●坑内員の被保険者の方…12.688%～15.288%\n\n　加入する基金ごとに異なりますので、免除保険\n　料率および厚生年金基金の掛金については、加\n　入する厚生年金基金にお問い合わせください。\n"]
[null,36,680000,null,22670,null,665000,"～",695000,{"$f":"C50*$J$10","v":67592},null,{"$f":"J50/2","v":33796},null,{"$f":"C50*$N$10","v":79288},null,{"$f":"N50/2","v":39644}]
[null,37,710000,null,23670,null,695000,"～",730000,{"$f":"C51*$J$10","v":70574},null,{"$f":"J51/2","v":35287},null,{"$f":"C51*$N$10","v":82786},null,{"$f":"N51/2","v":41393}]
[null,38,750000,null,25000,null,730000,"～",770000,{"$f":"C52*$J$10","v":74550},null,{"$f":"J52/2","v":37275},null,{"$f":"C52*$N$10","v":87450},null,{"$f":"N52/2","v":43725}]
[null,39,790000,null,26330,null,770000,"～",810000,{"$f":"C53*$J$10","v":78526},null,{"$f":"J53/2","v":39263},null,{"$f":"C53*$N$10","v":92114},null,{"$f":"N53/2","v":46057}]
[null,40,830000,null,27670,null,810000,"～",855000,{"$f":"C54*$J$10","v":82502},null,{"$f":"J54/2","v":41251},null,{"$f":"C54*$N$10","v":96778.000000000015},null,{"$f":"N54/2","v":48389.000000000007}]
[null,41,880000,null,29330,null,855000,"～",905000,{"$f":"C55*$J$10","v":87472},null,{"$f":"J55/2","v":43736},null,{"$f":"C55*$N$10","v":102608.00000000001},null,{"$f":"N55/2","v":51304.000000000007}]
[null,42,930000,null,31000,null,905000,"～",955000,{"$f":"C56*$J$10","v":92442},null,{"$f":"J56/2","v":46221},null,{"$f":"C56*$N$10","v":108438.00000000001},null,{"$f":"N56/2","v":54219.000000000007}]
[null,43,980000,null,32670,null,955000,"～",1005000,{"$f":"C57*$J$10","v":97412},null,{"$f":"J57/2","v":48706},null,{"$f":"C57*$N$10","v":114268.00000000001},null,{"$f":"N57/2","v":57134.000000000007}]
[null,44,1030000,null,34330,null,1005000,"～",1055000,{"$f":"C58*$J$10","v":102382},null,{"$f":"J58/2","v":51191},null,{"$f":"C58*$N$10","v":120098.00000000001},null,{"$f":"N58/2","v":60049.000000000007}]
[null,45,1090000,null,36330,null,1055000,"～",1115000,{"$f":"C59*$J$10","v":108346},null,{"$f":"J59/2","v":54173},null,{"$f":"C59*$N$10","v":127094.00000000001},null,{"$f":"N59/2","v":63547.000000000007}]
[null,46,1150000,null,38330,null,1115000,"～",1175000,{"$f":"C60*$J$10","v":114310},null,{"$f":"J60/2","v":57155},null,{"$f":"C60*$N$10","v":134090},null,{"$f":"N60/2","v":67045}]
[null,47,1210000,null,40330,null,1175000,"～",null,{"$f":"C61*$J$10","v":120274},null,{"$f":"J61/2","v":60137},null,{"$f":"C61*$N$10","v":141086},null,{"$f":"N61/2","v":70543}]
[]
[{"$f":"J10","v":9.9400000000000002E-2}]
[null,""]
["◆等級欄の（　）内の数字は、厚生年金保険の標準報酬月額等級です。"]
["　5(1)等級の「報酬月額」欄は、厚生年金保険の場合「101,000円未満」と読み替えてください。"]
["　34(30)等級の「報酬月額」欄は、厚生年金保険の場合「605,000円以上」と読み替えてください。"]
[null,""]
["◆平成26年度における全国健康保険協会の任意継続被保険者について、標準報酬月額の上限は、280,000円です。"]
[]
[]
["　○被保険者負担分（表の折半額の欄）に円未満の端数がある場合"]
["　　　①事業主が、給与から被保険者負担分を控除する場合、被保険者負担分の端数が50銭以下の場合は切り捨て、50銭を超える場合は切り上げて1円となります。"]
["　　　②被保険者が、被保険者負担分を事業主へ現金で支払う場合、被保険者負担分の端数が50銭未満の場合は切り捨て、50銭以上の場合は切り上げて1円となります。"]
["　　　（注）①、②にかかわらず、事業主と被保険者の間で特約がある場合には、特約に基づき端数処理をすることができます。"]
[]
["　○納入告知書の保険料額"]
["　　　 納入告知書の保険料額は、被保険者個々の保険料額を合算した金額になります。ただし、合算した金額に円未満の端数がある場合は、その端数を切り捨てた額となります。"]
[]
["　○賞与に係る保険料"]
["　　　 賞与に係る保険料額は、賞与額から1,000円未満の端数を切り捨てた額（標準賞与額）に、保険料率を乗じた額となります。"]
[" 　　　また、標準賞与額の上限は、健康保険は年間540万円（毎年4月1日から翌年3月31日までの累計額）となり、厚生年金保険と児童手当拠出金の場合は月間150万円となります。"]
[]
["　○児童手当拠出金"]
["　　　 厚生年金保険の被保険者を使用する事業主の方は、児童手当等の支給に要する費用の一部として児童手当拠出金を全額負担いただくことになります。この児童手当"]
["　　　 拠出金の額は、被保険者個々の厚生年金保険の標準報酬月額および標準賞与額に、拠出金率（0.15%）を乗じて得た額の総額となります。"]

{"sheet":"長野","index":29,"n_rows":86,"n_cols":24,"rows_kept":86,"cut":false,"hidden":true,"merged":[[74,0,74,24],[75,0,75,16],[85,0,85,24],[86,0,86,16],[77,0,77,23],[79,0,79,16],[80,0,80,21],[81,0,81,24],[83,0,83,21],[84,0,84,24],[76,0,76,23],[48,17,60,24],[62,0,62,25],[64,0,64,24],[65,0,65,24],[66,0,66,24],[68,0,68,24],[71,0,71,16],[72,0,72,24],[73,0,73,24],[6,21,8,24],[9,9,10,12],[9,13,10,16],[9,17,10,20],[9,21,10,24],[11,13,12,14],[11,15,12,16],[11,17,12,18],[11,19,12,20],[11,21,12,22],[11,1,12,1],[11,2,12,3],[11,4,12,5],[11,9,12,10],[11,11,12,12],[11,23,12,24],[0,1,1,24],[2,1,3,23],[4,1,4,16],[5,1,10,5],[5,6,12,8],[5,9,5,16],[5,17,5,24],[6,9,8,12],[6,13,8,16],[6,17,8,20]]}
[null,"平成26年9月分(10月納付分)からの健康保険・厚生年金保険の保険料額表"]
[]
[null,"     ‣健康保険料率：平成24年3月分～　適用　　‣厚生年金保険料率：平成26年9月分～平成27年8月分　適用\n     ‣介護保険料率：平成26年3月分～　適用　　‣児童手当拠出金率：平成24年4月分～　適用\n"]
[]
[null,"（長野県）",null,null,null,null,null,null,null,null,null,null,null,null,null,null,null,null,null,null,null,null,null,"（単位：円）"]
[null,"標　準　報　酬",null,null,null,null,"報　酬　月　額",null,null,"全国健康保険協会管掌健康保険料",null,null,null,null,null,null,null,"厚生年金保険料（厚生年金基金加入員を除く）"]
[null,null,null,null,null,null,null,null,null,"介護保険第２号被保険者\nに該当しない場合",null,null,null,"介護保険第２号被保険者\nに該当する場合",null,null,null,"一般の被保険者",null,null,null,"坑内員・船員"]
[]
[]
[null,null,null,null,null,null,null,null,null,9.8500000000000004E-2,null,null,null,{"$f":"J10+0.0172","v":0.1157},null,null,null,0.17474000000000001,null,null,null,0.17688000000000001]
[]
[null,"等級","月　額",null,"日　額",null,null,null,null,"全　額",null,"折半額",null,"全　額",null,"折半額",null,"全　額",null,"折半額",null,"全　額",null,"折半額"]
[]
[null,null,null,null,null,null,"円以上",null,"円未満"]
[null,1,58000,null,1930,null,null,"～",63000,{"$f":"C15*$J$10","v":5713},null,{"$f":"J15/2","v":2856.5},null,{"$f":"C15*$N$10","v":6710.5999999999995},null,{"$f":"N15/2","v":3355.2999999999997}]
[null,2,68000,null,2270,null,63000,"～",73000,{"$f":"C16*$J$10","v":6698},null,{"$f":"J16/2","v":3349},null,{"$f":"C16*$N$10","v":7867.5999999999995},null,{"$f":"N16/2","v":3933.7999999999997}]
[null,3,78000,null,2600,null,73000,"～",83000,{"$f":"C17*$J$10","v":7683},null,{"$f":"J17/2","v":3841.5},null,{"$f":"C17*$N$10","v":9024.6},null,{"$f":"N17/2","v":4512.3}]
[null,4,88000,null,2930,null,83000,"～",93000,{"$f":"C18*$J$10","v":8668},null,{"$f":"J18/2","v":4334},null,{"$f":"C18*$N$10","v":10181.6},null,{"$f":"N18/2","v":5090.8}]
[null,"5(1)",98000,null,3270,null,93000,"～",101000,{"$f":"C19*$J$10","v":9653},null,{"$f":"J19/2","v":4826.5},null,{"$f":"C19*$N$10","v":11338.6},null,{"$f":"N19/2","v":5669.3},null,{"$f":"C19*$R$10","v":17124.52},null,{"$f":"R19/2","v":8562.26},null,{"$f":"C19*$V$10","v":17334.240000000002},null,{"$f":"V19/2","v":8667.1200000000008}]
[null,"6(2)",104000,null,3470,null,101000,"～",107000,{"$f":"C20*$J$10","v":10244},null,{"$f":"J20/2","v":5122},null,{"$f":"C20*$N$10","v":12032.8},null,{"$f":"N20/2","v":6016.4},null,{"$f":"C20*$R$10","v":18172.96},null,{"$f":"R20/2","v":9086.48},null,{"$f":"C20*$V$10","v":18395.52},null,{"$f":"V20/2","v":9197.76}]
[null,"7(3)",110000,null,3670,null,107000,"～",114000,{"$f":"C21*$J$10","v":10835},null,{"$f":"J21/2","v":5417.5},null,{"$f":"C21*$N$10","v":12727},null,{"$f":"N21/2","v":6363.5},null,{"$f":"C21*$R$10","v":19221.400000000001},null,{"$f":"R21/2","v":9610.7000000000007},null,{"$f":"C21*$V$10","v":19456.8},null,{"$f":"V21/2","v":9728.4}]
[null,"8(4)",118000,null,3930,null,114000,"～",122000,{"$f":"C22*$J$10","v":11623},null,{"$f":"J22/2","v":5811.5},null,{"$f":"C22*$N$10","v":13652.6},null,{"$f":"N22/2","v":6826.3},null,{"$f":"C22*$R$10","v":20619.32},null,{"$f":"R22/2","v":10309.66},null,{"$f":"C22*$V$10","v":20871.84},null,{"$f":"V22/2","v":10435.92}]
[null,"9(5)",126000,null,4200,null,122000,"～",130000,{"$f":"C23*$J$10","v":12411},null,{"$f":"J23/2","v":6205.5},null,{"$f":"C23*$N$10","v":14578.199999999999},null,{"$f":"N23/2","v":7289.0999999999995},null,{"$f":"C23*$R$10","v":22017.24},null,{"$f":"R23/2","v":11008.62},null,{"$f":"C23*$V$10","v":22286.880000000001},null,{"$f":"V23/2","v":11143.44}]
[null,"10(6)",134000,null,4470,null,130000,"～",138000,{"$f":"C24*$J$10","v":13199},null,{"$f":"J24/2","v":6599.5},null,{"$f":"C24*$N$10","v":15503.8},null,{"$f":"N24/2","v":7751.9},null,{"$f":"C24*$R$10","v":23415.16},null,{"$f":"R24/2","v":11707.58},null,{"$f":"C24*$V$10","v":23701.920000000002},null,{"$f":"V24/2","v":11850.960000000001}]
[null,"11(7)",142000,null,4730,null,138000,"～",146000,{"$f":"C25*$J$10","v":13987},null,{"$f":"J25/2","v":6993.5},null,{"$f":"C25*$N$10","v":16429.399999999998},null,{"$f":"N25/2","v":8214.6999999999989},null,{"$f":"C25*$R$10","v":24813.08},null,{"$f":"R25/2","v":12406.54},null,{"$f":"C25*$V$10","v":25116.960000000003},null,{"$f":"V25/2","v":12558.480000000001}]
[null,"12(8)",150000,null,5000,null,146000,"～",155000,{"$f":"C26*$J$10","v":14775},null,{"$f":"J26/2","v":7387.5},null,{"$f":"C26*$N$10","v":17355},null,{"$f":"N26/2","v":8677.5},null,{"$f":"C26*$R$10","v":26211},null,{"$f":"R26/2","v":13105.5},null,{"$f":"C26*$V$10","v":26532},null,{"$f":"V26/2","v":13266}]
[null,"13(9)",160000,null,5330,null,155000,"～",165000,{"$f":"C27*$J$10","v":15760},null,{"$f":"J27/2","v":7880},null,{"$f":"C27*$N$10","v":18512},null,{"$f":"N27/2","v":9256},null,{"$f":"C27*$R$10","v":27958.400000000001},null,{"$f":"R27/2","v":13979.2},null,{"$f":"C27*$V$10","v":28300.800000000003},null,{"$f":"V27/2","v":14150.400000000001}]
[null,"14(10)",170000,null,5670,null,165000,"～",175000,{"$f":"C28*$J$10","v":16745},null,{"$f":"J28/2","v":8372.5},null,{"$f":"C28*$N$10","v":19669},null,{"$f":"N28/2","v":9834.5},null,{"$f":"C28*$R$10","v":29705.800000000003},null,{"$f":"R28/2","v":14852.900000000001},null,{"$f":"C28*$V$10","v":30069.600000000002},null,{"$f":"V28/2","v":15034.800000000001}]
[null,"15(11)",180000,null,6000,null,175000,"～",185000,{"$f":"C29*$J$10","v":17730},null,{"$f":"J29/2","v":8865},null,{"$f":"C29*$N$10","v":20826},null,{"$f":"N29/2","v":10413},null,{"$f":"C29*$R$10","v":31453.200000000001},null,{"$f":"R29/2","v":15726.6},null,{"$f":"C29*$V$10","v":31838.400000000001},null,{"$f":"V29/2","v":15919.2}]
[null,"16(12)",190000,null,6330,null,185000,"～",195000,{"$f":"C30*$J$10","v":18715},null,{"$f":"J30/2","v":9357.5},null,{"$f":"C30*$N$10","v":21983},null,{"$f":"N30/2","v":10991.5},null,{"$f":"C30*$R$10","v":33200.6},null,{"$f":"R30/2","v":16600.3},null,{"$f":"C30*$V$10","v":33607.200000000004},null,{"$f":"V30/2","v":16803.600000000002}]
[null,"17(13)",200000,null,6670,null,195000,"～",210000,{"$f":"C31*$J$10","v":19700},null,{"$f":"J31/2","v":9850},null,{"$f":"C31*$N$10","v":23140},null,{"$f":"N31/2","v":11570},null,{"$f":"C31*$R$10","v":34948},null,{"$f":"R31/2","v":17474},null,{"$f":"C31*$V$10","v":35376},null,{"$f":"V31/2","v":17688}]
[null,"18(14)",220000,null,7330,null,210000,"～",230000,{"$f":"C32*$J$10","v":21670},null,{"$f":"J32/2","v":10835},null,{"$f":"C32*$N$10","v":25454},null,{"$f":"N32/2","v":12727},null,{"$f":"C32*$R$10","v":38442.800000000003},null,{"$f":"R32/2","v":19221.400000000001},null,{"$f":"C32*$V$10","v":38913.599999999999},null,{"$f":"V32/2","v":19456.8}]
[null,"19(15)",240000,null,8000,null,230000,"～",250000,{"$f":"C33*$J$10","v":23640},null,{"$f":"J33/2","v":11820},null,{"$f":"C33*$N$10","v":27768},null,{"$f":"N33/2","v":13884},null,{"$f":"C33*$R$10","v":41937.599999999999},null,{"$f":"R33/2","v":20968.8},null,{"$f":"C33*$V$10","v":42451.200000000004},null,{"$f":"V33/2","v":21225.600000000002}]
[null,"20(16)",260000,null,8670,null,250000,"～",270000,{"$f":"C34*$J$10","v":25610},null,{"$f":"J34/2","v":12805},null,{"$f":"C34*$N$10","v":30082},null,{"$f":"N34/2","v":15041},null,{"$f":"C34*$R$10","v":45432.4},null,{"$f":"R34/2","v":22716.2},null,{"$f":"C34*$V$10","v":45988.800000000003},null,{"$f":"V34/2","v":22994.400000000001}]
[null,"21(17)",280000,null,9330,null,270000,"～",290000,{"$f":"C35*$J$10","v":27580},null,{"$f":"J35/2","v":13790},null,{"$f":"C35*$N$10","v":32396},null,{"$f":"N35/2","v":16198},null,{"$f":"C35*$R$10","v":48927.200000000004},null,{"$f":"R35/2","v":24463.600000000002},null,{"$f":"C35*$V$10","v":49526.400000000001},null,{"$f":"V35/2","v":24763.200000000001}]
[null,"22(18)",300000,null,10000,null,290000,"～",310000,{"$f":"C36*$J$10","v":29550},null,{"$f":"J36/2","v":14775},null,{"$f":"C36*$N$10","v":34710},null,{"$f":"N36/2","v":17355},null,{"$f":"C36*$R$10","v":52422},null,{"$f":"R36/2","v":26211},null,{"$f":"C36*$V$10","v":53064},null,{"$f":"V36/2","v":26532}]
[null,"23(19)",320000,null,10670,null,310000,"～",330000,{"$f":"C37*$J$10","v":31520},null,{"$f":"J37/2","v":15760},null,{"$f":"C37*$N$10","v":37024},null,{"$f":"N37/2","v":18512},null,{"$f":"C37*$R$10","v":55916.800000000003},null,{"$f":"R37/2","v":27958.400000000001},null,{"$f":"C37*$V$10","v":56601.600000000006},null,{"$f":"V37/2","v":28300.800000000003}]
[null,"24(20)",340000,null,11330,null,330000,"～",350000,{"$f":"C38*$J$10","v":33490},null,{"$f":"J38/2","v":16745},null,{"$f":"C38*$N$10","v":39338},null,{"$f":"N38/2","v":19669},null,{"$f":"C38*$R$10","v":59411.600000000006},null,{"$f":"R38/2","v":29705.800000000003},null,{"$f":"C38*$V$10","v":60139.200000000004},null,{"$f":"V38/2","v":30069.600000000002}]
[null,"25(21)",360000,null,12000,null,350000,"～",370000,{"$f":"C39*$J$10","v":35460},null,{"$f":"J39/2","v":17730},null,{"$f":"C39*$N$10","v":41652},null,{"$f":"N39/2","v":20826},null,{"$f":"C39*$R$10","v":62906.400000000001},null,{"$f":"R39/2","v":31453.200000000001},null,{"$f":"C39*$V$10","v":63676.800000000003},null,{"$f":"V39/2","v":31838.400000000001}]
[null,"26(22)",380000,null,12670,null,370000,"～",395000,{"$f":"C40*$J$10","v":37430},null,{"$f":"J40/2","v":18715},null,{"$f":"C40*$N$10","v":43966},null,{"$f":"N40/2","v":21983},null,{"$f":"C40*$R$10","v":66401.2},null,{"$f":"R40/2","v":33200.6},null,{"$f":"C40*$V$10","v":67214.400000000009},null,{"$f":"V40/2","v":33607.200000000004}]
[null,"27(23)",410000,null,13670,null,395000,"～",425000,{"$f":"C41*$J$10","v":40385},null,{"$f":"J41/2","v":20192.5},null,{"$f":"C41*$N$10","v":47437},null,{"$f":"N41/2","v":23718.5},null,{"$f":"C41*$R$10","v":71643.400000000009},null,{"$f":"R41/2","v":35821.700000000004},null,{"$f":"C41*$V$10","v":72520.800000000003},null,{"$f":"V41/2","v":36260.400000000001}]
[null,"28(24)",440000,null,14670,null,425000,"～",455000,{"$f":"C42*$J$10","v":43340},null,{"$f":"J42/2","v":21670},null,{"$f":"C42*$N$10","v":50908},null,{"$f":"N42/2","v":25454},null,{"$f":"C42*$R$10","v":76885.600000000006},null,{"$f":"R42/2","v":38442.800000000003},null,{"$f":"C42*$V$10","v":77827.199999999997},null,{"$f":"V42/2","v":38913.599999999999}]
[null,"29(25)",470000,null,15670,null,455000,"～",485000,{"$f":"C43*$J$10","v":46295},null,{"$f":"J43/2","v":23147.5},null,{"$f":"C43*$N$10","v":54379},null,{"$f":"N43/2","v":27189.5},null,{"$f":"C43*$R$10","v":82127.8},null,{"$f":"R43/2","v":41063.9},null,{"$f":"C43*$V$10","v":83133.600000000006},null,{"$f":"V43/2","v":41566.800000000003}]
[null,"30(26)",500000,null,16670,null,485000,"～",515000,{"$f":"C44*$J$10","v":49250},null,{"$f":"J44/2","v":24625},null,{"$f":"C44*$N$10","v":57850},null,{"$f":"N44/2","v":28925},null,{"$f":"C44*$R$10","v":87370},null,{"$f":"R44/2","v":43685},null,{"$f":"C44*$V$10","v":88440},null,{"$f":"V44/2","v":44220}]
[null,"31(27)",530000,null,17670,null,515000,"～",545000,{"$f":"C45*$J$10","v":52205},null,{"$f":"J45/2","v":26102.5},null,{"$f":"C45*$N$10","v":61321},null,{"$f":"N45/2","v":30660.5},null,{"$f":"C45*$R$10","v":92612.2},null,{"$f":"R45/2","v":46306.1},null,{"$f":"C45*$V$10","v":93746.400000000009},null,{"$f":"V45/2","v":46873.200000000004}]
[null,"32(28)",560000,null,18670,null,545000,"～",575000,{"$f":"C46*$J$10","v":55160},null,{"$f":"J46/2","v":27580},null,{"$f":"C46*$N$10","v":64792},null,{"$f":"N46/2","v":32396},null,{"$f":"C46*$R$10","v":97854.400000000009},null,{"$f":"R46/2","v":48927.200000000004},null,{"$f":"C46*$V$10","v":99052.800000000003},null,{"$f":"V46/2","v":49526.400000000001}]
[null,"33(29)",590000,null,19670,null,575000,"～",605000,{"$f":"C47*$J$10","v":58115},null,{"$f":"J47/2","v":29057.5},null,{"$f":"C47*$N$10","v":68263},null,{"$f":"N47/2","v":34131.5},null,{"$f":"C47*$R$10","v":103096.6},null,{"$f":"R47/2","v":51548.3},null,{"$f":"C47*$V$10","v":104359.20000000001},null,{"$f":"V47/2","v":52179.600000000006}]
[null,"34(30)",620000,null,20670,null,605000,"～",635000,{"$f":"C48*$J$10","v":61070},null,{"$f":"J48/2","v":30535},null,{"$f":"C48*$N$10","v":71734},null,{"$f":"N48/2","v":35867},null,{"$f":"C48*$R$10","v":108338.8},null,{"$f":"R48/2","v":54169.4},null,{"$f":"C48*$V$10","v":109665.60000000001},null,{"$f":"V48/2","v":54832.800000000003}]
[null,35,650000,null,21670,null,635000,"～",665000,{"$f":"C49*$J$10","v":64025},null,{"$f":"J49/2","v":32012.5},null,{"$f":"C49*$N$10","v":75205},null,{"$f":"N49/2","v":37602.5},null,"※厚生年金基金に加入している方の厚生年金保険\n　料率は、基金ごとに定められている免除保険料\n　率(2.4%～5.0%)を控除した率となります。\n\n　●一般の被保険者の方　…12.474%～15.074%\n　●坑内員の被保険者の方…12.688%～15.288%\n\n　加入する基金ごとに異なりますので、免除保険\n　料率および厚生年金基金の掛金については、加\n　入する厚生年金基金にお問い合わせください。\n"]
[null,36,680000,null,22670,null,665000,"～",695000,{"$f":"C50*$J$10","v":66980},null,{"$f":"J50/2","v":33490},null,{"$f":"C50*$N$10","v":78676},null,{"$f":"N50/2","v":39338}]
[null,37,710000,null,23670,null,695000,"～",730000,{"$f":"C51*$J$10","v":69935},null,{"$f":"J51/2","v":34967.5},null,{"$f":"C51*$N$10","v":82147},null,{"$f":"N51/2","v":41073.5}]
[null,38,750000,null,25000,null,730000,"～",770000,{"$f":"C52*$J$10","v":73875},null,{"$f":"J52/2","v":36937.5},null,{"$f":"C52*$N$10","v":86775},null,{"$f":"N52/2","v":43387.5}]
[null,39,790000,null,26330,null,770000,"～",810000,{"$f":"C53*$J$10","v":77815},null,{"$f":"J53/2","v":38907.5},null,{"$f":"C53*$N$10","v":91403},null,{"$f":"N53/2","v":45701.5}]
[null,40,830000,null,27670,null,810000,"～",855000,{"$f":"C54*$J$10","v":81755},null,{"$f":"J54/2","v":40877.5},null,{"$f":"C54*$N$10","v":96031},null,{"$f":"N54/2","v":48015.5}]
[null,41,880000,null,29330,null,855000,"～",905000,{"$f":"C55*$J$10","v":86680},null,{"$f":"J55/2","v":43340},null,{"$f":"C55*$N$10","v":101816},null,{"$f":"N55/2","v":50908}]
[null,42,930000,null,31000,null,905000,"～",955000,{"$f":"C56*$J$10","v":91605},null,{"$f":"J56/2","v":45802.5},null,{"$f":"C56*$N$10","v":107601},null,{"$f":"N56/2","v":53800.5}]
[null,43,980000,null,32670,null,955000,"～",1005000,{"$f":"C57*$J$10","v":96530},null,{"$f":"J57/2","v":48265},null,{"$f":"C57*$N$10","v":113386},null,{"$f":"N57/2","v":56693}]
[null,44,1030000,null,34330,null,1005000,"～",1055000,{"$f":"C58*$J$10","v":101455},null,{"$f":"J58/2","v":50727.5},null,{"$f":"C58*$N$10","v":119171},null,{"$f":"N58/2","v":59585.5}]
[null,45,1090000,null,36330,null,1055000,"～",1115000,{"$f":"C59*$J$10","v":107365},null,{"$f":"J59/2","v":53682.5},null,{"$f":"C59*$N$10","v":126113},null,{"$f":"N59/2","v":63056.5}]
[null,46,1150000,null,38330,null,1115000,"～",1175000,{"$f":"C60*$J$10","v":113275},null,{"$f":"J60/2","v":56637.5},null,{"$f":"C60*$N$10","v":133055},null,{"$f":"N60/2","v":66527.5}]
[null,47,1210000,null,40330,null,1175000,"～",null,{"$f":"C61*$J$10","v":119185},null,{"$f":"J61/2","v":59592.5},null,{"$f":"C61*$N$10","v":139997},null,{"$f":"N61/2","v":69998.5}]
[]
[{"$f":"J10","v":9.8500000000000004E-2}]
[null,""]
["◆等級欄の（　）内の数字は、厚生年金保険の標準報酬月額等級です。"]
["　5(1)等級の「報酬月額」欄は、厚生年金保険の場合「101,000円未満」と読み替えてください。"]
["　34(30)等級の「報酬月額」欄は、厚生年金保険の場合「605,000円以上」と読み替えてください。"]
[null,""]
["◆平成26年度における全国健康保険協会の任意継続被保険者について、標準報酬月額の上限は、280,000円です。"]
[]
[]
["　○被保険者負担分（表の折半額の欄）に円未満の端数がある場合"]
["　　　①事業主が、給与から被保険者負担分を控除する場合、被保険者負担分の端数が50銭以下の場合は切り捨て、50銭を超える場合は切り上げて1円となります。"]
["　　　②被保険者が、被保険者負担分を事業主へ現金で支払う場合、被保険者負担分の端数が50銭未満の場合は切り捨て、50銭以上の場合は切り上げて1円となります。"]
["　　　（注）①、②にかかわらず、事業主と被保険者の間で特約がある場合には、特約に基づき端数処理をすることができます。"]
[]
["　○納入告知書の保険料額"]
["　　　 納入告知書の保険料額は、被保険者個々の保険料額を合算した金額になります。ただし、合算した金額に円未満の端数がある場合は、その端数を切り捨てた額となります。"]
[]
["　○賞与に係る保険料"]
["　　　 賞与に係る保険料額は、賞与額から1,000円未満の端数を切り捨てた額（標準賞与額）に、保険料率を乗じた額となります。"]
[" 　　　また、標準賞与額の上限は、健康保険は年間540万円（毎年4月1日から翌年3月31日までの累計額）となり、厚生年金保険と児童手当拠出金の場合は月間150万円となります。"]
[]
["　○児童手当拠出金"]
["　　　 厚生年金保険の被保険者を使用する事業主の方は、児童手当等の支給に要する費用の一部として児童手当拠出金を全額負担いただくことになります。この児童手当"]
["　　　 拠出金の額は、被保険者個々の厚生年金保険の標準報酬月額および標準賞与額に、拠出金率（0.15%）を乗じて得た額の総額となります。"]

{"sheet":"岐阜","index":30,"n_rows":86,"n_cols":24,"rows_kept":86,"cut":false,"hidden":true,"merged":[[74,0,74,24],[75,0,75,16],[85,0,85,24],[86,0,86,16],[77,0,77,23],[79,0,79,16],[80,0,80,21],[81,0,81,24],[83,0,83,21],[84,0,84,24],[76,0,76,23],[48,17,60,24],[62,0,62,25],[64,0,64,24],[65,0,65,24],[66,0,66,24],[68,0,68,24],[71,0,71,16],[72,0,72,24],[73,0,73,24],[6,21,8,24],[9,9,10,12],[9,13,10,16],[9,17,10,20],[9,21,10,24],[11,13,12,14],[11,15,12,16],[11,17,12,18],[11,19,12,20],[11,21,12,22],[11,1,12,1],[11,2,12,3],[11,4,12,5],[11,9,12,10],[11,11,12,12],[11,23,12,24],[0,1,1,24],[2,1,3,23],[4,1,4,16],[5,1,10,5],[5,6,12,8],[5,9,5,16],[5,17,5,24],[6,9,8,12],[6,13,8,16],[6,17,8,20]]}
[null,"平成26年9月分(10月納付分)からの健康保険・厚生年金保険の保険料額表"]
[]
[null,"     ‣健康保険料率：平成24年3月分～　適用　　‣厚生年金保険料率：平成26年9月分～平成27年8月分　適用\n     ‣介護保険料率：平成26年3月分～　適用　　‣児童手当拠出金率：平成24年4月分～　適用\n"]
[]
[null,"（岐阜県）",null,null,null,null,null,null,null,null,null,null,null,null,null,null,null,null,null,null,null,null,null,"（単位：円）"]
[null,"標　準　報　酬",null,null,null,null,"報　酬　月　額",null,null,"全国健康保険協会管掌健康保険料",null,null,null,null,null,null,null,"厚生年金保険料（厚生年金基金加入員を除く）"]
[null,null,null,null,null,null,null,null,null,"介護保険第２号被保険者\nに該当しない場合",null,null,null,"介護保険第２号被保険者\nに該当する場合",null,null,null,"一般の被保険者",null,null,null,"坑内員・船員"]
[]
[]
[null,null,null,null,null,null,null,null,null,9.9900000000000003E-2,null,null,null,{"$f":"J10+0.0172","v":0.11710000000000001},null,null,null,0.17474000000000001,null,null,null,0.17688000000000001]
[]
[null,"等級","月　額",null,"日　額",null,null,null,null,"全　額",null,"折半額",null,"全　額",null,"折半額",null,"全　額",null,"折半額",null,"全　額",null,"折半額"]
[]
[null,null,null,null,null,null,"円以上",null,"円未満"]
[null,1,58000,null,1930,null,null,"～",63000,{"$f":"C15*$J$10","v":5794.2},null,{"$f":"J15/2","v":2897.1},null,{"$f":"C15*$N$10","v":6791.8},null,{"$f":"N15/2","v":3395.9}]
[null,2,68000,null,2270,null,63000,"～",73000,{"$f":"C16*$J$10","v":6793.2},null,{"$f":"J16/2","v":3396.6},null,{"$f":"C16*$N$10","v":7962.8000000000011},null,{"$f":"N16/2","v":3981.4000000000005}]
[null,3,78000,null,2600,null,73000,"～",83000,{"$f":"C17*$J$10","v":7792.2},null,{"$f":"J17/2","v":3896.1},null,{"$f":"C17*$N$10","v":9133.8000000000011},null,{"$f":"N17/2","v":4566.9000000000005}]
[null,4,88000,null,2930,null,83000,"～",93000,{"$f":"C18*$J$10","v":8791.2000000000007},null,{"$f":"J18/2","v":4395.6000000000004},null,{"$f":"C18*$N$10","v":10304.800000000001},null,{"$f":"N18/2","v":5152.4000000000005}]
[null,"5(1)",98000,null,3270,null,93000,"～",101000,{"$f":"C19*$J$10","v":9790.2000000000007},null,{"$f":"J19/2","v":4895.1000000000004},null,{"$f":"C19*$N$10","v":11475.800000000001},null,{"$f":"N19/2","v":5737.9000000000005},null,{"$f":"C19*$R$10","v":17124.52},null,{"$f":"R19/2","v":8562.26},null,{"$f":"C19*$V$10","v":17334.240000000002},null,{"$f":"V19/2","v":8667.1200000000008}]
[null,"6(2)",104000,null,3470,null,101000,"～",107000,{"$f":"C20*$J$10","v":10389.6},null,{"$f":"J20/2","v":5194.8},null,{"$f":"C20*$N$10","v":12178.400000000001},null,{"$f":"N20/2","v":6089.2000000000007},null,{"$f":"C20*$R$10","v":18172.96},null,{"$f":"R20/2","v":9086.48},null,{"$f":"C20*$V$10","v":18395.52},null,{"$f":"V20/2","v":9197.76}]
[null,"7(3)",110000,null,3670,null,107000,"～",114000,{"$f":"C21*$J$10","v":10989},null,{"$f":"J21/2","v":5494.5},null,{"$f":"C21*$N$10","v":12881.000000000002},null,{"$f":"N21/2","v":6440.5000000000009},null,{"$f":"C21*$R$10","v":19221.400000000001},null,{"$f":"R21/2","v":9610.7000000000007},null,{"$f":"C21*$V$10","v":19456.8},null,{"$f":"V21/2","v":9728.4}]
[null,"8(4)",118000,null,3930,null,114000,"～",122000,{"$f":"C22*$J$10","v":11788.2},null,{"$f":"J22/2","v":5894.1},null,{"$f":"C22*$N$10","v":13817.800000000001},null,{"$f":"N22/2","v":6908.9000000000005},null,{"$f":"C22*$R$10","v":20619.32},null,{"$f":"R22/2","v":10309.66},null,{"$f":"C22*$V$10","v":20871.84},null,{"$f":"V22/2","v":10435.92}]
[null,"9(5)",126000,null,4200,null,122000,"～",130000,{"$f":"C23*$J$10","v":12587.4},null,{"$f":"J23/2","v":6293.7},null,{"$f":"C23*$N$10","v":14754.6},null,{"$f":"N23/2","v":7377.3},null,{"$f":"C23*$R$10","v":22017.24},null,{"$f":"R23/2","v":11008.62},null,{"$f":"C23*$V$10","v":22286.880000000001},null,{"$f":"V23/2","v":11143.44}]
[null,"10(6)",134000,null,4470,null,130000,"～",138000,{"$f":"C24*$J$10","v":13386.6},null,{"$f":"J24/2","v":6693.3},null,{"$f":"C24*$N$10","v":15691.400000000001},null,{"$f":"N24/2","v":7845.7000000000007},null,{"$f":"C24*$R$10","v":23415.16},null,{"$f":"R24/2","v":11707.58},null,{"$f":"C24*$V$10","v":23701.920000000002},null,{"$f":"V24/2","v":11850.960000000001}]
[null,"11(7)",142000,null,4730,null,138000,"～",146000,{"$f":"C25*$J$10","v":14185.800000000001},null,{"$f":"J25/2","v":7092.9000000000005},null,{"$f":"C25*$N$10","v":16628.2},null,{"$f":"N25/2","v":8314.1},null,{"$f":"C25*$R$10","v":24813.08},null,{"$f":"R25/2","v":12406.54},null,{"$f":"C25*$V$10","v":25116.960000000003},null,{"$f":"V25/2","v":12558.480000000001}]
[null,"12(8)",150000,null,5000,null,146000,"～",155000,{"$f":"C26*$J$10","v":14985},null,{"$f":"J26/2","v":7492.5},null,{"$f":"C26*$N$10","v":17565},null,{"$f":"N26/2","v":8782.5},null,{"$f":"C26*$R$10","v":26211},null,{"$f":"R26/2","v":13105.5},null,{"$f":"C26*$V$10","v":26532},null,{"$f":"V26/2","v":13266}]
[null,"13(9)",160000,null,5330,null,155000,"～",165000,{"$f":"C27*$J$10","v":15984},null,{"$f":"J27/2","v":7992},null,{"$f":"C27*$N$10","v":18736},null,{"$f":"N27/2","v":9368},null,{"$f":"C27*$R$10","v":27958.400000000001},null,{"$f":"R27/2","v":13979.2},null,{"$f":"C27*$V$10","v":28300.800000000003},null,{"$f":"V27/2","v":14150.400000000001}]
[null,"14(10)",170000,null,5670,null,165000,"～",175000,{"$f":"C28*$J$10","v":16983},null,{"$f":"J28/2","v":8491.5},null,{"$f":"C28*$N$10","v":19907},null,{"$f":"N28/2","v":9953.5},null,{"$f":"C28*$R$10","v":29705.800000000003},null,{"$f":"R28/2","v":14852.900000000001},null,{"$f":"C28*$V$10","v":30069.600000000002},null,{"$f":"V28/2","v":15034.800000000001}]
[null,"15(11)",180000,null,6000,null,175000,"～",185000,{"$f":"C29*$J$10","v":17982},null,{"$f":"J29/2","v":8991},null,{"$f":"C29*$N$10","v":21078},null,{"$f":"N29/2","v":10539},null,{"$f":"C29*$R$10","v":31453.200000000001},null,{"$f":"R29/2","v":15726.6},null,{"$f":"C29*$V$10","v":31838.400000000001},null,{"$f":"V29/2","v":15919.2}]
[null,"16(12)",190000,null,6330,null,185000,"～",195000,{"$f":"C30*$J$10","v":18981},null,{"$f":"J30/2","v":9490.5},null,{"$f":"C30*$N$10","v":22249.000000000004},null,{"$f":"N30/2","v":11124.500000000002},null,{"$f":"C30*$R$10","v":33200.6},null,{"$f":"R30/2","v":16600.3},null,{"$f":"C30*$V$10","v":33607.200000000004},null,{"$f":"V30/2","v":16803.600000000002}]
[null,"17(13)",200000,null,6670,null,195000,"～",210000,{"$f":"C31*$J$10","v":19980},null,{"$f":"J31/2","v":9990},null,{"$f":"C31*$N$10","v":23420.000000000004},null,{"$f":"N31/2","v":11710.000000000002},null,{"$f":"C31*$R$10","v":34948},null,{"$f":"R31/2","v":17474},null,{"$f":"C31*$V$10","v":35376},null,{"$f":"V31/2","v":17688}]
[null,"18(14)",220000,null,7330,null,210000,"～",230000,{"$f":"C32*$J$10","v":21978},null,{"$f":"J32/2","v":10989},null,{"$f":"C32*$N$10","v":25762.000000000004},null,{"$f":"N32/2","v":12881.000000000002},null,{"$f":"C32*$R$10","v":38442.800000000003},null,{"$f":"R32/2","v":19221.400000000001},null,{"$f":"C32*$V$10","v":38913.599999999999},null,{"$f":"V32/2","v":19456.8}]
[null,"19(15)",240000,null,8000,null,230000,"～",250000,{"$f":"C33*$J$10","v":23976},null,{"$f":"J33/2","v":11988},null,{"$f":"C33*$N$10","v":28104.000000000004},null,{"$f":"N33/2","v":14052.000000000002},null,{"$f":"C33*$R$10","v":41937.599999999999},null,{"$f":"R33/2","v":20968.8},null,{"$f":"C33*$V$10","v":42451.200000000004},null,{"$f":"V33/2","v":21225.600000000002}]
[null,"20(16)",260000,null,8670,null,250000,"～",270000,{"$f":"C34*$J$10","v":25974},null,{"$f":"J34/2","v":12987},null,{"$f":"C34*$N$10","v":30446.000000000004},null,{"$f":"N34/2","v":15223.000000000002},null,{"$f":"C34*$R$10","v":45432.4},null,{"$f":"R34/2","v":22716.2},null,{"$f":"C34*$V$10","v":45988.800000000003},null,{"$f":"V34/2","v":22994.400000000001}]
[null,"21(17)",280000,null,9330,null,270000,"～",290000,{"$f":"C35*$J$10","v":27972},null,{"$f":"J35/2","v":13986},null,{"$f":"C35*$N$10","v":32788},null,{"$f":"N35/2","v":16394},null,{"$f":"C35*$R$10","v":48927.200000000004},null,{"$f":"R35/2","v":24463.600000000002},null,{"$f":"C35*$V$10","v":49526.400000000001},null,{"$f":"V35/2","v":24763.200000000001}]
[null,"22(18)",300000,null,10000,null,290000,"～",310000,{"$f":"C36*$J$10","v":29970},null,{"$f":"J36/2","v":14985},null,{"$f":"C36*$N$10","v":35130},null,{"$f":"N36/2","v":17565},null,{"$f":"C36*$R$10","v":52422},null,{"$f":"R36/2","v":26211},null,{"$f":"C36*$V$10","v":53064},null,{"$f":"V36/2","v":26532}]
[null,"23(19)",320000,null,10670,null,310000,"～",330000,{"$f":"C37*$J$10","v":31968},null,{"$f":"J37/2","v":15984},null,{"$f":"C37*$N$10","v":37472},null,{"$f":"N37/2","v":18736},null,{"$f":"C37*$R$10","v":55916.800000000003},null,{"$f":"R37/2","v":27958.400000000001},null,{"$f":"C37*$V$10","v":56601.600000000006},null,{"$f":"V37/2","v":28300.800000000003}]
[null,"24(20)",340000,null,11330,null,330000,"～",350000,{"$f":"C38*$J$10","v":33966},null,{"$f":"J38/2","v":16983},null,{"$f":"C38*$N$10","v":39814},null,{"$f":"N38/2","v":19907},null,{"$f":"C38*$R$10","v":59411.600000000006},null,{"$f":"R38/2","v":29705.800000000003},null,{"$f":"C38*$V$10","v":60139.200000000004},null,{"$f":"V38/2","v":30069.600000000002}]
[null,"25(21)",360000,null,12000,null,350000,"～",370000,{"$f":"C39*$J$10","v":35964},null,{"$f":"J39/2","v":17982},null,{"$f":"C39*$N$10","v":42156},null,{"$f":"N39/2","v":21078},null,{"$f":"C39*$R$10","v":62906.400000000001},null,{"$f":"R39/2","v":31453.200000000001},null,{"$f":"C39*$V$10","v":63676.800000000003},null,{"$f":"V39/2","v":31838.400000000001}]
[null,"26(22)",380000,null,12670,null,370000,"～",395000,{"$f":"C40*$J$10","v":37962},null,{"$f":"J40/2","v":18981},null,{"$f":"C40*$N$10","v":44498.000000000007},null,{"$f":"N40/2","v":22249.000000000004},null,{"$f":"C40*$R$10","v":66401.2},null,{"$f":"R40/2","v":33200.6},null,{"$f":"C40*$V$10","v":67214.400000000009},null,{"$f":"V40/2","v":33607.200000000004}]
[null,"27(23)",410000,null,13670,null,395000,"～",425000,{"$f":"C41*$J$10","v":40959},null,{"$f":"J41/2","v":20479.5},null,{"$f":"C41*$N$10","v":48011.000000000007},null,{"$f":"N41/2","v":24005.500000000004},null,{"$f":"C41*$R$10","v":71643.400000000009},null,{"$f":"R41/2","v":35821.700000000004},null,{"$f":"C41*$V$10","v":72520.800000000003},null,{"$f":"V41/2","v":36260.400000000001}]
[null,"28(24)",440000,null,14670,null,425000,"～",455000,{"$f":"C42*$J$10","v":43956},null,{"$f":"J42/2","v":21978},null,{"$f":"C42*$N$10","v":51524.000000000007},null,{"$f":"N42/2","v":25762.000000000004},null,{"$f":"C42*$R$10","v":76885.600000000006},null,{"$f":"R42/2","v":38442.800000000003},null,{"$f":"C42*$V$10","v":77827.199999999997},null,{"$f":"V42/2","v":38913.599999999999}]
[null,"29(25)",470000,null,15670,null,455000,"～",485000,{"$f":"C43*$J$10","v":46953},null,{"$f":"J43/2","v":23476.5},null,{"$f":"C43*$N$10","v":55037.000000000007},null,{"$f":"N43/2","v":27518.500000000004},null,{"$f":"C43*$R$10","v":82127.8},null,{"$f":"R43/2","v":41063.9},null,{"$f":"C43*$V$10","v":83133.600000000006},null,{"$f":"V43/2","v":41566.800000000003}]
[null,"30(26)",500000,null,16670,null,485000,"～",515000,{"$f":"C44*$J$10","v":49950},null,{"$f":"J44/2","v":24975},null,{"$f":"C44*$N$10","v":58550.000000000007},null,{"$f":"N44/2","v":29275.000000000004},null,{"$f":"C44*$R$10","v":87370},null,{"$f":"R44/2","v":43685},null,{"$f":"C44*$V$10","v":88440},null,{"$f":"V44/2","v":44220}]
[null,"31(27)",530000,null,17670,null,515000,"～",545000,{"$f":"C45*$J$10","v":52947},null,{"$f":"J45/2","v":26473.5},null,{"$f":"C45*$N$10","v":62063.000000000007},null,{"$f":"N45/2","v":31031.500000000004},null,{"$f":"C45*$R$10","v":92612.2},null,{"$f":"R45/2","v":46306.1},null,{"$f":"C45*$V$10","v":93746.400000000009},null,{"$f":"V45/2","v":46873.200000000004}]
[null,"32(28)",560000,null,18670,null,545000,"～",575000,{"$f":"C46*$J$10","v":55944},null,{"$f":"J46/2","v":27972},null,{"$f":"C46*$N$10","v":65576},null,{"$f":"N46/2","v":32788},null,{"$f":"C46*$R$10","v":97854.400000000009},null,{"$f":"R46/2","v":48927.200000000004},null,{"$f":"C46*$V$10","v":99052.800000000003},null,{"$f":"V46/2","v":49526.400000000001}]
[null,"33(29)",590000,null,19670,null,575000,"～",605000,{"$f":"C47*$J$10","v":58941},null,{"$f":"J47/2","v":29470.5},null,{"$f":"C47*$N$10","v":69089},null,{"$f":"N47/2","v":34544.5},null,{"$f":"C47*$R$10","v":103096.6},null,{"$f":"R47/2","v":51548.3},null,{"$f":"C47*$V$10","v":104359.20000000001},null,{"$f":"V47/2","v":52179.600000000006}]
[null,"34(30)",620000,null,20670,null,605000,"～",635000,{"$f":"C48*$J$10","v":61938},null,{"$f":"J48/2","v":30969},null,{"$f":"C48*$N$10","v":72602},null,{"$f":"N48/2","v":36301},null,{"$f":"C48*$R$10","v":108338.8},null,{"$f":"R48/2","v":54169.4},null,{"$f":"C48*$V$10","v":109665.60000000001},null,{"$f":"V48/2","v":54832.800000000003}]
[null,35,650000,null,21670,null,635000,"～",665000,{"$f":"C49*$J$10","v":64935},null,{"$f":"J49/2","v":32467.5},null,{"$f":"C49*$N$10","v":76115},null,{"$f":"N49/2","v":38057.5},null,"※厚生年金基金に加入している方の厚生年金保険\n　料率は、基金ごとに定められている免除保険料\n　率(2.4%～5.0%)を控除した率となります。\n\n　●一般の被保険者の方　…12.474%～15.074%\n　●坑内員の被保険者の方…12.688%～15.288%\n\n　加入する基金ごとに異なりますので、免除保険\n　料率および厚生年金基金の掛金については、加\n　入する厚生年金基金にお問い合わせください。\n"]
[null,36,680000,null,22670,null,665000,"～",695000,{"$f":"C50*$J$10","v":67932},null,{"$f":"J50/2","v":33966},null,{"$f":"C50*$N$10","v":79628},null,{"$f":"N50/2","v":39814}]
[null,37,710000,null,23670,null,695000,"～",730000,{"$f":"C51*$J$10","v":70929},null,{"$f":"J51/2","v":35464.5},null,{"$f":"C51*$N$10","v":83141},null,{"$f":"N51/2","v":41570.5}]
[null,38,750000,null,25000,null,730000,"～",770000,{"$f":"C52*$J$10","v":74925},null,{"$f":"J52/2","v":37462.5},null,{"$f":"C52*$N$10","v":87825},null,{"$f":"N52/2","v":43912.5}]
[null,39,790000,null,26330,null,770000,"～",810000,{"$f":"C53*$J$10","v":78921},null,{"$f":"J53/2","v":39460.5},null,{"$f":"C53*$N$10","v":92509.000000000015},null,{"$f":"N53/2","v":46254.500000000007}]
[null,40,830000,null,27670,null,810000,"～",855000,{"$f":"C54*$J$10","v":82917},null,{"$f":"J54/2","v":41458.5},null,{"$f":"C54*$N$10","v":97193.000000000015},null,{"$f":"N54/2","v":48596.500000000007}]
[null,41,880000,null,29330,null,855000,"～",905000,{"$f":"C55*$J$10","v":87912},null,{"$f":"J55/2","v":43956},null,{"$f":"C55*$N$10","v":103048.00000000001},null,{"$f":"N55/2","v":51524.000000000007}]
[null,42,930000,null,31000,null,905000,"～",955000,{"$f":"C56*$J$10","v":92907},null,{"$f":"J56/2","v":46453.5},null,{"$f":"C56*$N$10","v":108903.00000000001},null,{"$f":"N56/2","v":54451.500000000007}]
[null,43,980000,null,32670,null,955000,"～",1005000,{"$f":"C57*$J$10","v":97902},null,{"$f":"J57/2","v":48951},null,{"$f":"C57*$N$10","v":114758.00000000001},null,{"$f":"N57/2","v":57379.000000000007}]
[null,44,1030000,null,34330,null,1005000,"～",1055000,{"$f":"C58*$J$10","v":102897},null,{"$f":"J58/2","v":51448.5},null,{"$f":"C58*$N$10","v":120613.00000000001},null,{"$f":"N58/2","v":60306.500000000007}]
[null,45,1090000,null,36330,null,1055000,"～",1115000,{"$f":"C59*$J$10","v":108891},null,{"$f":"J59/2","v":54445.5},null,{"$f":"C59*$N$10","v":127639.00000000001},null,{"$f":"N59/2","v":63819.500000000007}]
[null,46,1150000,null,38330,null,1115000,"～",1175000,{"$f":"C60*$J$10","v":114885},null,{"$f":"J60/2","v":57442.5},null,{"$f":"C60*$N$10","v":134665},null,{"$f":"N60/2","v":67332.5}]
[null,47,1210000,null,40330,null,1175000,"～",null,{"$f":"C61*$J$10","v":120879},null,{"$f":"J61/2","v":60439.5},null,{"$f":"C61*$N$10","v":141691},null,{"$f":"N61/2","v":70845.5}]
[]
[{"$f":"J10","v":9.9900000000000003E-2}]
[null,""]
["◆等級欄の（　）内の数字は、厚生年金保険の標準報酬月額等級です。"]
["　5(1)等級の「報酬月額」欄は、厚生年金保険の場合「101,000円未満」と読み替えてください。"]
["　34(30)等級の「報酬月額」欄は、厚生年金保険の場合「605,000円以上」と読み替えてください。"]
[null,""]
["◆平成26年度における全国健康保険協会の任意継続被保険者について、標準報酬月額の上限は、280,000円です。"]
[]
[]
["　○被保険者負担分（表の折半額の欄）に円未満の端数がある場合"]
["　　　①事業主が、給与から被保険者負担分を控除する場合、被保険者負担分の端数が50銭以下の場合は切り捨て、50銭を超える場合は切り上げて1円となります。"]
["　　　②被保険者が、被保険者負担分を事業主へ現金で支払う場合、被保険者負担分の端数が50銭未満の場合は切り捨て、50銭以上の場合は切り上げて1円となります。"]
["　　　（注）①、②にかかわらず、事業主と被保険者の間で特約がある場合には、特約に基づき端数処理をすることができます。"]
[]
["　○納入告知書の保険料額"]
["　　　 納入告知書の保険料額は、被保険者個々の保険料額を合算した金額になります。ただし、合算した金額に円未満の端数がある場合は、その端数を切り捨てた額となります。"]
[]
["　○賞与に係る保険料"]
["　　　 賞与に係る保険料額は、賞与額から1,000円未満の端数を切り捨てた額（標準賞与額）に、保険料率を乗じた額となります。"]
[" 　　　また、標準賞与額の上限は、健康保険は年間540万円（毎年4月1日から翌年3月31日までの累計額）となり、厚生年金保険と児童手当拠出金の場合は月間150万円となります。"]
[]
["　○児童手当拠出金"]
["　　　 厚生年金保険の被保険者を使用する事業主の方は、児童手当等の支給に要する費用の一部として児童手当拠出金を全額負担いただくことになります。この児童手当"]
["　　　 拠出金の額は、被保険者個々の厚生年金保険の標準報酬月額および標準賞与額に、拠出金率（0.15%）を乗じて得た額の総額となります。"]

{"sheet":"静岡","index":31,"n_rows":86,"n_cols":24,"rows_kept":86,"cut":false,"hidden":true,"merged":[[74,0,74,24],[75,0,75,16],[85,0,85,24],[86,0,86,16],[77,0,77,23],[79,0,79,16],[80,0,80,21],[81,0,81,24],[83,0,83,21],[84,0,84,24],[76,0,76,23],[48,17,60,24],[62,0,62,25],[64,0,64,24],[65,0,65,24],[66,0,66,24],[68,0,68,24],[71,0,71,16],[72,0,72,24],[73,0,73,24],[6,21,8,24],[9,9,10,12],[9,13,10,16],[9,17,10,20],[9,21,10,24],[11,13,12,14],[11,15,12,16],[11,17,12,18],[11,19,12,20],[11,21,12,22],[11,1,12,1],[11,2,12,3],[11,4,12,5],[11,9,12,10],[11,11,12,12],[11,23,12,24],[0,1,1,24],[2,1,3,23],[4,1,4,16],[5,1,10,5],[5,6,12,8],[5,9,5,16],[5,17,5,24],[6,9,8,12],[6,13,8,16],[6,17,8,20]]}
[null,"平成26年9月分(10月納付分)からの健康保険・厚生年金保険の保険料額表"]
[]
[null,"     ‣健康保険料率：平成24年3月分～　適用　　‣厚生年金保険料率：平成26年9月分～平成27年8月分　適用\n     ‣介護保険料率：平成26年3月分～　適用　　‣児童手当拠出金率：平成24年4月分～　適用\n"]
[]
[null,"（静岡県）",null,null,null,null,null,null,null,null,null,null,null,null,null,null,null,null,null,null,null,null,null,"（単位：円）"]
[null,"標　準　報　酬",null,null,null,null,"報　酬　月　額",null,null,"全国健康保険協会管掌健康保険料",null,null,null,null,null,null,null,"厚生年金保険料（厚生年金基金加入員を除く）"]
[null,null,null,null,null,null,null,null,null,"介護保険第２号被保険者\nに該当しない場合",null,null,null,"介護保険第２号被保険者\nに該当する場合",null,null,null,"一般の被保険者",null,null,null,"坑内員・船員"]
[]
[]
[null,null,null,null,null,null,null,null,null,9.9199999999999997E-2,null,null,null,{"$f":"J10+0.0172","v":0.1164},null,null,null,0.17474000000000001,null,null,null,0.17688000000000001]
[]
[null,"等級","月　額",null,"日　額",null,null,null,null,"全　額",null,"折半額",null,"全　額",null,"折半額",null,"全　額",null,"折半額",null,"全　額",null,"折半額"]
[]
[null,null,null,null,null,null,"円以上",null,"円未満"]
[null,1,58000,null,1930,null,null,"～",63000,{"$f":"C15*$J$10","v":5753.5999999999995},null,{"$f":"J15/2","v":2876.7999999999997},null,{"$f":"C15*$N$10","v":6751.2},null,{"$f":"N15/2","v":3375.6}]
[null,2,68000,null,2270,null,63000,"～",73000,{"$f":"C16*$J$10","v":6745.5999999999995},null,{"$f":"J16/2","v":3372.7999999999997},null,{"$f":"C16*$N$10","v":7915.2},null,{"$f":"N16/2","v":3957.6}]
[null,3,78000,null,2600,null,73000,"～",83000,{"$f":"C17*$J$10","v":7737.5999999999995},null,{"$f":"J17/2","v":3868.7999999999997},null,{"$f":"C17*$N$10","v":9079.2000000000007},null,{"$f":"N17/2","v":4539.6000000000004}]
[null,4,88000,null,2930,null,83000,"～",93000,{"$f":"C18*$J$10","v":8729.6},null,{"$f":"J18/2","v":4364.8},null,{"$f":"C18*$N$10","v":10243.200000000001},null,{"$f":"N18/2","v":5121.6000000000004}]
[null,"5(1)",98000,null,3270,null,93000,"～",101000,{"$f":"C19*$J$10","v":9721.6},null,{"$f":"J19/2","v":4860.8},null,{"$f":"C19*$N$10","v":11407.2},null,{"$f":"N19/2","v":5703.6},null,{"$f":"C19*$R$10","v":17124.52},null,{"$f":"R19/2","v":8562.26},null,{"$f":"C19*$V$10","v":17334.240000000002},null,{"$f":"V19/2","v":8667.1200000000008}]
[null,"6(2)",104000,null,3470,null,101000,"～",107000,{"$f":"C20*$J$10","v":10316.799999999999},null,{"$f":"J20/2","v":5158.3999999999996},null,{"$f":"C20*$N$10","v":12105.6},null,{"$f":"N20/2","v":6052.8},null,{"$f":"C20*$R$10","v":18172.96},null,{"$f":"R20/2","v":9086.48},null,{"$f":"C20*$V$10","v":18395.52},null,{"$f":"V20/2","v":9197.76}]
[null,"7(3)",110000,null,3670,null,107000,"～",114000,{"$f":"C21*$J$10","v":10912},null,{"$f":"J21/2","v":5456},null,{"$f":"C21*$N$10","v":12804},null,{"$f":"N21/2","v":6402},null,{"$f":"C21*$R$10","v":19221.400000000001},null,{"$f":"R21/2","v":9610.7000000000007},null,{"$f":"C21*$V$10","v":19456.8},null,{"$f":"V21/2","v":9728.4}]
[null,"8(4)",118000,null,3930,null,114000,"～",122000,{"$f":"C22*$J$10","v":11705.6},null,{"$f":"J22/2","v":5852.8},null,{"$f":"C22*$N$10","v":13735.2},null,{"$f":"N22/2","v":6867.6},null,{"$f":"C22*$R$10","v":20619.32},null,{"$f":"R22/2","v":10309.66},null,{"$f":"C22*$V$10","v":20871.84},null,{"$f":"V22/2","v":10435.92}]
[null,"9(5)",126000,null,4200,null,122000,"～",130000,{"$f":"C23*$J$10","v":12499.199999999999},null,{"$f":"J23/2","v":6249.5999999999995},null,{"$f":"C23*$N$10","v":14666.4},null,{"$f":"N23/2","v":7333.2},null,{"$f":"C23*$R$10","v":22017.24},null,{"$f":"R23/2","v":11008.62},null,{"$f":"C23*$V$10","v":22286.880000000001},null,{"$f":"V23/2","v":11143.44}]
[null,"10(6)",134000,null,4470,null,130000,"～",138000,{"$f":"C24*$J$10","v":13292.8},null,{"$f":"J24/2","v":6646.4},null,{"$f":"C24*$N$10","v":15597.6},null,{"$f":"N24/2","v":7798.8},null,{"$f":"C24*$R$10","v":23415.16},null,{"$f":"R24/2","v":11707.58},null,{"$f":"C24*$V$10","v":23701.920000000002},null,{"$f":"V24/2","v":11850.960000000001}]
[null,"11(7)",142000,null,4730,null,138000,"～",146000,{"$f":"C25*$J$10","v":14086.4},null,{"$f":"J25/2","v":7043.2},null,{"$f":"C25*$N$10","v":16528.8},null,{"$f":"N25/2","v":8264.4},null,{"$f":"C25*$R$10","v":24813.08},null,{"$f":"R25/2","v":12406.54},null,{"$f":"C25*$V$10","v":25116.960000000003},null,{"$f":"V25/2","v":12558.480000000001}]
[null,"12(8)",150000,null,5000,null,146000,"～",155000,{"$f":"C26*$J$10","v":14880},null,{"$f":"J26/2","v":7440},null,{"$f":"C26*$N$10","v":17460},null,{"$f":"N26/2","v":8730},null,{"$f":"C26*$R$10","v":26211},null,{"$f":"R26/2","v":13105.5},null,{"$f":"C26*$V$10","v":26532},null,{"$f":"V26/2","v":13266}]
[null,"13(9)",160000,null,5330,null,155000,"～",165000,{"$f":"C27*$J$10","v":15872},null,{"$f":"J27/2","v":7936},null,{"$f":"C27*$N$10","v":18624},null,{"$f":"N27/2","v":9312},null,{"$f":"C27*$R$10","v":27958.400000000001},null,{"$f":"R27/2","v":13979.2},null,{"$f":"C27*$V$10","v":28300.800000000003},null,{"$f":"V27/2","v":14150.400000000001}]
[null,"14(10)",170000,null,5670,null,165000,"～",175000,{"$f":"C28*$J$10","v":16864},null,{"$f":"J28/2","v":8432},null,{"$f":"C28*$N$10","v":19788},null,{"$f":"N28/2","v":9894},null,{"$f":"C28*$R$10","v":29705.800000000003},null,{"$f":"R28/2","v":14852.900000000001},null,{"$f":"C28*$V$10","v":30069.600000000002},null,{"$f":"V28/2","v":15034.800000000001}]
[null,"15(11)",180000,null,6000,null,175000,"～",185000,{"$f":"C29*$J$10","v":17856},null,{"$f":"J29/2","v":8928},null,{"$f":"C29*$N$10","v":20952},null,{"$f":"N29/2","v":10476},null,{"$f":"C29*$R$10","v":31453.200000000001},null,{"$f":"R29/2","v":15726.6},null,{"$f":"C29*$V$10","v":31838.400000000001},null,{"$f":"V29/2","v":15919.2}]
[null,"16(12)",190000,null,6330,null,185000,"～",195000,{"$f":"C30*$J$10","v":18848},null,{"$f":"J30/2","v":9424},null,{"$f":"C30*$N$10","v":22116},null,{"$f":"N30/2","v":11058},null,{"$f":"C30*$R$10","v":33200.6},null,{"$f":"R30/2","v":16600.3},null,{"$f":"C30*$V$10","v":33607.200000000004},null,{"$f":"V30/2","v":16803.600000000002}]
[null,"17(13)",200000,null,6670,null,195000,"～",210000,{"$f":"C31*$J$10","v":19840},null,{"$f":"J31/2","v":9920},null,{"$f":"C31*$N$10","v":23280},null,{"$f":"N31/2","v":11640},null,{"$f":"C31*$R$10","v":34948},null,{"$f":"R31/2","v":17474},null,{"$f":"C31*$V$10","v":35376},null,{"$f":"V31/2","v":17688}]
[null,"18(14)",220000,null,7330,null,210000,"～",230000,{"$f":"C32*$J$10","v":21824},null,{"$f":"J32/2","v":10912},null,{"$f":"C32*$N$10","v":25608},null,{"$f":"N32/2","v":12804},null,{"$f":"C32*$R$10","v":38442.800000000003},null,{"$f":"R32/2","v":19221.400000000001},null,{"$f":"C32*$V$10","v":38913.599999999999},null,{"$f":"V32/2","v":19456.8}]
[null,"19(15)",240000,null,8000,null,230000,"～",250000,{"$f":"C33*$J$10","v":23808},null,{"$f":"J33/2","v":11904},null,{"$f":"C33*$N$10","v":27936},null,{"$f":"N33/2","v":13968},null,{"$f":"C33*$R$10","v":41937.599999999999},null,{"$f":"R33/2","v":20968.8},null,{"$f":"C33*$V$10","v":42451.200000000004},null,{"$f":"V33/2","v":21225.600000000002}]
[null,"20(16)",260000,null,8670,null,250000,"～",270000,{"$f":"C34*$J$10","v":25792},null,{"$f":"J34/2","v":12896},null,{"$f":"C34*$N$10","v":30264},null,{"$f":"N34/2","v":15132},null,{"$f":"C34*$R$10","v":45432.4},null,{"$f":"R34/2","v":22716.2},null,{"$f":"C34*$V$10","v":45988.800000000003},null,{"$f":"V34/2","v":22994.400000000001}]
[null,"21(17)",280000,null,9330,null,270000,"～",290000,{"$f":"C35*$J$10","v":27776},null,{"$f":"J35/2","v":13888},null,{"$f":"C35*$N$10","v":32592},null,{"$f":"N35/2","v":16296},null,{"$f":"C35*$R$10","v":48927.200000000004},null,{"$f":"R35/2","v":24463.600000000002},null,{"$f":"C35*$V$10","v":49526.400000000001},null,{"$f":"V35/2","v":24763.200000000001}]
[null,"22(18)",300000,null,10000,null,290000,"～",310000,{"$f":"C36*$J$10","v":29760},null,{"$f":"J36/2","v":14880},null,{"$f":"C36*$N$10","v":34920},null,{"$f":"N36/2","v":17460},null,{"$f":"C36*$R$10","v":52422},null,{"$f":"R36/2","v":26211},null,{"$f":"C36*$V$10","v":53064},null,{"$f":"V36/2","v":26532}]
[null,"23(19)",320000,null,10670,null,310000,"～",330000,{"$f":"C37*$J$10","v":31744},null,{"$f":"J37/2","v":15872},null,{"$f":"C37*$N$10","v":37248},null,{"$f":"N37/2","v":18624},null,{"$f":"C37*$R$10","v":55916.800000000003},null,{"$f":"R37/2","v":27958.400000000001},null,{"$f":"C37*$V$10","v":56601.600000000006},null,{"$f":"V37/2","v":28300.800000000003}]
[null,"24(20)",340000,null,11330,null,330000,"～",350000,{"$f":"C38*$J$10","v":33728},null,{"$f":"J38/2","v":16864},null,{"$f":"C38*$N$10","v":39576},null,{"$f":"N38/2","v":19788},null,{"$f":"C38*$R$10","v":59411.600000000006},null,{"$f":"R38/2","v":29705.800000000003},null,{"$f":"C38*$V$10","v":60139.200000000004},null,{"$f":"V38/2","v":30069.600000000002}]
[null,"25(21)",360000,null,12000,null,350000,"～",370000,{"$f":"C39*$J$10","v":35712},null,{"$f":"J39/2","v":17856},null,{"$f":"C39*$N$10","v":41904},null,{"$f":"N39/2","v":20952},null,{"$f":"C39*$R$10","v":62906.400000000001},null,{"$f":"R39/2","v":31453.200000000001},null,{"$f":"C39*$V$10","v":63676.800000000003},null,{"$f":"V39/2","v":31838.400000000001}]
[null,"26(22)",380000,null,12670,null,370000,"～",395000,{"$f":"C40*$J$10","v":37696},null,{"$f":"J40/2","v":18848},null,{"$f":"C40*$N$10","v":44232},null,{"$f":"N40/2","v":22116},null,{"$f":"C40*$R$10","v":66401.2},null,{"$f":"R40/2","v":33200.6},null,{"$f":"C40*$V$10","v":67214.400000000009},null,{"$f":"V40/2","v":33607.200000000004}]
[null,"27(23)",410000,null,13670,null,395000,"～",425000,{"$f":"C41*$J$10","v":40672},null,{"$f":"J41/2","v":20336},null,{"$f":"C41*$N$10","v":47724},null,{"$f":"N41/2","v":23862},null,{"$f":"C41*$R$10","v":71643.400000000009},null,{"$f":"R41/2","v":35821.700000000004},null,{"$f":"C41*$V$10","v":72520.800000000003},null,{"$f":"V41/2","v":36260.400000000001}]
[null,"28(24)",440000,null,14670,null,425000,"～",455000,{"$f":"C42*$J$10","v":43648},null,{"$f":"J42/2","v":21824},null,{"$f":"C42*$N$10","v":51216},null,{"$f":"N42/2","v":25608},null,{"$f":"C42*$R$10","v":76885.600000000006},null,{"$f":"R42/2","v":38442.800000000003},null,{"$f":"C42*$V$10","v":77827.199999999997},null,{"$f":"V42/2","v":38913.599999999999}]
[null,"29(25)",470000,null,15670,null,455000,"～",485000,{"$f":"C43*$J$10","v":46624},null,{"$f":"J43/2","v":23312},null,{"$f":"C43*$N$10","v":54708},null,{"$f":"N43/2","v":27354},null,{"$f":"C43*$R$10","v":82127.8},null,{"$f":"R43/2","v":41063.9},null,{"$f":"C43*$V$10","v":83133.600000000006},null,{"$f":"V43/2","v":41566.800000000003}]
[null,"30(26)",500000,null,16670,null,485000,"～",515000,{"$f":"C44*$J$10","v":49600},null,{"$f":"J44/2","v":24800},null,{"$f":"C44*$N$10","v":58200},null,{"$f":"N44/2","v":29100},null,{"$f":"C44*$R$10","v":87370},null,{"$f":"R44/2","v":43685},null,{"$f":"C44*$V$10","v":88440},null,{"$f":"V44/2","v":44220}]
[null,"31(27)",530000,null,17670,null,515000,"～",545000,{"$f":"C45*$J$10","v":52576},null,{"$f":"J45/2","v":26288},null,{"$f":"C45*$N$10","v":61692},null,{"$f":"N45/2","v":30846},null,{"$f":"C45*$R$10","v":92612.2},null,{"$f":"R45/2","v":46306.1},null,{"$f":"C45*$V$10","v":93746.400000000009},null,{"$f":"V45/2","v":46873.200000000004}]
[null,"32(28)",560000,null,18670,null,545000,"～",575000,{"$f":"C46*$J$10","v":55552},null,{"$f":"J46/2","v":27776},null,{"$f":"C46*$N$10","v":65184},null,{"$f":"N46/2","v":32592},null,{"$f":"C46*$R$10","v":97854.400000000009},null,{"$f":"R46/2","v":48927.200000000004},null,{"$f":"C46*$V$10","v":99052.800000000003},null,{"$f":"V46/2","v":49526.400000000001}]
[null,"33(29)",590000,null,19670,null,575000,"～",605000,{"$f":"C47*$J$10","v":58528},null,{"$f":"J47/2","v":29264},null,{"$f":"C47*$N$10","v":68676},null,{"$f":"N47/2","v":34338},null,{"$f":"C47*$R$10","v":103096.6},null,{"$f":"R47/2","v":51548.3},null,{"$f":"C47*$V$10","v":104359.20000000001},null,{"$f":"V47/2","v":52179.600000000006}]
[null,"34(30)",620000,null,20670,null,605000,"～",635000,{"$f":"C48*$J$10","v":61504},null,{"$f":"J48/2","v":30752},null,{"$f":"C48*$N$10","v":72168},null,{"$f":"N48/2","v":36084},null,{"$f":"C48*$R$10","v":108338.8},null,{"$f":"R48/2","v":54169.4},null,{"$f":"C48*$V$10","v":109665.60000000001},null,{"$f":"V48/2","v":54832.800000000003}]
[null,35,650000,null,21670,null,635000,"～",665000,{"$f":"C49*$J$10","v":64480},null,{"$f":"J49/2","v":32240},null,{"$f":"C49*$N$10","v":75660},null,{"$f":"N49/2","v":37830},null,"※厚生年金基金に加入している方の厚生年金保険\n　料率は、基金ごとに定められている免除保険料\n　率(2.4%～5.0%)を控除した率となります。\n\n　●一般の被保険者の方　…12.474%～15.074%\n　●坑内員の被保険者の方…12.688%～15.288%\n\n　加入する基金ごとに異なりますので、免除保険\n　料率および厚生年金基金の掛金については、加\n　入する厚生年金基金にお問い合わせください。\n"]
[null,36,680000,null,22670,null,665000,"～",695000,{"$f":"C50*$J$10","v":67456},null,{"$f":"J50/2","v":33728},null,{"$f":"C50*$N$10","v":79152},null,{"$f":"N50/2","v":39576}]
[null,37,710000,null,23670,null,695000,"～",730000,{"$f":"C51*$J$10","v":70432},null,{"$f":"J51/2","v":35216},null,{"$f":"C51*$N$10","v":82644},null,{"$f":"N51/2","v":41322}]
[null,38,750000,null,25000,null,730000,"～",770000,{"$f":"C52*$J$10","v":74400},null,{"$f":"J52/2","v":37200},null,{"$f":"C52*$N$10","v":87300},null,{"$f":"N52/2","v":43650}]
[null,39,790000,null,26330,null,770000,"～",810000,{"$f":"C53*$J$10","v":78368},null,{"$f":"J53/2","v":39184},null,{"$f":"C53*$N$10","v":91956},null,{"$f":"N53/2","v":45978}]
[null,40,830000,null,27670,null,810000,"～",855000,{"$f":"C54*$J$10","v":82336},null,{"$f":"J54/2","v":41168},null,{"$f":"C54*$N$10","v":96612},null,{"$f":"N54/2","v":48306}]
[null,41,880000,null,29330,null,855000,"～",905000,{"$f":"C55*$J$10","v":87296},null,{"$f":"J55/2","v":43648},null,{"$f":"C55*$N$10","v":102432},null,{"$f":"N55/2","v":51216}]
[null,42,930000,null,31000,null,905000,"～",955000,{"$f":"C56*$J$10","v":92256},null,{"$f":"J56/2","v":46128},null,{"$f":"C56*$N$10","v":108252},null,{"$f":"N56/2","v":54126}]
[null,43,980000,null,32670,null,955000,"～",1005000,{"$f":"C57*$J$10","v":97216},null,{"$f":"J57/2","v":48608},null,{"$f":"C57*$N$10","v":114072},null,{"$f":"N57/2","v":57036}]
[null,44,1030000,null,34330,null,1005000,"～",1055000,{"$f":"C58*$J$10","v":102176},null,{"$f":"J58/2","v":51088},null,{"$f":"C58*$N$10","v":119892},null,{"$f":"N58/2","v":59946}]
[null,45,1090000,null,36330,null,1055000,"～",1115000,{"$f":"C59*$J$10","v":108128},null,{"$f":"J59/2","v":54064},null,{"$f":"C59*$N$10","v":126876},null,{"$f":"N59/2","v":63438}]
[null,46,1150000,null,38330,null,1115000,"～",1175000,{"$f":"C60*$J$10","v":114080},null,{"$f":"J60/2","v":57040},null,{"$f":"C60*$N$10","v":133860},null,{"$f":"N60/2","v":66930}]
[null,47,1210000,null,40330,null,1175000,"～",null,{"$f":"C61*$J$10","v":120032},null,{"$f":"J61/2","v":60016},null,{"$f":"C61*$N$10","v":140844},null,{"$f":"N61/2","v":70422}]
[]
[{"$f":"J10","v":9.9199999999999997E-2}]
[null,""]
["◆等級欄の（　）内の数字は、厚生年金保険の標準報酬月額等級です。"]
["　5(1)等級の「報酬月額」欄は、厚生年金保険の場合「101,000円未満」と読み替えてください。"]
["　34(30)等級の「報酬月額」欄は、厚生年金保険の場合「605,000円以上」と読み替えてください。"]
[null,""]
["◆平成26年度における全国健康保険協会の任意継続被保険者について、標準報酬月額の上限は、280,000円です。"]
[]
[]
["　○被保険者負担分（表の折半額の欄）に円未満の端数がある場合"]
["　　　①事業主が、給与から被保険者負担分を控除する場合、被保険者負担分の端数が50銭以下の場合は切り捨て、50銭を超える場合は切り上げて1円となります。"]
["　　　②被保険者が、被保険者負担分を事業主へ現金で支払う場合、被保険者負担分の端数が50銭未満の場合は切り捨て、50銭以上の場合は切り上げて1円となります。"]
["　　　（注）①、②にかかわらず、事業主と被保険者の間で特約がある場合には、特約に基づき端数処理をすることができます。"]
[]
["　○納入告知書の保険料額"]
["　　　 納入告知書の保険料額は、被保険者個々の保険料額を合算した金額になります。ただし、合算した金額に円未満の端数がある場合は、その端数を切り捨てた額となります。"]
[]
["　○賞与に係る保険料"]
["　　　 賞与に係る保険料額は、賞与額から1,000円未満の端数を切り捨てた額（標準賞与額）に、保険料率を乗じた額となります。"]
[" 　　　また、標準賞与額の上限は、健康保険は年間540万円（毎年4月1日から翌年3月31日までの累計額）となり、厚生年金保険と児童手当拠出金の場合は月間150万円となります。"]
[]
["　○児童手当拠出金"]
["　　　 厚生年金保険の被保険者を使用する事業主の方は、児童手当等の支給に要する費用の一部として児童手当拠出金を全額負担いただくことになります。この児童手当"]
["　　　 拠出金の額は、被保険者個々の厚生年金保険の標準報酬月額および標準賞与額に、拠出金率（0.15%）を乗じて得た額の総額となります。"]

{"sheet":"愛知","index":32,"n_rows":86,"n_cols":24,"rows_kept":86,"cut":false,"hidden":true,"merged":[[74,0,74,24],[75,0,75,16],[85,0,85,24],[86,0,86,16],[77,0,77,23],[79,0,79,16],[80,0,80,21],[81,0,81,24],[83,0,83,21],[84,0,84,24],[76,0,76,23],[48,17,60,24],[62,0,62,25],[64,0,64,24],[65,0,65,24],[66,0,66,24],[68,0,68,24],[71,0,71,16],[72,0,72,24],[73,0,73,24],[6,21,8,24],[9,9,10,12],[9,13,10,16],[9,17,10,20],[9,21,10,24],[11,13,12,14],[11,15,12,16],[11,17,12,18],[11,19,12,20],[11,21,12,22],[11,1,12,1],[11,2,12,3],[11,4,12,5],[11,9,12,10],[11,11,12,12],[11,23,12,24],[0,1,1,24],[2,1,3,23],[4,1,4,16],[5,1,10,5],[5,6,12,8],[5,9,5,16],[5,17,5,24],[6,9,8,12],[6,13,8,16],[6,17,8,20]]}
[null,"平成26年9月分(10月納付分)からの健康保険・厚生年金保険の保険料額表"]
[]
[null,"     ‣健康保険料率：平成24年3月分～　適用　　‣厚生年金保険料率：平成26年9月分～平成27年8月分　適用\n     ‣介護保険料率：平成26年3月分～　適用　　‣児童手当拠出金率：平成24年4月分～　適用\n"]
[]
[null,"（愛知県）",null,null,null,null,null,null,null,null,null,null,null,null,null,null,null,null,null,null,null,null,null,"（単位：円）"]
[null,"標　準　報　酬",null,null,null,null,"報　酬　月　額",null,null,"全国健康保険協会管掌健康保険料",null,null,null,null,null,null,null,"厚生年金保険料（厚生年金基金加入員を除く）"]
[null,null,null,null,null,null,null,null,null,"介護保険第２号被保険者\nに該当しない場合",null,null,null,"介護保険第２号被保険者\nに該当する場合",null,null,null,"一般の被保険者",null,null,null,"坑内員・船員"]
[]
[]
[null,null,null,null,null,null,null,null,null,9.9699999999999997E-2,null,null,null,{"$f":"J10+0.0172","v":0.1169},null,null,null,0.17474000000000001,null,null,null,0.17688000000000001]
[]
[null,"等級","月　額",null,"日　額",null,null,null,null,"全　額",null,"折半額",null,"全　額",null,"折半額",null,"全　額",null,"折半額",null,"全　額",null,"折半額"]
[]
[null,null,null,null,null,null,"円以上",null,"円未満"]
[null,1,58000,null,1930,null,null,"～",63000,{"$f":"C15*$J$10","v":5782.5999999999995},null,{"$f":"J15/2","v":2891.2999999999997},null,{"$f":"C15*$N$10","v":6780.2},null,{"$f":"N15/2","v":3390.1}]
[null,2,68000,null,2270,null,63000,"～",73000,{"$f":"C16*$J$10","v":6779.5999999999995},null,{"$f":"J16/2","v":3389.7999999999997},null,{"$f":"C16*$N$10","v":7949.2},null,{"$f":"N16/2","v":3974.6}]
[null,3,78000,null,2600,null,73000,"～",83000,{"$f":"C17*$J$10","v":7776.5999999999995},null,{"$f":"J17/2","v":3888.2999999999997},null,{"$f":"C17*$N$10","v":9118.2000000000007},null,{"$f":"N17/2","v":4559.1000000000004}]
[null,4,88000,null,2930,null,83000,"～",93000,{"$f":"C18*$J$10","v":8773.6},null,{"$f":"J18/2","v":4386.8},null,{"$f":"C18*$N$10","v":10287.200000000001},null,{"$f":"N18/2","v":5143.6000000000004}]
[null,"5(1)",98000,null,3270,null,93000,"～",101000,{"$f":"C19*$J$10","v":9770.6},null,{"$f":"J19/2","v":4885.3},null,{"$f":"C19*$N$10","v":11456.2},null,{"$f":"N19/2","v":5728.1},null,{"$f":"C19*$R$10","v":17124.52},null,{"$f":"R19/2","v":8562.26},null,{"$f":"C19*$V$10","v":17334.240000000002},null,{"$f":"V19/2","v":8667.1200000000008}]
[null,"6(2)",104000,null,3470,null,101000,"～",107000,{"$f":"C20*$J$10","v":10368.799999999999},null,{"$f":"J20/2","v":5184.3999999999996},null,{"$f":"C20*$N$10","v":12157.6},null,{"$f":"N20/2","v":6078.8},null,{"$f":"C20*$R$10","v":18172.96},null,{"$f":"R20/2","v":9086.48},null,{"$f":"C20*$V$10","v":18395.52},null,{"$f":"V20/2","v":9197.76}]
[null,"7(3)",110000,null,3670,null,107000,"～",114000,{"$f":"C21*$J$10","v":10967},null,{"$f":"J21/2","v":5483.5},null,{"$f":"C21*$N$10","v":12859},null,{"$f":"N21/2","v":6429.5},null,{"$f":"C21*$R$10","v":19221.400000000001},null,{"$f":"R21/2","v":9610.7000000000007},null,{"$f":"C21*$V$10","v":19456.8},null,{"$f":"V21/2","v":9728.4}]
[null,"8(4)",118000,null,3930,null,114000,"～",122000,{"$f":"C22*$J$10","v":11764.6},null,{"$f":"J22/2","v":5882.3},null,{"$f":"C22*$N$10","v":13794.2},null,{"$f":"N22/2","v":6897.1},null,{"$f":"C22*$R$10","v":20619.32},null,{"$f":"R22/2","v":10309.66},null,{"$f":"C22*$V$10","v":20871.84},null,{"$f":"V22/2","v":10435.92}]
[null,"9(5)",126000,null,4200,null,122000,"～",130000,{"$f":"C23*$J$10","v":12562.199999999999},null,{"$f":"J23/2","v":6281.0999999999995},null,{"$f":"C23*$N$10","v":14729.4},null,{"$f":"N23/2","v":7364.7},null,{"$f":"C23*$R$10","v":22017.24},null,{"$f":"R23/2","v":11008.62},null,{"$f":"C23*$V$10","v":22286.880000000001},null,{"$f":"V23/2","v":11143.44}]
[null,"10(6)",134000,null,4470,null,130000,"～",138000,{"$f":"C24*$J$10","v":13359.8},null,{"$f":"J24/2","v":6679.9},null,{"$f":"C24*$N$10","v":15664.6},null,{"$f":"N24/2","v":7832.3},null,{"$f":"C24*$R$10","v":23415.16},null,{"$f":"R24/2","v":11707.58},null,{"$f":"C24*$V$10","v":23701.920000000002},null,{"$f":"V24/2","v":11850.960000000001}]
[null,"11(7)",142000,null,4730,null,138000,"～",146000,{"$f":"C25*$J$10","v":14157.4},null,{"$f":"J25/2","v":7078.7},null,{"$f":"C25*$N$10","v":16599.8},null,{"$f":"N25/2","v":8299.9},null,{"$f":"C25*$R$10","v":24813.08},null,{"$f":"R25/2","v":12406.54},null,{"$f":"C25*$V$10","v":25116.960000000003},null,{"$f":"V25/2","v":12558.480000000001}]
[null,"12(8)",150000,null,5000,null,146000,"～",155000,{"$f":"C26*$J$10","v":14955},null,{"$f":"J26/2","v":7477.5},null,{"$f":"C26*$N$10","v":17535},null,{"$f":"N26/2","v":8767.5},null,{"$f":"C26*$R$10","v":26211},null,{"$f":"R26/2","v":13105.5},null,{"$f":"C26*$V$10","v":26532},null,{"$f":"V26/2","v":13266}]
[null,"13(9)",160000,null,5330,null,155000,"～",165000,{"$f":"C27*$J$10","v":15952},null,{"$f":"J27/2","v":7976},null,{"$f":"C27*$N$10","v":18704},null,{"$f":"N27/2","v":9352},null,{"$f":"C27*$R$10","v":27958.400000000001},null,{"$f":"R27/2","v":13979.2},null,{"$f":"C27*$V$10","v":28300.800000000003},null,{"$f":"V27/2","v":14150.400000000001}]
[null,"14(10)",170000,null,5670,null,165000,"～",175000,{"$f":"C28*$J$10","v":16949},null,{"$f":"J28/2","v":8474.5},null,{"$f":"C28*$N$10","v":19873},null,{"$f":"N28/2","v":9936.5},null,{"$f":"C28*$R$10","v":29705.800000000003},null,{"$f":"R28/2","v":14852.900000000001},null,{"$f":"C28*$V$10","v":30069.600000000002},null,{"$f":"V28/2","v":15034.800000000001}]
[null,"15(11)",180000,null,6000,null,175000,"～",185000,{"$f":"C29*$J$10","v":17946},null,{"$f":"J29/2","v":8973},null,{"$f":"C29*$N$10","v":21042},null,{"$f":"N29/2","v":10521},null,{"$f":"C29*$R$10","v":31453.200000000001},null,{"$f":"R29/2","v":15726.6},null,{"$f":"C29*$V$10","v":31838.400000000001},null,{"$f":"V29/2","v":15919.2}]
[null,"16(12)",190000,null,6330,null,185000,"～",195000,{"$f":"C30*$J$10","v":18943},null,{"$f":"J30/2","v":9471.5},null,{"$f":"C30*$N$10","v":22211},null,{"$f":"N30/2","v":11105.5},null,{"$f":"C30*$R$10","v":33200.6},null,{"$f":"R30/2","v":16600.3},null,{"$f":"C30*$V$10","v":33607.200000000004},null,{"$f":"V30/2","v":16803.600000000002}]
[null,"17(13)",200000,null,6670,null,195000,"～",210000,{"$f":"C31*$J$10","v":19940},null,{"$f":"J31/2","v":9970},null,{"$f":"C31*$N$10","v":23380},null,{"$f":"N31/2","v":11690},null,{"$f":"C31*$R$10","v":34948},null,{"$f":"R31/2","v":17474},null,{"$f":"C31*$V$10","v":35376},null,{"$f":"V31/2","v":17688}]
[null,"18(14)",220000,null,7330,null,210000,"～",230000,{"$f":"C32*$J$10","v":21934},null,{"$f":"J32/2","v":10967},null,{"$f":"C32*$N$10","v":25718},null,{"$f":"N32/2","v":12859},null,{"$f":"C32*$R$10","v":38442.800000000003},null,{"$f":"R32/2","v":19221.400000000001},null,{"$f":"C32*$V$10","v":38913.599999999999},null,{"$f":"V32/2","v":19456.8}]
[null,"19(15)",240000,null,8000,null,230000,"～",250000,{"$f":"C33*$J$10","v":23928},null,{"$f":"J33/2","v":11964},null,{"$f":"C33*$N$10","v":28056},null,{"$f":"N33/2","v":14028},null,{"$f":"C33*$R$10","v":41937.599999999999},null,{"$f":"R33/2","v":20968.8},null,{"$f":"C33*$V$10","v":42451.200000000004},null,{"$f":"V33/2","v":21225.600000000002}]
[null,"20(16)",260000,null,8670,null,250000,"～",270000,{"$f":"C34*$J$10","v":25922},null,{"$f":"J34/2","v":12961},null,{"$f":"C34*$N$10","v":30394},null,{"$f":"N34/2","v":15197},null,{"$f":"C34*$R$10","v":45432.4},null,{"$f":"R34/2","v":22716.2},null,{"$f":"C34*$V$10","v":45988.800000000003},null,{"$f":"V34/2","v":22994.400000000001}]
[null,"21(17)",280000,null,9330,null,270000,"～",290000,{"$f":"C35*$J$10","v":27916},null,{"$f":"J35/2","v":13958},null,{"$f":"C35*$N$10","v":32732},null,{"$f":"N35/2","v":16366},null,{"$f":"C35*$R$10","v":48927.200000000004},null,{"$f":"R35/2","v":24463.600000000002},null,{"$f":"C35*$V$10","v":49526.400000000001},null,{"$f":"V35/2","v":24763.200000000001}]
[null,"22(18)",300000,null,10000,null,290000,"～",310000,{"$f":"C36*$J$10","v":29910},null,{"$f":"J36/2","v":14955},null,{"$f":"C36*$N$10","v":35070},null,{"$f":"N36/2","v":17535},null,{"$f":"C36*$R$10","v":52422},null,{"$f":"R36/2","v":26211},null,{"$f":"C36*$V$10","v":53064},null,{"$f":"V36/2","v":26532}]
[null,"23(19)",320000,null,10670,null,310000,"～",330000,{"$f":"C37*$J$10","v":31904},null,{"$f":"J37/2","v":15952},null,{"$f":"C37*$N$10","v":37408},null,{"$f":"N37/2","v":18704},null,{"$f":"C37*$R$10","v":55916.800000000003},null,{"$f":"R37/2","v":27958.400000000001},null,{"$f":"C37*$V$10","v":56601.600000000006},null,{"$f":"V37/2","v":28300.800000000003}]
[null,"24(20)",340000,null,11330,null,330000,"～",350000,{"$f":"C38*$J$10","v":33898},null,{"$f":"J38/2","v":16949},null,{"$f":"C38*$N$10","v":39746},null,{"$f":"N38/2","v":19873},null,{"$f":"C38*$R$10","v":59411.600000000006},null,{"$f":"R38/2","v":29705.800000000003},null,{"$f":"C38*$V$10","v":60139.200000000004},null,{"$f":"V38/2","v":30069.600000000002}]
[null,"25(21)",360000,null,12000,null,350000,"～",370000,{"$f":"C39*$J$10","v":35892},null,{"$f":"J39/2","v":17946},null,{"$f":"C39*$N$10","v":42084},null,{"$f":"N39/2","v":21042},null,{"$f":"C39*$R$10","v":62906.400000000001},null,{"$f":"R39/2","v":31453.200000000001},null,{"$f":"C39*$V$10","v":63676.800000000003},null,{"$f":"V39/2","v":31838.400000000001}]
[null,"26(22)",380000,null,12670,null,370000,"～",395000,{"$f":"C40*$J$10","v":37886},null,{"$f":"J40/2","v":18943},null,{"$f":"C40*$N$10","v":44422},null,{"$f":"N40/2","v":22211},null,{"$f":"C40*$R$10","v":66401.2},null,{"$f":"R40/2","v":33200.6},null,{"$f":"C40*$V$10","v":67214.400000000009},null,{"$f":"V40/2","v":33607.200000000004}]
[null,"27(23)",410000,null,13670,null,395000,"～",425000,{"$f":"C41*$J$10","v":40877},null,{"$f":"J41/2","v":20438.5},null,{"$f":"C41*$N$10","v":47929},null,{"$f":"N41/2","v":23964.5},null,{"$f":"C41*$R$10","v":71643.400000000009},null,{"$f":"R41/2","v":35821.700000000004},null,{"$f":"C41*$V$10","v":72520.800000000003},null,{"$f":"V41/2","v":36260.400000000001}]
[null,"28(24)",440000,null,14670,null,425000,"～",455000,{"$f":"C42*$J$10","v":43868},null,{"$f":"J42/2","v":21934},null,{"$f":"C42*$N$10","v":51436},null,{"$f":"N42/2","v":25718},null,{"$f":"C42*$R$10","v":76885.600000000006},null,{"$f":"R42/2","v":38442.800000000003},null,{"$f":"C42*$V$10","v":77827.199999999997},null,{"$f":"V42/2","v":38913.599999999999}]
[null,"29(25)",470000,null,15670,null,455000,"～",485000,{"$f":"C43*$J$10","v":46859},null,{"$f":"J43/2","v":23429.5},null,{"$f":"C43*$N$10","v":54943},null,{"$f":"N43/2","v":27471.5},null,{"$f":"C43*$R$10","v":82127.8},null,{"$f":"R43/2","v":41063.9},null,{"$f":"C43*$V$10","v":83133.600000000006},null,{"$f":"V43/2","v":41566.800000000003}]
[null,"30(26)",500000,null,16670,null,485000,"～",515000,{"$f":"C44*$J$10","v":49850},null,{"$f":"J44/2","v":24925},null,{"$f":"C44*$N$10","v":58450},null,{"$f":"N44/2","v":29225},null,{"$f":"C44*$R$10","v":87370},null,{"$f":"R44/2","v":43685},null,{"$f":"C44*$V$10","v":88440},null,{"$f":"V44/2","v":44220}]
[null,"31(27)",530000,null,17670,null,515000,"～",545000,{"$f":"C45*$J$10","v":52841},null,{"$f":"J45/2","v":26420.5},null,{"$f":"C45*$N$10","v":61957},null,{"$f":"N45/2","v":30978.5},null,{"$f":"C45*$R$10","v":92612.2},null,{"$f":"R45/2","v":46306.1},null,{"$f":"C45*$V$10","v":93746.400000000009},null,{"$f":"V45/2","v":46873.200000000004}]
[null,"32(28)",560000,null,18670,null,545000,"～",575000,{"$f":"C46*$J$10","v":55832},null,{"$f":"J46/2","v":27916},null,{"$f":"C46*$N$10","v":65464},null,{"$f":"N46/2","v":32732},null,{"$f":"C46*$R$10","v":97854.400000000009},null,{"$f":"R46/2","v":48927.200000000004},null,{"$f":"C46*$V$10","v":99052.800000000003},null,{"$f":"V46/2","v":49526.400000000001}]
[null,"33(29)",590000,null,19670,null,575000,"～",605000,{"$f":"C47*$J$10","v":58823},null,{"$f":"J47/2","v":29411.5},null,{"$f":"C47*$N$10","v":68971},null,{"$f":"N47/2","v":34485.5},null,{"$f":"C47*$R$10","v":103096.6},null,{"$f":"R47/2","v":51548.3},null,{"$f":"C47*$V$10","v":104359.20000000001},null,{"$f":"V47/2","v":52179.600000000006}]
[null,"34(30)",620000,null,20670,null,605000,"～",635000,{"$f":"C48*$J$10","v":61814},null,{"$f":"J48/2","v":30907},null,{"$f":"C48*$N$10","v":72478},null,{"$f":"N48/2","v":36239},null,{"$f":"C48*$R$10","v":108338.8},null,{"$f":"R48/2","v":54169.4},null,{"$f":"C48*$V$10","v":109665.60000000001},null,{"$f":"V48/2","v":54832.800000000003}]
[null,35,650000,null,21670,null,635000,"～",665000,{"$f":"C49*$J$10","v":64805},null,{"$f":"J49/2","v":32402.5},null,{"$f":"C49*$N$10","v":75985},null,{"$f":"N49/2","v":37992.5},null,"※厚生年金基金に加入している方の厚生年金保険\n　料率は、基金ごとに定められている免除保険料\n　率(2.4%～5.0%)を控除した率となります。\n\n　●一般の被保険者の方　…12.474%～15.074%\n　●坑内員の被保険者の方…12.688%～15.288%\n\n　加入する基金ごとに異なりますので、免除保険\n　料率および厚生年金基金の掛金については、加\n　入する厚生年金基金にお問い合わせください。\n"]
[null,36,680000,null,22670,null,665000,"～",695000,{"$f":"C50*$J$10","v":67796},null,{"$f":"J50/2","v":33898},null,{"$f":"C50*$N$10","v":79492},null,{"$f":"N50/2","v":39746}]
[null,37,710000,null,23670,null,695000,"～",730000,{"$f":"C51*$J$10","v":70787},null,{"$f":"J51/2","v":35393.5},null,{"$f":"C51*$N$10","v":82999},null,{"$f":"N51/2","v":41499.5}]
[null,38,750000,null,25000,null,730000,"～",770000,{"$f":"C52*$J$10","v":74775},null,{"$f":"J52/2","v":37387.5},null,{"$f":"C52*$N$10","v":87675},null,{"$f":"N52/2","v":43837.5}]
[null,39,790000,null,26330,null,770000,"～",810000,{"$f":"C53*$J$10","v":78763},null,{"$f":"J53/2","v":39381.5},null,{"$f":"C53*$N$10","v":92351},null,{"$f":"N53/2","v":46175.5}]
[null,40,830000,null,27670,null,810000,"～",855000,{"$f":"C54*$J$10","v":82751},null,{"$f":"J54/2","v":41375.5},null,{"$f":"C54*$N$10","v":97027},null,{"$f":"N54/2","v":48513.5}]
[null,41,880000,null,29330,null,855000,"～",905000,{"$f":"C55*$J$10","v":87736},null,{"$f":"J55/2","v":43868},null,{"$f":"C55*$N$10","v":102872},null,{"$f":"N55/2","v":51436}]
[null,42,930000,null,31000,null,905000,"～",955000,{"$f":"C56*$J$10","v":92721},null,{"$f":"J56/2","v":46360.5},null,{"$f":"C56*$N$10","v":108717},null,{"$f":"N56/2","v":54358.5}]
[null,43,980000,null,32670,null,955000,"～",1005000,{"$f":"C57*$J$10","v":97706},null,{"$f":"J57/2","v":48853},null,{"$f":"C57*$N$10","v":114562},null,{"$f":"N57/2","v":57281}]
[null,44,1030000,null,34330,null,1005000,"～",1055000,{"$f":"C58*$J$10","v":102691},null,{"$f":"J58/2","v":51345.5},null,{"$f":"C58*$N$10","v":120407},null,{"$f":"N58/2","v":60203.5}]
[null,45,1090000,null,36330,null,1055000,"～",1115000,{"$f":"C59*$J$10","v":108673},null,{"$f":"J59/2","v":54336.5},null,{"$f":"C59*$N$10","v":127421},null,{"$f":"N59/2","v":63710.5}]
[null,46,1150000,null,38330,null,1115000,"～",1175000,{"$f":"C60*$J$10","v":114655},null,{"$f":"J60/2","v":57327.5},null,{"$f":"C60*$N$10","v":134435},null,{"$f":"N60/2","v":67217.5}]
[null,47,1210000,null,40330,null,1175000,"～",null,{"$f":"C61*$J$10","v":120637},null,{"$f":"J61/2","v":60318.5},null,{"$f":"C61*$N$10","v":141449},null,{"$f":"N61/2","v":70724.5}]
[]
[{"$f":"J10","v":9.9699999999999997E-2}]
[null,""]
["◆等級欄の（　）内の数字は、厚生年金保険の標準報酬月額等級です。"]
["　5(1)等級の「報酬月額」欄は、厚生年金保険の場合「101,000円未満」と読み替えてください。"]
["　34(30)等級の「報酬月額」欄は、厚生年金保険の場合「605,000円以上」と読み替えてください。"]
[null,""]
["◆平成26年度における全国健康保険協会の任意継続被保険者について、標準報酬月額の上限は、280,000円です。"]
[]
[]
["　○被保険者負担分（表の折半額の欄）に円未満の端数がある場合"]
["　　　①事業主が、給与から被保険者負担分を控除する場合、被保険者負担分の端数が50銭以下の場合は切り捨て、50銭を超える場合は切り上げて1円となります。"]
["　　　②被保険者が、被保険者負担分を事業主へ現金で支払う場合、被保険者負担分の端数が50銭未満の場合は切り捨て、50銭以上の場合は切り上げて1円となります。"]
["　　　（注）①、②にかかわらず、事業主と被保険者の間で特約がある場合には、特約に基づき端数処理をすることができます。"]
[]
["　○納入告知書の保険料額"]
["　　　 納入告知書の保険料額は、被保険者個々の保険料額を合算した金額になります。ただし、合算した金額に円未満の端数がある場合は、その端数を切り捨てた額となります。"]
[]
["　○賞与に係る保険料"]
["　　　 賞与に係る保険料額は、賞与額から1,000円未満の端数を切り捨てた額（標準賞与額）に、保険料率を乗じた額となります。"]
[" 　　　また、標準賞与額の上限は、健康保険は年間540万円（毎年4月1日から翌年3月31日までの累計額）となり、厚生年金保険と児童手当拠出金の場合は月間150万円となります。"]
[]
["　○児童手当拠出金"]
["　　　 厚生年金保険の被保険者を使用する事業主の方は、児童手当等の支給に要する費用の一部として児童手当拠出金を全額負担いただくことになります。この児童手当"]
["　　　 拠出金の額は、被保険者個々の厚生年金保険の標準報酬月額および標準賞与額に、拠出金率（0.15%）を乗じて得た額の総額となります。"]

{"sheet":"三重","index":33,"n_rows":86,"n_cols":24,"rows_kept":86,"cut":false,"hidden":true,"merged":[[74,0,74,24],[75,0,75,16],[85,0,85,24],[86,0,86,16],[77,0,77,23],[79,0,79,16],[80,0,80,21],[81,0,81,24],[83,0,83,21],[84,0,84,24],[76,0,76,23],[48,17,60,24],[62,0,62,25],[64,0,64,24],[65,0,65,24],[66,0,66,24],[68,0,68,24],[71,0,71,16],[72,0,72,24],[73,0,73,24],[6,21,8,24],[9,9,10,12],[9,13,10,16],[9,17,10,20],[9,21,10,24],[11,13,12,14],[11,15,12,16],[11,17,12,18],[11,19,12,20],[11,21,12,22],[11,1,12,1],[11,2,12,3],[11,4,12,5],[11,9,12,10],[11,11,12,12],[11,23,12,24],[0,1,1,24],[2,1,3,23],[4,1,4,16],[5,1,10,5],[5,6,12,8],[5,9,5,16],[5,17,5,24],[6,9,8,12],[6,13,8,16],[6,17,8,20]]}
[null,"平成26年9月分(10月納付分)からの健康保険・厚生年金保険の保険料額表"]
[]
[null,"     ‣健康保険料率：平成24年3月分～　適用　　‣厚生年金保険料率：平成26年9月分～平成27年8月分　適用\n     ‣介護保険料率：平成26年3月分～　適用　　‣児童手当拠出金率：平成24年4月分～　適用\n"]
[]
[null,"（三重県）",null,null,null,null,null,null,null,null,null,null,null,null,null,null,null,null,null,null,null,null,null,"（単位：円）"]
[null,"標　準　報　酬",null,null,null,null,"報　酬　月　額",null,null,"全国健康保険協会管掌健康保険料",null,null,null,null,null,null,null,"厚生年金保険料（厚生年金基金加入員を除く）"]
[null,null,null,null,null,null,null,null,null,"介護保険第２号被保険者\nに該当しない場合",null,null,null,"介護保険第２号被保険者\nに該当する場合",null,null,null,"一般の被保険者",null,null,null,"坑内員・船員"]
[]
[]
[null,null,null,null,null,null,null,null,null,9.9400000000000002E-2,null,null,null,{"$f":"J10+0.0172","v":0.11660000000000001},null,null,null,0.17474000000000001,null,null,null,0.17688000000000001]
[]
[null,"等級","月　額",null,"日　額",null,null,null,null,"全　額",null,"折半額",null,"全　額",null,"折半額",null,"全　額",null,"折半額",null,"全　額",null,"折半額"]
[]
[null,null,null,null,null,null,"円以上",null,"円未満"]
[null,1,58000,null,1930,null,null,"～",63000,{"$f":"C15*$J$10","v":5765.2},null,{"$f":"J15/2","v":2882.6},null,{"$f":"C15*$N$10","v":6762.8},null,{"$f":"N15/2","v":3381.4}]
[null,2,68000,null,2270,null,63000,"～",73000,{"$f":"C16*$J$10","v":6759.2},null,{"$f":"J16/2","v":3379.6},null,{"$f":"C16*$N$10","v":7928.8},null,{"$f":"N16/2","v":3964.4}]
[null,3,78000,null,2600,null,73000,"～",83000,{"$f":"C17*$J$10","v":7753.2},null,{"$f":"J17/2","v":3876.6},null,{"$f":"C17*$N$10","v":9094.8000000000011},null,{"$f":"N17/2","v":4547.4000000000005}]
[null,4,88000,null,2930,null,83000,"～",93000,{"$f":"C18*$J$10","v":8747.2000000000007},null,{"$f":"J18/2","v":4373.6000000000004},null,{"$f":"C18*$N$10","v":10260.800000000001},null,{"$f":"N18/2","v":5130.4000000000005}]
[null,"5(1)",98000,null,3270,null,93000,"～",101000,{"$f":"C19*$J$10","v":9741.2000000000007},null,{"$f":"J19/2","v":4870.6000000000004},null,{"$f":"C19*$N$10","v":11426.800000000001},null,{"$f":"N19/2","v":5713.4000000000005},null,{"$f":"C19*$R$10","v":17124.52},null,{"$f":"R19/2","v":8562.26},null,{"$f":"C19*$V$10","v":17334.240000000002},null,{"$f":"V19/2","v":8667.1200000000008}]
[null,"6(2)",104000,null,3470,null,101000,"～",107000,{"$f":"C20*$J$10","v":10337.6},null,{"$f":"J20/2","v":5168.8},null,{"$f":"C20*$N$10","v":12126.400000000001},null,{"$f":"N20/2","v":6063.2000000000007},null,{"$f":"C20*$R$10","v":18172.96},null,{"$f":"R20/2","v":9086.48},null,{"$f":"C20*$V$10","v":18395.52},null,{"$f":"V20/2","v":9197.76}]
[null,"7(3)",110000,null,3670,null,107000,"～",114000,{"$f":"C21*$J$10","v":10934},null,{"$f":"J21/2","v":5467},null,{"$f":"C21*$N$10","v":12826.000000000002},null,{"$f":"N21/2","v":6413.0000000000009},null,{"$f":"C21*$R$10","v":19221.400000000001},null,{"$f":"R21/2","v":9610.7000000000007},null,{"$f":"C21*$V$10","v":19456.8},null,{"$f":"V21/2","v":9728.4}]
[null,"8(4)",118000,null,3930,null,114000,"～",122000,{"$f":"C22*$J$10","v":11729.2},null,{"$f":"J22/2","v":5864.6},null,{"$f":"C22*$N$10","v":13758.800000000001},null,{"$f":"N22/2","v":6879.4000000000005},null,{"$f":"C22*$R$10","v":20619.32},null,{"$f":"R22/2","v":10309.66},null,{"$f":"C22*$V$10","v":20871.84},null,{"$f":"V22/2","v":10435.92}]
[null,"9(5)",126000,null,4200,null,122000,"～",130000,{"$f":"C23*$J$10","v":12524.4},null,{"$f":"J23/2","v":6262.2},null,{"$f":"C23*$N$10","v":14691.6},null,{"$f":"N23/2","v":7345.8},null,{"$f":"C23*$R$10","v":22017.24},null,{"$f":"R23/2","v":11008.62},null,{"$f":"C23*$V$10","v":22286.880000000001},null,{"$f":"V23/2","v":11143.44}]
[null,"10(6)",134000,null,4470,null,130000,"～",138000,{"$f":"C24*$J$10","v":13319.6},null,{"$f":"J24/2","v":6659.8},null,{"$f":"C24*$N$10","v":15624.400000000001},null,{"$f":"N24/2","v":7812.2000000000007},null,{"$f":"C24*$R$10","v":23415.16},null,{"$f":"R24/2","v":11707.58},null,{"$f":"C24*$V$10","v":23701.920000000002},null,{"$f":"V24/2","v":11850.960000000001}]
[null,"11(7)",142000,null,4730,null,138000,"～",146000,{"$f":"C25*$J$10","v":14114.800000000001},null,{"$f":"J25/2","v":7057.4000000000005},null,{"$f":"C25*$N$10","v":16557.2},null,{"$f":"N25/2","v":8278.6},null,{"$f":"C25*$R$10","v":24813.08},null,{"$f":"R25/2","v":12406.54},null,{"$f":"C25*$V$10","v":25116.960000000003},null,{"$f":"V25/2","v":12558.480000000001}]
[null,"12(8)",150000,null,5000,null,146000,"～",155000,{"$f":"C26*$J$10","v":14910},null,{"$f":"J26/2","v":7455},null,{"$f":"C26*$N$10","v":17490},null,{"$f":"N26/2","v":8745},null,{"$f":"C26*$R$10","v":26211},null,{"$f":"R26/2","v":13105.5},null,{"$f":"C26*$V$10","v":26532},null,{"$f":"V26/2","v":13266}]
[null,"13(9)",160000,null,5330,null,155000,"～",165000,{"$f":"C27*$J$10","v":15904},null,{"$f":"J27/2","v":7952},null,{"$f":"C27*$N$10","v":18656},null,{"$f":"N27/2","v":9328},null,{"$f":"C27*$R$10","v":27958.400000000001},null,{"$f":"R27/2","v":13979.2},null,{"$f":"C27*$V$10","v":28300.800000000003},null,{"$f":"V27/2","v":14150.400000000001}]
[null,"14(10)",170000,null,5670,null,165000,"～",175000,{"$f":"C28*$J$10","v":16898},null,{"$f":"J28/2","v":8449},null,{"$f":"C28*$N$10","v":19822},null,{"$f":"N28/2","v":9911},null,{"$f":"C28*$R$10","v":29705.800000000003},null,{"$f":"R28/2","v":14852.900000000001},null,{"$f":"C28*$V$10","v":30069.600000000002},null,{"$f":"V28/2","v":15034.800000000001}]
[null,"15(11)",180000,null,6000,null,175000,"～",185000,{"$f":"C29*$J$10","v":17892},null,{"$f":"J29/2","v":8946},null,{"$f":"C29*$N$10","v":20988},null,{"$f":"N29/2","v":10494},null,{"$f":"C29*$R$10","v":31453.200000000001},null,{"$f":"R29/2","v":15726.6},null,{"$f":"C29*$V$10","v":31838.400000000001},null,{"$f":"V29/2","v":15919.2}]
[null,"16(12)",190000,null,6330,null,185000,"～",195000,{"$f":"C30*$J$10","v":18886},null,{"$f":"J30/2","v":9443},null,{"$f":"C30*$N$10","v":22154},null,{"$f":"N30/2","v":11077},null,{"$f":"C30*$R$10","v":33200.6},null,{"$f":"R30/2","v":16600.3},null,{"$f":"C30*$V$10","v":33607.200000000004},null,{"$f":"V30/2","v":16803.600000000002}]
[null,"17(13)",200000,null,6670,null,195000,"～",210000,{"$f":"C31*$J$10","v":19880},null,{"$f":"J31/2","v":9940},null,{"$f":"C31*$N$10","v":23320.000000000004},null,{"$f":"N31/2","v":11660.000000000002},null,{"$f":"C31*$R$10","v":34948},null,{"$f":"R31/2","v":17474},null,{"$f":"C31*$V$10","v":35376},null,{"$f":"V31/2","v":17688}]
[null,"18(14)",220000,null,7330,null,210000,"～",230000,{"$f":"C32*$J$10","v":21868},null,{"$f":"J32/2","v":10934},null,{"$f":"C32*$N$10","v":25652.000000000004},null,{"$f":"N32/2","v":12826.000000000002},null,{"$f":"C32*$R$10","v":38442.800000000003},null,{"$f":"R32/2","v":19221.400000000001},null,{"$f":"C32*$V$10","v":38913.599999999999},null,{"$f":"V32/2","v":19456.8}]
[null,"19(15)",240000,null,8000,null,230000,"～",250000,{"$f":"C33*$J$10","v":23856},null,{"$f":"J33/2","v":11928},null,{"$f":"C33*$N$10","v":27984.000000000004},null,{"$f":"N33/2","v":13992.000000000002},null,{"$f":"C33*$R$10","v":41937.599999999999},null,{"$f":"R33/2","v":20968.8},null,{"$f":"C33*$V$10","v":42451.200000000004},null,{"$f":"V33/2","v":21225.600000000002}]
[null,"20(16)",260000,null,8670,null,250000,"～",270000,{"$f":"C34*$J$10","v":25844},null,{"$f":"J34/2","v":12922},null,{"$f":"C34*$N$10","v":30316.000000000004},null,{"$f":"N34/2","v":15158.000000000002},null,{"$f":"C34*$R$10","v":45432.4},null,{"$f":"R34/2","v":22716.2},null,{"$f":"C34*$V$10","v":45988.800000000003},null,{"$f":"V34/2","v":22994.400000000001}]
[null,"21(17)",280000,null,9330,null,270000,"～",290000,{"$f":"C35*$J$10","v":27832},null,{"$f":"J35/2","v":13916},null,{"$f":"C35*$N$10","v":32648.000000000004},null,{"$f":"N35/2","v":16324.000000000002},null,{"$f":"C35*$R$10","v":48927.200000000004},null,{"$f":"R35/2","v":24463.600000000002},null,{"$f":"C35*$V$10","v":49526.400000000001},null,{"$f":"V35/2","v":24763.200000000001}]
[null,"22(18)",300000,null,10000,null,290000,"～",310000,{"$f":"C36*$J$10","v":29820},null,{"$f":"J36/2","v":14910},null,{"$f":"C36*$N$10","v":34980},null,{"$f":"N36/2","v":17490},null,{"$f":"C36*$R$10","v":52422},null,{"$f":"R36/2","v":26211},null,{"$f":"C36*$V$10","v":53064},null,{"$f":"V36/2","v":26532}]
[null,"23(19)",320000,null,10670,null,310000,"～",330000,{"$f":"C37*$J$10","v":31808},null,{"$f":"J37/2","v":15904},null,{"$f":"C37*$N$10","v":37312},null,{"$f":"N37/2","v":18656},null,{"$f":"C37*$R$10","v":55916.800000000003},null,{"$f":"R37/2","v":27958.400000000001},null,{"$f":"C37*$V$10","v":56601.600000000006},null,{"$f":"V37/2","v":28300.800000000003}]
[null,"24(20)",340000,null,11330,null,330000,"～",350000,{"$f":"C38*$J$10","v":33796},null,{"$f":"J38/2","v":16898},null,{"$f":"C38*$N$10","v":39644},null,{"$f":"N38/2","v":19822},null,{"$f":"C38*$R$10","v":59411.600000000006},null,{"$f":"R38/2","v":29705.800000000003},null,{"$f":"C38*$V$10","v":60139.200000000004},null,{"$f":"V38/2","v":30069.600000000002}]
[null,"25(21)",360000,null,12000,null,350000,"～",370000,{"$f":"C39*$J$10","v":35784},null,{"$f":"J39/2","v":17892},null,{"$f":"C39*$N$10","v":41976},null,{"$f":"N39/2","v":20988},null,{"$f":"C39*$R$10","v":62906.400000000001},null,{"$f":"R39/2","v":31453.200000000001},null,{"$f":"C39*$V$10","v":63676.800000000003},null,{"$f":"V39/2","v":31838.400000000001}]
[null,"26(22)",380000,null,12670,null,370000,"～",395000,{"$f":"C40*$J$10","v":37772},null,{"$f":"J40/2","v":18886},null,{"$f":"C40*$N$10","v":44308},null,{"$f":"N40/2","v":22154},null,{"$f":"C40*$R$10","v":66401.2},null,{"$f":"R40/2","v":33200.6},null,{"$f":"C40*$V$10","v":67214.400000000009},null,{"$f":"V40/2","v":33607.200000000004}]
[null,"27(23)",410000,null,13670,null,395000,"～",425000,{"$f":"C41*$J$10","v":40754},null,{"$f":"J41/2","v":20377},null,{"$f":"C41*$N$10","v":47806.000000000007},null,{"$f":"N41/2","v":23903.000000000004},null,{"$f":"C41*$R$10","v":71643.400000000009},null,{"$f":"R41/2","v":35821.700000000004},null,{"$f":"C41*$V$10","v":72520.800000000003},null,{"$f":"V41/2","v":36260.400000000001}]
[null,"28(24)",440000,null,14670,null,425000,"～",455000,{"$f":"C42*$J$10","v":43736},null,{"$f":"J42/2","v":21868},null,{"$f":"C42*$N$10","v":51304.000000000007},null,{"$f":"N42/2","v":25652.000000000004},null,{"$f":"C42*$R$10","v":76885.600000000006},null,{"$f":"R42/2","v":38442.800000000003},null,{"$f":"C42*$V$10","v":77827.199999999997},null,{"$f":"V42/2","v":38913.599999999999}]
[null,"29(25)",470000,null,15670,null,455000,"～",485000,{"$f":"C43*$J$10","v":46718},null,{"$f":"J43/2","v":23359},null,{"$f":"C43*$N$10","v":54802.000000000007},null,{"$f":"N43/2","v":27401.000000000004},null,{"$f":"C43*$R$10","v":82127.8},null,{"$f":"R43/2","v":41063.9},null,{"$f":"C43*$V$10","v":83133.600000000006},null,{"$f":"V43/2","v":41566.800000000003}]
[null,"30(26)",500000,null,16670,null,485000,"～",515000,{"$f":"C44*$J$10","v":49700},null,{"$f":"J44/2","v":24850},null,{"$f":"C44*$N$10","v":58300.000000000007},null,{"$f":"N44/2","v":29150.000000000004},null,{"$f":"C44*$R$10","v":87370},null,{"$f":"R44/2","v":43685},null,{"$f":"C44*$V$10","v":88440},null,{"$f":"V44/2","v":44220}]
[null,"31(27)",530000,null,17670,null,515000,"～",545000,{"$f":"C45*$J$10","v":52682},null,{"$f":"J45/2","v":26341},null,{"$f":"C45*$N$10","v":61798.000000000007},null,{"$f":"N45/2","v":30899.000000000004},null,{"$f":"C45*$R$10","v":92612.2},null,{"$f":"R45/2","v":46306.1},null,{"$f":"C45*$V$10","v":93746.400000000009},null,{"$f":"V45/2","v":46873.200000000004}]
[null,"32(28)",560000,null,18670,null,545000,"～",575000,{"$f":"C46*$J$10","v":55664},null,{"$f":"J46/2","v":27832},null,{"$f":"C46*$N$10","v":65296.000000000007},null,{"$f":"N46/2","v":32648.000000000004},null,{"$f":"C46*$R$10","v":97854.400000000009},null,{"$f":"R46/2","v":48927.200000000004},null,{"$f":"C46*$V$10","v":99052.800000000003},null,{"$f":"V46/2","v":49526.400000000001}]
[null,"33(29)",590000,null,19670,null,575000,"～",605000,{"$f":"C47*$J$10","v":58646},null,{"$f":"J47/2","v":29323},null,{"$f":"C47*$N$10","v":68794},null,{"$f":"N47/2","v":34397},null,{"$f":"C47*$R$10","v":103096.6},null,{"$f":"R47/2","v":51548.3},null,{"$f":"C47*$V$10","v":104359.20000000001},null,{"$f":"V47/2","v":52179.600000000006}]
[null,"34(30)",620000,null,20670,null,605000,"～",635000,{"$f":"C48*$J$10","v":61628},null,{"$f":"J48/2","v":30814},null,{"$f":"C48*$N$10","v":72292},null,{"$f":"N48/2","v":36146},null,{"$f":"C48*$R$10","v":108338.8},null,{"$f":"R48/2","v":54169.4},null,{"$f":"C48*$V$10","v":109665.60000000001},null,{"$f":"V48/2","v":54832.800000000003}]
[null,35,650000,null,21670,null,635000,"～",665000,{"$f":"C49*$J$10","v":64610},null,{"$f":"J49/2","v":32305},null,{"$f":"C49*$N$10","v":75790},null,{"$f":"N49/2","v":37895},null,"※厚生年金基金に加入している方の厚生年金保険\n　料率は、基金ごとに定められている免除保険料\n　率(2.4%～5.0%)を控除した率となります。\n\n　●一般の被保険者の方　…12.474%～15.074%\n　●坑内員の被保険者の方…12.688%～15.288%\n\n　加入する基金ごとに異なりますので、免除保険\n　料率および厚生年金基金の掛金については、加\n　入する厚生年金基金にお問い合わせください。\n"]
[null,36,680000,null,22670,null,665000,"～",695000,{"$f":"C50*$J$10","v":67592},null,{"$f":"J50/2","v":33796},null,{"$f":"C50*$N$10","v":79288},null,{"$f":"N50/2","v":39644}]
[null,37,710000,null,23670,null,695000,"～",730000,{"$f":"C51*$J$10","v":70574},null,{"$f":"J51/2","v":35287},null,{"$f":"C51*$N$10","v":82786},null,{"$f":"N51/2","v":41393}]
[null,38,750000,null,25000,null,730000,"～",770000,{"$f":"C52*$J$10","v":74550},null,{"$f":"J52/2","v":37275},null,{"$f":"C52*$N$10","v":87450},null,{"$f":"N52/2","v":43725}]
[null,39,790000,null,26330,null,770000,"～",810000,{"$f":"C53*$J$10","v":78526},null,{"$f":"J53/2","v":39263},null,{"$f":"C53*$N$10","v":92114},null,{"$f":"N53/2","v":46057}]
[null,40,830000,null,27670,null,810000,"～",855000,{"$f":"C54*$J$10","v":82502},null,{"$f":"J54/2","v":41251},null,{"$f":"C54*$N$10","v":96778.000000000015},null,{"$f":"N54/2","v":48389.000000000007}]
[null,41,880000,null,29330,null,855000,"～",905000,{"$f":"C55*$J$10","v":87472},null,{"$f":"J55/2","v":43736},null,{"$f":"C55*$N$10","v":102608.00000000001},null,{"$f":"N55/2","v":51304.000000000007}]
[null,42,930000,null,31000,null,905000,"～",955000,{"$f":"C56*$J$10","v":92442},null,{"$f":"J56/2","v":46221},null,{"$f":"C56*$N$10","v":108438.00000000001},null,{"$f":"N56/2","v":54219.000000000007}]
[null,43,980000,null,32670,null,955000,"～",1005000,{"$f":"C57*$J$10","v":97412},null,{"$f":"J57/2","v":48706},null,{"$f":"C57*$N$10","v":114268.00000000001},null,{"$f":"N57/2","v":57134.000000000007}]
[null,44,1030000,null,34330,null,1005000,"～",1055000,{"$f":"C58*$J$10","v":102382},null,{"$f":"J58/2","v":51191},null,{"$f":"C58*$N$10","v":120098.00000000001},null,{"$f":"N58/2","v":60049.000000000007}]
[null,45,1090000,null,36330,null,1055000,"～",1115000,{"$f":"C59*$J$10","v":108346},null,{"$f":"J59/2","v":54173},null,{"$f":"C59*$N$10","v":127094.00000000001},null,{"$f":"N59/2","v":63547.000000000007}]
[null,46,1150000,null,38330,null,1115000,"～",1175000,{"$f":"C60*$J$10","v":114310},null,{"$f":"J60/2","v":57155},null,{"$f":"C60*$N$10","v":134090},null,{"$f":"N60/2","v":67045}]
[null,47,1210000,null,40330,null,1175000,"～",null,{"$f":"C61*$J$10","v":120274},null,{"$f":"J61/2","v":60137},null,{"$f":"C61*$N$10","v":141086},null,{"$f":"N61/2","v":70543}]
[]
[{"$f":"J10","v":9.9400000000000002E-2}]
[null,""]
["◆等級欄の（　）内の数字は、厚生年金保険の標準報酬月額等級です。"]
["　5(1)等級の「報酬月額」欄は、厚生年金保険の場合「101,000円未満」と読み替えてください。"]
["　34(30)等級の「報酬月額」欄は、厚生年金保険の場合「605,000円以上」と読み替えてください。"]
[null,""]
["◆平成26年度における全国健康保険協会の任意継続被保険者について、標準報酬月額の上限は、280,000円です。"]
[]
[]
["　○被保険者負担分（表の折半額の欄）に円未満の端数がある場合"]
["　　　①事業主が、給与から被保険者負担分を控除する場合、被保険者負担分の端数が50銭以下の場合は切り捨て、50銭を超える場合は切り上げて1円となります。"]
["　　　②被保険者が、被保険者負担分を事業主へ現金で支払う場合、被保険者負担分の端数が50銭未満の場合は切り捨て、50銭以上の場合は切り上げて1円となります。"]
["　　　（注）①、②にかかわらず、事業主と被保険者の間で特約がある場合には、特約に基づき端数処理をすることができます。"]
[]
["　○納入告知書の保険料額"]
["　　　 納入告知書の保険料額は、被保険者個々の保険料額を合算した金額になります。ただし、合算した金額に円未満の端数がある場合は、その端数を切り捨てた額となります。"]
[]
["　○賞与に係る保険料"]
["　　　 賞与に係る保険料額は、賞与額から1,000円未満の端数を切り捨てた額（標準賞与額）に、保険料率を乗じた額となります。"]
[" 　　　また、標準賞与額の上限は、健康保険は年間540万円（毎年4月1日から翌年3月31日までの累計額）となり、厚生年金保険と児童手当拠出金の場合は月間150万円となります。"]
[]
["　○児童手当拠出金"]
["　　　 厚生年金保険の被保険者を使用する事業主の方は、児童手当等の支給に要する費用の一部として児童手当拠出金を全額負担いただくことになります。この児童手当"]
["　　　 拠出金の額は、被保険者個々の厚生年金保険の標準報酬月額および標準賞与額に、拠出金率（0.15%）を乗じて得た額の総額となります。"]

{"sheet":"滋賀","index":34,"n_rows":86,"n_cols":24,"rows_kept":86,"cut":false,"hidden":true,"merged":[[74,0,74,24],[75,0,75,16],[85,0,85,24],[86,0,86,16],[77,0,77,23],[79,0,79,16],[80,0,80,21],[81,0,81,24],[83,0,83,21],[84,0,84,24],[76,0,76,23],[48,17,60,24],[62,0,62,25],[64,0,64,24],[65,0,65,24],[66,0,66,24],[68,0,68,24],[71,0,71,16],[72,0,72,24],[73,0,73,24],[6,21,8,24],[9,9,10,12],[9,13,10,16],[9,17,10,20],[9,21,10,24],[11,13,12,14],[11,15,12,16],[11,17,12,18],[11,19,12,20],[11,21,12,22],[11,1,12,1],[11,2,12,3],[11,4,12,5],[11,9,12,10],[11,11,12,12],[11,23,12,24],[0,1,1,24],[2,1,3,23],[4,1,4,16],[5,1,10,5],[5,6,12,8],[5,9,5,16],[5,17,5,24],[6,9,8,12],[6,13,8,16],[6,17,8,20]]}
[null,"平成26年9月分(10月納付分)からの健康保険・厚生年金保険の保険料額表"]
[]
[null,"     ‣健康保険料率：平成24年3月分～　適用　　‣厚生年金保険料率：平成26年9月分～平成27年8月分　適用\n     ‣介護保険料率：平成26年3月分～　適用　　‣児童手当拠出金率：平成24年4月分～　適用\n"]
[]
[null,"（滋賀県）",null,null,null,null,null,null,null,null,null,null,null,null,null,null,null,null,null,null,null,null,null,"（単位：円）"]
[null,"標　準　報　酬",null,null,null,null,"報　酬　月　額",null,null,"全国健康保険協会管掌健康保険料",null,null,null,null,null,null,null,"厚生年金保険料（厚生年金基金加入員を除く）"]
[null,null,null,null,null,null,null,null,null,"介護保険第２号被保険者\nに該当しない場合",null,null,null,"介護保険第２号被保険者\nに該当する場合",null,null,null,"一般の被保険者",null,null,null,"坑内員・船員"]
[]
[]
[null,null,null,null,null,null,null,null,null,9.9699999999999997E-2,null,null,null,{"$f":"J10+0.0172","v":0.1169},null,null,null,0.17474000000000001,null,null,null,0.17688000000000001]
[]
[null,"等級","月　額",null,"日　額",null,null,null,null,"全　額",null,"折半額",null,"全　額",null,"折半額",null,"全　額",null,"折半額",null,"全　額",null,"折半額"]
[]
[null,null,null,null,null,null,"円以上",null,"円未満"]
[null,1,58000,null,1930,null,null,"～",63000,{"$f":"C15*$J$10","v":5782.5999999999995},null,{"$f":"J15/2","v":2891.2999999999997},null,{"$f":"C15*$N$10","v":6780.2},null,{"$f":"N15/2","v":3390.1}]
[null,2,68000,null,2270,null,63000,"～",73000,{"$f":"C16*$J$10","v":6779.5999999999995},null,{"$f":"J16/2","v":3389.7999999999997},null,{"$f":"C16*$N$10","v":7949.2},null,{"$f":"N16/2","v":3974.6}]
[null,3,78000,null,2600,null,73000,"～",83000,{"$f":"C17*$J$10","v":7776.5999999999995},null,{"$f":"J17/2","v":3888.2999999999997},null,{"$f":"C17*$N$10","v":9118.2000000000007},null,{"$f":"N17/2","v":4559.1000000000004}]
[null,4,88000,null,2930,null,83000,"～",93000,{"$f":"C18*$J$10","v":8773.6},null,{"$f":"J18/2","v":4386.8},null,{"$f":"C18*$N$10","v":10287.200000000001},null,{"$f":"N18/2","v":5143.6000000000004}]
[null,"5(1)",98000,null,3270,null,93000,"～",101000,{"$f":"C19*$J$10","v":9770.6},null,{"$f":"J19/2","v":4885.3},null,{"$f":"C19*$N$10","v":11456.2},null,{"$f":"N19/2","v":5728.1},null,{"$f":"C19*$R$10","v":17124.52},null,{"$f":"R19/2","v":8562.26},null,{"$f":"C19*$V$10","v":17334.240000000002},null,{"$f":"V19/2","v":8667.1200000000008}]
[null,"6(2)",104000,null,3470,null,101000,"～",107000,{"$f":"C20*$J$10","v":10368.799999999999},null,{"$f":"J20/2","v":5184.3999999999996},null,{"$f":"C20*$N$10","v":12157.6},null,{"$f":"N20/2","v":6078.8},null,{"$f":"C20*$R$10","v":18172.96},null,{"$f":"R20/2","v":9086.48},null,{"$f":"C20*$V$10","v":18395.52},null,{"$f":"V20/2","v":9197.76}]
[null,"7(3)",110000,null,3670,null,107000,"～",114000,{"$f":"C21*$J$10","v":10967},null,{"$f":"J21/2","v":5483.5},null,{"$f":"C21*$N$10","v":12859},null,{"$f":"N21/2","v":6429.5},null,{"$f":"C21*$R$10","v":19221.400000000001},null,{"$f":"R21/2","v":9610.7000000000007},null,{"$f":"C21*$V$10","v":19456.8},null,{"$f":"V21/2","v":9728.4}]
[null,"8(4)",118000,null,3930,null,114000,"～",122000,{"$f":"C22*$J$10","v":11764.6},null,{"$f":"J22/2","v":5882.3},null,{"$f":"C22*$N$10","v":13794.2},null,{"$f":"N22/2","v":6897.1},null,{"$f":"C22*$R$10","v":20619.32},null,{"$f":"R22/2","v":10309.66},null,{"$f":"C22*$V$10","v":20871.84},null,{"$f":"V22/2","v":10435.92}]
[null,"9(5)",126000,null,4200,null,122000,"～",130000,{"$f":"C23*$J$10","v":12562.199999999999},null,{"$f":"J23/2","v":6281.0999999999995},null,{"$f":"C23*$N$10","v":14729.4},null,{"$f":"N23/2","v":7364.7},null,{"$f":"C23*$R$10","v":22017.24},null,{"$f":"R23/2","v":11008.62},null,{"$f":"C23*$V$10","v":22286.880000000001},null,{"$f":"V23/2","v":11143.44}]
[null,"10(6)",134000,null,4470,null,130000,"～",138000,{"$f":"C24*$J$10","v":13359.8},null,{"$f":"J24/2","v":6679.9},null,{"$f":"C24*$N$10","v":15664.6},null,{"$f":"N24/2","v":7832.3},null,{"$f":"C24*$R$10","v":23415.16},null,{"$f":"R24/2","v":11707.58},null,{"$f":"C24*$V$10","v":23701.920000000002},null,{"$f":"V24/2","v":11850.960000000001}]
[null,"11(7)",142000,null,4730,null,138000,"～",146000,{"$f":"C25*$J$10","v":14157.4},null,{"$f":"J25/2","v":7078.7},null,{"$f":"C25*$N$10","v":16599.8},null,{"$f":"N25/2","v":8299.9},null,{"$f":"C25*$R$10","v":24813.08},null,{"$f":"R25/2","v":12406.54},null,{"$f":"C25*$V$10","v":25116.960000000003},null,{"$f":"V25/2","v":12558.480000000001}]
[null,"12(8)",150000,null,5000,null,146000,"～",155000,{"$f":"C26*$J$10","v":14955},null,{"$f":"J26/2","v":7477.5},null,{"$f":"C26*$N$10","v":17535},null,{"$f":"N26/2","v":8767.5},null,{"$f":"C26*$R$10","v":26211},null,{"$f":"R26/2","v":13105.5},null,{"$f":"C26*$V$10","v":26532},null,{"$f":"V26/2","v":13266}]
[null,"13(9)",160000,null,5330,null,155000,"～",165000,{"$f":"C27*$J$10","v":15952},null,{"$f":"J27/2","v":7976},null,{"$f":"C27*$N$10","v":18704},null,{"$f":"N27/2","v":9352},null,{"$f":"C27*$R$10","v":27958.400000000001},null,{"$f":"R27/2","v":13979.2},null,{"$f":"C27*$V$10","v":28300.800000000003},null,{"$f":"V27/2","v":14150.400000000001}]
[null,"14(10)",170000,null,5670,null,165000,"～",175000,{"$f":"C28*$J$10","v":16949},null,{"$f":"J28/2","v":8474.5},null,{"$f":"C28*$N$10","v":19873},null,{"$f":"N28/2","v":9936.5},null,{"$f":"C28*$R$10","v":29705.800000000003},null,{"$f":"R28/2","v":14852.900000000001},null,{"$f":"C28*$V$10","v":30069.600000000002},null,{"$f":"V28/2","v":15034.800000000001}]
[null,"15(11)",180000,null,6000,null,175000,"～",185000,{"$f":"C29*$J$10","v":17946},null,{"$f":"J29/2","v":8973},null,{"$f":"C29*$N$10","v":21042},null,{"$f":"N29/2","v":10521},null,{"$f":"C29*$R$10","v":31453.200000000001},null,{"$f":"R29/2","v":15726.6},null,{"$f":"C29*$V$10","v":31838.400000000001},null,{"$f":"V29/2","v":15919.2}]
[null,"16(12)",190000,null,6330,null,185000,"～",195000,{"$f":"C30*$J$10","v":18943},null,{"$f":"J30/2","v":9471.5},null,{"$f":"C30*$N$10","v":22211},null,{"$f":"N30/2","v":11105.5},null,{"$f":"C30*$R$10","v":33200.6},null,{"$f":"R30/2","v":16600.3},null,{"$f":"C30*$V$10","v":33607.200000000004},null,{"$f":"V30/2","v":16803.600000000002}]
[null,"17(13)",200000,null,6670,null,195000,"～",210000,{"$f":"C31*$J$10","v":19940},null,{"$f":"J31/2","v":9970},null,{"$f":"C31*$N$10","v":23380},null,{"$f":"N31/2","v":11690},null,{"$f":"C31*$R$10","v":34948},null,{"$f":"R31/2","v":17474},null,{"$f":"C31*$V$10","v":35376},null,{"$f":"V31/2","v":17688}]
[null,"18(14)",220000,null,7330,null,210000,"～",230000,{"$f":"C32*$J$10","v":21934},null,{"$f":"J32/2","v":10967},null,{"$f":"C32*$N$10","v":25718},null,{"$f":"N32/2","v":12859},null,{"$f":"C32*$R$10","v":38442.800000000003},null,{"$f":"R32/2","v":19221.400000000001},null,{"$f":"C32*$V$10","v":38913.599999999999},null,{"$f":"V32/2","v":19456.8}]
[null,"19(15)",240000,null,8000,null,230000,"～",250000,{"$f":"C33*$J$10","v":23928},null,{"$f":"J33/2","v":11964},null,{"$f":"C33*$N$10","v":28056},null,{"$f":"N33/2","v":14028},null,{"$f":"C33*$R$10","v":41937.599999999999},null,{"$f":"R33/2","v":20968.8},null,{"$f":"C33*$V$10","v":42451.200000000004},null,{"$f":"V33/2","v":21225.600000000002}]
[null,"20(16)",260000,null,8670,null,250000,"～",270000,{"$f":"C34*$J$10","v":25922},null,{"$f":"J34/2","v":12961},null,{"$f":"C34*$N$10","v":30394},null,{"$f":"N34/2","v":15197},null,{"$f":"C34*$R$10","v":45432.4},null,{"$f":"R34/2","v":22716.2},null,{"$f":"C34*$V$10","v":45988.800000000003},null,{"$f":"V34/2","v":22994.400000000001}]
[null,"21(17)",280000,null,9330,null,270000,"～",290000,{"$f":"C35*$J$10","v":27916},null,{"$f":"J35/2","v":13958},null,{"$f":"C35*$N$10","v":32732},null,{"$f":"N35/2","v":16366},null,{"$f":"C35*$R$10","v":48927.200000000004},null,{"$f":"R35/2","v":24463.600000000002},null,{"$f":"C35*$V$10","v":49526.400000000001},null,{"$f":"V35/2","v":24763.200000000001}]
[null,"22(18)",300000,null,10000,null,290000,"～",310000,{"$f":"C36*$J$10","v":29910},null,{"$f":"J36/2","v":14955},null,{"$f":"C36*$N$10","v":35070},null,{"$f":"N36/2","v":17535},null,{"$f":"C36*$R$10","v":52422},null,{"$f":"R36/2","v":26211},null,{"$f":"C36*$V$10","v":53064},null,{"$f":"V36/2","v":26532}]
[null,"23(19)",320000,null,10670,null,310000,"～",330000,{"$f":"C37*$J$10","v":31904},null,{"$f":"J37/2","v":15952},null,{"$f":"C37*$N$10","v":37408},null,{"$f":"N37/2","v":18704},null,{"$f":"C37*$R$10","v":55916.800000000003},null,{"$f":"R37/2","v":27958.400000000001},null,{"$f":"C37*$V$10","v":56601.600000000006},null,{"$f":"V37/2","v":28300.800000000003}]
[null,"24(20)",340000,null,11330,null,330000,"～",350000,{"$f":"C38*$J$10","v":33898},null,{"$f":"J38/2","v":16949},null,{"$f":"C38*$N$10","v":39746},null,{"$f":"N38/2","v":19873},null,{"$f":"C38*$R$10","v":59411.600000000006},null,{"$f":"R38/2","v":29705.800000000003},null,{"$f":"C38*$V$10","v":60139.200000000004},null,{"$f":"V38/2","v":30069.600000000002}]
[null,"25(21)",360000,null,12000,null,350000,"～",370000,{"$f":"C39*$J$10","v":35892},null,{"$f":"J39/2","v":17946},null,{"$f":"C39*$N$10","v":42084},null,{"$f":"N39/2","v":21042},null,{"$f":"C39*$R$10","v":62906.400000000001},null,{"$f":"R39/2","v":31453.200000000001},null,{"$f":"C39*$V$10","v":63676.800000000003},null,{"$f":"V39/2","v":31838.400000000001}]
[null,"26(22)",380000,null,12670,null,370000,"～",395000,{"$f":"C40*$J$10","v":37886},null,{"$f":"J40/2","v":18943},null,{"$f":"C40*$N$10","v":44422},null,{"$f":"N40/2","v":22211},null,{"$f":"C40*$R$10","v":66401.2},null,{"$f":"R40/2","v":33200.6},null,{"$f":"C40*$V$10","v":67214.400000000009},null,{"$f":"V40/2","v":33607.200000000004}]
[null,"27(23)",410000,null,13670,null,395000,"～",425000,{"$f":"C41*$J$10","v":40877},null,{"$f":"J41/2","v":20438.5},null,{"$f":"C41*$N$10","v":47929},null,{"$f":"N41/2","v":23964.5},null,{"$f":"C41*$R$10","v":71643.400000000009},null,{"$f":"R41/2","v":35821.700000000004},null,{"$f":"C41*$V$10","v":72520.800000000003},null,{"$f":"V41/2","v":36260.400000000001}]
[null,"28(24)",440000,null,14670,null,425000,"～",455000,{"$f":"C42*$J$10","v":43868},null,{"$f":"J42/2","v":21934},null,{"$f":"C42*$N$10","v":51436},null,{"$f":"N42/2","v":25718},null,{"$f":"C42*$R$10","v":76885.600000000006},null,{"$f":"R42/2","v":38442.800000000003},null,{"$f":"C42*$V$10","v":77827.199999999997},null,{"$f":"V42/2","v":38913.599999999999}]
[null,"29(25)",470000,null,15670,null,455000,"～",485000,{"$f":"C43*$J$10","v":46859},null,{"$f":"J43/2","v":23429.5},null,{"$f":"C43*$N$10","v":54943},null,{"$f":"N43/2","v":27471.5},null,{"$f":"C43*$R$10","v":82127.8},null,{"$f":"R43/2","v":41063.9},null,{"$f":"C43*$V$10","v":83133.600000000006},null,{"$f":"V43/2","v":41566.800000000003}]
[null,"30(26)",500000,null,16670,null,485000,"～",515000,{"$f":"C44*$J$10","v":49850},null,{"$f":"J44/2","v":24925},null,{"$f":"C44*$N$10","v":58450},null,{"$f":"N44/2","v":29225},null,{"$f":"C44*$R$10","v":87370},null,{"$f":"R44/2","v":43685},null,{"$f":"C44*$V$10","v":88440},null,{"$f":"V44/2","v":44220}]
[null,"31(27)",530000,null,17670,null,515000,"～",545000,{"$f":"C45*$J$10","v":52841},null,{"$f":"J45/2","v":26420.5},null,{"$f":"C45*$N$10","v":61957},null,{"$f":"N45/2","v":30978.5},null,{"$f":"C45*$R$10","v":92612.2},null,{"$f":"R45/2","v":46306.1},null,{"$f":"C45*$V$10","v":93746.400000000009},null,{"$f":"V45/2","v":46873.200000000004}]
[null,"32(28)",560000,null,18670,null,545000,"～",575000,{"$f":"C46*$J$10","v":55832},null,{"$f":"J46/2","v":27916},null,{"$f":"C46*$N$10","v":65464},null,{"$f":"N46/2","v":32732},null,{"$f":"C46*$R$10","v":97854.400000000009},null,{"$f":"R46/2","v":48927.200000000004},null,{"$f":"C46*$V$10","v":99052.800000000003},null,{"$f":"V46/2","v":49526.400000000001}]
[null,"33(29)",590000,null,19670,null,575000,"～",605000,{"$f":"C47*$J$10","v":58823},null,{"$f":"J47/2","v":29411.5},null,{"$f":"C47*$N$10","v":68971},null,{"$f":"N47/2","v":34485.5},null,{"$f":"C47*$R$10","v":103096.6},null,{"$f":"R47/2","v":51548.3},null,{"$f":"C47*$V$10","v":104359.20000000001},null,{"$f":"V47/2","v":52179.600000000006}]
[null,"34(30)",620000,null,20670,null,605000,"～",635000,{"$f":"C48*$J$10","v":61814},null,{"$f":"J48/2","v":30907},null,{"$f":"C48*$N$10","v":72478},null,{"$f":"N48/2","v":36239},null,{"$f":"C48*$R$10","v":108338.8},null,{"$f":"R48/2","v":54169.4},null,{"$f":"C48*$V$10","v":109665.60000000001},null,{"$f":"V48/2","v":54832.800000000003}]
[null,35,650000,null,21670,null,635000,"～",665000,{"$f":"C49*$J$10","v":64805},null,{"$f":"J49/2","v":32402.5},null,{"$f":"C49*$N$10","v":75985},null,{"$f":"N49/2","v":37992.5},null,"※厚生年金基金に加入している方の厚生年金保険\n　料率は、基金ごとに定められている免除保険料\n　率(2.4%～5.0%)を控除した率となります。\n\n　●一般の被保険者の方　…12.474%～15.074%\n　●坑内員の被保険者の方…12.688%～15.288%\n\n　加入する基金ごとに異なりますので、免除保険\n　料率および厚生年金基金の掛金については、加\n　入する厚生年金基金にお問い合わせください。\n"]
[null,36,680000,null,22670,null,665000,"～",695000,{"$f":"C50*$J$10","v":67796},null,{"$f":"J50/2","v":33898},null,{"$f":"C50*$N$10","v":79492},null,{"$f":"N50/2","v":39746}]
[null,37,710000,null,23670,null,695000,"～",730000,{"$f":"C51*$J$10","v":70787},null,{"$f":"J51/2","v":35393.5},null,{"$f":"C51*$N$10","v":82999},null,{"$f":"N51/2","v":41499.5}]
[null,38,750000,null,25000,null,730000,"～",770000,{"$f":"C52*$J$10","v":74775},null,{"$f":"J52/2","v":37387.5},null,{"$f":"C52*$N$10","v":87675},null,{"$f":"N52/2","v":43837.5}]
[null,39,790000,null,26330,null,770000,"～",810000,{"$f":"C53*$J$10","v":78763},null,{"$f":"J53/2","v":39381.5},null,{"$f":"C53*$N$10","v":92351},null,{"$f":"N53/2","v":46175.5}]
[null,40,830000,null,27670,null,810000,"～",855000,{"$f":"C54*$J$10","v":82751},null,{"$f":"J54/2","v":41375.5},null,{"$f":"C54*$N$10","v":97027},null,{"$f":"N54/2","v":48513.5}]
[null,41,880000,null,29330,null,855000,"～",905000,{"$f":"C55*$J$10","v":87736},null,{"$f":"J55/2","v":43868},null,{"$f":"C55*$N$10","v":102872},null,{"$f":"N55/2","v":51436}]
[null,42,930000,null,31000,null,905000,"～",955000,{"$f":"C56*$J$10","v":92721},null,{"$f":"J56/2","v":46360.5},null,{"$f":"C56*$N$10","v":108717},null,{"$f":"N56/2","v":54358.5}]
[null,43,980000,null,32670,null,955000,"～",1005000,{"$f":"C57*$J$10","v":97706},null,{"$f":"J57/2","v":48853},null,{"$f":"C57*$N$10","v":114562},null,{"$f":"N57/2","v":57281}]
[null,44,1030000,null,34330,null,1005000,"～",1055000,{"$f":"C58*$J$10","v":102691},null,{"$f":"J58/2","v":51345.5},null,{"$f":"C58*$N$10","v":120407},null,{"$f":"N58/2","v":60203.5}]
[null,45,1090000,null,36330,null,1055000,"～",1115000,{"$f":"C59*$J$10","v":108673},null,{"$f":"J59/2","v":54336.5},null,{"$f":"C59*$N$10","v":127421},null,{"$f":"N59/2","v":63710.5}]
[null,46,1150000,null,38330,null,1115000,"～",1175000,{"$f":"C60*$J$10","v":114655},null,{"$f":"J60/2","v":57327.5},null,{"$f":"C60*$N$10","v":134435},null,{"$f":"N60/2","v":67217.5}]
[null,47,1210000,null,40330,null,1175000,"～",null,{"$f":"C61*$J$10","v":120637},null,{"$f":"J61/2","v":60318.5},null,{"$f":"C61*$N$10","v":141449},null,{"$f":"N61/2","v":70724.5}]
[]
[{"$f":"J10","v":9.9699999999999997E-2}]
[null,""]
["◆等級欄の（　）内の数字は、厚生年金保険の標準報酬月額等級です。"]
["　5(1)等級の「報酬月額」欄は、厚生年金保険の場合「101,000円未満」と読み替えてください。"]
["　34(30)等級の「報酬月額」欄は、厚生年金保険の場合「605,000円以上」と読み替えてください。"]
[null,""]
["◆平成26年度における全国健康保険協会の任意継続被保険者について、標準報酬月額の上限は、280,000円です。"]
[]
[]
["　○被保険者負担分（表の折半額の欄）に円未満の端数がある場合"]
["　　　①事業主が、給与から被保険者負担分を控除する場合、被保険者負担分の端数が50銭以下の場合は切り捨て、50銭を超える場合は切り上げて1円となります。"]
["　　　②被保険者が、被保険者負担分を事業主へ現金で支払う場合、被保険者負担分の端数が50銭未満の場合は切り捨て、50銭以上の場合は切り上げて1円となります。"]
["　　　（注）①、②にかかわらず、事業主と被保険者の間で特約がある場合には、特約に基づき端数処理をすることができます。"]
[]
["　○納入告知書の保険料額"]
["　　　 納入告知書の保険料額は、被保険者個々の保険料額を合算した金額になります。ただし、合算した金額に円未満の端数がある場合は、その端数を切り捨てた額となります。"]
[]
["　○賞与に係る保険料"]
["　　　 賞与に係る保険料額は、賞与額から1,000円未満の端数を切り捨てた額（標準賞与額）に、保険料率を乗じた額となります。"]
[" 　　　また、標準賞与額の上限は、健康保険は年間540万円（毎年4月1日から翌年3月31日までの累計額）となり、厚生年金保険と児童手当拠出金の場合は月間150万円となります。"]
[]
["　○児童手当拠出金"]
["　　　 厚生年金保険の被保険者を使用する事業主の方は、児童手当等の支給に要する費用の一部として児童手当拠出金を全額負担いただくことになります。この児童手当"]
["　　　 拠出金の額は、被保険者個々の厚生年金保険の標準報酬月額および標準賞与額に、拠出金率（0.15%）を乗じて得た額の総額となります。"]

{"sheet":"京都","index":35,"n_rows":86,"n_cols":24,"rows_kept":86,"cut":false,"hidden":true,"merged":[[74,0,74,24],[75,0,75,16],[85,0,85,24],[86,0,86,16],[77,0,77,23],[79,0,79,16],[80,0,80,21],[81,0,81,24],[83,0,83,21],[84,0,84,24],[76,0,76,23],[48,17,60,24],[62,0,62,25],[64,0,64,24],[65,0,65,24],[66,0,66,24],[68,0,68,24],[71,0,71,16],[72,0,72,24],[73,0,73,24],[6,21,8,24],[9,9,10,12],[9,13,10,16],[9,17,10,20],[9,21,10,24],[11,13,12,14],[11,15,12,16],[11,17,12,18],[11,19,12,20],[11,21,12,22],[11,1,12,1],[11,2,12,3],[11,4,12,5],[11,9,12,10],[11,11,12,12],[11,23,12,24],[0,1,1,24],[2,1,3,23],[4,1,4,16],[5,1,10,5],[5,6,12,8],[5,9,5,16],[5,17,5,24],[6,9,8,12],[6,13,8,16],[6,17,8,20]]}
[null,"平成26年9月分(10月納付分)からの健康保険・厚生年金保険の保険料額表"]
[]
[null,"     ‣健康保険料率：平成24年3月分～　適用　　‣厚生年金保険料率：平成26年9月分～平成27年8月分　適用\n     ‣介護保険料率：平成26年3月分～　適用　　‣児童手当拠出金率：平成24年4月分～　適用\n"]
[]
[null,"（京都府）",null,null,null,null,null,null,null,null,null,null,null,null,null,null,null,null,null,null,null,null,null,"（単位：円）"]
[null,"標　準　報　酬",null,null,null,null,"報　酬　月　額",null,null,"全国健康保険協会管掌健康保険料",null,null,null,null,null,null,null,"厚生年金保険料（厚生年金基金加入員を除く）"]
[null,null,null,null,null,null,null,null,null,"介護保険第２号被保険者\nに該当しない場合",null,null,null,"介護保険第２号被保険者\nに該当する場合",null,null,null,"一般の被保険者",null,null,null,"坑内員・船員"]
[]
[]
[null,null,null,null,null,null,null,null,null,9.98E-2,null,null,null,{"$f":"J10+0.0172","v":0.11699999999999999},null,null,null,0.17474000000000001,null,null,null,0.17688000000000001]
[]
[null,"等級","月　額",null,"日　額",null,null,null,null,"全　額",null,"折半額",null,"全　額",null,"折半額",null,"全　額",null,"折半額",null,"全　額",null,"折半額"]
[]
[null,null,null,null,null,null,"円以上",null,"円未満"]
[null,1,58000,null,1930,null,null,"～",63000,{"$f":"C15*$J$10","v":5788.4},null,{"$f":"J15/2","v":2894.2},null,{"$f":"C15*$N$10","v":6786},null,{"$f":"N15/2","v":3393}]
[null,2,68000,null,2270,null,63000,"～",73000,{"$f":"C16*$J$10","v":6786.4},null,{"$f":"J16/2","v":3393.2},null,{"$f":"C16*$N$10","v":7955.9999999999991},null,{"$f":"N16/2","v":3977.9999999999995}]
[null,3,78000,null,2600,null,73000,"～",83000,{"$f":"C17*$J$10","v":7784.4},null,{"$f":"J17/2","v":3892.2},null,{"$f":"C17*$N$10","v":9126},null,{"$f":"N17/2","v":4563}]
[null,4,88000,null,2930,null,83000,"～",93000,{"$f":"C18*$J$10","v":8782.4},null,{"$f":"J18/2","v":4391.2},null,{"$f":"C18*$N$10","v":10296},null,{"$f":"N18/2","v":5148}]
[null,"5(1)",98000,null,3270,null,93000,"～",101000,{"$f":"C19*$J$10","v":9780.4},null,{"$f":"J19/2","v":4890.2},null,{"$f":"C19*$N$10","v":11466},null,{"$f":"N19/2","v":5733},null,{"$f":"C19*$R$10","v":17124.52},null,{"$f":"R19/2","v":8562.26},null,{"$f":"C19*$V$10","v":17334.240000000002},null,{"$f":"V19/2","v":8667.1200000000008}]
[null,"6(2)",104000,null,3470,null,101000,"～",107000,{"$f":"C20*$J$10","v":10379.200000000001},null,{"$f":"J20/2","v":5189.6000000000004},null,{"$f":"C20*$N$10","v":12168},null,{"$f":"N20/2","v":6084},null,{"$f":"C20*$R$10","v":18172.96},null,{"$f":"R20/2","v":9086.48},null,{"$f":"C20*$V$10","v":18395.52},null,{"$f":"V20/2","v":9197.76}]
[null,"7(3)",110000,null,3670,null,107000,"～",114000,{"$f":"C21*$J$10","v":10978},null,{"$f":"J21/2","v":5489},null,{"$f":"C21*$N$10","v":12870},null,{"$f":"N21/2","v":6435},null,{"$f":"C21*$R$10","v":19221.400000000001},null,{"$f":"R21/2","v":9610.7000000000007},null,{"$f":"C21*$V$10","v":19456.8},null,{"$f":"V21/2","v":9728.4}]
[null,"8(4)",118000,null,3930,null,114000,"～",122000,{"$f":"C22*$J$10","v":11776.4},null,{"$f":"J22/2","v":5888.2},null,{"$f":"C22*$N$10","v":13806},null,{"$f":"N22/2","v":6903},null,{"$f":"C22*$R$10","v":20619.32},null,{"$f":"R22/2","v":10309.66},null,{"$f":"C22*$V$10","v":20871.84},null,{"$f":"V22/2","v":10435.92}]
[null,"9(5)",126000,null,4200,null,122000,"～",130000,{"$f":"C23*$J$10","v":12574.8},null,{"$f":"J23/2","v":6287.4},null,{"$f":"C23*$N$10","v":14742},null,{"$f":"N23/2","v":7371},null,{"$f":"C23*$R$10","v":22017.24},null,{"$f":"R23/2","v":11008.62},null,{"$f":"C23*$V$10","v":22286.880000000001},null,{"$f":"V23/2","v":11143.44}]
[null,"10(6)",134000,null,4470,null,130000,"～",138000,{"$f":"C24*$J$10","v":13373.2},null,{"$f":"J24/2","v":6686.6},null,{"$f":"C24*$N$10","v":15677.999999999998},null,{"$f":"N24/2","v":7838.9999999999991},null,{"$f":"C24*$R$10","v":23415.16},null,{"$f":"R24/2","v":11707.58},null,{"$f":"C24*$V$10","v":23701.920000000002},null,{"$f":"V24/2","v":11850.960000000001}]
[null,"11(7)",142000,null,4730,null,138000,"～",146000,{"$f":"C25*$J$10","v":14171.6},null,{"$f":"J25/2","v":7085.8},null,{"$f":"C25*$N$10","v":16614},null,{"$f":"N25/2","v":8307},null,{"$f":"C25*$R$10","v":24813.08},null,{"$f":"R25/2","v":12406.54},null,{"$f":"C25*$V$10","v":25116.960000000003},null,{"$f":"V25/2","v":12558.480000000001}]
[null,"12(8)",150000,null,5000,null,146000,"～",155000,{"$f":"C26*$J$10","v":14970},null,{"$f":"J26/2","v":7485},null,{"$f":"C26*$N$10","v":17550},null,{"$f":"N26/2","v":8775},null,{"$f":"C26*$R$10","v":26211},null,{"$f":"R26/2","v":13105.5},null,{"$f":"C26*$V$10","v":26532},null,{"$f":"V26/2","v":13266}]
[null,"13(9)",160000,null,5330,null,155000,"～",165000,{"$f":"C27*$J$10","v":15968},null,{"$f":"J27/2","v":7984},null,{"$f":"C27*$N$10","v":18720},null,{"$f":"N27/2","v":9360},null,{"$f":"C27*$R$10","v":27958.400000000001},null,{"$f":"R27/2","v":13979.2},null,{"$f":"C27*$V$10","v":28300.800000000003},null,{"$f":"V27/2","v":14150.400000000001}]
[null,"14(10)",170000,null,5670,null,165000,"～",175000,{"$f":"C28*$J$10","v":16966},null,{"$f":"J28/2","v":8483},null,{"$f":"C28*$N$10","v":19890},null,{"$f":"N28/2","v":9945},null,{"$f":"C28*$R$10","v":29705.800000000003},null,{"$f":"R28/2","v":14852.900000000001},null,{"$f":"C28*$V$10","v":30069.600000000002},null,{"$f":"V28/2","v":15034.800000000001}]
[null,"15(11)",180000,null,6000,null,175000,"～",185000,{"$f":"C29*$J$10","v":17964},null,{"$f":"J29/2","v":8982},null,{"$f":"C29*$N$10","v":21060},null,{"$f":"N29/2","v":10530},null,{"$f":"C29*$R$10","v":31453.200000000001},null,{"$f":"R29/2","v":15726.6},null,{"$f":"C29*$V$10","v":31838.400000000001},null,{"$f":"V29/2","v":15919.2}]
[null,"16(12)",190000,null,6330,null,185000,"～",195000,{"$f":"C30*$J$10","v":18962},null,{"$f":"J30/2","v":9481},null,{"$f":"C30*$N$10","v":22230},null,{"$f":"N30/2","v":11115},null,{"$f":"C30*$R$10","v":33200.6},null,{"$f":"R30/2","v":16600.3},null,{"$f":"C30*$V$10","v":33607.200000000004},null,{"$f":"V30/2","v":16803.600000000002}]
[null,"17(13)",200000,null,6670,null,195000,"～",210000,{"$f":"C31*$J$10","v":19960},null,{"$f":"J31/2","v":9980},null,{"$f":"C31*$N$10","v":23400},null,{"$f":"N31/2","v":11700},null,{"$f":"C31*$R$10","v":34948},null,{"$f":"R31/2","v":17474},null,{"$f":"C31*$V$10","v":35376},null,{"$f":"V31/2","v":17688}]
[null,"18(14)",220000,null,7330,null,210000,"～",230000,{"$f":"C32*$J$10","v":21956},null,{"$f":"J32/2","v":10978},null,{"$f":"C32*$N$10","v":25740},null,{"$f":"N32/2","v":12870},null,{"$f":"C32*$R$10","v":38442.800000000003},null,{"$f":"R32/2","v":19221.400000000001},null,{"$f":"C32*$V$10","v":38913.599999999999},null,{"$f":"V32/2","v":19456.8}]
[null,"19(15)",240000,null,8000,null,230000,"～",250000,{"$f":"C33*$J$10","v":23952},null,{"$f":"J33/2","v":11976},null,{"$f":"C33*$N$10","v":28080},null,{"$f":"N33/2","v":14040},null,{"$f":"C33*$R$10","v":41937.599999999999},null,{"$f":"R33/2","v":20968.8},null,{"$f":"C33*$V$10","v":42451.200000000004},null,{"$f":"V33/2","v":21225.600000000002}]
[null,"20(16)",260000,null,8670,null,250000,"～",270000,{"$f":"C34*$J$10","v":25948},null,{"$f":"J34/2","v":12974},null,{"$f":"C34*$N$10","v":30419.999999999996},null,{"$f":"N34/2","v":15209.999999999998},null,{"$f":"C34*$R$10","v":45432.4},null,{"$f":"R34/2","v":22716.2},null,{"$f":"C34*$V$10","v":45988.800000000003},null,{"$f":"V34/2","v":22994.400000000001}]
[null,"21(17)",280000,null,9330,null,270000,"～",290000,{"$f":"C35*$J$10","v":27944},null,{"$f":"J35/2","v":13972},null,{"$f":"C35*$N$10","v":32759.999999999996},null,{"$f":"N35/2","v":16379.999999999998},null,{"$f":"C35*$R$10","v":48927.200000000004},null,{"$f":"R35/2","v":24463.600000000002},null,{"$f":"C35*$V$10","v":49526.400000000001},null,{"$f":"V35/2","v":24763.200000000001}]
[null,"22(18)",300000,null,10000,null,290000,"～",310000,{"$f":"C36*$J$10","v":29940},null,{"$f":"J36/2","v":14970},null,{"$f":"C36*$N$10","v":35100},null,{"$f":"N36/2","v":17550},null,{"$f":"C36*$R$10","v":52422},null,{"$f":"R36/2","v":26211},null,{"$f":"C36*$V$10","v":53064},null,{"$f":"V36/2","v":26532}]
[null,"23(19)",320000,null,10670,null,310000,"～",330000,{"$f":"C37*$J$10","v":31936},null,{"$f":"J37/2","v":15968},null,{"$f":"C37*$N$10","v":37440},null,{"$f":"N37/2","v":18720},null,{"$f":"C37*$R$10","v":55916.800000000003},null,{"$f":"R37/2","v":27958.400000000001},null,{"$f":"C37*$V$10","v":56601.600000000006},null,{"$f":"V37/2","v":28300.800000000003}]
[null,"24(20)",340000,null,11330,null,330000,"～",350000,{"$f":"C38*$J$10","v":33932},null,{"$f":"J38/2","v":16966},null,{"$f":"C38*$N$10","v":39780},null,{"$f":"N38/2","v":19890},null,{"$f":"C38*$R$10","v":59411.600000000006},null,{"$f":"R38/2","v":29705.800000000003},null,{"$f":"C38*$V$10","v":60139.200000000004},null,{"$f":"V38/2","v":30069.600000000002}]
[null,"25(21)",360000,null,12000,null,350000,"～",370000,{"$f":"C39*$J$10","v":35928},null,{"$f":"J39/2","v":17964},null,{"$f":"C39*$N$10","v":42120},null,{"$f":"N39/2","v":21060},null,{"$f":"C39*$R$10","v":62906.400000000001},null,{"$f":"R39/2","v":31453.200000000001},null,{"$f":"C39*$V$10","v":63676.800000000003},null,{"$f":"V39/2","v":31838.400000000001}]
[null,"26(22)",380000,null,12670,null,370000,"～",395000,{"$f":"C40*$J$10","v":37924},null,{"$f":"J40/2","v":18962},null,{"$f":"C40*$N$10","v":44460},null,{"$f":"N40/2","v":22230},null,{"$f":"C40*$R$10","v":66401.2},null,{"$f":"R40/2","v":33200.6},null,{"$f":"C40*$V$10","v":67214.400000000009},null,{"$f":"V40/2","v":33607.200000000004}]
[null,"27(23)",410000,null,13670,null,395000,"～",425000,{"$f":"C41*$J$10","v":40918},null,{"$f":"J41/2","v":20459},null,{"$f":"C41*$N$10","v":47970},null,{"$f":"N41/2","v":23985},null,{"$f":"C41*$R$10","v":71643.400000000009},null,{"$f":"R41/2","v":35821.700000000004},null,{"$f":"C41*$V$10","v":72520.800000000003},null,{"$f":"V41/2","v":36260.400000000001}]
[null,"28(24)",440000,null,14670,null,425000,"～",455000,{"$f":"C42*$J$10","v":43912},null,{"$f":"J42/2","v":21956},null,{"$f":"C42*$N$10","v":51480},null,{"$f":"N42/2","v":25740},null,{"$f":"C42*$R$10","v":76885.600000000006},null,{"$f":"R42/2","v":38442.800000000003},null,{"$f":"C42*$V$10","v":77827.199999999997},null,{"$f":"V42/2","v":38913.599999999999}]
[null,"29(25)",470000,null,15670,null,455000,"～",485000,{"$f":"C43*$J$10","v":46906},null,{"$f":"J43/2","v":23453},null,{"$f":"C43*$N$10","v":54990},null,{"$f":"N43/2","v":27495},null,{"$f":"C43*$R$10","v":82127.8},null,{"$f":"R43/2","v":41063.9},null,{"$f":"C43*$V$10","v":83133.600000000006},null,{"$f":"V43/2","v":41566.800000000003}]
[null,"30(26)",500000,null,16670,null,485000,"～",515000,{"$f":"C44*$J$10","v":49900},null,{"$f":"J44/2","v":24950},null,{"$f":"C44*$N$10","v":58500},null,{"$f":"N44/2","v":29250},null,{"$f":"C44*$R$10","v":87370},null,{"$f":"R44/2","v":43685},null,{"$f":"C44*$V$10","v":88440},null,{"$f":"V44/2","v":44220}]
[null,"31(27)",530000,null,17670,null,515000,"～",545000,{"$f":"C45*$J$10","v":52894},null,{"$f":"J45/2","v":26447},null,{"$f":"C45*$N$10","v":62009.999999999993},null,{"$f":"N45/2","v":31004.999999999996},null,{"$f":"C45*$R$10","v":92612.2},null,{"$f":"R45/2","v":46306.1},null,{"$f":"C45*$V$10","v":93746.400000000009},null,{"$f":"V45/2","v":46873.200000000004}]
[null,"32(28)",560000,null,18670,null,545000,"～",575000,{"$f":"C46*$J$10","v":55888},null,{"$f":"J46/2","v":27944},null,{"$f":"C46*$N$10","v":65519.999999999993},null,{"$f":"N46/2","v":32759.999999999996},null,{"$f":"C46*$R$10","v":97854.400000000009},null,{"$f":"R46/2","v":48927.200000000004},null,{"$f":"C46*$V$10","v":99052.800000000003},null,{"$f":"V46/2","v":49526.400000000001}]
[null,"33(29)",590000,null,19670,null,575000,"～",605000,{"$f":"C47*$J$10","v":58882},null,{"$f":"J47/2","v":29441},null,{"$f":"C47*$N$10","v":69030},null,{"$f":"N47/2","v":34515},null,{"$f":"C47*$R$10","v":103096.6},null,{"$f":"R47/2","v":51548.3},null,{"$f":"C47*$V$10","v":104359.20000000001},null,{"$f":"V47/2","v":52179.600000000006}]
[null,"34(30)",620000,null,20670,null,605000,"～",635000,{"$f":"C48*$J$10","v":61876},null,{"$f":"J48/2","v":30938},null,{"$f":"C48*$N$10","v":72540},null,{"$f":"N48/2","v":36270},null,{"$f":"C48*$R$10","v":108338.8},null,{"$f":"R48/2","v":54169.4},null,{"$f":"C48*$V$10","v":109665.60000000001},null,{"$f":"V48/2","v":54832.800000000003}]
[null,35,650000,null,21670,null,635000,"～",665000,{"$f":"C49*$J$10","v":64870},null,{"$f":"J49/2","v":32435},null,{"$f":"C49*$N$10","v":76050},null,{"$f":"N49/2","v":38025},null,"※厚生年金基金に加入している方の厚生年金保険\n　料率は、基金ごとに定められている免除保険料\n　率(2.4%～5.0%)を控除した率となります。\n\n　●一般の被保険者の方　…12.474%～15.074%\n　●坑内員の被保険者の方…12.688%～15.288%\n\n　加入する基金ごとに異なりますので、免除保険\n　料率および厚生年金基金の掛金については、加\n　入する厚生年金基金にお問い合わせください。\n"]
[null,36,680000,null,22670,null,665000,"～",695000,{"$f":"C50*$J$10","v":67864},null,{"$f":"J50/2","v":33932},null,{"$f":"C50*$N$10","v":79560},null,{"$f":"N50/2","v":39780}]
[null,37,710000,null,23670,null,695000,"～",730000,{"$f":"C51*$J$10","v":70858},null,{"$f":"J51/2","v":35429},null,{"$f":"C51*$N$10","v":83070},null,{"$f":"N51/2","v":41535}]
[null,38,750000,null,25000,null,730000,"～",770000,{"$f":"C52*$J$10","v":74850},null,{"$f":"J52/2","v":37425},null,{"$f":"C52*$N$10","v":87750},null,{"$f":"N52/2","v":43875}]
[null,39,790000,null,26330,null,770000,"～",810000,{"$f":"C53*$J$10","v":78842},null,{"$f":"J53/2","v":39421},null,{"$f":"C53*$N$10","v":92430},null,{"$f":"N53/2","v":46215}]
[null,40,830000,null,27670,null,810000,"～",855000,{"$f":"C54*$J$10","v":82834},null,{"$f":"J54/2","v":41417},null,{"$f":"C54*$N$10","v":97110},null,{"$f":"N54/2","v":48555}]
[null,41,880000,null,29330,null,855000,"～",905000,{"$f":"C55*$J$10","v":87824},null,{"$f":"J55/2","v":43912},null,{"$f":"C55*$N$10","v":102960},null,{"$f":"N55/2","v":51480}]
[null,42,930000,null,31000,null,905000,"～",955000,{"$f":"C56*$J$10","v":92814},null,{"$f":"J56/2","v":46407},null,{"$f":"C56*$N$10","v":108810},null,{"$f":"N56/2","v":54405}]
[null,43,980000,null,32670,null,955000,"～",1005000,{"$f":"C57*$J$10","v":97804},null,{"$f":"J57/2","v":48902},null,{"$f":"C57*$N$10","v":114660},null,{"$f":"N57/2","v":57330}]
[null,44,1030000,null,34330,null,1005000,"～",1055000,{"$f":"C58*$J$10","v":102794},null,{"$f":"J58/2","v":51397},null,{"$f":"C58*$N$10","v":120509.99999999999},null,{"$f":"N58/2","v":60254.999999999993}]
[null,45,1090000,null,36330,null,1055000,"～",1115000,{"$f":"C59*$J$10","v":108782},null,{"$f":"J59/2","v":54391},null,{"$f":"C59*$N$10","v":127529.99999999999},null,{"$f":"N59/2","v":63764.999999999993}]
[null,46,1150000,null,38330,null,1115000,"～",1175000,{"$f":"C60*$J$10","v":114770},null,{"$f":"J60/2","v":57385},null,{"$f":"C60*$N$10","v":134550},null,{"$f":"N60/2","v":67275}]
[null,47,1210000,null,40330,null,1175000,"～",null,{"$f":"C61*$J$10","v":120758},null,{"$f":"J61/2","v":60379},null,{"$f":"C61*$N$10","v":141570},null,{"$f":"N61/2","v":70785}]
[]
[{"$f":"J10","v":9.98E-2}]
[null,""]
["◆等級欄の（　）内の数字は、厚生年金保険の標準報酬月額等級です。"]
["　5(1)等級の「報酬月額」欄は、厚生年金保険の場合「101,000円未満」と読み替えてください。"]
["　34(30)等級の「報酬月額」欄は、厚生年金保険の場合「605,000円以上」と読み替えてください。"]
[null,""]
["◆平成26年度における全国健康保険協会の任意継続被保険者について、標準報酬月額の上限は、280,000円です。"]
[]
[]
["　○被保険者負担分（表の折半額の欄）に円未満の端数がある場合"]
["　　　①事業主が、給与から被保険者負担分を控除する場合、被保険者負担分の端数が50銭以下の場合は切り捨て、50銭を超える場合は切り上げて1円となります。"]
["　　　②被保険者が、被保険者負担分を事業主へ現金で支払う場合、被保険者負担分の端数が50銭未満の場合は切り捨て、50銭以上の場合は切り上げて1円となります。"]
["　　　（注）①、②にかかわらず、事業主と被保険者の間で特約がある場合には、特約に基づき端数処理をすることができます。"]
[]
["　○納入告知書の保険料額"]
["　　　 納入告知書の保険料額は、被保険者個々の保険料額を合算した金額になります。ただし、合算した金額に円未満の端数がある場合は、その端数を切り捨てた額となります。"]
[]
["　○賞与に係る保険料"]
["　　　 賞与に係る保険料額は、賞与額から1,000円未満の端数を切り捨てた額（標準賞与額）に、保険料率を乗じた額となります。"]
[" 　　　また、標準賞与額の上限は、健康保険は年間540万円（毎年4月1日から翌年3月31日までの累計額）となり、厚生年金保険と児童手当拠出金の場合は月間150万円となります。"]
[]
["　○児童手当拠出金"]
["　　　 厚生年金保険の被保険者を使用する事業主の方は、児童手当等の支給に要する費用の一部として児童手当拠出金を全額負担いただくことになります。この児童手当"]
["　　　 拠出金の額は、被保険者個々の厚生年金保険の標準報酬月額および標準賞与額に、拠出金率（0.15%）を乗じて得た額の総額となります。"]

{"sheet":"大阪","index":36,"n_rows":86,"n_cols":24,"rows_kept":86,"cut":false,"hidden":true,"merged":[[74,0,74,24],[75,0,75,16],[85,0,85,24],[86,0,86,16],[77,0,77,23],[79,0,79,16],[80,0,80,21],[81,0,81,24],[83,0,83,21],[84,0,84,24],[76,0,76,23],[48,17,60,24],[62,0,62,25],[64,0,64,24],[65,0,65,24],[66,0,66,24],[68,0,68,24],[71,0,71,16],[72,0,72,24],[73,0,73,24],[6,21,8,24],[9,9,10,12],[9,13,10,16],[9,17,10,20],[9,21,10,24],[11,13,12,14],[11,15,12,16],[11,17,12,18],[11,19,12,20],[11,21,12,22],[11,1,12,1],[11,2,12,3],[11,4,12,5],[11,9,12,10],[11,11,12,12],[11,23,12,24],[0,1,1,24],[2,1,3,23],[4,1,4,16],[5,1,10,5],[5,6,12,8],[5,9,5,16],[5,17,5,24],[6,9,8,12],[6,13,8,16],[6,17,8,20]]}
[null,"平成26年9月分(10月納付分)からの健康保険・厚生年金保険の保険料額表"]
[]
[null,"     ‣健康保険料率：平成24年3月分～　適用　　‣厚生年金保険料率：平成26年9月分～平成27年8月分　適用\n     ‣介護保険料率：平成26年3月分～　適用　　‣児童手当拠出金率：平成24年4月分～　適用\n"]
[]
[null,"（大阪府）",null,null,null,null,null,null,null,null,null,null,null,null,null,null,null,null,null,null,null,null,null,"（単位：円）"]
[null,"標　準　報　酬",null,null,null,null,"報　酬　月　額",null,null,"全国健康保険協会管掌健康保険料",null,null,null,null,null,null,null,"厚生年金保険料（厚生年金基金加入員を除く）"]
[null,null,null,null,null,null,null,null,null,"介護保険第２号被保険者\nに該当しない場合",null,null,null,"介護保険第２号被保険者\nに該当する場合",null,null,null,"一般の被保険者",null,null,null,"坑内員・船員"]
[]
[]
[null,null,null,null,null,null,null,null,null,0.10059999999999999,null,null,null,{"$f":"J10+0.0172","v":0.11779999999999999},null,null,null,0.17474000000000001,null,null,null,0.17688000000000001]
[]
[null,"等級","月　額",null,"日　額",null,null,null,null,"全　額",null,"折半額",null,"全　額",null,"折半額",null,"全　額",null,"折半額",null,"全　額",null,"折半額"]
[]
[null,null,null,null,null,null,"円以上",null,"円未満"]
[null,1,58000,null,1930,null,null,"～",63000,{"$f":"C15*$J$10","v":5834.7999999999993},null,{"$f":"J15/2","v":2917.3999999999996},null,{"$f":"C15*$N$10","v":6832.4},null,{"$f":"N15/2","v":3416.2}]
[null,2,68000,null,2270,null,63000,"～",73000,{"$f":"C16*$J$10","v":6840.7999999999993},null,{"$f":"J16/2","v":3420.3999999999996},null,{"$f":"C16*$N$10","v":8010.4},null,{"$f":"N16/2","v":4005.2}]
[null,3,78000,null,2600,null,73000,"～",83000,{"$f":"C17*$J$10","v":7846.7999999999993},null,{"$f":"J17/2","v":3923.3999999999996},null,{"$f":"C17*$N$10","v":9188.4},null,{"$f":"N17/2","v":4594.2}]
[null,4,88000,null,2930,null,83000,"～",93000,{"$f":"C18*$J$10","v":8852.7999999999993},null,{"$f":"J18/2","v":4426.3999999999996},null,{"$f":"C18*$N$10","v":10366.4},null,{"$f":"N18/2","v":5183.2}]
[null,"5(1)",98000,null,3270,null,93000,"～",101000,{"$f":"C19*$J$10","v":9858.7999999999993},null,{"$f":"J19/2","v":4929.3999999999996},null,{"$f":"C19*$N$10","v":11544.4},null,{"$f":"N19/2","v":5772.2},null,{"$f":"C19*$R$10","v":17124.52},null,{"$f":"R19/2","v":8562.26},null,{"$f":"C19*$V$10","v":17334.240000000002},null,{"$f":"V19/2","v":8667.1200000000008}]
[null,"6(2)",104000,null,3470,null,101000,"～",107000,{"$f":"C20*$J$10","v":10462.4},null,{"$f":"J20/2","v":5231.2},null,{"$f":"C20*$N$10","v":12251.199999999999},null,{"$f":"N20/2","v":6125.5999999999995},null,{"$f":"C20*$R$10","v":18172.96},null,{"$f":"R20/2","v":9086.48},null,{"$f":"C20*$V$10","v":18395.52},null,{"$f":"V20/2","v":9197.76}]
[null,"7(3)",110000,null,3670,null,107000,"～",114000,{"$f":"C21*$J$10","v":11066},null,{"$f":"J21/2","v":5533},null,{"$f":"C21*$N$10","v":12957.999999999998},null,{"$f":"N21/2","v":6478.9999999999991},null,{"$f":"C21*$R$10","v":19221.400000000001},null,{"$f":"R21/2","v":9610.7000000000007},null,{"$f":"C21*$V$10","v":19456.8},null,{"$f":"V21/2","v":9728.4}]
[null,"8(4)",118000,null,3930,null,114000,"～",122000,{"$f":"C22*$J$10","v":11870.8},null,{"$f":"J22/2","v":5935.4},null,{"$f":"C22*$N$10","v":13900.399999999998},null,{"$f":"N22/2","v":6950.1999999999989},null,{"$f":"C22*$R$10","v":20619.32},null,{"$f":"R22/2","v":10309.66},null,{"$f":"C22*$V$10","v":20871.84},null,{"$f":"V22/2","v":10435.92}]
[null,"9(5)",126000,null,4200,null,122000,"～",130000,{"$f":"C23*$J$10","v":12675.599999999999},null,{"$f":"J23/2","v":6337.7999999999993},null,{"$f":"C23*$N$10","v":14842.8},null,{"$f":"N23/2","v":7421.4},null,{"$f":"C23*$R$10","v":22017.24},null,{"$f":"R23/2","v":11008.62},null,{"$f":"C23*$V$10","v":22286.880000000001},null,{"$f":"V23/2","v":11143.44}]
[null,"10(6)",134000,null,4470,null,130000,"～",138000,{"$f":"C24*$J$10","v":13480.4},null,{"$f":"J24/2","v":6740.2},null,{"$f":"C24*$N$10","v":15785.199999999999},null,{"$f":"N24/2","v":7892.5999999999995},null,{"$f":"C24*$R$10","v":23415.16},null,{"$f":"R24/2","v":11707.58},null,{"$f":"C24*$V$10","v":23701.920000000002},null,{"$f":"V24/2","v":11850.960000000001}]
[null,"11(7)",142000,null,4730,null,138000,"～",146000,{"$f":"C25*$J$10","v":14285.199999999999},null,{"$f":"J25/2","v":7142.5999999999995},null,{"$f":"C25*$N$10","v":16727.599999999999},null,{"$f":"N25/2","v":8363.7999999999993},null,{"$f":"C25*$R$10","v":24813.08},null,{"$f":"R25/2","v":12406.54},null,{"$f":"C25*$V$10","v":25116.960000000003},null,{"$f":"V25/2","v":12558.480000000001}]
[null,"12(8)",150000,null,5000,null,146000,"～",155000,{"$f":"C26*$J$10","v":15090},null,{"$f":"J26/2","v":7545},null,{"$f":"C26*$N$10","v":17670},null,{"$f":"N26/2","v":8835},null,{"$f":"C26*$R$10","v":26211},null,{"$f":"R26/2","v":13105.5},null,{"$f":"C26*$V$10","v":26532},null,{"$f":"V26/2","v":13266}]
[null,"13(9)",160000,null,5330,null,155000,"～",165000,{"$f":"C27*$J$10","v":16096},null,{"$f":"J27/2","v":8048},null,{"$f":"C27*$N$10","v":18847.999999999996},null,{"$f":"N27/2","v":9423.9999999999982},null,{"$f":"C27*$R$10","v":27958.400000000001},null,{"$f":"R27/2","v":13979.2},null,{"$f":"C27*$V$10","v":28300.800000000003},null,{"$f":"V27/2","v":14150.400000000001}]
[null,"14(10)",170000,null,5670,null,165000,"～",175000,{"$f":"C28*$J$10","v":17102},null,{"$f":"J28/2","v":8551},null,{"$f":"C28*$N$10","v":20025.999999999996},null,{"$f":"N28/2","v":10012.999999999998},null,{"$f":"C28*$R$10","v":29705.800000000003},null,{"$f":"R28/2","v":14852.900000000001},null,{"$f":"C28*$V$10","v":30069.600000000002},null,{"$f":"V28/2","v":15034.800000000001}]
[null,"15(11)",180000,null,6000,null,175000,"～",185000,{"$f":"C29*$J$10","v":18108},null,{"$f":"J29/2","v":9054},null,{"$f":"C29*$N$10","v":21203.999999999996},null,{"$f":"N29/2","v":10601.999999999998},null,{"$f":"C29*$R$10","v":31453.200000000001},null,{"$f":"R29/2","v":15726.6},null,{"$f":"C29*$V$10","v":31838.400000000001},null,{"$f":"V29/2","v":15919.2}]
[null,"16(12)",190000,null,6330,null,185000,"～",195000,{"$f":"C30*$J$10","v":19114},null,{"$f":"J30/2","v":9557},null,{"$f":"C30*$N$10","v":22381.999999999996},null,{"$f":"N30/2","v":11190.999999999998},null,{"$f":"C30*$R$10","v":33200.6},null,{"$f":"R30/2","v":16600.3},null,{"$f":"C30*$V$10","v":33607.200000000004},null,{"$f":"V30/2","v":16803.600000000002}]
[null,"17(13)",200000,null,6670,null,195000,"～",210000,{"$f":"C31*$J$10","v":20120},null,{"$f":"J31/2","v":10060},null,{"$f":"C31*$N$10","v":23559.999999999996},null,{"$f":"N31/2","v":11779.999999999998},null,{"$f":"C31*$R$10","v":34948},null,{"$f":"R31/2","v":17474},null,{"$f":"C31*$V$10","v":35376},null,{"$f":"V31/2","v":17688}]
[null,"18(14)",220000,null,7330,null,210000,"～",230000,{"$f":"C32*$J$10","v":22132},null,{"$f":"J32/2","v":11066},null,{"$f":"C32*$N$10","v":25915.999999999996},null,{"$f":"N32/2","v":12957.999999999998},null,{"$f":"C32*$R$10","v":38442.800000000003},null,{"$f":"R32/2","v":19221.400000000001},null,{"$f":"C32*$V$10","v":38913.599999999999},null,{"$f":"V32/2","v":19456.8}]
[null,"19(15)",240000,null,8000,null,230000,"～",250000,{"$f":"C33*$J$10","v":24144},null,{"$f":"J33/2","v":12072},null,{"$f":"C33*$N$10","v":28271.999999999996},null,{"$f":"N33/2","v":14135.999999999998},null,{"$f":"C33*$R$10","v":41937.599999999999},null,{"$f":"R33/2","v":20968.8},null,{"$f":"C33*$V$10","v":42451.200000000004},null,{"$f":"V33/2","v":21225.600000000002}]
[null,"20(16)",260000,null,8670,null,250000,"～",270000,{"$f":"C34*$J$10","v":26156},null,{"$f":"J34/2","v":13078},null,{"$f":"C34*$N$10","v":30627.999999999996},null,{"$f":"N34/2","v":15313.999999999998},null,{"$f":"C34*$R$10","v":45432.4},null,{"$f":"R34/2","v":22716.2},null,{"$f":"C34*$V$10","v":45988.800000000003},null,{"$f":"V34/2","v":22994.400000000001}]
[null,"21(17)",280000,null,9330,null,270000,"～",290000,{"$f":"C35*$J$10","v":28168},null,{"$f":"J35/2","v":14084},null,{"$f":"C35*$N$10","v":32984},null,{"$f":"N35/2","v":16492},null,{"$f":"C35*$R$10","v":48927.200000000004},null,{"$f":"R35/2","v":24463.600000000002},null,{"$f":"C35*$V$10","v":49526.400000000001},null,{"$f":"V35/2","v":24763.200000000001}]
[null,"22(18)",300000,null,10000,null,290000,"～",310000,{"$f":"C36*$J$10","v":30180},null,{"$f":"J36/2","v":15090},null,{"$f":"C36*$N$10","v":35340},null,{"$f":"N36/2","v":17670},null,{"$f":"C36*$R$10","v":52422},null,{"$f":"R36/2","v":26211},null,{"$f":"C36*$V$10","v":53064},null,{"$f":"V36/2","v":26532}]
[null,"23(19)",320000,null,10670,null,310000,"～",330000,{"$f":"C37*$J$10","v":32192},null,{"$f":"J37/2","v":16096},null,{"$f":"C37*$N$10","v":37695.999999999993},null,{"$f":"N37/2","v":18847.999999999996},null,{"$f":"C37*$R$10","v":55916.800000000003},null,{"$f":"R37/2","v":27958.400000000001},null,{"$f":"C37*$V$10","v":56601.600000000006},null,{"$f":"V37/2","v":28300.800000000003}]
[null,"24(20)",340000,null,11330,null,330000,"～",350000,{"$f":"C38*$J$10","v":34204},null,{"$f":"J38/2","v":17102},null,{"$f":"C38*$N$10","v":40051.999999999993},null,{"$f":"N38/2","v":20025.999999999996},null,{"$f":"C38*$R$10","v":59411.600000000006},null,{"$f":"R38/2","v":29705.800000000003},null,{"$f":"C38*$V$10","v":60139.200000000004},null,{"$f":"V38/2","v":30069.600000000002}]
[null,"25(21)",360000,null,12000,null,350000,"～",370000,{"$f":"C39*$J$10","v":36216},null,{"$f":"J39/2","v":18108},null,{"$f":"C39*$N$10","v":42407.999999999993},null,{"$f":"N39/2","v":21203.999999999996},null,{"$f":"C39*$R$10","v":62906.400000000001},null,{"$f":"R39/2","v":31453.200000000001},null,{"$f":"C39*$V$10","v":63676.800000000003},null,{"$f":"V39/2","v":31838.400000000001}]
[null,"26(22)",380000,null,12670,null,370000,"～",395000,{"$f":"C40*$J$10","v":38228},null,{"$f":"J40/2","v":19114},null,{"$f":"C40*$N$10","v":44763.999999999993},null,{"$f":"N40/2","v":22381.999999999996},null,{"$f":"C40*$R$10","v":66401.2},null,{"$f":"R40/2","v":33200.6},null,{"$f":"C40*$V$10","v":67214.400000000009},null,{"$f":"V40/2","v":33607.200000000004}]
[null,"27(23)",410000,null,13670,null,395000,"～",425000,{"$f":"C41*$J$10","v":41246},null,{"$f":"J41/2","v":20623},null,{"$f":"C41*$N$10","v":48297.999999999993},null,{"$f":"N41/2","v":24148.999999999996},null,{"$f":"C41*$R$10","v":71643.400000000009},null,{"$f":"R41/2","v":35821.700000000004},null,{"$f":"C41*$V$10","v":72520.800000000003},null,{"$f":"V41/2","v":36260.400000000001}]
[null,"28(24)",440000,null,14670,null,425000,"～",455000,{"$f":"C42*$J$10","v":44264},null,{"$f":"J42/2","v":22132},null,{"$f":"C42*$N$10","v":51831.999999999993},null,{"$f":"N42/2","v":25915.999999999996},null,{"$f":"C42*$R$10","v":76885.600000000006},null,{"$f":"R42/2","v":38442.800000000003},null,{"$f":"C42*$V$10","v":77827.199999999997},null,{"$f":"V42/2","v":38913.599999999999}]
[null,"29(25)",470000,null,15670,null,455000,"～",485000,{"$f":"C43*$J$10","v":47282},null,{"$f":"J43/2","v":23641},null,{"$f":"C43*$N$10","v":55365.999999999993},null,{"$f":"N43/2","v":27682.999999999996},null,{"$f":"C43*$R$10","v":82127.8},null,{"$f":"R43/2","v":41063.9},null,{"$f":"C43*$V$10","v":83133.600000000006},null,{"$f":"V43/2","v":41566.800000000003}]
[null,"30(26)",500000,null,16670,null,485000,"～",515000,{"$f":"C44*$J$10","v":50300},null,{"$f":"J44/2","v":25150},null,{"$f":"C44*$N$10","v":58899.999999999993},null,{"$f":"N44/2","v":29449.999999999996},null,{"$f":"C44*$R$10","v":87370},null,{"$f":"R44/2","v":43685},null,{"$f":"C44*$V$10","v":88440},null,{"$f":"V44/2","v":44220}]
[null,"31(27)",530000,null,17670,null,515000,"～",545000,{"$f":"C45*$J$10","v":53318},null,{"$f":"J45/2","v":26659},null,{"$f":"C45*$N$10","v":62433.999999999993},null,{"$f":"N45/2","v":31216.999999999996},null,{"$f":"C45*$R$10","v":92612.2},null,{"$f":"R45/2","v":46306.1},null,{"$f":"C45*$V$10","v":93746.400000000009},null,{"$f":"V45/2","v":46873.200000000004}]
[null,"32(28)",560000,null,18670,null,545000,"～",575000,{"$f":"C46*$J$10","v":56336},null,{"$f":"J46/2","v":28168},null,{"$f":"C46*$N$10","v":65968},null,{"$f":"N46/2","v":32984},null,{"$f":"C46*$R$10","v":97854.400000000009},null,{"$f":"R46/2","v":48927.200000000004},null,{"$f":"C46*$V$10","v":99052.800000000003},null,{"$f":"V46/2","v":49526.400000000001}]
[null,"33(29)",590000,null,19670,null,575000,"～",605000,{"$f":"C47*$J$10","v":59354},null,{"$f":"J47/2","v":29677},null,{"$f":"C47*$N$10","v":69502},null,{"$f":"N47/2","v":34751},null,{"$f":"C47*$R$10","v":103096.6},null,{"$f":"R47/2","v":51548.3},null,{"$f":"C47*$V$10","v":104359.20000000001},null,{"$f":"V47/2","v":52179.600000000006}]
[null,"34(30)",620000,null,20670,null,605000,"～",635000,{"$f":"C48*$J$10","v":62372},null,{"$f":"J48/2","v":31186},null,{"$f":"C48*$N$10","v":73035.999999999985},null,{"$f":"N48/2","v":36517.999999999993},null,{"$f":"C48*$R$10","v":108338.8},null,{"$f":"R48/2","v":54169.4},null,{"$f":"C48*$V$10","v":109665.60000000001},null,{"$f":"V48/2","v":54832.800000000003}]
[null,35,650000,null,21670,null,635000,"～",665000,{"$f":"C49*$J$10","v":65390},null,{"$f":"J49/2","v":32695},null,{"$f":"C49*$N$10","v":76569.999999999985},null,{"$f":"N49/2","v":38284.999999999993},null,"※厚生年金基金に加入している方の厚生年金保険\n　料率は、基金ごとに定められている免除保険料\n　率(2.4%～5.0%)を控除した率となります。\n\n　●一般の被保険者の方　…12.474%～15.074%\n　●坑内員の被保険者の方…12.688%～15.288%\n\n　加入する基金ごとに異なりますので、免除保険\n　料率および厚生年金基金の掛金については、加\n　入する厚生年金基金にお問い合わせください。\n"]
[null,36,680000,null,22670,null,665000,"～",695000,{"$f":"C50*$J$10","v":68408},null,{"$f":"J50/2","v":34204},null,{"$f":"C50*$N$10","v":80103.999999999985},null,{"$f":"N50/2","v":40051.999999999993}]
[null,37,710000,null,23670,null,695000,"～",730000,{"$f":"C51*$J$10","v":71426},null,{"$f":"J51/2","v":35713},null,{"$f":"C51*$N$10","v":83637.999999999985},null,{"$f":"N51/2","v":41818.999999999993}]
[null,38,750000,null,25000,null,730000,"～",770000,{"$f":"C52*$J$10","v":75450},null,{"$f":"J52/2","v":37725},null,{"$f":"C52*$N$10","v":88349.999999999985},null,{"$f":"N52/2","v":44174.999999999993}]
[null,39,790000,null,26330,null,770000,"～",810000,{"$f":"C53*$J$10","v":79474},null,{"$f":"J53/2","v":39737},null,{"$f":"C53*$N$10","v":93061.999999999985},null,{"$f":"N53/2","v":46530.999999999993}]
[null,40,830000,null,27670,null,810000,"～",855000,{"$f":"C54*$J$10","v":83498},null,{"$f":"J54/2","v":41749},null,{"$f":"C54*$N$10","v":97773.999999999985},null,{"$f":"N54/2","v":48886.999999999993}]
[null,41,880000,null,29330,null,855000,"～",905000,{"$f":"C55*$J$10","v":88528},null,{"$f":"J55/2","v":44264},null,{"$f":"C55*$N$10","v":103663.99999999999},null,{"$f":"N55/2","v":51831.999999999993}]
[null,42,930000,null,31000,null,905000,"～",955000,{"$f":"C56*$J$10","v":93558},null,{"$f":"J56/2","v":46779},null,{"$f":"C56*$N$10","v":109553.99999999999},null,{"$f":"N56/2","v":54776.999999999993}]
[null,43,980000,null,32670,null,955000,"～",1005000,{"$f":"C57*$J$10","v":98588},null,{"$f":"J57/2","v":49294},null,{"$f":"C57*$N$10","v":115443.99999999999},null,{"$f":"N57/2","v":57721.999999999993}]
[null,44,1030000,null,34330,null,1005000,"～",1055000,{"$f":"C58*$J$10","v":103618},null,{"$f":"J58/2","v":51809},null,{"$f":"C58*$N$10","v":121333.99999999999},null,{"$f":"N58/2","v":60666.999999999993}]
[null,45,1090000,null,36330,null,1055000,"～",1115000,{"$f":"C59*$J$10","v":109654},null,{"$f":"J59/2","v":54827},null,{"$f":"C59*$N$10","v":128401.99999999999},null,{"$f":"N59/2","v":64200.999999999993}]
[null,46,1150000,null,38330,null,1115000,"～",1175000,{"$f":"C60*$J$10","v":115690},null,{"$f":"J60/2","v":57845},null,{"$f":"C60*$N$10","v":135470},null,{"$f":"N60/2","v":67735}]
[null,47,1210000,null,40330,null,1175000,"～",null,{"$f":"C61*$J$10","v":121726},null,{"$f":"J61/2","v":60863},null,{"$f":"C61*$N$10","v":142538},null,{"$f":"N61/2","v":71269}]
[]
[{"$f":"J10","v":0.10059999999999999}]
[null,""]
["◆等級欄の（　）内の数字は、厚生年金保険の標準報酬月額等級です。"]
["　5(1)等級の「報酬月額」欄は、厚生年金保険の場合「101,000円未満」と読み替えてください。"]
["　34(30)等級の「報酬月額」欄は、厚生年金保険の場合「605,000円以上」と読み替えてください。"]
[null,""]
["◆平成26年度における全国健康保険協会の任意継続被保険者について、標準報酬月額の上限は、280,000円です。"]
[]
[]
["　○被保険者負担分（表の折半額の欄）に円未満の端数がある場合"]
["　　　①事業主が、給与から被保険者負担分を控除する場合、被保険者負担分の端数が50銭以下の場合は切り捨て、50銭を超える場合は切り上げて1円となります。"]
["　　　②被保険者が、被保険者負担分を事業主へ現金で支払う場合、被保険者負担分の端数が50銭未満の場合は切り捨て、50銭以上の場合は切り上げて1円となります。"]
["　　　（注）①、②にかかわらず、事業主と被保険者の間で特約がある場合には、特約に基づき端数処理をすることができます。"]
[]
["　○納入告知書の保険料額"]
["　　　 納入告知書の保険料額は、被保険者個々の保険料額を合算した金額になります。ただし、合算した金額に円未満の端数がある場合は、その端数を切り捨てた額となります。"]
[]
["　○賞与に係る保険料"]
["　　　 賞与に係る保険料額は、賞与額から1,000円未満の端数を切り捨てた額（標準賞与額）に、保険料率を乗じた額となります。"]
[" 　　　また、標準賞与額の上限は、健康保険は年間540万円（毎年4月1日から翌年3月31日までの累計額）となり、厚生年金保険と児童手当拠出金の場合は月間150万円となります。"]
[]
["　○児童手当拠出金"]
["　　　 厚生年金保険の被保険者を使用する事業主の方は、児童手当等の支給に要する費用の一部として児童手当拠出金を全額負担いただくことになります。この児童手当"]
["　　　 拠出金の額は、被保険者個々の厚生年金保険の標準報酬月額および標準賞与額に、拠出金率（0.15%）を乗じて得た額の総額となります。"]

{"sheet":"兵庫","index":37,"n_rows":86,"n_cols":24,"rows_kept":86,"cut":false,"hidden":true,"merged":[[74,0,74,24],[75,0,75,16],[85,0,85,24],[86,0,86,16],[77,0,77,23],[79,0,79,16],[80,0,80,21],[81,0,81,24],[83,0,83,21],[84,0,84,24],[76,0,76,23],[48,17,60,24],[62,0,62,25],[64,0,64,24],[65,0,65,24],[66,0,66,24],[68,0,68,24],[71,0,71,16],[72,0,72,24],[73,0,73,24],[6,21,8,24],[9,9,10,12],[9,13,10,16],[9,17,10,20],[9,21,10,24],[11,13,12,14],[11,15,12,16],[11,17,12,18],[11,19,12,20],[11,21,12,22],[11,1,12,1],[11,2,12,3],[11,4,12,5],[11,9,12,10],[11,11,12,12],[11,23,12,24],[0,1,1,24],[2,1,3,23],[4,1,4,16],[5,1,10,5],[5,6,12,8],[5,9,5,16],[5,17,5,24],[6,9,8,12],[6,13,8,16],[6,17,8,20]]}
[null,"平成26年9月分(10月納付分)からの健康保険・厚生年金保険の保険料額表"]
[]
[null,"     ‣健康保険料率：平成24年3月分～　適用　　‣厚生年金保険料率：平成26年9月分～平成27年8月分　適用\n     ‣介護保険料率：平成26年3月分～　適用　　‣児童手当拠出金率：平成24年4月分～　適用\n"]
[]
[null,"（兵庫県）",null,null,null,null,null,null,null,null,null,null,null,null,null,null,null,null,null,null,null,null,null,"（単位：円）"]
[null,"標　準　報　酬",null,null,null,null,"報　酬　月　額",null,null,"全国健康保険協会管掌健康保険料",null,null,null,null,null,null,null,"厚生年金保険料（厚生年金基金加入員を除く）"]
[null,null,null,null,null,null,null,null,null,"介護保険第２号被保険者\nに該当しない場合",null,null,null,"介護保険第２号被保険者\nに該当する場合",null,null,null,"一般の被保険者",null,null,null,"坑内員・船員"]
[]
[]
[null,null,null,null,null,null,null,null,null,0.1,null,null,null,{"$f":"J10+0.0172","v":0.1172},null,null,null,0.17474000000000001,null,null,null,0.17688000000000001]
[]
[null,"等級","月　額",null,"日　額",null,null,null,null,"全　額",null,"折半額",null,"全　額",null,"折半額",null,"全　額",null,"折半額",null,"全　額",null,"折半額"]
[]
[null,null,null,null,null,null,"円以上",null,"円未満"]
[null,1,58000,null,1930,null,null,"～",63000,{"$f":"C15*$J$10","v":5800},null,{"$f":"J15/2","v":2900},null,{"$f":"C15*$N$10","v":6797.6},null,{"$f":"N15/2","v":3398.8}]
[null,2,68000,null,2270,null,63000,"～",73000,{"$f":"C16*$J$10","v":6800},null,{"$f":"J16/2","v":3400},null,{"$f":"C16*$N$10","v":7969.5999999999995},null,{"$f":"N16/2","v":3984.7999999999997}]
[null,3,78000,null,2600,null,73000,"～",83000,{"$f":"C17*$J$10","v":7800},null,{"$f":"J17/2","v":3900},null,{"$f":"C17*$N$10","v":9141.6},null,{"$f":"N17/2","v":4570.8}]
[null,4,88000,null,2930,null,83000,"～",93000,{"$f":"C18*$J$10","v":8800},null,{"$f":"J18/2","v":4400},null,{"$f":"C18*$N$10","v":10313.6},null,{"$f":"N18/2","v":5156.8}]
[null,"5(1)",98000,null,3270,null,93000,"～",101000,{"$f":"C19*$J$10","v":9800},null,{"$f":"J19/2","v":4900},null,{"$f":"C19*$N$10","v":11485.6},null,{"$f":"N19/2","v":5742.8},null,{"$f":"C19*$R$10","v":17124.52},null,{"$f":"R19/2","v":8562.26},null,{"$f":"C19*$V$10","v":17334.240000000002},null,{"$f":"V19/2","v":8667.1200000000008}]
[null,"6(2)",104000,null,3470,null,101000,"～",107000,{"$f":"C20*$J$10","v":10400},null,{"$f":"J20/2","v":5200},null,{"$f":"C20*$N$10","v":12188.8},null,{"$f":"N20/2","v":6094.4},null,{"$f":"C20*$R$10","v":18172.96},null,{"$f":"R20/2","v":9086.48},null,{"$f":"C20*$V$10","v":18395.52},null,{"$f":"V20/2","v":9197.76}]
[null,"7(3)",110000,null,3670,null,107000,"～",114000,{"$f":"C21*$J$10","v":11000},null,{"$f":"J21/2","v":5500},null,{"$f":"C21*$N$10","v":12892},null,{"$f":"N21/2","v":6446},null,{"$f":"C21*$R$10","v":19221.400000000001},null,{"$f":"R21/2","v":9610.7000000000007},null,{"$f":"C21*$V$10","v":19456.8},null,{"$f":"V21/2","v":9728.4}]
[null,"8(4)",118000,null,3930,null,114000,"～",122000,{"$f":"C22*$J$10","v":11800},null,{"$f":"J22/2","v":5900},null,{"$f":"C22*$N$10","v":13829.6},null,{"$f":"N22/2","v":6914.8},null,{"$f":"C22*$R$10","v":20619.32},null,{"$f":"R22/2","v":10309.66},null,{"$f":"C22*$V$10","v":20871.84},null,{"$f":"V22/2","v":10435.92}]
[null,"9(5)",126000,null,4200,null,122000,"～",130000,{"$f":"C23*$J$10","v":12600},null,{"$f":"J23/2","v":6300},null,{"$f":"C23*$N$10","v":14767.2},null,{"$f":"N23/2","v":7383.6},null,{"$f":"C23*$R$10","v":22017.24},null,{"$f":"R23/2","v":11008.62},null,{"$f":"C23*$V$10","v":22286.880000000001},null,{"$f":"V23/2","v":11143.44}]
[null,"10(6)",134000,null,4470,null,130000,"～",138000,{"$f":"C24*$J$10","v":13400},null,{"$f":"J24/2","v":6700},null,{"$f":"C24*$N$10","v":15704.8},null,{"$f":"N24/2","v":7852.4},null,{"$f":"C24*$R$10","v":23415.16},null,{"$f":"R24/2","v":11707.58},null,{"$f":"C24*$V$10","v":23701.920000000002},null,{"$f":"V24/2","v":11850.960000000001}]
[null,"11(7)",142000,null,4730,null,138000,"～",146000,{"$f":"C25*$J$10","v":14200},null,{"$f":"J25/2","v":7100},null,{"$f":"C25*$N$10","v":16642.400000000001},null,{"$f":"N25/2","v":8321.2000000000007},null,{"$f":"C25*$R$10","v":24813.08},null,{"$f":"R25/2","v":12406.54},null,{"$f":"C25*$V$10","v":25116.960000000003},null,{"$f":"V25/2","v":12558.480000000001}]
[null,"12(8)",150000,null,5000,null,146000,"～",155000,{"$f":"C26*$J$10","v":15000},null,{"$f":"J26/2","v":7500},null,{"$f":"C26*$N$10","v":17580},null,{"$f":"N26/2","v":8790},null,{"$f":"C26*$R$10","v":26211},null,{"$f":"R26/2","v":13105.5},null,{"$f":"C26*$V$10","v":26532},null,{"$f":"V26/2","v":13266}]
[null,"13(9)",160000,null,5330,null,155000,"～",165000,{"$f":"C27*$J$10","v":16000},null,{"$f":"J27/2","v":8000},null,{"$f":"C27*$N$10","v":18752},null,{"$f":"N27/2","v":9376},null,{"$f":"C27*$R$10","v":27958.400000000001},null,{"$f":"R27/2","v":13979.2},null,{"$f":"C27*$V$10","v":28300.800000000003},null,{"$f":"V27/2","v":14150.400000000001}]
[null,"14(10)",170000,null,5670,null,165000,"～",175000,{"$f":"C28*$J$10","v":17000},null,{"$f":"J28/2","v":8500},null,{"$f":"C28*$N$10","v":19924},null,{"$f":"N28/2","v":9962},null,{"$f":"C28*$R$10","v":29705.800000000003},null,{"$f":"R28/2","v":14852.900000000001},null,{"$f":"C28*$V$10","v":30069.600000000002},null,{"$f":"V28/2","v":15034.800000000001}]
[null,"15(11)",180000,null,6000,null,175000,"～",185000,{"$f":"C29*$J$10","v":18000},null,{"$f":"J29/2","v":9000},null,{"$f":"C29*$N$10","v":21096},null,{"$f":"N29/2","v":10548},null,{"$f":"C29*$R$10","v":31453.200000000001},null,{"$f":"R29/2","v":15726.6},null,{"$f":"C29*$V$10","v":31838.400000000001},null,{"$f":"V29/2","v":15919.2}]
[null,"16(12)",190000,null,6330,null,185000,"～",195000,{"$f":"C30*$J$10","v":19000},null,{"$f":"J30/2","v":9500},null,{"$f":"C30*$N$10","v":22268},null,{"$f":"N30/2","v":11134},null,{"$f":"C30*$R$10","v":33200.6},null,{"$f":"R30/2","v":16600.3},null,{"$f":"C30*$V$10","v":33607.200000000004},null,{"$f":"V30/2","v":16803.600000000002}]
[null,"17(13)",200000,null,6670,null,195000,"～",210000,{"$f":"C31*$J$10","v":20000},null,{"$f":"J31/2","v":10000},null,{"$f":"C31*$N$10","v":23440},null,{"$f":"N31/2","v":11720},null,{"$f":"C31*$R$10","v":34948},null,{"$f":"R31/2","v":17474},null,{"$f":"C31*$V$10","v":35376},null,{"$f":"V31/2","v":17688}]
[null,"18(14)",220000,null,7330,null,210000,"～",230000,{"$f":"C32*$J$10","v":22000},null,{"$f":"J32/2","v":11000},null,{"$f":"C32*$N$10","v":25784},null,{"$f":"N32/2","v":12892},null,{"$f":"C32*$R$10","v":38442.800000000003},null,{"$f":"R32/2","v":19221.400000000001},null,{"$f":"C32*$V$10","v":38913.599999999999},null,{"$f":"V32/2","v":19456.8}]
[null,"19(15)",240000,null,8000,null,230000,"～",250000,{"$f":"C33*$J$10","v":24000},null,{"$f":"J33/2","v":12000},null,{"$f":"C33*$N$10","v":28128},null,{"$f":"N33/2","v":14064},null,{"$f":"C33*$R$10","v":41937.599999999999},null,{"$f":"R33/2","v":20968.8},null,{"$f":"C33*$V$10","v":42451.200000000004},null,{"$f":"V33/2","v":21225.600000000002}]
[null,"20(16)",260000,null,8670,null,250000,"～",270000,{"$f":"C34*$J$10","v":26000},null,{"$f":"J34/2","v":13000},null,{"$f":"C34*$N$10","v":30472},null,{"$f":"N34/2","v":15236},null,{"$f":"C34*$R$10","v":45432.4},null,{"$f":"R34/2","v":22716.2},null,{"$f":"C34*$V$10","v":45988.800000000003},null,{"$f":"V34/2","v":22994.400000000001}]
[null,"21(17)",280000,null,9330,null,270000,"～",290000,{"$f":"C35*$J$10","v":28000},null,{"$f":"J35/2","v":14000},null,{"$f":"C35*$N$10","v":32816},null,{"$f":"N35/2","v":16408},null,{"$f":"C35*$R$10","v":48927.200000000004},null,{"$f":"R35/2","v":24463.600000000002},null,{"$f":"C35*$V$10","v":49526.400000000001},null,{"$f":"V35/2","v":24763.200000000001}]
[null,"22(18)",300000,null,10000,null,290000,"～",310000,{"$f":"C36*$J$10","v":30000},null,{"$f":"J36/2","v":15000},null,{"$f":"C36*$N$10","v":35160},null,{"$f":"N36/2","v":17580},null,{"$f":"C36*$R$10","v":52422},null,{"$f":"R36/2","v":26211},null,{"$f":"C36*$V$10","v":53064},null,{"$f":"V36/2","v":26532}]
[null,"23(19)",320000,null,10670,null,310000,"～",330000,{"$f":"C37*$J$10","v":32000},null,{"$f":"J37/2","v":16000},null,{"$f":"C37*$N$10","v":37504},null,{"$f":"N37/2","v":18752},null,{"$f":"C37*$R$10","v":55916.800000000003},null,{"$f":"R37/2","v":27958.400000000001},null,{"$f":"C37*$V$10","v":56601.600000000006},null,{"$f":"V37/2","v":28300.800000000003}]
[null,"24(20)",340000,null,11330,null,330000,"～",350000,{"$f":"C38*$J$10","v":34000},null,{"$f":"J38/2","v":17000},null,{"$f":"C38*$N$10","v":39848},null,{"$f":"N38/2","v":19924},null,{"$f":"C38*$R$10","v":59411.600000000006},null,{"$f":"R38/2","v":29705.800000000003},null,{"$f":"C38*$V$10","v":60139.200000000004},null,{"$f":"V38/2","v":30069.600000000002}]
[null,"25(21)",360000,null,12000,null,350000,"～",370000,{"$f":"C39*$J$10","v":36000},null,{"$f":"J39/2","v":18000},null,{"$f":"C39*$N$10","v":42192},null,{"$f":"N39/2","v":21096},null,{"$f":"C39*$R$10","v":62906.400000000001},null,{"$f":"R39/2","v":31453.200000000001},null,{"$f":"C39*$V$10","v":63676.800000000003},null,{"$f":"V39/2","v":31838.400000000001}]
[null,"26(22)",380000,null,12670,null,370000,"～",395000,{"$f":"C40*$J$10","v":38000},null,{"$f":"J40/2","v":19000},null,{"$f":"C40*$N$10","v":44536},null,{"$f":"N40/2","v":22268},null,{"$f":"C40*$R$10","v":66401.2},null,{"$f":"R40/2","v":33200.6},null,{"$f":"C40*$V$10","v":67214.400000000009},null,{"$f":"V40/2","v":33607.200000000004}]
[null,"27(23)",410000,null,13670,null,395000,"～",425000,{"$f":"C41*$J$10","v":41000},null,{"$f":"J41/2","v":20500},null,{"$f":"C41*$N$10","v":48052},null,{"$f":"N41/2","v":24026},null,{"$f":"C41*$R$10","v":71643.400000000009},null,{"$f":"R41/2","v":35821.700000000004},null,{"$f":"C41*$V$10","v":72520.800000000003},null,{"$f":"V41/2","v":36260.400000000001}]
[null,"28(24)",440000,null,14670,null,425000,"～",455000,{"$f":"C42*$J$10","v":44000},null,{"$f":"J42/2","v":22000},null,{"$f":"C42*$N$10","v":51568},null,{"$f":"N42/2","v":25784},null,{"$f":"C42*$R$10","v":76885.600000000006},null,{"$f":"R42/2","v":38442.800000000003},null,{"$f":"C42*$V$10","v":77827.199999999997},null,{"$f":"V42/2","v":38913.599999999999}]
[null,"29(25)",470000,null,15670,null,455000,"～",485000,{"$f":"C43*$J$10","v":47000},null,{"$f":"J43/2","v":23500},null,{"$f":"C43*$N$10","v":55084},null,{"$f":"N43/2","v":27542},null,{"$f":"C43*$R$10","v":82127.8},null,{"$f":"R43/2","v":41063.9},null,{"$f":"C43*$V$10","v":83133.600000000006},null,{"$f":"V43/2","v":41566.800000000003}]
[null,"30(26)",500000,null,16670,null,485000,"～",515000,{"$f":"C44*$J$10","v":50000},null,{"$f":"J44/2","v":25000},null,{"$f":"C44*$N$10","v":58600},null,{"$f":"N44/2","v":29300},null,{"$f":"C44*$R$10","v":87370},null,{"$f":"R44/2","v":43685},null,{"$f":"C44*$V$10","v":88440},null,{"$f":"V44/2","v":44220}]
[null,"31(27)",530000,null,17670,null,515000,"～",545000,{"$f":"C45*$J$10","v":53000},null,{"$f":"J45/2","v":26500},null,{"$f":"C45*$N$10","v":62116},null,{"$f":"N45/2","v":31058},null,{"$f":"C45*$R$10","v":92612.2},null,{"$f":"R45/2","v":46306.1},null,{"$f":"C45*$V$10","v":93746.400000000009},null,{"$f":"V45/2","v":46873.200000000004}]
[null,"32(28)",560000,null,18670,null,545000,"～",575000,{"$f":"C46*$J$10","v":56000},null,{"$f":"J46/2","v":28000},null,{"$f":"C46*$N$10","v":65632},null,{"$f":"N46/2","v":32816},null,{"$f":"C46*$R$10","v":97854.400000000009},null,{"$f":"R46/2","v":48927.200000000004},null,{"$f":"C46*$V$10","v":99052.800000000003},null,{"$f":"V46/2","v":49526.400000000001}]
[null,"33(29)",590000,null,19670,null,575000,"～",605000,{"$f":"C47*$J$10","v":59000},null,{"$f":"J47/2","v":29500},null,{"$f":"C47*$N$10","v":69148},null,{"$f":"N47/2","v":34574},null,{"$f":"C47*$R$10","v":103096.6},null,{"$f":"R47/2","v":51548.3},null,{"$f":"C47*$V$10","v":104359.20000000001},null,{"$f":"V47/2","v":52179.600000000006}]
[null,"34(30)",620000,null,20670,null,605000,"～",635000,{"$f":"C48*$J$10","v":62000},null,{"$f":"J48/2","v":31000},null,{"$f":"C48*$N$10","v":72664},null,{"$f":"N48/2","v":36332},null,{"$f":"C48*$R$10","v":108338.8},null,{"$f":"R48/2","v":54169.4},null,{"$f":"C48*$V$10","v":109665.60000000001},null,{"$f":"V48/2","v":54832.800000000003}]
[null,35,650000,null,21670,null,635000,"～",665000,{"$f":"C49*$J$10","v":65000},null,{"$f":"J49/2","v":32500},null,{"$f":"C49*$N$10","v":76180},null,{"$f":"N49/2","v":38090},null,"※厚生年金基金に加入している方の厚生年金保険\n　料率は、基金ごとに定められている免除保険料\n　率(2.4%～5.0%)を控除した率となります。\n\n　●一般の被保険者の方　…12.474%～15.074%\n　●坑内員の被保険者の方…12.688%～15.288%\n\n　加入する基金ごとに異なりますので、免除保険\n　料率および厚生年金基金の掛金については、加\n　入する厚生年金基金にお問い合わせください。\n"]
[null,36,680000,null,22670,null,665000,"～",695000,{"$f":"C50*$J$10","v":68000},null,{"$f":"J50/2","v":34000},null,{"$f":"C50*$N$10","v":79696},null,{"$f":"N50/2","v":39848}]
[null,37,710000,null,23670,null,695000,"～",730000,{"$f":"C51*$J$10","v":71000},null,{"$f":"J51/2","v":35500},null,{"$f":"C51*$N$10","v":83212},null,{"$f":"N51/2","v":41606}]
[null,38,750000,null,25000,null,730000,"～",770000,{"$f":"C52*$J$10","v":75000},null,{"$f":"J52/2","v":37500},null,{"$f":"C52*$N$10","v":87900},null,{"$f":"N52/2","v":43950}]
[null,39,790000,null,26330,null,770000,"～",810000,{"$f":"C53*$J$10","v":79000},null,{"$f":"J53/2","v":39500},null,{"$f":"C53*$N$10","v":92588},null,{"$f":"N53/2","v":46294}]
[null,40,830000,null,27670,null,810000,"～",855000,{"$f":"C54*$J$10","v":83000},null,{"$f":"J54/2","v":41500},null,{"$f":"C54*$N$10","v":97276},null,{"$f":"N54/2","v":48638}]
[null,41,880000,null,29330,null,855000,"～",905000,{"$f":"C55*$J$10","v":88000},null,{"$f":"J55/2","v":44000},null,{"$f":"C55*$N$10","v":103136},null,{"$f":"N55/2","v":51568}]
[null,42,930000,null,31000,null,905000,"～",955000,{"$f":"C56*$J$10","v":93000},null,{"$f":"J56/2","v":46500},null,{"$f":"C56*$N$10","v":108996},null,{"$f":"N56/2","v":54498}]
[null,43,980000,null,32670,null,955000,"～",1005000,{"$f":"C57*$J$10","v":98000},null,{"$f":"J57/2","v":49000},null,{"$f":"C57*$N$10","v":114856},null,{"$f":"N57/2","v":57428}]
[null,44,1030000,null,34330,null,1005000,"～",1055000,{"$f":"C58*$J$10","v":103000},null,{"$f":"J58/2","v":51500},null,{"$f":"C58*$N$10","v":120716},null,{"$f":"N58/2","v":60358}]
[null,45,1090000,null,36330,null,1055000,"～",1115000,{"$f":"C59*$J$10","v":109000},null,{"$f":"J59/2","v":54500},null,{"$f":"C59*$N$10","v":127748},null,{"$f":"N59/2","v":63874}]
[null,46,1150000,null,38330,null,1115000,"～",1175000,{"$f":"C60*$J$10","v":115000},null,{"$f":"J60/2","v":57500},null,{"$f":"C60*$N$10","v":134780},null,{"$f":"N60/2","v":67390}]
[null,47,1210000,null,40330,null,1175000,"～",null,{"$f":"C61*$J$10","v":121000},null,{"$f":"J61/2","v":60500},null,{"$f":"C61*$N$10","v":141812},null,{"$f":"N61/2","v":70906}]
[]
[{"$f":"J10","v":0.1}]
[null,""]
["◆等級欄の（　）内の数字は、厚生年金保険の標準報酬月額等級です。"]
["　5(1)等級の「報酬月額」欄は、厚生年金保険の場合「101,000円未満」と読み替えてください。"]
["　34(30)等級の「報酬月額」欄は、厚生年金保険の場合「605,000円以上」と読み替えてください。"]
[null,""]
["◆平成26年度における全国健康保険協会の任意継続被保険者について、標準報酬月額の上限は、280,000円です。"]
[]
[]
["　○被保険者負担分（表の折半額の欄）に円未満の端数がある場合"]
["　　　①事業主が、給与から被保険者負担分を控除する場合、被保険者負担分の端数が50銭以下の場合は切り捨て、50銭を超える場合は切り上げて1円となります。"]
["　　　②被保険者が、被保険者負担分を事業主へ現金で支払う場合、被保険者負担分の端数が50銭未満の場合は切り捨て、50銭以上の場合は切り上げて1円となります。"]
["　　　（注）①、②にかかわらず、事業主と被保険者の間で特約がある場合には、特約に基づき端数処理をすることができます。"]
[]
["　○納入告知書の保険料額"]
["　　　 納入告知書の保険料額は、被保険者個々の保険料額を合算した金額になります。ただし、合算した金額に円未満の端数がある場合は、その端数を切り捨てた額となります。"]
[]
["　○賞与に係る保険料"]
["　　　 賞与に係る保険料額は、賞与額から1,000円未満の端数を切り捨てた額（標準賞与額）に、保険料率を乗じた額となります。"]
[" 　　　また、標準賞与額の上限は、健康保険は年間540万円（毎年4月1日から翌年3月31日までの累計額）となり、厚生年金保険と児童手当拠出金の場合は月間150万円となります。"]
[]
["　○児童手当拠出金"]
["　　　 厚生年金保険の被保険者を使用する事業主の方は、児童手当等の支給に要する費用の一部として児童手当拠出金を全額負担いただくことになります。この児童手当"]
["　　　 拠出金の額は、被保険者個々の厚生年金保険の標準報酬月額および標準賞与額に、拠出金率（0.15%）を乗じて得た額の総額となります。"]

{"sheet":"奈良","index":38,"n_rows":86,"n_cols":24,"rows_kept":86,"cut":false,"hidden":true,"merged":[[74,0,74,24],[75,0,75,16],[85,0,85,24],[86,0,86,16],[77,0,77,23],[79,0,79,16],[80,0,80,21],[81,0,81,24],[83,0,83,21],[84,0,84,24],[76,0,76,23],[48,17,60,24],[62,0,62,25],[64,0,64,24],[65,0,65,24],[66,0,66,24],[68,0,68,24],[71,0,71,16],[72,0,72,24],[73,0,73,24],[6,21,8,24],[9,9,10,12],[9,13,10,16],[9,17,10,20],[9,21,10,24],[11,13,12,14],[11,15,12,16],[11,17,12,18],[11,19,12,20],[11,21,12,22],[11,1,12,1],[11,2,12,3],[11,4,12,5],[11,9,12,10],[11,11,12,12],[11,23,12,24],[0,1,1,24],[2,1,3,23],[4,1,4,16],[5,1,10,5],[5,6,12,8],[5,9,5,16],[5,17,5,24],[6,9,8,12],[6,13,8,16],[6,17,8,20]]}
[null,"平成26年9月分(10月納付分)からの健康保険・厚生年金保険の保険料額表"]
[]
[null,"     ‣健康保険料率：平成24年3月分～　適用　　‣厚生年金保険料率：平成26年9月分～平成27年8月分　適用\n     ‣介護保険料率：平成26年3月分～　適用　　‣児童手当拠出金率：平成24年4月分～　適用\n"]
[]
[null,"（奈良県）",null,null,null,null,null,null,null,null,null,null,null,null,null,null,null,null,null,null,null,null,null,"（単位：円）"]
[null,"標　準　報　酬",null,null,null,null,"報　酬　月　額",null,null,"全国健康保険協会管掌健康保険料",null,null,null,null,null,null,null,"厚生年金保険料（厚生年金基金加入員を除く）"]
[null,null,null,null,null,null,null,null,null,"介護保険第２号被保険者\nに該当しない場合",null,null,null,"介護保険第２号被保険者\nに該当する場合",null,null,null,"一般の被保険者",null,null,null,"坑内員・船員"]
[]
[]
[null,null,null,null,null,null,null,null,null,0.1002,null,null,null,{"$f":"J10+0.0172","v":0.1174},null,null,null,0.17474000000000001,null,null,null,0.17688000000000001]
[]
[null,"等級","月　額",null,"日　額",null,null,null,null,"全　額",null,"折半額",null,"全　額",null,"折半額",null,"全　額",null,"折半額",null,"全　額",null,"折半額"]
[]
[null,null,null,null,null,null,"円以上",null,"円未満"]
[null,1,58000,null,1930,null,null,"～",63000,{"$f":"C15*$J$10","v":5811.5999999999995},null,{"$f":"J15/2","v":2905.7999999999997},null,{"$f":"C15*$N$10","v":6809.2},null,{"$f":"N15/2","v":3404.6}]
[null,2,68000,null,2270,null,63000,"～",73000,{"$f":"C16*$J$10","v":6813.5999999999995},null,{"$f":"J16/2","v":3406.7999999999997},null,{"$f":"C16*$N$10","v":7983.2000000000007},null,{"$f":"N16/2","v":3991.6000000000004}]
[null,3,78000,null,2600,null,73000,"～",83000,{"$f":"C17*$J$10","v":7815.5999999999995},null,{"$f":"J17/2","v":3907.7999999999997},null,{"$f":"C17*$N$10","v":9157.2000000000007},null,{"$f":"N17/2","v":4578.6000000000004}]
[null,4,88000,null,2930,null,83000,"～",93000,{"$f":"C18*$J$10","v":8817.6},null,{"$f":"J18/2","v":4408.8},null,{"$f":"C18*$N$10","v":10331.200000000001},null,{"$f":"N18/2","v":5165.6000000000004}]
[null,"5(1)",98000,null,3270,null,93000,"～",101000,{"$f":"C19*$J$10","v":9819.6},null,{"$f":"J19/2","v":4909.8},null,{"$f":"C19*$N$10","v":11505.2},null,{"$f":"N19/2","v":5752.6},null,{"$f":"C19*$R$10","v":17124.52},null,{"$f":"R19/2","v":8562.26},null,{"$f":"C19*$V$10","v":17334.240000000002},null,{"$f":"V19/2","v":8667.1200000000008}]
[null,"6(2)",104000,null,3470,null,101000,"～",107000,{"$f":"C20*$J$10","v":10420.799999999999},null,{"$f":"J20/2","v":5210.3999999999996},null,{"$f":"C20*$N$10","v":12209.6},null,{"$f":"N20/2","v":6104.8},null,{"$f":"C20*$R$10","v":18172.96},null,{"$f":"R20/2","v":9086.48},null,{"$f":"C20*$V$10","v":18395.52},null,{"$f":"V20/2","v":9197.76}]
[null,"7(3)",110000,null,3670,null,107000,"～",114000,{"$f":"C21*$J$10","v":11022},null,{"$f":"J21/2","v":5511},null,{"$f":"C21*$N$10","v":12914},null,{"$f":"N21/2","v":6457},null,{"$f":"C21*$R$10","v":19221.400000000001},null,{"$f":"R21/2","v":9610.7000000000007},null,{"$f":"C21*$V$10","v":19456.8},null,{"$f":"V21/2","v":9728.4}]
[null,"8(4)",118000,null,3930,null,114000,"～",122000,{"$f":"C22*$J$10","v":11823.6},null,{"$f":"J22/2","v":5911.8},null,{"$f":"C22*$N$10","v":13853.2},null,{"$f":"N22/2","v":6926.6},null,{"$f":"C22*$R$10","v":20619.32},null,{"$f":"R22/2","v":10309.66},null,{"$f":"C22*$V$10","v":20871.84},null,{"$f":"V22/2","v":10435.92}]
[null,"9(5)",126000,null,4200,null,122000,"～",130000,{"$f":"C23*$J$10","v":12625.199999999999},null,{"$f":"J23/2","v":6312.5999999999995},null,{"$f":"C23*$N$10","v":14792.400000000001},null,{"$f":"N23/2","v":7396.2000000000007},null,{"$f":"C23*$R$10","v":22017.24},null,{"$f":"R23/2","v":11008.62},null,{"$f":"C23*$V$10","v":22286.880000000001},null,{"$f":"V23/2","v":11143.44}]
[null,"10(6)",134000,null,4470,null,130000,"～",138000,{"$f":"C24*$J$10","v":13426.8},null,{"$f":"J24/2","v":6713.4},null,{"$f":"C24*$N$10","v":15731.6},null,{"$f":"N24/2","v":7865.8},null,{"$f":"C24*$R$10","v":23415.16},null,{"$f":"R24/2","v":11707.58},null,{"$f":"C24*$V$10","v":23701.920000000002},null,{"$f":"V24/2","v":11850.960000000001}]
[null,"11(7)",142000,null,4730,null,138000,"～",146000,{"$f":"C25*$J$10","v":14228.4},null,{"$f":"J25/2","v":7114.2},null,{"$f":"C25*$N$10","v":16670.8},null,{"$f":"N25/2","v":8335.4},null,{"$f":"C25*$R$10","v":24813.08},null,{"$f":"R25/2","v":12406.54},null,{"$f":"C25*$V$10","v":25116.960000000003},null,{"$f":"V25/2","v":12558.480000000001}]
[null,"12(8)",150000,null,5000,null,146000,"～",155000,{"$f":"C26*$J$10","v":15030},null,{"$f":"J26/2","v":7515},null,{"$f":"C26*$N$10","v":17610},null,{"$f":"N26/2","v":8805},null,{"$f":"C26*$R$10","v":26211},null,{"$f":"R26/2","v":13105.5},null,{"$f":"C26*$V$10","v":26532},null,{"$f":"V26/2","v":13266}]
[null,"13(9)",160000,null,5330,null,155000,"～",165000,{"$f":"C27*$J$10","v":16032},null,{"$f":"J27/2","v":8016},null,{"$f":"C27*$N$10","v":18784},null,{"$f":"N27/2","v":9392},null,{"$f":"C27*$R$10","v":27958.400000000001},null,{"$f":"R27/2","v":13979.2},null,{"$f":"C27*$V$10","v":28300.800000000003},null,{"$f":"V27/2","v":14150.400000000001}]
[null,"14(10)",170000,null,5670,null,165000,"～",175000,{"$f":"C28*$J$10","v":17034},null,{"$f":"J28/2","v":8517},null,{"$f":"C28*$N$10","v":19958},null,{"$f":"N28/2","v":9979},null,{"$f":"C28*$R$10","v":29705.800000000003},null,{"$f":"R28/2","v":14852.900000000001},null,{"$f":"C28*$V$10","v":30069.600000000002},null,{"$f":"V28/2","v":15034.800000000001}]
[null,"15(11)",180000,null,6000,null,175000,"～",185000,{"$f":"C29*$J$10","v":18036},null,{"$f":"J29/2","v":9018},null,{"$f":"C29*$N$10","v":21132},null,{"$f":"N29/2","v":10566},null,{"$f":"C29*$R$10","v":31453.200000000001},null,{"$f":"R29/2","v":15726.6},null,{"$f":"C29*$V$10","v":31838.400000000001},null,{"$f":"V29/2","v":15919.2}]
[null,"16(12)",190000,null,6330,null,185000,"～",195000,{"$f":"C30*$J$10","v":19038},null,{"$f":"J30/2","v":9519},null,{"$f":"C30*$N$10","v":22306},null,{"$f":"N30/2","v":11153},null,{"$f":"C30*$R$10","v":33200.6},null,{"$f":"R30/2","v":16600.3},null,{"$f":"C30*$V$10","v":33607.200000000004},null,{"$f":"V30/2","v":16803.600000000002}]
[null,"17(13)",200000,null,6670,null,195000,"～",210000,{"$f":"C31*$J$10","v":20040},null,{"$f":"J31/2","v":10020},null,{"$f":"C31*$N$10","v":23480},null,{"$f":"N31/2","v":11740},null,{"$f":"C31*$R$10","v":34948},null,{"$f":"R31/2","v":17474},null,{"$f":"C31*$V$10","v":35376},null,{"$f":"V31/2","v":17688}]
[null,"18(14)",220000,null,7330,null,210000,"～",230000,{"$f":"C32*$J$10","v":22044},null,{"$f":"J32/2","v":11022},null,{"$f":"C32*$N$10","v":25828},null,{"$f":"N32/2","v":12914},null,{"$f":"C32*$R$10","v":38442.800000000003},null,{"$f":"R32/2","v":19221.400000000001},null,{"$f":"C32*$V$10","v":38913.599999999999},null,{"$f":"V32/2","v":19456.8}]
[null,"19(15)",240000,null,8000,null,230000,"～",250000,{"$f":"C33*$J$10","v":24048},null,{"$f":"J33/2","v":12024},null,{"$f":"C33*$N$10","v":28176},null,{"$f":"N33/2","v":14088},null,{"$f":"C33*$R$10","v":41937.599999999999},null,{"$f":"R33/2","v":20968.8},null,{"$f":"C33*$V$10","v":42451.200000000004},null,{"$f":"V33/2","v":21225.600000000002}]
[null,"20(16)",260000,null,8670,null,250000,"～",270000,{"$f":"C34*$J$10","v":26052},null,{"$f":"J34/2","v":13026},null,{"$f":"C34*$N$10","v":30524},null,{"$f":"N34/2","v":15262},null,{"$f":"C34*$R$10","v":45432.4},null,{"$f":"R34/2","v":22716.2},null,{"$f":"C34*$V$10","v":45988.800000000003},null,{"$f":"V34/2","v":22994.400000000001}]
[null,"21(17)",280000,null,9330,null,270000,"～",290000,{"$f":"C35*$J$10","v":28056},null,{"$f":"J35/2","v":14028},null,{"$f":"C35*$N$10","v":32872},null,{"$f":"N35/2","v":16436},null,{"$f":"C35*$R$10","v":48927.200000000004},null,{"$f":"R35/2","v":24463.600000000002},null,{"$f":"C35*$V$10","v":49526.400000000001},null,{"$f":"V35/2","v":24763.200000000001}]
[null,"22(18)",300000,null,10000,null,290000,"～",310000,{"$f":"C36*$J$10","v":30060},null,{"$f":"J36/2","v":15030},null,{"$f":"C36*$N$10","v":35220},null,{"$f":"N36/2","v":17610},null,{"$f":"C36*$R$10","v":52422},null,{"$f":"R36/2","v":26211},null,{"$f":"C36*$V$10","v":53064},null,{"$f":"V36/2","v":26532}]
[null,"23(19)",320000,null,10670,null,310000,"～",330000,{"$f":"C37*$J$10","v":32064},null,{"$f":"J37/2","v":16032},null,{"$f":"C37*$N$10","v":37568},null,{"$f":"N37/2","v":18784},null,{"$f":"C37*$R$10","v":55916.800000000003},null,{"$f":"R37/2","v":27958.400000000001},null,{"$f":"C37*$V$10","v":56601.600000000006},null,{"$f":"V37/2","v":28300.800000000003}]
[null,"24(20)",340000,null,11330,null,330000,"～",350000,{"$f":"C38*$J$10","v":34068},null,{"$f":"J38/2","v":17034},null,{"$f":"C38*$N$10","v":39916},null,{"$f":"N38/2","v":19958},null,{"$f":"C38*$R$10","v":59411.600000000006},null,{"$f":"R38/2","v":29705.800000000003},null,{"$f":"C38*$V$10","v":60139.200000000004},null,{"$f":"V38/2","v":30069.600000000002}]
[null,"25(21)",360000,null,12000,null,350000,"～",370000,{"$f":"C39*$J$10","v":36072},null,{"$f":"J39/2","v":18036},null,{"$f":"C39*$N$10","v":42264},null,{"$f":"N39/2","v":21132},null,{"$f":"C39*$R$10","v":62906.400000000001},null,{"$f":"R39/2","v":31453.200000000001},null,{"$f":"C39*$V$10","v":63676.800000000003},null,{"$f":"V39/2","v":31838.400000000001}]
[null,"26(22)",380000,null,12670,null,370000,"～",395000,{"$f":"C40*$J$10","v":38076},null,{"$f":"J40/2","v":19038},null,{"$f":"C40*$N$10","v":44612},null,{"$f":"N40/2","v":22306},null,{"$f":"C40*$R$10","v":66401.2},null,{"$f":"R40/2","v":33200.6},null,{"$f":"C40*$V$10","v":67214.400000000009},null,{"$f":"V40/2","v":33607.200000000004}]
[null,"27(23)",410000,null,13670,null,395000,"～",425000,{"$f":"C41*$J$10","v":41082},null,{"$f":"J41/2","v":20541},null,{"$f":"C41*$N$10","v":48134},null,{"$f":"N41/2","v":24067},null,{"$f":"C41*$R$10","v":71643.400000000009},null,{"$f":"R41/2","v":35821.700000000004},null,{"$f":"C41*$V$10","v":72520.800000000003},null,{"$f":"V41/2","v":36260.400000000001}]
[null,"28(24)",440000,null,14670,null,425000,"～",455000,{"$f":"C42*$J$10","v":44088},null,{"$f":"J42/2","v":22044},null,{"$f":"C42*$N$10","v":51656},null,{"$f":"N42/2","v":25828},null,{"$f":"C42*$R$10","v":76885.600000000006},null,{"$f":"R42/2","v":38442.800000000003},null,{"$f":"C42*$V$10","v":77827.199999999997},null,{"$f":"V42/2","v":38913.599999999999}]
[null,"29(25)",470000,null,15670,null,455000,"～",485000,{"$f":"C43*$J$10","v":47094},null,{"$f":"J43/2","v":23547},null,{"$f":"C43*$N$10","v":55178},null,{"$f":"N43/2","v":27589},null,{"$f":"C43*$R$10","v":82127.8},null,{"$f":"R43/2","v":41063.9},null,{"$f":"C43*$V$10","v":83133.600000000006},null,{"$f":"V43/2","v":41566.800000000003}]
[null,"30(26)",500000,null,16670,null,485000,"～",515000,{"$f":"C44*$J$10","v":50100},null,{"$f":"J44/2","v":25050},null,{"$f":"C44*$N$10","v":58700},null,{"$f":"N44/2","v":29350},null,{"$f":"C44*$R$10","v":87370},null,{"$f":"R44/2","v":43685},null,{"$f":"C44*$V$10","v":88440},null,{"$f":"V44/2","v":44220}]
[null,"31(27)",530000,null,17670,null,515000,"～",545000,{"$f":"C45*$J$10","v":53106},null,{"$f":"J45/2","v":26553},null,{"$f":"C45*$N$10","v":62222},null,{"$f":"N45/2","v":31111},null,{"$f":"C45*$R$10","v":92612.2},null,{"$f":"R45/2","v":46306.1},null,{"$f":"C45*$V$10","v":93746.400000000009},null,{"$f":"V45/2","v":46873.200000000004}]
[null,"32(28)",560000,null,18670,null,545000,"～",575000,{"$f":"C46*$J$10","v":56112},null,{"$f":"J46/2","v":28056},null,{"$f":"C46*$N$10","v":65744},null,{"$f":"N46/2","v":32872},null,{"$f":"C46*$R$10","v":97854.400000000009},null,{"$f":"R46/2","v":48927.200000000004},null,{"$f":"C46*$V$10","v":99052.800000000003},null,{"$f":"V46/2","v":49526.400000000001}]
[null,"33(29)",590000,null,19670,null,575000,"～",605000,{"$f":"C47*$J$10","v":59118},null,{"$f":"J47/2","v":29559},null,{"$f":"C47*$N$10","v":69266},null,{"$f":"N47/2","v":34633},null,{"$f":"C47*$R$10","v":103096.6},null,{"$f":"R47/2","v":51548.3},null,{"$f":"C47*$V$10","v":104359.20000000001},null,{"$f":"V47/2","v":52179.600000000006}]
[null,"34(30)",620000,null,20670,null,605000,"～",635000,{"$f":"C48*$J$10","v":62124},null,{"$f":"J48/2","v":31062},null,{"$f":"C48*$N$10","v":72788},null,{"$f":"N48/2","v":36394},null,{"$f":"C48*$R$10","v":108338.8},null,{"$f":"R48/2","v":54169.4},null,{"$f":"C48*$V$10","v":109665.60000000001},null,{"$f":"V48/2","v":54832.800000000003}]
[null,35,650000,null,21670,null,635000,"～",665000,{"$f":"C49*$J$10","v":65130},null,{"$f":"J49/2","v":32565},null,{"$f":"C49*$N$10","v":76310},null,{"$f":"N49/2","v":38155},null,"※厚生年金基金に加入している方の厚生年金保険\n　料率は、基金ごとに定められている免除保険料\n　率(2.4%～5.0%)を控除した率となります。\n\n　●一般の被保険者の方　…12.474%～15.074%\n　●坑内員の被保険者の方…12.688%～15.288%\n\n　加入する基金ごとに異なりますので、免除保険\n　料率および厚生年金基金の掛金については、加\n　入する厚生年金基金にお問い合わせください。\n"]
[null,36,680000,null,22670,null,665000,"～",695000,{"$f":"C50*$J$10","v":68136},null,{"$f":"J50/2","v":34068},null,{"$f":"C50*$N$10","v":79832},null,{"$f":"N50/2","v":39916}]
[null,37,710000,null,23670,null,695000,"～",730000,{"$f":"C51*$J$10","v":71142},null,{"$f":"J51/2","v":35571},null,{"$f":"C51*$N$10","v":83354},null,{"$f":"N51/2","v":41677}]
[null,38,750000,null,25000,null,730000,"～",770000,{"$f":"C52*$J$10","v":75150},null,{"$f":"J52/2","v":37575},null,{"$f":"C52*$N$10","v":88050},null,{"$f":"N52/2","v":44025}]
[null,39,790000,null,26330,null,770000,"～",810000,{"$f":"C53*$J$10","v":79158},null,{"$f":"J53/2","v":39579},null,{"$f":"C53*$N$10","v":92746},null,{"$f":"N53/2","v":46373}]
[null,40,830000,null,27670,null,810000,"～",855000,{"$f":"C54*$J$10","v":83166},null,{"$f":"J54/2","v":41583},null,{"$f":"C54*$N$10","v":97442},null,{"$f":"N54/2","v":48721}]
[null,41,880000,null,29330,null,855000,"～",905000,{"$f":"C55*$J$10","v":88176},null,{"$f":"J55/2","v":44088},null,{"$f":"C55*$N$10","v":103312},null,{"$f":"N55/2","v":51656}]
[null,42,930000,null,31000,null,905000,"～",955000,{"$f":"C56*$J$10","v":93186},null,{"$f":"J56/2","v":46593},null,{"$f":"C56*$N$10","v":109182},null,{"$f":"N56/2","v":54591}]
[null,43,980000,null,32670,null,955000,"～",1005000,{"$f":"C57*$J$10","v":98196},null,{"$f":"J57/2","v":49098},null,{"$f":"C57*$N$10","v":115052},null,{"$f":"N57/2","v":57526}]
[null,44,1030000,null,34330,null,1005000,"～",1055000,{"$f":"C58*$J$10","v":103206},null,{"$f":"J58/2","v":51603},null,{"$f":"C58*$N$10","v":120922},null,{"$f":"N58/2","v":60461}]
[null,45,1090000,null,36330,null,1055000,"～",1115000,{"$f":"C59*$J$10","v":109218},null,{"$f":"J59/2","v":54609},null,{"$f":"C59*$N$10","v":127966},null,{"$f":"N59/2","v":63983}]
[null,46,1150000,null,38330,null,1115000,"～",1175000,{"$f":"C60*$J$10","v":115230},null,{"$f":"J60/2","v":57615},null,{"$f":"C60*$N$10","v":135010},null,{"$f":"N60/2","v":67505}]
[null,47,1210000,null,40330,null,1175000,"～",null,{"$f":"C61*$J$10","v":121242},null,{"$f":"J61/2","v":60621},null,{"$f":"C61*$N$10","v":142054},null,{"$f":"N61/2","v":71027}]
[]
[{"$f":"J10","v":0.1002}]
[null,""]
["◆等級欄の（　）内の数字は、厚生年金保険の標準報酬月額等級です。"]
["　5(1)等級の「報酬月額」欄は、厚生年金保険の場合「101,000円未満」と読み替えてください。"]
["　34(30)等級の「報酬月額」欄は、厚生年金保険の場合「605,000円以上」と読み替えてください。"]
[null,""]
["◆平成26年度における全国健康保険協会の任意継続被保険者について、標準報酬月額の上限は、280,000円です。"]
[]
[]
["　○被保険者負担分（表の折半額の欄）に円未満の端数がある場合"]
["　　　①事業主が、給与から被保険者負担分を控除する場合、被保険者負担分の端数が50銭以下の場合は切り捨て、50銭を超える場合は切り上げて1円となります。"]
["　　　②被保険者が、被保険者負担分を事業主へ現金で支払う場合、被保険者負担分の端数が50銭未満の場合は切り捨て、50銭以上の場合は切り上げて1円となります。"]
["　　　（注）①、②にかかわらず、事業主と被保険者の間で特約がある場合には、特約に基づき端数処理をすることができます。"]
[]
["　○納入告知書の保険料額"]
["　　　 納入告知書の保険料額は、被保険者個々の保険料額を合算した金額になります。ただし、合算した金額に円未満の端数がある場合は、その端数を切り捨てた額となります。"]
[]
["　○賞与に係る保険料"]
["　　　 賞与に係る保険料額は、賞与額から1,000円未満の端数を切り捨てた額（標準賞与額）に、保険料率を乗じた額となります。"]
[" 　　　また、標準賞与額の上限は、健康保険は年間540万円（毎年4月1日から翌年3月31日までの累計額）となり、厚生年金保険と児童手当拠出金の場合は月間150万円となります。"]
[]
["　○児童手当拠出金"]
["　　　 厚生年金保険の被保険者を使用する事業主の方は、児童手当等の支給に要する費用の一部として児童手当拠出金を全額負担いただくことになります。この児童手当"]
["　　　 拠出金の額は、被保険者個々の厚生年金保険の標準報酬月額および標準賞与額に、拠出金率（0.15%）を乗じて得た額の総額となります。"]

{"sheet":"和歌山","index":39,"n_rows":86,"n_cols":24,"rows_kept":86,"cut":false,"hidden":true,"merged":[[74,0,74,24],[75,0,75,16],[85,0,85,24],[86,0,86,16],[77,0,77,23],[79,0,79,16],[80,0,80,21],[81,0,81,24],[83,0,83,21],[84,0,84,24],[76,0,76,23],[48,17,60,24],[62,0,62,25],[64,0,64,24],[65,0,65,24],[66,0,66,24],[68,0,68,24],[71,0,71,16],[72,0,72,24],[73,0,73,24],[6,21,8,24],[9,9,10,12],[9,13,10,16],[9,17,10,20],[9,21,10,24],[11,13,12,14],[11,15,12,16],[11,17,12,18],[11,19,12,20],[11,21,12,22],[11,1,12,1],[11,2,12,3],[11,4,12,5],[11,9,12,10],[11,11,12,12],[11,23,12,24],[0,1,1,24],[2,1,3,23],[4,1,4,16],[5,1,10,5],[5,6,12,8],[5,9,5,16],[5,17,5,24],[6,9,8,12],[6,13,8,16],[6,17,8,20]]}
[null,"平成26年9月分(10月納付分)からの健康保険・厚生年金保険の保険料額表"]
[]
[null,"     ‣健康保険料率：平成24年3月分～　適用　　‣厚生年金保険料率：平成26年9月分～平成27年8月分　適用\n     ‣介護保険料率：平成26年3月分～　適用　　‣児童手当拠出金率：平成24年4月分～　適用\n"]
[]
[null,"（和歌山県）",null,null,null,null,null,null,null,null,null,null,null,null,null,null,null,null,null,null,null,null,null,"（単位：円）"]
[null,"標　準　報　酬",null,null,null,null,"報　酬　月　額",null,null,"全国健康保険協会管掌健康保険料",null,null,null,null,null,null,null,"厚生年金保険料（厚生年金基金加入員を除く）"]
[null,null,null,null,null,null,null,null,null,"介護保険第２号被保険者\nに該当しない場合",null,null,null,"介護保険第２号被保険者\nに該当する場合",null,null,null,"一般の被保険者",null,null,null,"坑内員・船員"]
[]
[]
[null,null,null,null,null,null,null,null,null,0.1002,null,null,null,{"$f":"J10+0.0172","v":0.1174},null,null,null,0.17474000000000001,null,null,null,0.17688000000000001]
[]
[null,"等級","月　額",null,"日　額",null,null,null,null,"全　額",null,"折半額",null,"全　額",null,"折半額",null,"全　額",null,"折半額",null,"全　額",null,"折半額"]
[]
[null,null,null,null,null,null,"円以上",null,"円未満"]
[null,1,58000,null,1930,null,null,"～",63000,{"$f":"C15*$J$10","v":5811.5999999999995},null,{"$f":"J15/2","v":2905.7999999999997},null,{"$f":"C15*$N$10","v":6809.2},null,{"$f":"N15/2","v":3404.6}]
[null,2,68000,null,2270,null,63000,"～",73000,{"$f":"C16*$J$10","v":6813.5999999999995},null,{"$f":"J16/2","v":3406.7999999999997},null,{"$f":"C16*$N$10","v":7983.2000000000007},null,{"$f":"N16/2","v":3991.6000000000004}]
[null,3,78000,null,2600,null,73000,"～",83000,{"$f":"C17*$J$10","v":7815.5999999999995},null,{"$f":"J17/2","v":3907.7999999999997},null,{"$f":"C17*$N$10","v":9157.2000000000007},null,{"$f":"N17/2","v":4578.6000000000004}]
[null,4,88000,null,2930,null,83000,"～",93000,{"$f":"C18*$J$10","v":8817.6},null,{"$f":"J18/2","v":4408.8},null,{"$f":"C18*$N$10","v":10331.200000000001},null,{"$f":"N18/2","v":5165.6000000000004}]
[null,"5(1)",98000,null,3270,null,93000,"～",101000,{"$f":"C19*$J$10","v":9819.6},null,{"$f":"J19/2","v":4909.8},null,{"$f":"C19*$N$10","v":11505.2},null,{"$f":"N19/2","v":5752.6},null,{"$f":"C19*$R$10","v":17124.52},null,{"$f":"R19/2","v":8562.26},null,{"$f":"C19*$V$10","v":17334.240000000002},null,{"$f":"V19/2","v":8667.1200000000008}]
[null,"6(2)",104000,null,3470,null,101000,"～",107000,{"$f":"C20*$J$10","v":10420.799999999999},null,{"$f":"J20/2","v":5210.3999999999996},null,{"$f":"C20*$N$10","v":12209.6},null,{"$f":"N20/2","v":6104.8},null,{"$f":"C20*$R$10","v":18172.96},null,{"$f":"R20/2","v":9086.48},null,{"$f":"C20*$V$10","v":18395.52},null,{"$f":"V20/2","v":9197.76}]
[null,"7(3)",110000,null,3670,null,107000,"～",114000,{"$f":"C21*$J$10","v":11022},null,{"$f":"J21/2","v":5511},null,{"$f":"C21*$N$10","v":12914},null,{"$f":"N21/2","v":6457},null,{"$f":"C21*$R$10","v":19221.400000000001},null,{"$f":"R21/2","v":9610.7000000000007},null,{"$f":"C21*$V$10","v":19456.8},null,{"$f":"V21/2","v":9728.4}]
[null,"8(4)",118000,null,3930,null,114000,"～",122000,{"$f":"C22*$J$10","v":11823.6},null,{"$f":"J22/2","v":5911.8},null,{"$f":"C22*$N$10","v":13853.2},null,{"$f":"N22/2","v":6926.6},null,{"$f":"C22*$R$10","v":20619.32},null,{"$f":"R22/2","v":10309.66},null,{"$f":"C22*$V$10","v":20871.84},null,{"$f":"V22/2","v":10435.92}]
[null,"9(5)",126000,null,4200,null,122000,"～",130000,{"$f":"C23*$J$10","v":12625.199999999999},null,{"$f":"J23/2","v":6312.5999999999995},null,{"$f":"C23*$N$10","v":14792.400000000001},null,{"$f":"N23/2","v":7396.2000000000007},null,{"$f":"C23*$R$10","v":22017.24},null,{"$f":"R23/2","v":11008.62},null,{"$f":"C23*$V$10","v":22286.880000000001},null,{"$f":"V23/2","v":11143.44}]
[null,"10(6)",134000,null,4470,null,130000,"～",138000,{"$f":"C24*$J$10","v":13426.8},null,{"$f":"J24/2","v":6713.4},null,{"$f":"C24*$N$10","v":15731.6},null,{"$f":"N24/2","v":7865.8},null,{"$f":"C24*$R$10","v":23415.16},null,{"$f":"R24/2","v":11707.58},null,{"$f":"C24*$V$10","v":23701.920000000002},null,{"$f":"V24/2","v":11850.960000000001}]
[null,"11(7)",142000,null,4730,null,138000,"～",146000,{"$f":"C25*$J$10","v":14228.4},null,{"$f":"J25/2","v":7114.2},null,{"$f":"C25*$N$10","v":16670.8},null,{"$f":"N25/2","v":8335.4},null,{"$f":"C25*$R$10","v":24813.08},null,{"$f":"R25/2","v":12406.54},null,{"$f":"C25*$V$10","v":25116.960000000003},null,{"$f":"V25/2","v":12558.480000000001}]
[null,"12(8)",150000,null,5000,null,146000,"～",155000,{"$f":"C26*$J$10","v":15030},null,{"$f":"J26/2","v":7515},null,{"$f":"C26*$N$10","v":17610},null,{"$f":"N26/2","v":8805},null,{"$f":"C26*$R$10","v":26211},null,{"$f":"R26/2","v":13105.5},null,{"$f":"C26*$V$10","v":26532},null,{"$f":"V26/2","v":13266}]
[null,"13(9)",160000,null,5330,null,155000,"～",165000,{"$f":"C27*$J$10","v":16032},null,{"$f":"J27/2","v":8016},null,{"$f":"C27*$N$10","v":18784},null,{"$f":"N27/2","v":9392},null,{"$f":"C27*$R$10","v":27958.400000000001},null,{"$f":"R27/2","v":13979.2},null,{"$f":"C27*$V$10","v":28300.800000000003},null,{"$f":"V27/2","v":14150.400000000001}]
[null,"14(10)",170000,null,5670,null,165000,"～",175000,{"$f":"C28*$J$10","v":17034},null,{"$f":"J28/2","v":8517},null,{"$f":"C28*$N$10","v":19958},null,{"$f":"N28/2","v":9979},null,{"$f":"C28*$R$10","v":29705.800000000003},null,{"$f":"R28/2","v":14852.900000000001},null,{"$f":"C28*$V$10","v":30069.600000000002},null,{"$f":"V28/2","v":15034.800000000001}]
[null,"15(11)",180000,null,6000,null,175000,"～",185000,{"$f":"C29*$J$10","v":18036},null,{"$f":"J29/2","v":9018},null,{"$f":"C29*$N$10","v":21132},null,{"$f":"N29/2","v":10566},null,{"$f":"C29*$R$10","v":31453.200000000001},null,{"$f":"R29/2","v":15726.6},null,{"$f":"C29*$V$10","v":31838.400000000001},null,{"$f":"V29/2","v":15919.2}]
[null,"16(12)",190000,null,6330,null,185000,"～",195000,{"$f":"C30*$J$10","v":19038},null,{"$f":"J30/2","v":9519},null,{"$f":"C30*$N$10","v":22306},null,{"$f":"N30/2","v":11153},null,{"$f":"C30*$R$10","v":33200.6},null,{"$f":"R30/2","v":16600.3},null,{"$f":"C30*$V$10","v":33607.200000000004},null,{"$f":"V30/2","v":16803.600000000002}]
[null,"17(13)",200000,null,6670,null,195000,"～",210000,{"$f":"C31*$J$10","v":20040},null,{"$f":"J31/2","v":10020},null,{"$f":"C31*$N$10","v":23480},null,{"$f":"N31/2","v":11740},null,{"$f":"C31*$R$10","v":34948},null,{"$f":"R31/2","v":17474},null,{"$f":"C31*$V$10","v":35376},null,{"$f":"V31/2","v":17688}]
[null,"18(14)",220000,null,7330,null,210000,"～",230000,{"$f":"C32*$J$10","v":22044},null,{"$f":"J32/2","v":11022},null,{"$f":"C32*$N$10","v":25828},null,{"$f":"N32/2","v":12914},null,{"$f":"C32*$R$10","v":38442.800000000003},null,{"$f":"R32/2","v":19221.400000000001},null,{"$f":"C32*$V$10","v":38913.599999999999},null,{"$f":"V32/2","v":19456.8}]
[null,"19(15)",240000,null,8000,null,230000,"～",250000,{"$f":"C33*$J$10","v":24048},null,{"$f":"J33/2","v":12024},null,{"$f":"C33*$N$10","v":28176},null,{"$f":"N33/2","v":14088},null,{"$f":"C33*$R$10","v":41937.599999999999},null,{"$f":"R33/2","v":20968.8},null,{"$f":"C33*$V$10","v":42451.200000000004},null,{"$f":"V33/2","v":21225.600000000002}]
[null,"20(16)",260000,null,8670,null,250000,"～",270000,{"$f":"C34*$J$10","v":26052},null,{"$f":"J34/2","v":13026},null,{"$f":"C34*$N$10","v":30524},null,{"$f":"N34/2","v":15262},null,{"$f":"C34*$R$10","v":45432.4},null,{"$f":"R34/2","v":22716.2},null,{"$f":"C34*$V$10","v":45988.800000000003},null,{"$f":"V34/2","v":22994.400000000001}]
[null,"21(17)",280000,null,9330,null,270000,"～",290000,{"$f":"C35*$J$10","v":28056},null,{"$f":"J35/2","v":14028},null,{"$f":"C35*$N$10","v":32872},null,{"$f":"N35/2","v":16436},null,{"$f":"C35*$R$10","v":48927.200000000004},null,{"$f":"R35/2","v":24463.600000000002},null,{"$f":"C35*$V$10","v":49526.400000000001},null,{"$f":"V35/2","v":24763.200000000001}]
[null,"22(18)",300000,null,10000,null,290000,"～",310000,{"$f":"C36*$J$10","v":30060},null,{"$f":"J36/2","v":15030},null,{"$f":"C36*$N$10","v":35220},null,{"$f":"N36/2","v":17610},null,{"$f":"C36*$R$10","v":52422},null,{"$f":"R36/2","v":26211},null,{"$f":"C36*$V$10","v":53064},null,{"$f":"V36/2","v":26532}]
[null,"23(19)",320000,null,10670,null,310000,"～",330000,{"$f":"C37*$J$10","v":32064},null,{"$f":"J37/2","v":16032},null,{"$f":"C37*$N$10","v":37568},null,{"$f":"N37/2","v":18784},null,{"$f":"C37*$R$10","v":55916.800000000003},null,{"$f":"R37/2","v":27958.400000000001},null,{"$f":"C37*$V$10","v":56601.600000000006},null,{"$f":"V37/2","v":28300.800000000003}]
[null,"24(20)",340000,null,11330,null,330000,"～",350000,{"$f":"C38*$J$10","v":34068},null,{"$f":"J38/2","v":17034},null,{"$f":"C38*$N$10","v":39916},null,{"$f":"N38/2","v":19958},null,{"$f":"C38*$R$10","v":59411.600000000006},null,{"$f":"R38/2","v":29705.800000000003},null,{"$f":"C38*$V$10","v":60139.200000000004},null,{"$f":"V38/2","v":30069.600000000002}]
[null,"25(21)",360000,null,12000,null,350000,"～",370000,{"$f":"C39*$J$10","v":36072},null,{"$f":"J39/2","v":18036},null,{"$f":"C39*$N$10","v":42264},null,{"$f":"N39/2","v":21132},null,{"$f":"C39*$R$10","v":62906.400000000001},null,{"$f":"R39/2","v":31453.200000000001},null,{"$f":"C39*$V$10","v":63676.800000000003},null,{"$f":"V39/2","v":31838.400000000001}]
[null,"26(22)",380000,null,12670,null,370000,"～",395000,{"$f":"C40*$J$10","v":38076},null,{"$f":"J40/2","v":19038},null,{"$f":"C40*$N$10","v":44612},null,{"$f":"N40/2","v":22306},null,{"$f":"C40*$R$10","v":66401.2},null,{"$f":"R40/2","v":33200.6},null,{"$f":"C40*$V$10","v":67214.400000000009},null,{"$f":"V40/2","v":33607.200000000004}]
[null,"27(23)",410000,null,13670,null,395000,"～",425000,{"$f":"C41*$J$10","v":41082},null,{"$f":"J41/2","v":20541},null,{"$f":"C41*$N$10","v":48134},null,{"$f":"N41/2","v":24067},null,{"$f":"C41*$R$10","v":71643.400000000009},null,{"$f":"R41/2","v":35821.700000000004},null,{"$f":"C41*$V$10","v":72520.800000000003},null,{"$f":"V41/2","v":36260.400000000001}]
[null,"28(24)",440000,null,14670,null,425000,"～",455000,{"$f":"C42*$J$10","v":44088},null,{"$f":"J42/2","v":22044},null,{"$f":"C42*$N$10","v":51656},null,{"$f":"N42/2","v":25828},null,{"$f":"C42*$R$10","v":76885.600000000006},null,{"$f":"R42/2","v":38442.800000000003},null,{"$f":"C42*$V$10","v":77827.199999999997},null,{"$f":"V42/2","v":38913.599999999999}]
[null,"29(25)",470000,null,15670,null,455000,"～",485000,{"$f":"C43*$J$10","v":47094},null,{"$f":"J43/2","v":23547},null,{"$f":"C43*$N$10","v":55178},null,{"$f":"N43/2","v":27589},null,{"$f":"C43*$R$10","v":82127.8},null,{"$f":"R43/2","v":41063.9},null,{"$f":"C43*$V$10","v":83133.600000000006},null,{"$f":"V43/2","v":41566.800000000003}]
[null,"30(26)",500000,null,16670,null,485000,"～",515000,{"$f":"C44*$J$10","v":50100},null,{"$f":"J44/2","v":25050},null,{"$f":"C44*$N$10","v":58700},null,{"$f":"N44/2","v":29350},null,{"$f":"C44*$R$10","v":87370},null,{"$f":"R44/2","v":43685},null,{"$f":"C44*$V$10","v":88440},null,{"$f":"V44/2","v":44220}]
[null,"31(27)",530000,null,17670,null,515000,"～",545000,{"$f":"C45*$J$10","v":53106},null,{"$f":"J45/2","v":26553},null,{"$f":"C45*$N$10","v":62222},null,{"$f":"N45/2","v":31111},null,{"$f":"C45*$R$10","v":92612.2},null,{"$f":"R45/2","v":46306.1},null,{"$f":"C45*$V$10","v":93746.400000000009},null,{"$f":"V45/2","v":46873.200000000004}]
[null,"32(28)",560000,null,18670,null,545000,"～",575000,{"$f":"C46*$J$10","v":56112},null,{"$f":"J46/2","v":28056},null,{"$f":"C46*$N$10","v":65744},null,{"$f":"N46/2","v":32872},null,{"$f":"C46*$R$10","v":97854.400000000009},null,{"$f":"R46/2","v":48927.200000000004},null,{"$f":"C46*$V$10","v":99052.800000000003},null,{"$f":"V46/2","v":49526.400000000001}]
[null,"33(29)",590000,null,19670,null,575000,"～",605000,{"$f":"C47*$J$10","v":59118},null,{"$f":"J47/2","v":29559},null,{"$f":"C47*$N$10","v":69266},null,{"$f":"N47/2","v":34633},null,{"$f":"C47*$R$10","v":103096.6},null,{"$f":"R47/2","v":51548.3},null,{"$f":"C47*$V$10","v":104359.20000000001},null,{"$f":"V47/2","v":52179.600000000006}]
[null,"34(30)",620000,null,20670,null,605000,"～",635000,{"$f":"C48*$J$10","v":62124},null,{"$f":"J48/2","v":31062},null,{"$f":"C48*$N$10","v":72788},null,{"$f":"N48/2","v":36394},null,{"$f":"C48*$R$10","v":108338.8},null,{"$f":"R48/2","v":54169.4},null,{"$f":"C48*$V$10","v":109665.60000000001},null,{"$f":"V48/2","v":54832.800000000003}]
[null,35,650000,null,21670,null,635000,"～",665000,{"$f":"C49*$J$10","v":65130},null,{"$f":"J49/2","v":32565},null,{"$f":"C49*$N$10","v":76310},null,{"$f":"N49/2","v":38155},null,"※厚生年金基金に加入している方の厚生年金保険\n　料率は、基金ごとに定められている免除保険料\n　率(2.4%～5.0%)を控除した率となります。\n\n　●一般の被保険者の方　…12.474%～15.074%\n　●坑内員の被保険者の方…12.688%～15.288%\n\n　加入する基金ごとに異なりますので、免除保険\n　料率および厚生年金基金の掛金については、加\n　入する厚生年金基金にお問い合わせください。\n"]
[null,36,680000,null,22670,null,665000,"～",695000,{"$f":"C50*$J$10","v":68136},null,{"$f":"J50/2","v":34068},null,{"$f":"C50*$N$10","v":79832},null,{"$f":"N50/2","v":39916}]
[null,37,710000,null,23670,null,695000,"～",730000,{"$f":"C51*$J$10","v":71142},null,{"$f":"J51/2","v":35571},null,{"$f":"C51*$N$10","v":83354},null,{"$f":"N51/2","v":41677}]
[null,38,750000,null,25000,null,730000,"～",770000,{"$f":"C52*$J$10","v":75150},null,{"$f":"J52/2","v":37575},null,{"$f":"C52*$N$10","v":88050},null,{"$f":"N52/2","v":44025}]
[null,39,790000,null,26330,null,770000,"～",810000,{"$f":"C53*$J$10","v":79158},null,{"$f":"J53/2","v":39579},null,{"$f":"C53*$N$10","v":92746},null,{"$f":"N53/2","v":46373}]
[null,40,830000,null,27670,null,810000,"～",855000,{"$f":"C54*$J$10","v":83166},null,{"$f":"J54/2","v":41583},null,{"$f":"C54*$N$10","v":97442},null,{"$f":"N54/2","v":48721}]
[null,41,880000,null,29330,null,855000,"～",905000,{"$f":"C55*$J$10","v":88176},null,{"$f":"J55/2","v":44088},null,{"$f":"C55*$N$10","v":103312},null,{"$f":"N55/2","v":51656}]
[null,42,930000,null,31000,null,905000,"～",955000,{"$f":"C56*$J$10","v":93186},null,{"$f":"J56/2","v":46593},null,{"$f":"C56*$N$10","v":109182},null,{"$f":"N56/2","v":54591}]
[null,43,980000,null,32670,null,955000,"～",1005000,{"$f":"C57*$J$10","v":98196},null,{"$f":"J57/2","v":49098},null,{"$f":"C57*$N$10","v":115052},null,{"$f":"N57/2","v":57526}]
[null,44,1030000,null,34330,null,1005000,"～",1055000,{"$f":"C58*$J$10","v":103206},null,{"$f":"J58/2","v":51603},null,{"$f":"C58*$N$10","v":120922},null,{"$f":"N58/2","v":60461}]
[null,45,1090000,null,36330,null,1055000,"～",1115000,{"$f":"C59*$J$10","v":109218},null,{"$f":"J59/2","v":54609},null,{"$f":"C59*$N$10","v":127966},null,{"$f":"N59/2","v":63983}]
[null,46,1150000,null,38330,null,1115000,"～",1175000,{"$f":"C60*$J$10","v":115230},null,{"$f":"J60/2","v":57615},null,{"$f":"C60*$N$10","v":135010},null,{"$f":"N60/2","v":67505}]
[null,47,1210000,null,40330,null,1175000,"～",null,{"$f":"C61*$J$10","v":121242},null,{"$f":"J61/2","v":60621},null,{"$f":"C61*$N$10","v":142054},null,{"$f":"N61/2","v":71027}]
[]
[{"$f":"J10","v":0.1002}]
[null,""]
["◆等級欄の（　）内の数字は、厚生年金保険の標準報酬月額等級です。"]
["　5(1)等級の「報酬月額」欄は、厚生年金保険の場合「101,000円未満」と読み替えてください。"]
["　34(30)等級の「報酬月額」欄は、厚生年金保険の場合「605,000円以上」と読み替えてください。"]
[null,""]
["◆平成26年度における全国健康保険協会の任意継続被保険者について、標準報酬月額の上限は、280,000円です。"]
[]
[]
["　○被保険者負担分（表の折半額の欄）に円未満の端数がある場合"]
["　　　①事業主が、給与から被保険者負担分を控除する場合、被保険者負担分の端数が50銭以下の場合は切り捨て、50銭を超える場合は切り上げて1円となります。"]
["　　　②被保険者が、被保険者負担分を事業主へ現金で支払う場合、被保険者負担分の端数が50銭未満の場合は切り捨て、50銭以上の場合は切り上げて1円となります。"]
["　　　（注）①、②にかかわらず、事業主と被保険者の間で特約がある場合には、特約に基づき端数処理をすることができます。"]
[]
["　○納入告知書の保険料額"]
["　　　 納入告知書の保険料額は、被保険者個々の保険料額を合算した金額になります。ただし、合算した金額に円未満の端数がある場合は、その端数を切り捨てた額となります。"]
[]
["　○賞与に係る保険料"]
["　　　 賞与に係る保険料額は、賞与額から1,000円未満の端数を切り捨てた額（標準賞与額）に、保険料率を乗じた額となります。"]
[" 　　　また、標準賞与額の上限は、健康保険は年間540万円（毎年4月1日から翌年3月31日までの累計額）となり、厚生年金保険と児童手当拠出金の場合は月間150万円となります。"]
[]
["　○児童手当拠出金"]
["　　　 厚生年金保険の被保険者を使用する事業主の方は、児童手当等の支給に要する費用の一部として児童手当拠出金を全額負担いただくことになります。この児童手当"]
["　　　 拠出金の額は、被保険者個々の厚生年金保険の標準報酬月額および標準賞与額に、拠出金率（0.15%）を乗じて得た額の総額となります。"]

{"sheet":"鳥取","index":40,"n_rows":86,"n_cols":24,"rows_kept":86,"cut":false,"hidden":true,"merged":[[74,0,74,24],[75,0,75,16],[85,0,85,24],[86,0,86,16],[77,0,77,23],[79,0,79,16],[80,0,80,21],[81,0,81,24],[83,0,83,21],[84,0,84,24],[76,0,76,23],[48,17,60,24],[62,0,62,25],[64,0,64,24],[65,0,65,24],[66,0,66,24],[68,0,68,24],[71,0,71,16],[72,0,72,24],[73,0,73,24],[6,21,8,24],[9,9,10,12],[9,13,10,16],[9,17,10,20],[9,21,10,24],[11,13,12,14],[11,15,12,16],[11,17,12,18],[11,19,12,20],[11,21,12,22],[11,1,12,1],[11,2,12,3],[11,4,12,5],[11,9,12,10],[11,11,12,12],[11,23,12,24],[0,1,1,24],[2,1,3,23],[4,1,4,16],[5,1,10,5],[5,6,12,8],[5,9,5,16],[5,17,5,24],[6,9,8,12],[6,13,8,16],[6,17,8,20]]}
[null,"平成26年9月分(10月納付分)からの健康保険・厚生年金保険の保険料額表"]
[]
[null,"     ‣健康保険料率：平成24年3月分～　適用　　‣厚生年金保険料率：平成26年9月分～平成27年8月分　適用\n     ‣介護保険料率：平成26年3月分～　適用　　‣児童手当拠出金率：平成24年4月分～　適用\n"]
[]
[null,"（鳥取県）",null,null,null,null,null,null,null,null,null,null,null,null,null,null,null,null,null,null,null,null,null,"（単位：円）"]
[null,"標　準　報　酬",null,null,null,null,"報　酬　月　額",null,null,"全国健康保険協会管掌健康保険料",null,null,null,null,null,null,null,"厚生年金保険料（厚生年金基金加入員を除く）"]
[null,null,null,null,null,null,null,null,null,"介護保険第２号被保険者\nに該当しない場合",null,null,null,"介護保険第２号被保険者\nに該当する場合",null,null,null,"一般の被保険者",null,null,null,"坑内員・船員"]
[]
[]
[null,null,null,null,null,null,null,null,null,9.98E-2,null,null,null,{"$f":"J10+0.0172","v":0.11699999999999999},null,null,null,0.17474000000000001,null,null,null,0.17688000000000001]
[]
[null,"等級","月　額",null,"日　額",null,null,null,null,"全　額",null,"折半額",null,"全　額",null,"折半額",null,"全　額",null,"折半額",null,"全　額",null,"折半額"]
[]
[null,null,null,null,null,null,"円以上",null,"円未満"]
[null,1,58000,null,1930,null,null,"～",63000,{"$f":"C15*$J$10","v":5788.4},null,{"$f":"J15/2","v":2894.2},null,{"$f":"C15*$N$10","v":6786},null,{"$f":"N15/2","v":3393}]
[null,2,68000,null,2270,null,63000,"～",73000,{"$f":"C16*$J$10","v":6786.4},null,{"$f":"J16/2","v":3393.2},null,{"$f":"C16*$N$10","v":7955.9999999999991},null,{"$f":"N16/2","v":3977.9999999999995}]
[null,3,78000,null,2600,null,73000,"～",83000,{"$f":"C17*$J$10","v":7784.4},null,{"$f":"J17/2","v":3892.2},null,{"$f":"C17*$N$10","v":9126},null,{"$f":"N17/2","v":4563}]
[null,4,88000,null,2930,null,83000,"～",93000,{"$f":"C18*$J$10","v":8782.4},null,{"$f":"J18/2","v":4391.2},null,{"$f":"C18*$N$10","v":10296},null,{"$f":"N18/2","v":5148}]
[null,"5(1)",98000,null,3270,null,93000,"～",101000,{"$f":"C19*$J$10","v":9780.4},null,{"$f":"J19/2","v":4890.2},null,{"$f":"C19*$N$10","v":11466},null,{"$f":"N19/2","v":5733},null,{"$f":"C19*$R$10","v":17124.52},null,{"$f":"R19/2","v":8562.26},null,{"$f":"C19*$V$10","v":17334.240000000002},null,{"$f":"V19/2","v":8667.1200000000008}]
[null,"6(2)",104000,null,3470,null,101000,"～",107000,{"$f":"C20*$J$10","v":10379.200000000001},null,{"$f":"J20/2","v":5189.6000000000004},null,{"$f":"C20*$N$10","v":12168},null,{"$f":"N20/2","v":6084},null,{"$f":"C20*$R$10","v":18172.96},null,{"$f":"R20/2","v":9086.48},null,{"$f":"C20*$V$10","v":18395.52},null,{"$f":"V20/2","v":9197.76}]
[null,"7(3)",110000,null,3670,null,107000,"～",114000,{"$f":"C21*$J$10","v":10978},null,{"$f":"J21/2","v":5489},null,{"$f":"C21*$N$10","v":12870},null,{"$f":"N21/2","v":6435},null,{"$f":"C21*$R$10","v":19221.400000000001},null,{"$f":"R21/2","v":9610.7000000000007},null,{"$f":"C21*$V$10","v":19456.8},null,{"$f":"V21/2","v":9728.4}]
[null,"8(4)",118000,null,3930,null,114000,"～",122000,{"$f":"C22*$J$10","v":11776.4},null,{"$f":"J22/2","v":5888.2},null,{"$f":"C22*$N$10","v":13806},null,{"$f":"N22/2","v":6903},null,{"$f":"C22*$R$10","v":20619.32},null,{"$f":"R22/2","v":10309.66},null,{"$f":"C22*$V$10","v":20871.84},null,{"$f":"V22/2","v":10435.92}]
[null,"9(5)",126000,null,4200,null,122000,"～",130000,{"$f":"C23*$J$10","v":12574.8},null,{"$f":"J23/2","v":6287.4},null,{"$f":"C23*$N$10","v":14742},null,{"$f":"N23/2","v":7371},null,{"$f":"C23*$R$10","v":22017.24},null,{"$f":"R23/2","v":11008.62},null,{"$f":"C23*$V$10","v":22286.880000000001},null,{"$f":"V23/2","v":11143.44}]
[null,"10(6)",134000,null,4470,null,130000,"～",138000,{"$f":"C24*$J$10","v":13373.2},null,{"$f":"J24/2","v":6686.6},null,{"$f":"C24*$N$10","v":15677.999999999998},null,{"$f":"N24/2","v":7838.9999999999991},null,{"$f":"C24*$R$10","v":23415.16},null,{"$f":"R24/2","v":11707.58},null,{"$f":"C24*$V$10","v":23701.920000000002},null,{"$f":"V24/2","v":11850.960000000001}]
[null,"11(7)",142000,null,4730,null,138000,"～",146000,{"$f":"C25*$J$10","v":14171.6},null,{"$f":"J25/2","v":7085.8},null,{"$f":"C25*$N$10","v":16614},null,{"$f":"N25/2","v":8307},null,{"$f":"C25*$R$10","v":24813.08},null,{"$f":"R25/2","v":12406.54},null,{"$f":"C25*$V$10","v":25116.960000000003},null,{"$f":"V25/2","v":12558.480000000001}]
[null,"12(8)",150000,null,5000,null,146000,"～",155000,{"$f":"C26*$J$10","v":14970},null,{"$f":"J26/2","v":7485},null,{"$f":"C26*$N$10","v":17550},null,{"$f":"N26/2","v":8775},null,{"$f":"C26*$R$10","v":26211},null,{"$f":"R26/2","v":13105.5},null,{"$f":"C26*$V$10","v":26532},null,{"$f":"V26/2","v":13266}]
[null,"13(9)",160000,null,5330,null,155000,"～",165000,{"$f":"C27*$J$10","v":15968},null,{"$f":"J27/2","v":7984},null,{"$f":"C27*$N$10","v":18720},null,{"$f":"N27/2","v":9360},null,{"$f":"C27*$R$10","v":27958.400000000001},null,{"$f":"R27/2","v":13979.2},null,{"$f":"C27*$V$10","v":28300.800000000003},null,{"$f":"V27/2","v":14150.400000000001}]
[null,"14(10)",170000,null,5670,null,165000,"～",175000,{"$f":"C28*$J$10","v":16966},null,{"$f":"J28/2","v":8483},null,{"$f":"C28*$N$10","v":19890},null,{"$f":"N28/2","v":9945},null,{"$f":"C28*$R$10","v":29705.800000000003},null,{"$f":"R28/2","v":14852.900000000001},null,{"$f":"C28*$V$10","v":30069.600000000002},null,{"$f":"V28/2","v":15034.800000000001}]
[null,"15(11)",180000,null,6000,null,175000,"～",185000,{"$f":"C29*$J$10","v":17964},null,{"$f":"J29/2","v":8982},null,{"$f":"C29*$N$10","v":21060},null,{"$f":"N29/2","v":10530},null,{"$f":"C29*$R$10","v":31453.200000000001},null,{"$f":"R29/2","v":15726.6},null,{"$f":"C29*$V$10","v":31838.400000000001},null,{"$f":"V29/2","v":15919.2}]
[null,"16(12)",190000,null,6330,null,185000,"～",195000,{"$f":"C30*$J$10","v":18962},null,{"$f":"J30/2","v":9481},null,{"$f":"C30*$N$10","v":22230},null,{"$f":"N30/2","v":11115},null,{"$f":"C30*$R$10","v":33200.6},null,{"$f":"R30/2","v":16600.3},null,{"$f":"C30*$V$10","v":33607.200000000004},null,{"$f":"V30/2","v":16803.600000000002}]
[null,"17(13)",200000,null,6670,null,195000,"～",210000,{"$f":"C31*$J$10","v":19960},null,{"$f":"J31/2","v":9980},null,{"$f":"C31*$N$10","v":23400},null,{"$f":"N31/2","v":11700},null,{"$f":"C31*$R$10","v":34948},null,{"$f":"R31/2","v":17474},null,{"$f":"C31*$V$10","v":35376},null,{"$f":"V31/2","v":17688}]
[null,"18(14)",220000,null,7330,null,210000,"～",230000,{"$f":"C32*$J$10","v":21956},null,{"$f":"J32/2","v":10978},null,{"$f":"C32*$N$10","v":25740},null,{"$f":"N32/2","v":12870},null,{"$f":"C32*$R$10","v":38442.800000000003},null,{"$f":"R32/2","v":19221.400000000001},null,{"$f":"C32*$V$10","v":38913.599999999999},null,{"$f":"V32/2","v":19456.8}]
[null,"19(15)",240000,null,8000,null,230000,"～",250000,{"$f":"C33*$J$10","v":23952},null,{"$f":"J33/2","v":11976},null,{"$f":"C33*$N$10","v":28080},null,{"$f":"N33/2","v":14040},null,{"$f":"C33*$R$10","v":41937.599999999999},null,{"$f":"R33/2","v":20968.8},null,{"$f":"C33*$V$10","v":42451.200000000004},null,{"$f":"V33/2","v":21225.600000000002}]
[null,"20(16)",260000,null,8670,null,250000,"～",270000,{"$f":"C34*$J$10","v":25948},null,{"$f":"J34/2","v":12974},null,{"$f":"C34*$N$10","v":30419.999999999996},null,{"$f":"N34/2","v":15209.999999999998},null,{"$f":"C34*$R$10","v":45432.4},null,{"$f":"R34/2","v":22716.2},null,{"$f":"C34*$V$10","v":45988.800000000003},null,{"$f":"V34/2","v":22994.400000000001}]
[null,"21(17)",280000,null,9330,null,270000,"～",290000,{"$f":"C35*$J$10","v":27944},null,{"$f":"J35/2","v":13972},null,{"$f":"C35*$N$10","v":32759.999999999996},null,{"$f":"N35/2","v":16379.999999999998},null,{"$f":"C35*$R$10","v":48927.200000000004},null,{"$f":"R35/2","v":24463.600000000002},null,{"$f":"C35*$V$10","v":49526.400000000001},null,{"$f":"V35/2","v":24763.200000000001}]
[null,"22(18)",300000,null,10000,null,290000,"～",310000,{"$f":"C36*$J$10","v":29940},null,{"$f":"J36/2","v":14970},null,{"$f":"C36*$N$10","v":35100},null,{"$f":"N36/2","v":17550},null,{"$f":"C36*$R$10","v":52422},null,{"$f":"R36/2","v":26211},null,{"$f":"C36*$V$10","v":53064},null,{"$f":"V36/2","v":26532}]
[null,"23(19)",320000,null,10670,null,310000,"～",330000,{"$f":"C37*$J$10","v":31936},null,{"$f":"J37/2","v":15968},null,{"$f":"C37*$N$10","v":37440},null,{"$f":"N37/2","v":18720},null,{"$f":"C37*$R$10","v":55916.800000000003},null,{"$f":"R37/2","v":27958.400000000001},null,{"$f":"C37*$V$10","v":56601.600000000006},null,{"$f":"V37/2","v":28300.800000000003}]
[null,"24(20)",340000,null,11330,null,330000,"～",350000,{"$f":"C38*$J$10","v":33932},null,{"$f":"J38/2","v":16966},null,{"$f":"C38*$N$10","v":39780},null,{"$f":"N38/2","v":19890},null,{"$f":"C38*$R$10","v":59411.600000000006},null,{"$f":"R38/2","v":29705.800000000003},null,{"$f":"C38*$V$10","v":60139.200000000004},null,{"$f":"V38/2","v":30069.600000000002}]
[null,"25(21)",360000,null,12000,null,350000,"～",370000,{"$f":"C39*$J$10","v":35928},null,{"$f":"J39/2","v":17964},null,{"$f":"C39*$N$10","v":42120},null,{"$f":"N39/2","v":21060},null,{"$f":"C39*$R$10","v":62906.400000000001},null,{"$f":"R39/2","v":31453.200000000001},null,{"$f":"C39*$V$10","v":63676.800000000003},null,{"$f":"V39/2","v":31838.400000000001}]
[null,"26(22)",380000,null,12670,null,370000,"～",395000,{"$f":"C40*$J$10","v":37924},null,{"$f":"J40/2","v":18962},null,{"$f":"C40*$N$10","v":44460},null,{"$f":"N40/2","v":22230},null,{"$f":"C40*$R$10","v":66401.2},null,{"$f":"R40/2","v":33200.6},null,{"$f":"C40*$V$10","v":67214.400000000009},null,{"$f":"V40/2","v":33607.200000000004}]
[null,"27(23)",410000,null,13670,null,395000,"～",425000,{"$f":"C41*$J$10","v":40918},null,{"$f":"J41/2","v":20459},null,{"$f":"C41*$N$10","v":47970},null,{"$f":"N41/2","v":23985},null,{"$f":"C41*$R$10","v":71643.400000000009},null,{"$f":"R41/2","v":35821.700000000004},null,{"$f":"C41*$V$10","v":72520.800000000003},null,{"$f":"V41/2","v":36260.400000000001}]
[null,"28(24)",440000,null,14670,null,425000,"～",455000,{"$f":"C42*$J$10","v":43912},null,{"$f":"J42/2","v":21956},null,{"$f":"C42*$N$10","v":51480},null,{"$f":"N42/2","v":25740},null,{"$f":"C42*$R$10","v":76885.600000000006},null,{"$f":"R42/2","v":38442.800000000003},null,{"$f":"C42*$V$10","v":77827.199999999997},null,{"$f":"V42/2","v":38913.599999999999}]
[null,"29(25)",470000,null,15670,null,455000,"～",485000,{"$f":"C43*$J$10","v":46906},null,{"$f":"J43/2","v":23453},null,{"$f":"C43*$N$10","v":54990},null,{"$f":"N43/2","v":27495},null,{"$f":"C43*$R$10","v":82127.8},null,{"$f":"R43/2","v":41063.9},null,{"$f":"C43*$V$10","v":83133.600000000006},null,{"$f":"V43/2","v":41566.800000000003}]
[null,"30(26)",500000,null,16670,null,485000,"～",515000,{"$f":"C44*$J$10","v":49900},null,{"$f":"J44/2","v":24950},null,{"$f":"C44*$N$10","v":58500},null,{"$f":"N44/2","v":29250},null,{"$f":"C44*$R$10","v":87370},null,{"$f":"R44/2","v":43685},null,{"$f":"C44*$V$10","v":88440},null,{"$f":"V44/2","v":44220}]
[null,"31(27)",530000,null,17670,null,515000,"～",545000,{"$f":"C45*$J$10","v":52894},null,{"$f":"J45/2","v":26447},null,{"$f":"C45*$N$10","v":62009.999999999993},null,{"$f":"N45/2","v":31004.999999999996},null,{"$f":"C45*$R$10","v":92612.2},null,{"$f":"R45/2","v":46306.1},null,{"$f":"C45*$V$10","v":93746.400000000009},null,{"$f":"V45/2","v":46873.200000000004}]
[null,"32(28)",560000,null,18670,null,545000,"～",575000,{"$f":"C46*$J$10","v":55888},null,{"$f":"J46/2","v":27944},null,{"$f":"C46*$N$10","v":65519.999999999993},null,{"$f":"N46/2","v":32759.999999999996},null,{"$f":"C46*$R$10","v":97854.400000000009},null,{"$f":"R46/2","v":48927.200000000004},null,{"$f":"C46*$V$10","v":99052.800000000003},null,{"$f":"V46/2","v":49526.400000000001}]
[null,"33(29)",590000,null,19670,null,575000,"～",605000,{"$f":"C47*$J$10","v":58882},null,{"$f":"J47/2","v":29441},null,{"$f":"C47*$N$10","v":69030},null,{"$f":"N47/2","v":34515},null,{"$f":"C47*$R$10","v":103096.6},null,{"$f":"R47/2","v":51548.3},null,{"$f":"C47*$V$10","v":104359.20000000001},null,{"$f":"V47/2","v":52179.600000000006}]
[null,"34(30)",620000,null,20670,null,605000,"～",635000,{"$f":"C48*$J$10","v":61876},null,{"$f":"J48/2","v":30938},null,{"$f":"C48*$N$10","v":72540},null,{"$f":"N48/2","v":36270},null,{"$f":"C48*$R$10","v":108338.8},null,{"$f":"R48/2","v":54169.4},null,{"$f":"C48*$V$10","v":109665.60000000001},null,{"$f":"V48/2","v":54832.800000000003}]
[null,35,650000,null,21670,null,635000,"～",665000,{"$f":"C49*$J$10","v":64870},null,{"$f":"J49/2","v":32435},null,{"$f":"C49*$N$10","v":76050},null,{"$f":"N49/2","v":38025},null,"※厚生年金基金に加入している方の厚生年金保険\n　料率は、基金ごとに定められている免除保険料\n　率(2.4%～5.0%)を控除した率となります。\n\n　●一般の被保険者の方　…12.474%～15.074%\n　●坑内員の被保険者の方…12.688%～15.288%\n\n　加入する基金ごとに異なりますので、免除保険\n　料率および厚生年金基金の掛金については、加\n　入する厚生年金基金にお問い合わせください。\n"]
[null,36,680000,null,22670,null,665000,"～",695000,{"$f":"C50*$J$10","v":67864},null,{"$f":"J50/2","v":33932},null,{"$f":"C50*$N$10","v":79560},null,{"$f":"N50/2","v":39780}]
[null,37,710000,null,23670,null,695000,"～",730000,{"$f":"C51*$J$10","v":70858},null,{"$f":"J51/2","v":35429},null,{"$f":"C51*$N$10","v":83070},null,{"$f":"N51/2","v":41535}]
[null,38,750000,null,25000,null,730000,"～",770000,{"$f":"C52*$J$10","v":74850},null,{"$f":"J52/2","v":37425},null,{"$f":"C52*$N$10","v":87750},null,{"$f":"N52/2","v":43875}]
[null,39,790000,null,26330,null,770000,"～",810000,{"$f":"C53*$J$10","v":78842},null,{"$f":"J53/2","v":39421},null,{"$f":"C53*$N$10","v":92430},null,{"$f":"N53/2","v":46215}]
[null,40,830000,null,27670,null,810000,"～",855000,{"$f":"C54*$J$10","v":82834},null,{"$f":"J54/2","v":41417},null,{"$f":"C54*$N$10","v":97110},null,{"$f":"N54/2","v":48555}]
[null,41,880000,null,29330,null,855000,"～",905000,{"$f":"C55*$J$10","v":87824},null,{"$f":"J55/2","v":43912},null,{"$f":"C55*$N$10","v":102960},null,{"$f":"N55/2","v":51480}]
[null,42,930000,null,31000,null,905000,"～",955000,{"$f":"C56*$J$10","v":92814},null,{"$f":"J56/2","v":46407},null,{"$f":"C56*$N$10","v":108810},null,{"$f":"N56/2","v":54405}]
[null,43,980000,null,32670,null,955000,"～",1005000,{"$f":"C57*$J$10","v":97804},null,{"$f":"J57/2","v":48902},null,{"$f":"C57*$N$10","v":114660},null,{"$f":"N57/2","v":57330}]
[null,44,1030000,null,34330,null,1005000,"～",1055000,{"$f":"C58*$J$10","v":102794},null,{"$f":"J58/2","v":51397},null,{"$f":"C58*$N$10","v":120509.99999999999},null,{"$f":"N58/2","v":60254.999999999993}]
[null,45,1090000,null,36330,null,1055000,"～",1115000,{"$f":"C59*$J$10","v":108782},null,{"$f":"J59/2","v":54391},null,{"$f":"C59*$N$10","v":127529.99999999999},null,{"$f":"N59/2","v":63764.999999999993}]
[null,46,1150000,null,38330,null,1115000,"～",1175000,{"$f":"C60*$J$10","v":114770},null,{"$f":"J60/2","v":57385},null,{"$f":"C60*$N$10","v":134550},null,{"$f":"N60/2","v":67275}]
[null,47,1210000,null,40330,null,1175000,"～",null,{"$f":"C61*$J$10","v":120758},null,{"$f":"J61/2","v":60379},null,{"$f":"C61*$N$10","v":141570},null,{"$f":"N61/2","v":70785}]
[]
[{"$f":"J10","v":9.98E-2}]
[null,""]
["◆等級欄の（　）内の数字は、厚生年金保険の標準報酬月額等級です。"]
["　5(1)等級の「報酬月額」欄は、厚生年金保険の場合「101,000円未満」と読み替えてください。"]
["　34(30)等級の「報酬月額」欄は、厚生年金保険の場合「605,000円以上」と読み替えてください。"]
[null,""]
["◆平成26年度における全国健康保険協会の任意継続被保険者について、標準報酬月額の上限は、280,000円です。"]
[]
[]
["　○被保険者負担分（表の折半額の欄）に円未満の端数がある場合"]
["　　　①事業主が、給与から被保険者負担分を控除する場合、被保険者負担分の端数が50銭以下の場合は切り捨て、50銭を超える場合は切り上げて1円となります。"]
["　　　②被保険者が、被保険者負担分を事業主へ現金で支払う場合、被保険者負担分の端数が50銭未満の場合は切り捨て、50銭以上の場合は切り上げて1円となります。"]
["　　　（注）①、②にかかわらず、事業主と被保険者の間で特約がある場合には、特約に基づき端数処理をすることができます。"]
[]
["　○納入告知書の保険料額"]
["　　　 納入告知書の保険料額は、被保険者個々の保険料額を合算した金額になります。ただし、合算した金額に円未満の端数がある場合は、その端数を切り捨てた額となります。"]
[]
["　○賞与に係る保険料"]
["　　　 賞与に係る保険料額は、賞与額から1,000円未満の端数を切り捨てた額（標準賞与額）に、保険料率を乗じた額となります。"]
[" 　　　また、標準賞与額の上限は、健康保険は年間540万円（毎年4月1日から翌年3月31日までの累計額）となり、厚生年金保険と児童手当拠出金の場合は月間150万円となります。"]
[]
["　○児童手当拠出金"]
["　　　 厚生年金保険の被保険者を使用する事業主の方は、児童手当等の支給に要する費用の一部として児童手当拠出金を全額負担いただくことになります。この児童手当"]
["　　　 拠出金の額は、被保険者個々の厚生年金保険の標準報酬月額および標準賞与額に、拠出金率（0.15%）を乗じて得た額の総額となります。"]

{"sheet":"島根","index":41,"n_rows":86,"n_cols":24,"rows_kept":86,"cut":false,"hidden":true,"merged":[[74,0,74,24],[75,0,75,16],[85,0,85,24],[86,0,86,16],[77,0,77,23],[79,0,79,16],[80,0,80,21],[81,0,81,24],[83,0,83,21],[84,0,84,24],[76,0,76,23],[48,17,60,24],[62,0,62,25],[64,0,64,24],[65,0,65,24],[66,0,66,24],[68,0,68,24],[71,0,71,16],[72,0,72,24],[73,0,73,24],[6,21,8,24],[9,9,10,12],[9,13,10,16],[9,17,10,20],[9,21,10,24],[11,13,12,14],[11,15,12,16],[11,17,12,18],[11,19,12,20],[11,21,12,22],[11,1,12,1],[11,2,12,3],[11,4,12,5],[11,9,12,10],[11,11,12,12],[11,23,12,24],[0,1,1,24],[2,1,3,23],[4,1,4,16],[5,1,10,5],[5,6,12,8],[5,9,5,16],[5,17,5,24],[6,9,8,12],[6,13,8,16],[6,17,8,20]]}
[null,"平成26年9月分(10月納付分)からの健康保険・厚生年金保険の保険料額表"]
[]
[null,"     ‣健康保険料率：平成24年3月分～　適用　　‣厚生年金保険料率：平成26年9月分～平成27年8月分　適用\n     ‣介護保険料率：平成26年3月分～　適用　　‣児童手当拠出金率：平成24年4月分～　適用\n"]
[]
[null,"（島根県）",null,null,null,null,null,null,null,null,null,null,null,null,null,null,null,null,null,null,null,null,null,"（単位：円）"]
[null,"標　準　報　酬",null,null,null,null,"報　酬　月　額",null,null,"全国健康保険協会管掌健康保険料",null,null,null,null,null,null,null,"厚生年金保険料（厚生年金基金加入員を除く）"]
[null,null,null,null,null,null,null,null,null,"介護保険第２号被保険者\nに該当しない場合",null,null,null,"介護保険第２号被保険者\nに該当する場合",null,null,null,"一般の被保険者",null,null,null,"坑内員・船員"]
[]
[]
[null,null,null,null,null,null,null,null,null,0.1,null,null,null,{"$f":"J10+0.0172","v":0.1172},null,null,null,0.17474000000000001,null,null,null,0.17688000000000001]
[]
[null,"等級","月　額",null,"日　額",null,null,null,null,"全　額",null,"折半額",null,"全　額",null,"折半額",null,"全　額",null,"折半額",null,"全　額",null,"折半額"]
[]
[null,null,null,null,null,null,"円以上",null,"円未満"]
[null,1,58000,null,1930,null,null,"～",63000,{"$f":"C15*$J$10","v":5800},null,{"$f":"J15/2","v":2900},null,{"$f":"C15*$N$10","v":6797.6},null,{"$f":"N15/2","v":3398.8}]
[null,2,68000,null,2270,null,63000,"～",73000,{"$f":"C16*$J$10","v":6800},null,{"$f":"J16/2","v":3400},null,{"$f":"C16*$N$10","v":7969.5999999999995},null,{"$f":"N16/2","v":3984.7999999999997}]
[null,3,78000,null,2600,null,73000,"～",83000,{"$f":"C17*$J$10","v":7800},null,{"$f":"J17/2","v":3900},null,{"$f":"C17*$N$10","v":9141.6},null,{"$f":"N17/2","v":4570.8}]
[null,4,88000,null,2930,null,83000,"～",93000,{"$f":"C18*$J$10","v":8800},null,{"$f":"J18/2","v":4400},null,{"$f":"C18*$N$10","v":10313.6},null,{"$f":"N18/2","v":5156.8}]
[null,"5(1)",98000,null,3270,null,93000,"～",101000,{"$f":"C19*$J$10","v":9800},null,{"$f":"J19/2","v":4900},null,{"$f":"C19*$N$10","v":11485.6},null,{"$f":"N19/2","v":5742.8},null,{"$f":"C19*$R$10","v":17124.52},null,{"$f":"R19/2","v":8562.26},null,{"$f":"C19*$V$10","v":17334.240000000002},null,{"$f":"V19/2","v":8667.1200000000008}]
[null,"6(2)",104000,null,3470,null,101000,"～",107000,{"$f":"C20*$J$10","v":10400},null,{"$f":"J20/2","v":5200},null,{"$f":"C20*$N$10","v":12188.8},null,{"$f":"N20/2","v":6094.4},null,{"$f":"C20*$R$10","v":18172.96},null,{"$f":"R20/2","v":9086.48},null,{"$f":"C20*$V$10","v":18395.52},null,{"$f":"V20/2","v":9197.76}]
[null,"7(3)",110000,null,3670,null,107000,"～",114000,{"$f":"C21*$J$10","v":11000},null,{"$f":"J21/2","v":5500},null,{"$f":"C21*$N$10","v":12892},null,{"$f":"N21/2","v":6446},null,{"$f":"C21*$R$10","v":19221.400000000001},null,{"$f":"R21/2","v":9610.7000000000007},null,{"$f":"C21*$V$10","v":19456.8},null,{"$f":"V21/2","v":9728.4}]
[null,"8(4)",118000,null,3930,null,114000,"～",122000,{"$f":"C22*$J$10","v":11800},null,{"$f":"J22/2","v":5900},null,{"$f":"C22*$N$10","v":13829.6},null,{"$f":"N22/2","v":6914.8},null,{"$f":"C22*$R$10","v":20619.32},null,{"$f":"R22/2","v":10309.66},null,{"$f":"C22*$V$10","v":20871.84},null,{"$f":"V22/2","v":10435.92}]
[null,"9(5)",126000,null,4200,null,122000,"～",130000,{"$f":"C23*$J$10","v":12600},null,{"$f":"J23/2","v":6300},null,{"$f":"C23*$N$10","v":14767.2},null,{"$f":"N23/2","v":7383.6},null,{"$f":"C23*$R$10","v":22017.24},null,{"$f":"R23/2","v":11008.62},null,{"$f":"C23*$V$10","v":22286.880000000001},null,{"$f":"V23/2","v":11143.44}]
[null,"10(6)",134000,null,4470,null,130000,"～",138000,{"$f":"C24*$J$10","v":13400},null,{"$f":"J24/2","v":6700},null,{"$f":"C24*$N$10","v":15704.8},null,{"$f":"N24/2","v":7852.4},null,{"$f":"C24*$R$10","v":23415.16},null,{"$f":"R24/2","v":11707.58},null,{"$f":"C24*$V$10","v":23701.920000000002},null,{"$f":"V24/2","v":11850.960000000001}]
[null,"11(7)",142000,null,4730,null,138000,"～",146000,{"$f":"C25*$J$10","v":14200},null,{"$f":"J25/2","v":7100},null,{"$f":"C25*$N$10","v":16642.400000000001},null,{"$f":"N25/2","v":8321.2000000000007},null,{"$f":"C25*$R$10","v":24813.08},null,{"$f":"R25/2","v":12406.54},null,{"$f":"C25*$V$10","v":25116.960000000003},null,{"$f":"V25/2","v":12558.480000000001}]
[null,"12(8)",150000,null,5000,null,146000,"～",155000,{"$f":"C26*$J$10","v":15000},null,{"$f":"J26/2","v":7500},null,{"$f":"C26*$N$10","v":17580},null,{"$f":"N26/2","v":8790},null,{"$f":"C26*$R$10","v":26211},null,{"$f":"R26/2","v":13105.5},null,{"$f":"C26*$V$10","v":26532},null,{"$f":"V26/2","v":13266}]
[null,"13(9)",160000,null,5330,null,155000,"～",165000,{"$f":"C27*$J$10","v":16000},null,{"$f":"J27/2","v":8000},null,{"$f":"C27*$N$10","v":18752},null,{"$f":"N27/2","v":9376},null,{"$f":"C27*$R$10","v":27958.400000000001},null,{"$f":"R27/2","v":13979.2},null,{"$f":"C27*$V$10","v":28300.800000000003},null,{"$f":"V27/2","v":14150.400000000001}]
[null,"14(10)",170000,null,5670,null,165000,"～",175000,{"$f":"C28*$J$10","v":17000},null,{"$f":"J28/2","v":8500},null,{"$f":"C28*$N$10","v":19924},null,{"$f":"N28/2","v":9962},null,{"$f":"C28*$R$10","v":29705.800000000003},null,{"$f":"R28/2","v":14852.900000000001},null,{"$f":"C28*$V$10","v":30069.600000000002},null,{"$f":"V28/2","v":15034.800000000001}]
[null,"15(11)",180000,null,6000,null,175000,"～",185000,{"$f":"C29*$J$10","v":18000},null,{"$f":"J29/2","v":9000},null,{"$f":"C29*$N$10","v":21096},null,{"$f":"N29/2","v":10548},null,{"$f":"C29*$R$10","v":31453.200000000001},null,{"$f":"R29/2","v":15726.6},null,{"$f":"C29*$V$10","v":31838.400000000001},null,{"$f":"V29/2","v":15919.2}]
[null,"16(12)",190000,null,6330,null,185000,"～",195000,{"$f":"C30*$J$10","v":19000},null,{"$f":"J30/2","v":9500},null,{"$f":"C30*$N$10","v":22268},null,{"$f":"N30/2","v":11134},null,{"$f":"C30*$R$10","v":33200.6},null,{"$f":"R30/2","v":16600.3},null,{"$f":"C30*$V$10","v":33607.200000000004},null,{"$f":"V30/2","v":16803.600000000002}]
[null,"17(13)",200000,null,6670,null,195000,"～",210000,{"$f":"C31*$J$10","v":20000},null,{"$f":"J31/2","v":10000},null,{"$f":"C31*$N$10","v":23440},null,{"$f":"N31/2","v":11720},null,{"$f":"C31*$R$10","v":34948},null,{"$f":"R31/2","v":17474},null,{"$f":"C31*$V$10","v":35376},null,{"$f":"V31/2","v":17688}]
[null,"18(14)",220000,null,7330,null,210000,"～",230000,{"$f":"C32*$J$10","v":22000},null,{"$f":"J32/2","v":11000},null,{"$f":"C32*$N$10","v":25784},null,{"$f":"N32/2","v":12892},null,{"$f":"C32*$R$10","v":38442.800000000003},null,{"$f":"R32/2","v":19221.400000000001},null,{"$f":"C32*$V$10","v":38913.599999999999},null,{"$f":"V32/2","v":19456.8}]
[null,"19(15)",240000,null,8000,null,230000,"～",250000,{"$f":"C33*$J$10","v":24000},null,{"$f":"J33/2","v":12000},null,{"$f":"C33*$N$10","v":28128},null,{"$f":"N33/2","v":14064},null,{"$f":"C33*$R$10","v":41937.599999999999},null,{"$f":"R33/2","v":20968.8},null,{"$f":"C33*$V$10","v":42451.200000000004},null,{"$f":"V33/2","v":21225.600000000002}]
[null,"20(16)",260000,null,8670,null,250000,"～",270000,{"$f":"C34*$J$10","v":26000},null,{"$f":"J34/2","v":13000},null,{"$f":"C34*$N$10","v":30472},null,{"$f":"N34/2","v":15236},null,{"$f":"C34*$R$10","v":45432.4},null,{"$f":"R34/2","v":22716.2},null,{"$f":"C34*$V$10","v":45988.800000000003},null,{"$f":"V34/2","v":22994.400000000001}]
[null,"21(17)",280000,null,9330,null,270000,"～",290000,{"$f":"C35*$J$10","v":28000},null,{"$f":"J35/2","v":14000},null,{"$f":"C35*$N$10","v":32816},null,{"$f":"N35/2","v":16408},null,{"$f":"C35*$R$10","v":48927.200000000004},null,{"$f":"R35/2","v":24463.600000000002},null,{"$f":"C35*$V$10","v":49526.400000000001},null,{"$f":"V35/2","v":24763.200000000001}]
[null,"22(18)",300000,null,10000,null,290000,"～",310000,{"$f":"C36*$J$10","v":30000},null,{"$f":"J36/2","v":15000},null,{"$f":"C36*$N$10","v":35160},null,{"$f":"N36/2","v":17580},null,{"$f":"C36*$R$10","v":52422},null,{"$f":"R36/2","v":26211},null,{"$f":"C36*$V$10","v":53064},null,{"$f":"V36/2","v":26532}]
[null,"23(19)",320000,null,10670,null,310000,"～",330000,{"$f":"C37*$J$10","v":32000},null,{"$f":"J37/2","v":16000},null,{"$f":"C37*$N$10","v":37504},null,{"$f":"N37/2","v":18752},null,{"$f":"C37*$R$10","v":55916.800000000003},null,{"$f":"R37/2","v":27958.400000000001},null,{"$f":"C37*$V$10","v":56601.600000000006},null,{"$f":"V37/2","v":28300.800000000003}]
[null,"24(20)",340000,null,11330,null,330000,"～",350000,{"$f":"C38*$J$10","v":34000},null,{"$f":"J38/2","v":17000},null,{"$f":"C38*$N$10","v":39848},null,{"$f":"N38/2","v":19924},null,{"$f":"C38*$R$10","v":59411.600000000006},null,{"$f":"R38/2","v":29705.800000000003},null,{"$f":"C38*$V$10","v":60139.200000000004},null,{"$f":"V38/2","v":30069.600000000002}]
[null,"25(21)",360000,null,12000,null,350000,"～",370000,{"$f":"C39*$J$10","v":36000},null,{"$f":"J39/2","v":18000},null,{"$f":"C39*$N$10","v":42192},null,{"$f":"N39/2","v":21096},null,{"$f":"C39*$R$10","v":62906.400000000001},null,{"$f":"R39/2","v":31453.200000000001},null,{"$f":"C39*$V$10","v":63676.800000000003},null,{"$f":"V39/2","v":31838.400000000001}]
[null,"26(22)",380000,null,12670,null,370000,"～",395000,{"$f":"C40*$J$10","v":38000},null,{"$f":"J40/2","v":19000},null,{"$f":"C40*$N$10","v":44536},null,{"$f":"N40/2","v":22268},null,{"$f":"C40*$R$10","v":66401.2},null,{"$f":"R40/2","v":33200.6},null,{"$f":"C40*$V$10","v":67214.400000000009},null,{"$f":"V40/2","v":33607.200000000004}]
[null,"27(23)",410000,null,13670,null,395000,"～",425000,{"$f":"C41*$J$10","v":41000},null,{"$f":"J41/2","v":20500},null,{"$f":"C41*$N$10","v":48052},null,{"$f":"N41/2","v":24026},null,{"$f":"C41*$R$10","v":71643.400000000009},null,{"$f":"R41/2","v":35821.700000000004},null,{"$f":"C41*$V$10","v":72520.800000000003},null,{"$f":"V41/2","v":36260.400000000001}]
[null,"28(24)",440000,null,14670,null,425000,"～",455000,{"$f":"C42*$J$10","v":44000},null,{"$f":"J42/2","v":22000},null,{"$f":"C42*$N$10","v":51568},null,{"$f":"N42/2","v":25784},null,{"$f":"C42*$R$10","v":76885.600000000006},null,{"$f":"R42/2","v":38442.800000000003},null,{"$f":"C42*$V$10","v":77827.199999999997},null,{"$f":"V42/2","v":38913.599999999999}]
[null,"29(25)",470000,null,15670,null,455000,"～",485000,{"$f":"C43*$J$10","v":47000},null,{"$f":"J43/2","v":23500},null,{"$f":"C43*$N$10","v":55084},null,{"$f":"N43/2","v":27542},null,{"$f":"C43*$R$10","v":82127.8},null,{"$f":"R43/2","v":41063.9},null,{"$f":"C43*$V$10","v":83133.600000000006},null,{"$f":"V43/2","v":41566.800000000003}]
[null,"30(26)",500000,null,16670,null,485000,"～",515000,{"$f":"C44*$J$10","v":50000},null,{"$f":"J44/2","v":25000},null,{"$f":"C44*$N$10","v":58600},null,{"$f":"N44/2","v":29300},null,{"$f":"C44*$R$10","v":87370},null,{"$f":"R44/2","v":43685},null,{"$f":"C44*$V$10","v":88440},null,{"$f":"V44/2","v":44220}]
[null,"31(27)",530000,null,17670,null,515000,"～",545000,{"$f":"C45*$J$10","v":53000},null,{"$f":"J45/2","v":26500},null,{"$f":"C45*$N$10","v":62116},null,{"$f":"N45/2","v":31058},null,{"$f":"C45*$R$10","v":92612.2},null,{"$f":"R45/2","v":46306.1},null,{"$f":"C45*$V$10","v":93746.400000000009},null,{"$f":"V45/2","v":46873.200000000004}]
[null,"32(28)",560000,null,18670,null,545000,"～",575000,{"$f":"C46*$J$10","v":56000},null,{"$f":"J46/2","v":28000},null,{"$f":"C46*$N$10","v":65632},null,{"$f":"N46/2","v":32816},null,{"$f":"C46*$R$10","v":97854.400000000009},null,{"$f":"R46/2","v":48927.200000000004},null,{"$f":"C46*$V$10","v":99052.800000000003},null,{"$f":"V46/2","v":49526.400000000001}]
[null,"33(29)",590000,null,19670,null,575000,"～",605000,{"$f":"C47*$J$10","v":59000},null,{"$f":"J47/2","v":29500},null,{"$f":"C47*$N$10","v":69148},null,{"$f":"N47/2","v":34574},null,{"$f":"C47*$R$10","v":103096.6},null,{"$f":"R47/2","v":51548.3},null,{"$f":"C47*$V$10","v":104359.20000000001},null,{"$f":"V47/2","v":52179.600000000006}]
[null,"34(30)",620000,null,20670,null,605000,"～",635000,{"$f":"C48*$J$10","v":62000},null,{"$f":"J48/2","v":31000},null,{"$f":"C48*$N$10","v":72664},null,{"$f":"N48/2","v":36332},null,{"$f":"C48*$R$10","v":108338.8},null,{"$f":"R48/2","v":54169.4},null,{"$f":"C48*$V$10","v":109665.60000000001},null,{"$f":"V48/2","v":54832.800000000003}]
[null,35,650000,null,21670,null,635000,"～",665000,{"$f":"C49*$J$10","v":65000},null,{"$f":"J49/2","v":32500},null,{"$f":"C49*$N$10","v":76180},null,{"$f":"N49/2","v":38090},null,"※厚生年金基金に加入している方の厚生年金保険\n　料率は、基金ごとに定められている免除保険料\n　率(2.4%～5.0%)を控除した率となります。\n\n　●一般の被保険者の方　…12.474%～15.074%\n　●坑内員の被保険者の方…12.688%～15.288%\n\n　加入する基金ごとに異なりますので、免除保険\n　料率および厚生年金基金の掛金については、加\n　入する厚生年金基金にお問い合わせください。\n"]
[null,36,680000,null,22670,null,665000,"～",695000,{"$f":"C50*$J$10","v":68000},null,{"$f":"J50/2","v":34000},null,{"$f":"C50*$N$10","v":79696},null,{"$f":"N50/2","v":39848}]
[null,37,710000,null,23670,null,695000,"～",730000,{"$f":"C51*$J$10","v":71000},null,{"$f":"J51/2","v":35500},null,{"$f":"C51*$N$10","v":83212},null,{"$f":"N51/2","v":41606}]
[null,38,750000,null,25000,null,730000,"～",770000,{"$f":"C52*$J$10","v":75000},null,{"$f":"J52/2","v":37500},null,{"$f":"C52*$N$10","v":87900},null,{"$f":"N52/2","v":43950}]
[null,39,790000,null,26330,null,770000,"～",810000,{"$f":"C53*$J$10","v":79000},null,{"$f":"J53/2","v":39500},null,{"$f":"C53*$N$10","v":92588},null,{"$f":"N53/2","v":46294}]
[null,40,830000,null,27670,null,810000,"～",855000,{"$f":"C54*$J$10","v":83000},null,{"$f":"J54/2","v":41500},null,{"$f":"C54*$N$10","v":97276},null,{"$f":"N54/2","v":48638}]
[null,41,880000,null,29330,null,855000,"～",905000,{"$f":"C55*$J$10","v":88000},null,{"$f":"J55/2","v":44000},null,{"$f":"C55*$N$10","v":103136},null,{"$f":"N55/2","v":51568}]
[null,42,930000,null,31000,null,905000,"～",955000,{"$f":"C56*$J$10","v":93000},null,{"$f":"J56/2","v":46500},null,{"$f":"C56*$N$10","v":108996},null,{"$f":"N56/2","v":54498}]
[null,43,980000,null,32670,null,955000,"～",1005000,{"$f":"C57*$J$10","v":98000},null,{"$f":"J57/2","v":49000},null,{"$f":"C57*$N$10","v":114856},null,{"$f":"N57/2","v":57428}]
[null,44,1030000,null,34330,null,1005000,"～",1055000,{"$f":"C58*$J$10","v":103000},null,{"$f":"J58/2","v":51500},null,{"$f":"C58*$N$10","v":120716},null,{"$f":"N58/2","v":60358}]
[null,45,1090000,null,36330,null,1055000,"～",1115000,{"$f":"C59*$J$10","v":109000},null,{"$f":"J59/2","v":54500},null,{"$f":"C59*$N$10","v":127748},null,{"$f":"N59/2","v":63874}]
[null,46,1150000,null,38330,null,1115000,"～",1175000,{"$f":"C60*$J$10","v":115000},null,{"$f":"J60/2","v":57500},null,{"$f":"C60*$N$10","v":134780},null,{"$f":"N60/2","v":67390}]
[null,47,1210000,null,40330,null,1175000,"～",null,{"$f":"C61*$J$10","v":121000},null,{"$f":"J61/2","v":60500},null,{"$f":"C61*$N$10","v":141812},null,{"$f":"N61/2","v":70906}]
[]
[{"$f":"J10","v":0.1}]
[null,""]
["◆等級欄の（　）内の数字は、厚生年金保険の標準報酬月額等級です。"]
["　5(1)等級の「報酬月額」欄は、厚生年金保険の場合「101,000円未満」と読み替えてください。"]
["　34(30)等級の「報酬月額」欄は、厚生年金保険の場合「605,000円以上」と読み替えてください。"]
[null,""]
["◆平成26年度における全国健康保険協会の任意継続被保険者について、標準報酬月額の上限は、280,000円です。"]
[]
[]
["　○被保険者負担分（表の折半額の欄）に円未満の端数がある場合"]
["　　　①事業主が、給与から被保険者負担分を控除する場合、被保険者負担分の端数が50銭以下の場合は切り捨て、50銭を超える場合は切り上げて1円となります。"]
["　　　②被保険者が、被保険者負担分を事業主へ現金で支払う場合、被保険者負担分の端数が50銭未満の場合は切り捨て、50銭以上の場合は切り上げて1円となります。"]
["　　　（注）①、②にかかわらず、事業主と被保険者の間で特約がある場合には、特約に基づき端数処理をすることができます。"]
[]
["　○納入告知書の保険料額"]
["　　　 納入告知書の保険料額は、被保険者個々の保険料額を合算した金額になります。ただし、合算した金額に円未満の端数がある場合は、その端数を切り捨てた額となります。"]
[]
["　○賞与に係る保険料"]
["　　　 賞与に係る保険料額は、賞与額から1,000円未満の端数を切り捨てた額（標準賞与額）に、保険料率を乗じた額となります。"]
[" 　　　また、標準賞与額の上限は、健康保険は年間540万円（毎年4月1日から翌年3月31日までの累計額）となり、厚生年金保険と児童手当拠出金の場合は月間150万円となります。"]
[]
["　○児童手当拠出金"]
["　　　 厚生年金保険の被保険者を使用する事業主の方は、児童手当等の支給に要する費用の一部として児童手当拠出金を全額負担いただくことになります。この児童手当"]
["　　　 拠出金の額は、被保険者個々の厚生年金保険の標準報酬月額および標準賞与額に、拠出金率（0.15%）を乗じて得た額の総額となります。"]

{"sheet":"岡山","index":42,"n_rows":86,"n_cols":24,"rows_kept":86,"cut":false,"hidden":true,"merged":[[74,0,74,24],[75,0,75,16],[85,0,85,24],[86,0,86,16],[77,0,77,23],[79,0,79,16],[80,0,80,21],[81,0,81,24],[83,0,83,21],[84,0,84,24],[76,0,76,23],[48,17,60,24],[62,0,62,25],[64,0,64,24],[65,0,65,24],[66,0,66,24],[68,0,68,24],[71,0,71,16],[72,0,72,24],[73,0,73,24],[6,21,8,24],[9,9,10,12],[9,13,10,16],[9,17,10,20],[9,21,10,24],[11,13,12,14],[11,15,12,16],[11,17,12,18],[11,19,12,20],[11,21,12,22],[11,1,12,1],[11,2,12,3],[11,4,12,5],[11,9,12,10],[11,11,12,12],[11,23,12,24],[0,1,1,24],[2,1,3,23],[4,1,4,16],[5,1,10,5],[5,6,12,8],[5,9,5,16],[5,17,5,24],[6,9,8,12],[6,13,8,16],[6,17,8,20]]}
[null,"平成26年9月分(10月納付分)からの健康保険・厚生年金保険の保険料額表"]
[]
[null,"     ‣健康保険料率：平成24年3月分～　適用　　‣厚生年金保険料率：平成26年9月分～平成27年8月分　適用\n     ‣介護保険料率：平成26年3月分～　適用　　‣児童手当拠出金率：平成24年4月分～　適用\n"]
[]
[null,"（岡山県）",null,null,null,null,null,null,null,null,null,null,null,null,null,null,null,null,null,null,null,null,null,"（単位：円）"]
[null,"標　準　報　酬",null,null,null,null,"報　酬　月　額",null,null,"全国健康保険協会管掌健康保険料",null,null,null,null,null,null,null,"厚生年金保険料（厚生年金基金加入員を除く）"]
[null,null,null,null,null,null,null,null,null,"介護保険第２号被保険者\nに該当しない場合",null,null,null,"介護保険第２号被保険者\nに該当する場合",null,null,null,"一般の被保険者",null,null,null,"坑内員・船員"]
[]
[]
[null,null,null,null,null,null,null,null,null,0.10059999999999999,null,null,null,{"$f":"J10+0.0172","v":0.11779999999999999},null,null,null,0.17474000000000001,null,null,null,0.17688000000000001]
[]
[null,"等級","月　額",null,"日　額",null,null,null,null,"全　額",null,"折半額",null,"全　額",null,"折半額",null,"全　額",null,"折半額",null,"全　額",null,"折半額"]
[]
[null,null,null,null,null,null,"円以上",null,"円未満"]
[null,1,58000,null,1930,null,null,"～",63000,{"$f":"C15*$J$10","v":5834.7999999999993},null,{"$f":"J15/2","v":2917.3999999999996},null,{"$f":"C15*$N$10","v":6832.4},null,{"$f":"N15/2","v":3416.2}]
[null,2,68000,null,2270,null,63000,"～",73000,{"$f":"C16*$J$10","v":6840.7999999999993},null,{"$f":"J16/2","v":3420.3999999999996},null,{"$f":"C16*$N$10","v":8010.4},null,{"$f":"N16/2","v":4005.2}]
[null,3,78000,null,2600,null,73000,"～",83000,{"$f":"C17*$J$10","v":7846.7999999999993},null,{"$f":"J17/2","v":3923.3999999999996},null,{"$f":"C17*$N$10","v":9188.4},null,{"$f":"N17/2","v":4594.2}]
[null,4,88000,null,2930,null,83000,"～",93000,{"$f":"C18*$J$10","v":8852.7999999999993},null,{"$f":"J18/2","v":4426.3999999999996},null,{"$f":"C18*$N$10","v":10366.4},null,{"$f":"N18/2","v":5183.2}]
[null,"5(1)",98000,null,3270,null,93000,"～",101000,{"$f":"C19*$J$10","v":9858.7999999999993},null,{"$f":"J19/2","v":4929.3999999999996},null,{"$f":"C19*$N$10","v":11544.4},null,{"$f":"N19/2","v":5772.2},null,{"$f":"C19*$R$10","v":17124.52},null,{"$f":"R19/2","v":8562.26},null,{"$f":"C19*$V$10","v":17334.240000000002},null,{"$f":"V19/2","v":8667.1200000000008}]
[null,"6(2)",104000,null,3470,null,101000,"～",107000,{"$f":"C20*$J$10","v":10462.4},null,{"$f":"J20/2","v":5231.2},null,{"$f":"C20*$N$10","v":12251.199999999999},null,{"$f":"N20/2","v":6125.5999999999995},null,{"$f":"C20*$R$10","v":18172.96},null,{"$f":"R20/2","v":9086.48},null,{"$f":"C20*$V$10","v":18395.52},null,{"$f":"V20/2","v":9197.76}]
[null,"7(3)",110000,null,3670,null,107000,"～",114000,{"$f":"C21*$J$10","v":11066},null,{"$f":"J21/2","v":5533},null,{"$f":"C21*$N$10","v":12957.999999999998},null,{"$f":"N21/2","v":6478.9999999999991},null,{"$f":"C21*$R$10","v":19221.400000000001},null,{"$f":"R21/2","v":9610.7000000000007},null,{"$f":"C21*$V$10","v":19456.8},null,{"$f":"V21/2","v":9728.4}]
[null,"8(4)",118000,null,3930,null,114000,"～",122000,{"$f":"C22*$J$10","v":11870.8},null,{"$f":"J22/2","v":5935.4},null,{"$f":"C22*$N$10","v":13900.399999999998},null,{"$f":"N22/2","v":6950.1999999999989},null,{"$f":"C22*$R$10","v":20619.32},null,{"$f":"R22/2","v":10309.66},null,{"$f":"C22*$V$10","v":20871.84},null,{"$f":"V22/2","v":10435.92}]
[null,"9(5)",126000,null,4200,null,122000,"～",130000,{"$f":"C23*$J$10","v":12675.599999999999},null,{"$f":"J23/2","v":6337.7999999999993},null,{"$f":"C23*$N$10","v":14842.8},null,{"$f":"N23/2","v":7421.4},null,{"$f":"C23*$R$10","v":22017.24},null,{"$f":"R23/2","v":11008.62},null,{"$f":"C23*$V$10","v":22286.880000000001},null,{"$f":"V23/2","v":11143.44}]
[null,"10(6)",134000,null,4470,null,130000,"～",138000,{"$f":"C24*$J$10","v":13480.4},null,{"$f":"J24/2","v":6740.2},null,{"$f":"C24*$N$10","v":15785.199999999999},null,{"$f":"N24/2","v":7892.5999999999995},null,{"$f":"C24*$R$10","v":23415.16},null,{"$f":"R24/2","v":11707.58},null,{"$f":"C24*$V$10","v":23701.920000000002},null,{"$f":"V24/2","v":11850.960000000001}]
[null,"11(7)",142000,null,4730,null,138000,"～",146000,{"$f":"C25*$J$10","v":14285.199999999999},null,{"$f":"J25/2","v":7142.5999999999995},null,{"$f":"C25*$N$10","v":16727.599999999999},null,{"$f":"N25/2","v":8363.7999999999993},null,{"$f":"C25*$R$10","v":24813.08},null,{"$f":"R25/2","v":12406.54},null,{"$f":"C25*$V$10","v":25116.960000000003},null,{"$f":"V25/2","v":12558.480000000001}]
[null,"12(8)",150000,null,5000,null,146000,"～",155000,{"$f":"C26*$J$10","v":15090},null,{"$f":"J26/2","v":7545},null,{"$f":"C26*$N$10","v":17670},null,{"$f":"N26/2","v":8835},null,{"$f":"C26*$R$10","v":26211},null,{"$f":"R26/2","v":13105.5},null,{"$f":"C26*$V$10","v":26532},null,{"$f":"V26/2","v":13266}]
[null,"13(9)",160000,null,5330,null,155000,"～",165000,{"$f":"C27*$J$10","v":16096},null,{"$f":"J27/2","v":8048},null,{"$f":"C27*$N$10","v":18847.999999999996},null,{"$f":"N27/2","v":9423.9999999999982},null,{"$f":"C27*$R$10","v":27958.400000000001},null,{"$f":"R27/2","v":13979.2},null,{"$f":"C27*$V$10","v":28300.800000000003},null,{"$f":"V27/2","v":14150.400000000001}]
[null,"14(10)",170000,null,5670,null,165000,"～",175000,{"$f":"C28*$J$10","v":17102},null,{"$f":"J28/2","v":8551},null,{"$f":"C28*$N$10","v":20025.999999999996},null,{"$f":"N28/2","v":10012.999999999998},null,{"$f":"C28*$R$10","v":29705.800000000003},null,{"$f":"R28/2","v":14852.900000000001},null,{"$f":"C28*$V$10","v":30069.600000000002},null,{"$f":"V28/2","v":15034.800000000001}]
[null,"15(11)",180000,null,6000,null,175000,"～",185000,{"$f":"C29*$J$10","v":18108},null,{"$f":"J29/2","v":9054},null,{"$f":"C29*$N$10","v":21203.999999999996},null,{"$f":"N29/2","v":10601.999999999998},null,{"$f":"C29*$R$10","v":31453.200000000001},null,{"$f":"R29/2","v":15726.6},null,{"$f":"C29*$V$10","v":31838.400000000001},null,{"$f":"V29/2","v":15919.2}]
[null,"16(12)",190000,null,6330,null,185000,"～",195000,{"$f":"C30*$J$10","v":19114},null,{"$f":"J30/2","v":9557},null,{"$f":"C30*$N$10","v":22381.999999999996},null,{"$f":"N30/2","v":11190.999999999998},null,{"$f":"C30*$R$10","v":33200.6},null,{"$f":"R30/2","v":16600.3},null,{"$f":"C30*$V$10","v":33607.200000000004},null,{"$f":"V30/2","v":16803.600000000002}]
[null,"17(13)",200000,null,6670,null,195000,"～",210000,{"$f":"C31*$J$10","v":20120},null,{"$f":"J31/2","v":10060},null,{"$f":"C31*$N$10","v":23559.999999999996},null,{"$f":"N31/2","v":11779.999999999998},null,{"$f":"C31*$R$10","v":34948},null,{"$f":"R31/2","v":17474},null,{"$f":"C31*$V$10","v":35376},null,{"$f":"V31/2","v":17688}]
[null,"18(14)",220000,null,7330,null,210000,"～",230000,{"$f":"C32*$J$10","v":22132},null,{"$f":"J32/2","v":11066},null,{"$f":"C32*$N$10","v":25915.999999999996},null,{"$f":"N32/2","v":12957.999999999998},null,{"$f":"C32*$R$10","v":38442.800000000003},null,{"$f":"R32/2","v":19221.400000000001},null,{"$f":"C32*$V$10","v":38913.599999999999},null,{"$f":"V32/2","v":19456.8}]
[null,"19(15)",240000,null,8000,null,230000,"～",250000,{"$f":"C33*$J$10","v":24144},null,{"$f":"J33/2","v":12072},null,{"$f":"C33*$N$10","v":28271.999999999996},null,{"$f":"N33/2","v":14135.999999999998},null,{"$f":"C33*$R$10","v":41937.599999999999},null,{"$f":"R33/2","v":20968.8},null,{"$f":"C33*$V$10","v":42451.200000000004},null,{"$f":"V33/2","v":21225.600000000002}]
[null,"20(16)",260000,null,8670,null,250000,"～",270000,{"$f":"C34*$J$10","v":26156},null,{"$f":"J34/2","v":13078},null,{"$f":"C34*$N$10","v":30627.999999999996},null,{"$f":"N34/2","v":15313.999999999998},null,{"$f":"C34*$R$10","v":45432.4},null,{"$f":"R34/2","v":22716.2},null,{"$f":"C34*$V$10","v":45988.800000000003},null,{"$f":"V34/2","v":22994.400000000001}]
[null,"21(17)",280000,null,9330,null,270000,"～",290000,{"$f":"C35*$J$10","v":28168},null,{"$f":"J35/2","v":14084},null,{"$f":"C35*$N$10","v":32984},null,{"$f":"N35/2","v":16492},null,{"$f":"C35*$R$10","v":48927.200000000004},null,{"$f":"R35/2","v":24463.600000000002},null,{"$f":"C35*$V$10","v":49526.400000000001},null,{"$f":"V35/2","v":24763.200000000001}]
[null,"22(18)",300000,null,10000,null,290000,"～",310000,{"$f":"C36*$J$10","v":30180},null,{"$f":"J36/2","v":15090},null,{"$f":"C36*$N$10","v":35340},null,{"$f":"N36/2","v":17670},null,{"$f":"C36*$R$10","v":52422},null,{"$f":"R36/2","v":26211},null,{"$f":"C36*$V$10","v":53064},null,{"$f":"V36/2","v":26532}]
[null,"23(19)",320000,null,10670,null,310000,"～",330000,{"$f":"C37*$J$10","v":32192},null,{"$f":"J37/2","v":16096},null,{"$f":"C37*$N$10","v":37695.999999999993},null,{"$f":"N37/2","v":18847.999999999996},null,{"$f":"C37*$R$10","v":55916.800000000003},null,{"$f":"R37/2","v":27958.400000000001},null,{"$f":"C37*$V$10","v":56601.600000000006},null,{"$f":"V37/2","v":28300.800000000003}]
[null,"24(20)",340000,null,11330,null,330000,"～",350000,{"$f":"C38*$J$10","v":34204},null,{"$f":"J38/2","v":17102},null,{"$f":"C38*$N$10","v":40051.999999999993},null,{"$f":"N38/2","v":20025.999999999996},null,{"$f":"C38*$R$10","v":59411.600000000006},null,{"$f":"R38/2","v":29705.800000000003},null,{"$f":"C38*$V$10","v":60139.200000000004},null,{"$f":"V38/2","v":30069.600000000002}]
[null,"25(21)",360000,null,12000,null,350000,"～",370000,{"$f":"C39*$J$10","v":36216},null,{"$f":"J39/2","v":18108},null,{"$f":"C39*$N$10","v":42407.999999999993},null,{"$f":"N39/2","v":21203.999999999996},null,{"$f":"C39*$R$10","v":62906.400000000001},null,{"$f":"R39/2","v":31453.200000000001},null,{"$f":"C39*$V$10","v":63676.800000000003},null,{"$f":"V39/2","v":31838.400000000001}]
[null,"26(22)",380000,null,12670,null,370000,"～",395000,{"$f":"C40*$J$10","v":38228},null,{"$f":"J40/2","v":19114},null,{"$f":"C40*$N$10","v":44763.999999999993},null,{"$f":"N40/2","v":22381.999999999996},null,{"$f":"C40*$R$10","v":66401.2},null,{"$f":"R40/2","v":33200.6},null,{"$f":"C40*$V$10","v":67214.400000000009},null,{"$f":"V40/2","v":33607.200000000004}]
[null,"27(23)",410000,null,13670,null,395000,"～",425000,{"$f":"C41*$J$10","v":41246},null,{"$f":"J41/2","v":20623},null,{"$f":"C41*$N$10","v":48297.999999999993},null,{"$f":"N41/2","v":24148.999999999996},null,{"$f":"C41*$R$10","v":71643.400000000009},null,{"$f":"R41/2","v":35821.700000000004},null,{"$f":"C41*$V$10","v":72520.800000000003},null,{"$f":"V41/2","v":36260.400000000001}]
[null,"28(24)",440000,null,14670,null,425000,"～",455000,{"$f":"C42*$J$10","v":44264},null,{"$f":"J42/2","v":22132},null,{"$f":"C42*$N$10","v":51831.999999999993},null,{"$f":"N42/2","v":25915.999999999996},null,{"$f":"C42*$R$10","v":76885.600000000006},null,{"$f":"R42/2","v":38442.800000000003},null,{"$f":"C42*$V$10","v":77827.199999999997},null,{"$f":"V42/2","v":38913.599999999999}]
[null,"29(25)",470000,null,15670,null,455000,"～",485000,{"$f":"C43*$J$10","v":47282},null,{"$f":"J43/2","v":23641},null,{"$f":"C43*$N$10","v":55365.999999999993},null,{"$f":"N43/2","v":27682.999999999996},null,{"$f":"C43*$R$10","v":82127.8},null,{"$f":"R43/2","v":41063.9},null,{"$f":"C43*$V$10","v":83133.600000000006},null,{"$f":"V43/2","v":41566.800000000003}]
[null,"30(26)",500000,null,16670,null,485000,"～",515000,{"$f":"C44*$J$10","v":50300},null,{"$f":"J44/2","v":25150},null,{"$f":"C44*$N$10","v":58899.999999999993},null,{"$f":"N44/2","v":29449.999999999996},null,{"$f":"C44*$R$10","v":87370},null,{"$f":"R44/2","v":43685},null,{"$f":"C44*$V$10","v":88440},null,{"$f":"V44/2","v":44220}]
[null,"31(27)",530000,null,17670,null,515000,"～",545000,{"$f":"C45*$J$10","v":53318},null,{"$f":"J45/2","v":26659},null,{"$f":"C45*$N$10","v":62433.999999999993},null,{"$f":"N45/2","v":31216.999999999996},null,{"$f":"C45*$R$10","v":92612.2},null,{"$f":"R45/2","v":46306.1},null,{"$f":"C45*$V$10","v":93746.400000000009},null,{"$f":"V45/2","v":46873.200000000004}]
[null,"32(28)",560000,null,18670,null,545000,"～",575000,{"$f":"C46*$J$10","v":56336},null,{"$f":"J46/2","v":28168},null,{"$f":"C46*$N$10","v":65968},null,{"$f":"N46/2","v":32984},null,{"$f":"C46*$R$10","v":97854.400000000009},null,{"$f":"R46/2","v":48927.200000000004},null,{"$f":"C46*$V$10","v":99052.800000000003},null,{"$f":"V46/2","v":49526.400000000001}]
[null,"33(29)",590000,null,19670,null,575000,"～",605000,{"$f":"C47*$J$10","v":59354},null,{"$f":"J47/2","v":29677},null,{"$f":"C47*$N$10","v":69502},null,{"$f":"N47/2","v":34751},null,{"$f":"C47*$R$10","v":103096.6},null,{"$f":"R47/2","v":51548.3},null,{"$f":"C47*$V$10","v":104359.20000000001},null,{"$f":"V47/2","v":52179.600000000006}]
[null,"34(30)",620000,null,20670,null,605000,"～",635000,{"$f":"C48*$J$10","v":62372},null,{"$f":"J48/2","v":31186},null,{"$f":"C48*$N$10","v":73035.999999999985},null,{"$f":"N48/2","v":36517.999999999993},null,{"$f":"C48*$R$10","v":108338.8},null,{"$f":"R48/2","v":54169.4},null,{"$f":"C48*$V$10","v":109665.60000000001},null,{"$f":"V48/2","v":54832.800000000003}]
[null,35,650000,null,21670,null,635000,"～",665000,{"$f":"C49*$J$10","v":65390},null,{"$f":"J49/2","v":32695},null,{"$f":"C49*$N$10","v":76569.999999999985},null,{"$f":"N49/2","v":38284.999999999993},null,"※厚生年金基金に加入している方の厚生年金保険\n　料率は、基金ごとに定められている免除保険料\n　率(2.4%～5.0%)を控除した率となります。\n\n　●一般の被保険者の方　…12.474%～15.074%\n　●坑内員の被保険者の方…12.688%～15.288%\n\n　加入する基金ごとに異なりますので、免除保険\n　料率および厚生年金基金の掛金については、加\n　入する厚生年金基金にお問い合わせください。\n"]
[null,36,680000,null,22670,null,665000,"～",695000,{"$f":"C50*$J$10","v":68408},null,{"$f":"J50/2","v":34204},null,{"$f":"C50*$N$10","v":80103.999999999985},null,{"$f":"N50/2","v":40051.999999999993}]
[null,37,710000,null,23670,null,695000,"～",730000,{"$f":"C51*$J$10","v":71426},null,{"$f":"J51/2","v":35713},null,{"$f":"C51*$N$10","v":83637.999999999985},null,{"$f":"N51/2","v":41818.999999999993}]
[null,38,750000,null,25000,null,730000,"～",770000,{"$f":"C52*$J$10","v":75450},null,{"$f":"J52/2","v":37725},null,{"$f":"C52*$N$10","v":88349.999999999985},null,{"$f":"N52/2","v":44174.999999999993}]
[null,39,790000,null,26330,null,770000,"～",810000,{"$f":"C53*$J$10","v":79474},null,{"$f":"J53/2","v":39737},null,{"$f":"C53*$N$10","v":93061.999999999985},null,{"$f":"N53/2","v":46530.999999999993}]
[null,40,830000,null,27670,null,810000,"～",855000,{"$f":"C54*$J$10","v":83498},null,{"$f":"J54/2","v":41749},null,{"$f":"C54*$N$10","v":97773.999999999985},null,{"$f":"N54/2","v":48886.999999999993}]
[null,41,880000,null,29330,null,855000,"～",905000,{"$f":"C55*$J$10","v":88528},null,{"$f":"J55/2","v":44264},null,{"$f":"C55*$N$10","v":103663.99999999999},null,{"$f":"N55/2","v":51831.999999999993}]
[null,42,930000,null,31000,null,905000,"～",955000,{"$f":"C56*$J$10","v":93558},null,{"$f":"J56/2","v":46779},null,{"$f":"C56*$N$10","v":109553.99999999999},null,{"$f":"N56/2","v":54776.999999999993}]
[null,43,980000,null,32670,null,955000,"～",1005000,{"$f":"C57*$J$10","v":98588},null,{"$f":"J57/2","v":49294},null,{"$f":"C57*$N$10","v":115443.99999999999},null,{"$f":"N57/2","v":57721.999999999993}]
[null,44,1030000,null,34330,null,1005000,"～",1055000,{"$f":"C58*$J$10","v":103618},null,{"$f":"J58/2","v":51809},null,{"$f":"C58*$N$10","v":121333.99999999999},null,{"$f":"N58/2","v":60666.999999999993}]
[null,45,1090000,null,36330,null,1055000,"～",1115000,{"$f":"C59*$J$10","v":109654},null,{"$f":"J59/2","v":54827},null,{"$f":"C59*$N$10","v":128401.99999999999},null,{"$f":"N59/2","v":64200.999999999993}]
[null,46,1150000,null,38330,null,1115000,"～",1175000,{"$f":"C60*$J$10","v":115690},null,{"$f":"J60/2","v":57845},null,{"$f":"C60*$N$10","v":135470},null,{"$f":"N60/2","v":67735}]
[null,47,1210000,null,40330,null,1175000,"～",null,{"$f":"C61*$J$10","v":121726},null,{"$f":"J61/2","v":60863},null,{"$f":"C61*$N$10","v":142538},null,{"$f":"N61/2","v":71269}]
[]
[{"$f":"J10","v":0.10059999999999999}]
[null,""]
["◆等級欄の（　）内の数字は、厚生年金保険の標準報酬月額等級です。"]
["　5(1)等級の「報酬月額」欄は、厚生年金保険の場合「101,000円未満」と読み替えてください。"]
["　34(30)等級の「報酬月額」欄は、厚生年金保険の場合「605,000円以上」と読み替えてください。"]
[null,""]
["◆平成26年度における全国健康保険協会の任意継続被保険者について、標準報酬月額の上限は、280,000円です。"]
[]
[]
["　○被保険者負担分（表の折半額の欄）に円未満の端数がある場合"]
["　　　①事業主が、給与から被保険者負担分を控除する場合、被保険者負担分の端数が50銭以下の場合は切り捨て、50銭を超える場合は切り上げて1円となります。"]
["　　　②被保険者が、被保険者負担分を事業主へ現金で支払う場合、被保険者負担分の端数が50銭未満の場合は切り捨て、50銭以上の場合は切り上げて1円となります。"]
["　　　（注）①、②にかかわらず、事業主と被保険者の間で特約がある場合には、特約に基づき端数処理をすることができます。"]
[]
["　○納入告知書の保険料額"]
["　　　 納入告知書の保険料額は、被保険者個々の保険料額を合算した金額になります。ただし、合算した金額に円未満の端数がある場合は、その端数を切り捨てた額となります。"]
[]
["　○賞与に係る保険料"]
["　　　 賞与に係る保険料額は、賞与額から1,000円未満の端数を切り捨てた額（標準賞与額）に、保険料率を乗じた額となります。"]
[" 　　　また、標準賞与額の上限は、健康保険は年間540万円（毎年4月1日から翌年3月31日までの累計額）となり、厚生年金保険と児童手当拠出金の場合は月間150万円となります。"]
[]
["　○児童手当拠出金"]
["　　　 厚生年金保険の被保険者を使用する事業主の方は、児童手当等の支給に要する費用の一部として児童手当拠出金を全額負担いただくことになります。この児童手当"]
["　　　 拠出金の額は、被保険者個々の厚生年金保険の標準報酬月額および標準賞与額に、拠出金率（0.15%）を乗じて得た額の総額となります。"]

{"sheet":"広島","index":43,"n_rows":86,"n_cols":24,"rows_kept":86,"cut":false,"hidden":true,"merged":[[74,0,74,24],[75,0,75,16],[85,0,85,24],[86,0,86,16],[77,0,77,23],[79,0,79,16],[80,0,80,21],[81,0,81,24],[83,0,83,21],[84,0,84,24],[76,0,76,23],[48,17,60,24],[62,0,62,25],[64,0,64,24],[65,0,65,24],[66,0,66,24],[68,0,68,24],[71,0,71,16],[72,0,72,24],[73,0,73,24],[6,21,8,24],[9,9,10,12],[9,13,10,16],[9,17,10,20],[9,21,10,24],[11,13,12,14],[11,15,12,16],[11,17,12,18],[11,19,12,20],[11,21,12,22],[11,1,12,1],[11,2,12,3],[11,4,12,5],[11,9,12,10],[11,11,12,12],[11,23,12,24],[0,1,1,24],[2,1,3,23],[4,1,4,16],[5,1,10,5],[5,6,12,8],[5,9,5,16],[5,17,5,24],[6,9,8,12],[6,13,8,16],[6,17,8,20]]}
[null,"平成26年9月分(10月納付分)からの健康保険・厚生年金保険の保険料額表"]
[]
[null,"     ‣健康保険料率：平成24年3月分～　適用　　‣厚生年金保険料率：平成26年9月分～平成27年8月分　適用\n     ‣介護保険料率：平成26年3月分～　適用　　‣児童手当拠出金率：平成24年4月分～　適用\n"]
[]
[null,"（広島県）",null,null,null,null,null,null,null,null,null,null,null,null,null,null,null,null,null,null,null,null,null,"（単位：円）"]
[null,"標　準　報　酬",null,null,null,null,"報　酬　月　額",null,null,"全国健康保険協会管掌健康保険料",null,null,null,null,null,null,null,"厚生年金保険料（厚生年金基金加入員を除く）"]
[null,null,null,null,null,null,null,null,null,"介護保険第２号被保険者\nに該当しない場合",null,null,null,"介護保険第２号被保険者\nに該当する場合",null,null,null,"一般の被保険者",null,null,null,"坑内員・船員"]
[]
[]
[null,null,null,null,null,null,null,null,null,0.1003,null,null,null,{"$f":"J10+0.0172","v":0.11749999999999999},null,null,null,0.17474000000000001,null,null,null,0.17688000000000001]
[]
[null,"等級","月　額",null,"日　額",null,null,null,null,"全　額",null,"折半額",null,"全　額",null,"折半額",null,"全　額",null,"折半額",null,"全　額",null,"折半額"]
[]
[null,null,null,null,null,null,"円以上",null,"円未満"]
[null,1,58000,null,1930,null,null,"～",63000,{"$f":"C15*$J$10","v":5817.4},null,{"$f":"J15/2","v":2908.7},null,{"$f":"C15*$N$10","v":6815},null,{"$f":"N15/2","v":3407.5}]
[null,2,68000,null,2270,null,63000,"～",73000,{"$f":"C16*$J$10","v":6820.4},null,{"$f":"J16/2","v":3410.2},null,{"$f":"C16*$N$10","v":7990},null,{"$f":"N16/2","v":3995}]
[null,3,78000,null,2600,null,73000,"～",83000,{"$f":"C17*$J$10","v":7823.4},null,{"$f":"J17/2","v":3911.7},null,{"$f":"C17*$N$10","v":9165},null,{"$f":"N17/2","v":4582.5}]
[null,4,88000,null,2930,null,83000,"～",93000,{"$f":"C18*$J$10","v":8826.4},null,{"$f":"J18/2","v":4413.2},null,{"$f":"C18*$N$10","v":10340},null,{"$f":"N18/2","v":5170}]
[null,"5(1)",98000,null,3270,null,93000,"～",101000,{"$f":"C19*$J$10","v":9829.4},null,{"$f":"J19/2","v":4914.7},null,{"$f":"C19*$N$10","v":11515},null,{"$f":"N19/2","v":5757.5},null,{"$f":"C19*$R$10","v":17124.52},null,{"$f":"R19/2","v":8562.26},null,{"$f":"C19*$V$10","v":17334.240000000002},null,{"$f":"V19/2","v":8667.1200000000008}]
[null,"6(2)",104000,null,3470,null,101000,"～",107000,{"$f":"C20*$J$10","v":10431.200000000001},null,{"$f":"J20/2","v":5215.6000000000004},null,{"$f":"C20*$N$10","v":12220},null,{"$f":"N20/2","v":6110},null,{"$f":"C20*$R$10","v":18172.96},null,{"$f":"R20/2","v":9086.48},null,{"$f":"C20*$V$10","v":18395.52},null,{"$f":"V20/2","v":9197.76}]
[null,"7(3)",110000,null,3670,null,107000,"～",114000,{"$f":"C21*$J$10","v":11033},null,{"$f":"J21/2","v":5516.5},null,{"$f":"C21*$N$10","v":12925},null,{"$f":"N21/2","v":6462.5},null,{"$f":"C21*$R$10","v":19221.400000000001},null,{"$f":"R21/2","v":9610.7000000000007},null,{"$f":"C21*$V$10","v":19456.8},null,{"$f":"V21/2","v":9728.4}]
[null,"8(4)",118000,null,3930,null,114000,"～",122000,{"$f":"C22*$J$10","v":11835.4},null,{"$f":"J22/2","v":5917.7},null,{"$f":"C22*$N$10","v":13865},null,{"$f":"N22/2","v":6932.5},null,{"$f":"C22*$R$10","v":20619.32},null,{"$f":"R22/2","v":10309.66},null,{"$f":"C22*$V$10","v":20871.84},null,{"$f":"V22/2","v":10435.92}]
[null,"9(5)",126000,null,4200,null,122000,"～",130000,{"$f":"C23*$J$10","v":12637.8},null,{"$f":"J23/2","v":6318.9},null,{"$f":"C23*$N$10","v":14805},null,{"$f":"N23/2","v":7402.5},null,{"$f":"C23*$R$10","v":22017.24},null,{"$f":"R23/2","v":11008.62},null,{"$f":"C23*$V$10","v":22286.880000000001},null,{"$f":"V23/2","v":11143.44}]
[null,"10(6)",134000,null,4470,null,130000,"～",138000,{"$f":"C24*$J$10","v":13440.2},null,{"$f":"J24/2","v":6720.1},null,{"$f":"C24*$N$10","v":15745},null,{"$f":"N24/2","v":7872.5},null,{"$f":"C24*$R$10","v":23415.16},null,{"$f":"R24/2","v":11707.58},null,{"$f":"C24*$V$10","v":23701.920000000002},null,{"$f":"V24/2","v":11850.960000000001}]
[null,"11(7)",142000,null,4730,null,138000,"～",146000,{"$f":"C25*$J$10","v":14242.6},null,{"$f":"J25/2","v":7121.3},null,{"$f":"C25*$N$10","v":16685},null,{"$f":"N25/2","v":8342.5},null,{"$f":"C25*$R$10","v":24813.08},null,{"$f":"R25/2","v":12406.54},null,{"$f":"C25*$V$10","v":25116.960000000003},null,{"$f":"V25/2","v":12558.480000000001}]
[null,"12(8)",150000,null,5000,null,146000,"～",155000,{"$f":"C26*$J$10","v":15045},null,{"$f":"J26/2","v":7522.5},null,{"$f":"C26*$N$10","v":17625},null,{"$f":"N26/2","v":8812.5},null,{"$f":"C26*$R$10","v":26211},null,{"$f":"R26/2","v":13105.5},null,{"$f":"C26*$V$10","v":26532},null,{"$f":"V26/2","v":13266}]
[null,"13(9)",160000,null,5330,null,155000,"～",165000,{"$f":"C27*$J$10","v":16048},null,{"$f":"J27/2","v":8024},null,{"$f":"C27*$N$10","v":18800},null,{"$f":"N27/2","v":9400},null,{"$f":"C27*$R$10","v":27958.400000000001},null,{"$f":"R27/2","v":13979.2},null,{"$f":"C27*$V$10","v":28300.800000000003},null,{"$f":"V27/2","v":14150.400000000001}]
[null,"14(10)",170000,null,5670,null,165000,"～",175000,{"$f":"C28*$J$10","v":17051},null,{"$f":"J28/2","v":8525.5},null,{"$f":"C28*$N$10","v":19975},null,{"$f":"N28/2","v":9987.5},null,{"$f":"C28*$R$10","v":29705.800000000003},null,{"$f":"R28/2","v":14852.900000000001},null,{"$f":"C28*$V$10","v":30069.600000000002},null,{"$f":"V28/2","v":15034.800000000001}]
[null,"15(11)",180000,null,6000,null,175000,"～",185000,{"$f":"C29*$J$10","v":18054},null,{"$f":"J29/2","v":9027},null,{"$f":"C29*$N$10","v":21150},null,{"$f":"N29/2","v":10575},null,{"$f":"C29*$R$10","v":31453.200000000001},null,{"$f":"R29/2","v":15726.6},null,{"$f":"C29*$V$10","v":31838.400000000001},null,{"$f":"V29/2","v":15919.2}]
[null,"16(12)",190000,null,6330,null,185000,"～",195000,{"$f":"C30*$J$10","v":19057},null,{"$f":"J30/2","v":9528.5},null,{"$f":"C30*$N$10","v":22325},null,{"$f":"N30/2","v":11162.5},null,{"$f":"C30*$R$10","v":33200.6},null,{"$f":"R30/2","v":16600.3},null,{"$f":"C30*$V$10","v":33607.200000000004},null,{"$f":"V30/2","v":16803.600000000002}]
[null,"17(13)",200000,null,6670,null,195000,"～",210000,{"$f":"C31*$J$10","v":20060},null,{"$f":"J31/2","v":10030},null,{"$f":"C31*$N$10","v":23500},null,{"$f":"N31/2","v":11750},null,{"$f":"C31*$R$10","v":34948},null,{"$f":"R31/2","v":17474},null,{"$f":"C31*$V$10","v":35376},null,{"$f":"V31/2","v":17688}]
[null,"18(14)",220000,null,7330,null,210000,"～",230000,{"$f":"C32*$J$10","v":22066},null,{"$f":"J32/2","v":11033},null,{"$f":"C32*$N$10","v":25850},null,{"$f":"N32/2","v":12925},null,{"$f":"C32*$R$10","v":38442.800000000003},null,{"$f":"R32/2","v":19221.400000000001},null,{"$f":"C32*$V$10","v":38913.599999999999},null,{"$f":"V32/2","v":19456.8}]
[null,"19(15)",240000,null,8000,null,230000,"～",250000,{"$f":"C33*$J$10","v":24072},null,{"$f":"J33/2","v":12036},null,{"$f":"C33*$N$10","v":28200},null,{"$f":"N33/2","v":14100},null,{"$f":"C33*$R$10","v":41937.599999999999},null,{"$f":"R33/2","v":20968.8},null,{"$f":"C33*$V$10","v":42451.200000000004},null,{"$f":"V33/2","v":21225.600000000002}]
[null,"20(16)",260000,null,8670,null,250000,"～",270000,{"$f":"C34*$J$10","v":26078},null,{"$f":"J34/2","v":13039},null,{"$f":"C34*$N$10","v":30550},null,{"$f":"N34/2","v":15275},null,{"$f":"C34*$R$10","v":45432.4},null,{"$f":"R34/2","v":22716.2},null,{"$f":"C34*$V$10","v":45988.800000000003},null,{"$f":"V34/2","v":22994.400000000001}]
[null,"21(17)",280000,null,9330,null,270000,"～",290000,{"$f":"C35*$J$10","v":28084},null,{"$f":"J35/2","v":14042},null,{"$f":"C35*$N$10","v":32900},null,{"$f":"N35/2","v":16450},null,{"$f":"C35*$R$10","v":48927.200000000004},null,{"$f":"R35/2","v":24463.600000000002},null,{"$f":"C35*$V$10","v":49526.400000000001},null,{"$f":"V35/2","v":24763.200000000001}]
[null,"22(18)",300000,null,10000,null,290000,"～",310000,{"$f":"C36*$J$10","v":30090},null,{"$f":"J36/2","v":15045},null,{"$f":"C36*$N$10","v":35250},null,{"$f":"N36/2","v":17625},null,{"$f":"C36*$R$10","v":52422},null,{"$f":"R36/2","v":26211},null,{"$f":"C36*$V$10","v":53064},null,{"$f":"V36/2","v":26532}]
[null,"23(19)",320000,null,10670,null,310000,"～",330000,{"$f":"C37*$J$10","v":32096},null,{"$f":"J37/2","v":16048},null,{"$f":"C37*$N$10","v":37600},null,{"$f":"N37/2","v":18800},null,{"$f":"C37*$R$10","v":55916.800000000003},null,{"$f":"R37/2","v":27958.400000000001},null,{"$f":"C37*$V$10","v":56601.600000000006},null,{"$f":"V37/2","v":28300.800000000003}]
[null,"24(20)",340000,null,11330,null,330000,"～",350000,{"$f":"C38*$J$10","v":34102},null,{"$f":"J38/2","v":17051},null,{"$f":"C38*$N$10","v":39950},null,{"$f":"N38/2","v":19975},null,{"$f":"C38*$R$10","v":59411.600000000006},null,{"$f":"R38/2","v":29705.800000000003},null,{"$f":"C38*$V$10","v":60139.200000000004},null,{"$f":"V38/2","v":30069.600000000002}]
[null,"25(21)",360000,null,12000,null,350000,"～",370000,{"$f":"C39*$J$10","v":36108},null,{"$f":"J39/2","v":18054},null,{"$f":"C39*$N$10","v":42300},null,{"$f":"N39/2","v":21150},null,{"$f":"C39*$R$10","v":62906.400000000001},null,{"$f":"R39/2","v":31453.200000000001},null,{"$f":"C39*$V$10","v":63676.800000000003},null,{"$f":"V39/2","v":31838.400000000001}]
[null,"26(22)",380000,null,12670,null,370000,"～",395000,{"$f":"C40*$J$10","v":38114},null,{"$f":"J40/2","v":19057},null,{"$f":"C40*$N$10","v":44650},null,{"$f":"N40/2","v":22325},null,{"$f":"C40*$R$10","v":66401.2},null,{"$f":"R40/2","v":33200.6},null,{"$f":"C40*$V$10","v":67214.400000000009},null,{"$f":"V40/2","v":33607.200000000004}]
[null,"27(23)",410000,null,13670,null,395000,"～",425000,{"$f":"C41*$J$10","v":41123},null,{"$f":"J41/2","v":20561.5},null,{"$f":"C41*$N$10","v":48175},null,{"$f":"N41/2","v":24087.5},null,{"$f":"C41*$R$10","v":71643.400000000009},null,{"$f":"R41/2","v":35821.700000000004},null,{"$f":"C41*$V$10","v":72520.800000000003},null,{"$f":"V41/2","v":36260.400000000001}]
[null,"28(24)",440000,null,14670,null,425000,"～",455000,{"$f":"C42*$J$10","v":44132},null,{"$f":"J42/2","v":22066},null,{"$f":"C42*$N$10","v":51700},null,{"$f":"N42/2","v":25850},null,{"$f":"C42*$R$10","v":76885.600000000006},null,{"$f":"R42/2","v":38442.800000000003},null,{"$f":"C42*$V$10","v":77827.199999999997},null,{"$f":"V42/2","v":38913.599999999999}]
[null,"29(25)",470000,null,15670,null,455000,"～",485000,{"$f":"C43*$J$10","v":47141},null,{"$f":"J43/2","v":23570.5},null,{"$f":"C43*$N$10","v":55225},null,{"$f":"N43/2","v":27612.5},null,{"$f":"C43*$R$10","v":82127.8},null,{"$f":"R43/2","v":41063.9},null,{"$f":"C43*$V$10","v":83133.600000000006},null,{"$f":"V43/2","v":41566.800000000003}]
[null,"30(26)",500000,null,16670,null,485000,"～",515000,{"$f":"C44*$J$10","v":50150},null,{"$f":"J44/2","v":25075},null,{"$f":"C44*$N$10","v":58750},null,{"$f":"N44/2","v":29375},null,{"$f":"C44*$R$10","v":87370},null,{"$f":"R44/2","v":43685},null,{"$f":"C44*$V$10","v":88440},null,{"$f":"V44/2","v":44220}]
[null,"31(27)",530000,null,17670,null,515000,"～",545000,{"$f":"C45*$J$10","v":53159},null,{"$f":"J45/2","v":26579.5},null,{"$f":"C45*$N$10","v":62275},null,{"$f":"N45/2","v":31137.5},null,{"$f":"C45*$R$10","v":92612.2},null,{"$f":"R45/2","v":46306.1},null,{"$f":"C45*$V$10","v":93746.400000000009},null,{"$f":"V45/2","v":46873.200000000004}]
[null,"32(28)",560000,null,18670,null,545000,"～",575000,{"$f":"C46*$J$10","v":56168},null,{"$f":"J46/2","v":28084},null,{"$f":"C46*$N$10","v":65800},null,{"$f":"N46/2","v":32900},null,{"$f":"C46*$R$10","v":97854.400000000009},null,{"$f":"R46/2","v":48927.200000000004},null,{"$f":"C46*$V$10","v":99052.800000000003},null,{"$f":"V46/2","v":49526.400000000001}]
[null,"33(29)",590000,null,19670,null,575000,"～",605000,{"$f":"C47*$J$10","v":59177},null,{"$f":"J47/2","v":29588.5},null,{"$f":"C47*$N$10","v":69325},null,{"$f":"N47/2","v":34662.5},null,{"$f":"C47*$R$10","v":103096.6},null,{"$f":"R47/2","v":51548.3},null,{"$f":"C47*$V$10","v":104359.20000000001},null,{"$f":"V47/2","v":52179.600000000006}]
[null,"34(30)",620000,null,20670,null,605000,"～",635000,{"$f":"C48*$J$10","v":62186},null,{"$f":"J48/2","v":31093},null,{"$f":"C48*$N$10","v":72850},null,{"$f":"N48/2","v":36425},null,{"$f":"C48*$R$10","v":108338.8},null,{"$f":"R48/2","v":54169.4},null,{"$f":"C48*$V$10","v":109665.60000000001},null,{"$f":"V48/2","v":54832.800000000003}]
[null,35,650000,null,21670,null,635000,"～",665000,{"$f":"C49*$J$10","v":65195},null,{"$f":"J49/2","v":32597.5},null,{"$f":"C49*$N$10","v":76375},null,{"$f":"N49/2","v":38187.5},null,"※厚生年金基金に加入している方の厚生年金保険\n　料率は、基金ごとに定められている免除保険料\n　率(2.4%～5.0%)を控除した率となります。\n\n　●一般の被保険者の方　…12.474%～15.074%\n　●坑内員の被保険者の方…12.688%～15.288%\n\n　加入する基金ごとに異なりますので、免除保険\n　料率および厚生年金基金の掛金については、加\n　入する厚生年金基金にお問い合わせください。\n"]
[null,36,680000,null,22670,null,665000,"～",695000,{"$f":"C50*$J$10","v":68204},null,{"$f":"J50/2","v":34102},null,{"$f":"C50*$N$10","v":79900},null,{"$f":"N50/2","v":39950}]
[null,37,710000,null,23670,null,695000,"～",730000,{"$f":"C51*$J$10","v":71213},null,{"$f":"J51/2","v":35606.5},null,{"$f":"C51*$N$10","v":83425},null,{"$f":"N51/2","v":41712.5}]
[null,38,750000,null,25000,null,730000,"～",770000,{"$f":"C52*$J$10","v":75225},null,{"$f":"J52/2","v":37612.5},null,{"$f":"C52*$N$10","v":88125},null,{"$f":"N52/2","v":44062.5}]
[null,39,790000,null,26330,null,770000,"～",810000,{"$f":"C53*$J$10","v":79237},null,{"$f":"J53/2","v":39618.5},null,{"$f":"C53*$N$10","v":92825},null,{"$f":"N53/2","v":46412.5}]
[null,40,830000,null,27670,null,810000,"～",855000,{"$f":"C54*$J$10","v":83249},null,{"$f":"J54/2","v":41624.5},null,{"$f":"C54*$N$10","v":97525},null,{"$f":"N54/2","v":48762.5}]
[null,41,880000,null,29330,null,855000,"～",905000,{"$f":"C55*$J$10","v":88264},null,{"$f":"J55/2","v":44132},null,{"$f":"C55*$N$10","v":103400},null,{"$f":"N55/2","v":51700}]
[null,42,930000,null,31000,null,905000,"～",955000,{"$f":"C56*$J$10","v":93279},null,{"$f":"J56/2","v":46639.5},null,{"$f":"C56*$N$10","v":109275},null,{"$f":"N56/2","v":54637.5}]
[null,43,980000,null,32670,null,955000,"～",1005000,{"$f":"C57*$J$10","v":98294},null,{"$f":"J57/2","v":49147},null,{"$f":"C57*$N$10","v":115150},null,{"$f":"N57/2","v":57575}]
[null,44,1030000,null,34330,null,1005000,"～",1055000,{"$f":"C58*$J$10","v":103309},null,{"$f":"J58/2","v":51654.5},null,{"$f":"C58*$N$10","v":121025},null,{"$f":"N58/2","v":60512.5}]
[null,45,1090000,null,36330,null,1055000,"～",1115000,{"$f":"C59*$J$10","v":109327},null,{"$f":"J59/2","v":54663.5},null,{"$f":"C59*$N$10","v":128075},null,{"$f":"N59/2","v":64037.5}]
[null,46,1150000,null,38330,null,1115000,"～",1175000,{"$f":"C60*$J$10","v":115345},null,{"$f":"J60/2","v":57672.5},null,{"$f":"C60*$N$10","v":135125},null,{"$f":"N60/2","v":67562.5}]
[null,47,1210000,null,40330,null,1175000,"～",null,{"$f":"C61*$J$10","v":121363},null,{"$f":"J61/2","v":60681.5},null,{"$f":"C61*$N$10","v":142175},null,{"$f":"N61/2","v":71087.5}]
[]
[{"$f":"J10","v":0.1003}]
[null,""]
["◆等級欄の（　）内の数字は、厚生年金保険の標準報酬月額等級です。"]
["　5(1)等級の「報酬月額」欄は、厚生年金保険の場合「101,000円未満」と読み替えてください。"]
["　34(30)等級の「報酬月額」欄は、厚生年金保険の場合「605,000円以上」と読み替えてください。"]
[null,""]
["◆平成26年度における全国健康保険協会の任意継続被保険者について、標準報酬月額の上限は、280,000円です。"]
[]
[]
["　○被保険者負担分（表の折半額の欄）に円未満の端数がある場合"]
["　　　①事業主が、給与から被保険者負担分を控除する場合、被保険者負担分の端数が50銭以下の場合は切り捨て、50銭を超える場合は切り上げて1円となります。"]
["　　　②被保険者が、被保険者負担分を事業主へ現金で支払う場合、被保険者負担分の端数が50銭未満の場合は切り捨て、50銭以上の場合は切り上げて1円となります。"]
["　　　（注）①、②にかかわらず、事業主と被保険者の間で特約がある場合には、特約に基づき端数処理をすることができます。"]
[]
["　○納入告知書の保険料額"]
["　　　 納入告知書の保険料額は、被保険者個々の保険料額を合算した金額になります。ただし、合算した金額に円未満の端数がある場合は、その端数を切り捨てた額となります。"]
[]
["　○賞与に係る保険料"]
["　　　 賞与に係る保険料額は、賞与額から1,000円未満の端数を切り捨てた額（標準賞与額）に、保険料率を乗じた額となります。"]
[" 　　　また、標準賞与額の上限は、健康保険は年間540万円（毎年4月1日から翌年3月31日までの累計額）となり、厚生年金保険と児童手当拠出金の場合は月間150万円となります。"]
[]
["　○児童手当拠出金"]
["　　　 厚生年金保険の被保険者を使用する事業主の方は、児童手当等の支給に要する費用の一部として児童手当拠出金を全額負担いただくことになります。この児童手当"]
["　　　 拠出金の額は、被保険者個々の厚生年金保険の標準報酬月額および標準賞与額に、拠出金率（0.15%）を乗じて得た額の総額となります。"]

{"sheet":"山口","index":44,"n_rows":86,"n_cols":24,"rows_kept":86,"cut":false,"hidden":true,"merged":[[74,0,74,24],[75,0,75,16],[85,0,85,24],[86,0,86,16],[77,0,77,23],[79,0,79,16],[80,0,80,21],[81,0,81,24],[83,0,83,21],[84,0,84,24],[76,0,76,23],[48,17,60,24],[62,0,62,25],[64,0,64,24],[65,0,65,24],[66,0,66,24],[68,0,68,24],[71,0,71,16],[72,0,72,24],[73,0,73,24],[6,21,8,24],[9,9,10,12],[9,13,10,16],[9,17,10,20],[9,21,10,24],[11,13,12,14],[11,15,12,16],[11,17,12,18],[11,19,12,20],[11,21,12,22],[11,1,12,1],[11,2,12,3],[11,4,12,5],[11,9,12,10],[11,11,12,12],[11,23,12,24],[0,1,1,24],[2,1,3,23],[4,1,4,16],[5,1,10,5],[5,6,12,8],[5,9,5,16],[5,17,5,24],[6,9,8,12],[6,13,8,16],[6,17,8,20]]}
[null,"平成26年9月分(10月納付分)からの健康保険・厚生年金保険の保険料額表"]
[]
[null,"     ‣健康保険料率：平成24年3月分～　適用　　‣厚生年金保険料率：平成26年9月分～平成27年8月分　適用\n     ‣介護保険料率：平成26年3月分～　適用　　‣児童手当拠出金率：平成24年4月分～　適用\n"]
[]
[null,"（山口県）",null,null,null,null,null,null,null,null,null,null,null,null,null,null,null,null,null,null,null,null,null,"（単位：円）"]
[null,"標　準　報　酬",null,null,null,null,"報　酬　月　額",null,null,"全国健康保険協会管掌健康保険料",null,null,null,null,null,null,null,"厚生年金保険料（厚生年金基金加入員を除く）"]
[null,null,null,null,null,null,null,null,null,"介護保険第２号被保険者\nに該当しない場合",null,null,null,"介護保険第２号被保険者\nに該当する場合",null,null,null,"一般の被保険者",null,null,null,"坑内員・船員"]
[]
[]
[null,null,null,null,null,null,null,null,null,0.1003,null,null,null,{"$f":"J10+0.0172","v":0.11749999999999999},null,null,null,0.17474000000000001,null,null,null,0.17688000000000001]
[]
[null,"等級","月　額",null,"日　額",null,null,null,null,"全　額",null,"折半額",null,"全　額",null,"折半額",null,"全　額",null,"折半額",null,"全　額",null,"折半額"]
[]
[null,null,null,null,null,null,"円以上",null,"円未満"]
[null,1,58000,null,1930,null,null,"～",63000,{"$f":"C15*$J$10","v":5817.4},null,{"$f":"J15/2","v":2908.7},null,{"$f":"C15*$N$10","v":6815},null,{"$f":"N15/2","v":3407.5}]
[null,2,68000,null,2270,null,63000,"～",73000,{"$f":"C16*$J$10","v":6820.4},null,{"$f":"J16/2","v":3410.2},null,{"$f":"C16*$N$10","v":7990},null,{"$f":"N16/2","v":3995}]
[null,3,78000,null,2600,null,73000,"～",83000,{"$f":"C17*$J$10","v":7823.4},null,{"$f":"J17/2","v":3911.7},null,{"$f":"C17*$N$10","v":9165},null,{"$f":"N17/2","v":4582.5}]
[null,4,88000,null,2930,null,83000,"～",93000,{"$f":"C18*$J$10","v":8826.4},null,{"$f":"J18/2","v":4413.2},null,{"$f":"C18*$N$10","v":10340},null,{"$f":"N18/2","v":5170}]
[null,"5(1)",98000,null,3270,null,93000,"～",101000,{"$f":"C19*$J$10","v":9829.4},null,{"$f":"J19/2","v":4914.7},null,{"$f":"C19*$N$10","v":11515},null,{"$f":"N19/2","v":5757.5},null,{"$f":"C19*$R$10","v":17124.52},null,{"$f":"R19/2","v":8562.26},null,{"$f":"C19*$V$10","v":17334.240000000002},null,{"$f":"V19/2","v":8667.1200000000008}]
[null,"6(2)",104000,null,3470,null,101000,"～",107000,{"$f":"C20*$J$10","v":10431.200000000001},null,{"$f":"J20/2","v":5215.6000000000004},null,{"$f":"C20*$N$10","v":12220},null,{"$f":"N20/2","v":6110},null,{"$f":"C20*$R$10","v":18172.96},null,{"$f":"R20/2","v":9086.48},null,{"$f":"C20*$V$10","v":18395.52},null,{"$f":"V20/2","v":9197.76}]
[null,"7(3)",110000,null,3670,null,107000,"～",114000,{"$f":"C21*$J$10","v":11033},null,{"$f":"J21/2","v":5516.5},null,{"$f":"C21*$N$10","v":12925},null,{"$f":"N21/2","v":6462.5},null,{"$f":"C21*$R$10","v":19221.400000000001},null,{"$f":"R21/2","v":9610.7000000000007},null,{"$f":"C21*$V$10","v":19456.8},null,{"$f":"V21/2","v":9728.4}]
[null,"8(4)",118000,null,3930,null,114000,"～",122000,{"$f":"C22*$J$10","v":11835.4},null,{"$f":"J22/2","v":5917.7},null,{"$f":"C22*$N$10","v":13865},null,{"$f":"N22/2","v":6932.5},null,{"$f":"C22*$R$10","v":20619.32},null,{"$f":"R22/2","v":10309.66},null,{"$f":"C22*$V$10","v":20871.84},null,{"$f":"V22/2","v":10435.92}]
[null,"9(5)",126000,null,4200,null,122000,"～",130000,{"$f":"C23*$J$10","v":12637.8},null,{"$f":"J23/2","v":6318.9},null,{"$f":"C23*$N$10","v":14805},null,{"$f":"N23/2","v":7402.5},null,{"$f":"C23*$R$10","v":22017.24},null,{"$f":"R23/2","v":11008.62},null,{"$f":"C23*$V$10","v":22286.880000000001},null,{"$f":"V23/2","v":11143.44}]
[null,"10(6)",134000,null,4470,null,130000,"～",138000,{"$f":"C24*$J$10","v":13440.2},null,{"$f":"J24/2","v":6720.1},null,{"$f":"C24*$N$10","v":15745},null,{"$f":"N24/2","v":7872.5},null,{"$f":"C24*$R$10","v":23415.16},null,{"$f":"R24/2","v":11707.58},null,{"$f":"C24*$V$10","v":23701.920000000002},null,{"$f":"V24/2","v":11850.960000000001}]
[null,"11(7)",142000,null,4730,null,138000,"～",146000,{"$f":"C25*$J$10","v":14242.6},null,{"$f":"J25/2","v":7121.3},null,{"$f":"C25*$N$10","v":16685},null,{"$f":"N25/2","v":8342.5},null,{"$f":"C25*$R$10","v":24813.08},null,{"$f":"R25/2","v":12406.54},null,{"$f":"C25*$V$10","v":25116.960000000003},null,{"$f":"V25/2","v":12558.480000000001}]
[null,"12(8)",150000,null,5000,null,146000,"～",155000,{"$f":"C26*$J$10","v":15045},null,{"$f":"J26/2","v":7522.5},null,{"$f":"C26*$N$10","v":17625},null,{"$f":"N26/2","v":8812.5},null,{"$f":"C26*$R$10","v":26211},null,{"$f":"R26/2","v":13105.5},null,{"$f":"C26*$V$10","v":26532},null,{"$f":"V26/2","v":13266}]
[null,"13(9)",160000,null,5330,null,155000,"～",165000,{"$f":"C27*$J$10","v":16048},null,{"$f":"J27/2","v":8024},null,{"$f":"C27*$N$10","v":18800},null,{"$f":"N27/2","v":9400},null,{"$f":"C27*$R$10","v":27958.400000000001},null,{"$f":"R27/2","v":13979.2},null,{"$f":"C27*$V$10","v":28300.800000000003},null,{"$f":"V27/2","v":14150.400000000001}]
[null,"14(10)",170000,null,5670,null,165000,"～",175000,{"$f":"C28*$J$10","v":17051},null,{"$f":"J28/2","v":8525.5},null,{"$f":"C28*$N$10","v":19975},null,{"$f":"N28/2","v":9987.5},null,{"$f":"C28*$R$10","v":29705.800000000003},null,{"$f":"R28/2","v":14852.900000000001},null,{"$f":"C28*$V$10","v":30069.600000000002},null,{"$f":"V28/2","v":15034.800000000001}]
[null,"15(11)",180000,null,6000,null,175000,"～",185000,{"$f":"C29*$J$10","v":18054},null,{"$f":"J29/2","v":9027},null,{"$f":"C29*$N$10","v":21150},null,{"$f":"N29/2","v":10575},null,{"$f":"C29*$R$10","v":31453.200000000001},null,{"$f":"R29/2","v":15726.6},null,{"$f":"C29*$V$10","v":31838.400000000001},null,{"$f":"V29/2","v":15919.2}]
[null,"16(12)",190000,null,6330,null,185000,"～",195000,{"$f":"C30*$J$10","v":19057},null,{"$f":"J30/2","v":9528.5},null,{"$f":"C30*$N$10","v":22325},null,{"$f":"N30/2","v":11162.5},null,{"$f":"C30*$R$10","v":33200.6},null,{"$f":"R30/2","v":16600.3},null,{"$f":"C30*$V$10","v":33607.200000000004},null,{"$f":"V30/2","v":16803.600000000002}]
[null,"17(13)",200000,null,6670,null,195000,"～",210000,{"$f":"C31*$J$10","v":20060},null,{"$f":"J31/2","v":10030},null,{"$f":"C31*$N$10","v":23500},null,{"$f":"N31/2","v":11750},null,{"$f":"C31*$R$10","v":34948},null,{"$f":"R31/2","v":17474},null,{"$f":"C31*$V$10","v":35376},null,{"$f":"V31/2","v":17688}]
[null,"18(14)",220000,null,7330,null,210000,"～",230000,{"$f":"C32*$J$10","v":22066},null,{"$f":"J32/2","v":11033},null,{"$f":"C32*$N$10","v":25850},null,{"$f":"N32/2","v":12925},null,{"$f":"C32*$R$10","v":38442.800000000003},null,{"$f":"R32/2","v":19221.400000000001},null,{"$f":"C32*$V$10","v":38913.599999999999},null,{"$f":"V32/2","v":19456.8}]
[null,"19(15)",240000,null,8000,null,230000,"～",250000,{"$f":"C33*$J$10","v":24072},null,{"$f":"J33/2","v":12036},null,{"$f":"C33*$N$10","v":28200},null,{"$f":"N33/2","v":14100},null,{"$f":"C33*$R$10","v":41937.599999999999},null,{"$f":"R33/2","v":20968.8},null,{"$f":"C33*$V$10","v":42451.200000000004},null,{"$f":"V33/2","v":21225.600000000002}]
[null,"20(16)",260000,null,8670,null,250000,"～",270000,{"$f":"C34*$J$10","v":26078},null,{"$f":"J34/2","v":13039},null,{"$f":"C34*$N$10","v":30550},null,{"$f":"N34/2","v":15275},null,{"$f":"C34*$R$10","v":45432.4},null,{"$f":"R34/2","v":22716.2},null,{"$f":"C34*$V$10","v":45988.800000000003},null,{"$f":"V34/2","v":22994.400000000001}]
[null,"21(17)",280000,null,9330,null,270000,"～",290000,{"$f":"C35*$J$10","v":28084},null,{"$f":"J35/2","v":14042},null,{"$f":"C35*$N$10","v":32900},null,{"$f":"N35/2","v":16450},null,{"$f":"C35*$R$10","v":48927.200000000004},null,{"$f":"R35/2","v":24463.600000000002},null,{"$f":"C35*$V$10","v":49526.400000000001},null,{"$f":"V35/2","v":24763.200000000001}]
[null,"22(18)",300000,null,10000,null,290000,"～",310000,{"$f":"C36*$J$10","v":30090},null,{"$f":"J36/2","v":15045},null,{"$f":"C36*$N$10","v":35250},null,{"$f":"N36/2","v":17625},null,{"$f":"C36*$R$10","v":52422},null,{"$f":"R36/2","v":26211},null,{"$f":"C36*$V$10","v":53064},null,{"$f":"V36/2","v":26532}]
[null,"23(19)",320000,null,10670,null,310000,"～",330000,{"$f":"C37*$J$10","v":32096},null,{"$f":"J37/2","v":16048},null,{"$f":"C37*$N$10","v":37600},null,{"$f":"N37/2","v":18800},null,{"$f":"C37*$R$10","v":55916.800000000003},null,{"$f":"R37/2","v":27958.400000000001},null,{"$f":"C37*$V$10","v":56601.600000000006},null,{"$f":"V37/2","v":28300.800000000003}]
[null,"24(20)",340000,null,11330,null,330000,"～",350000,{"$f":"C38*$J$10","v":34102},null,{"$f":"J38/2","v":17051},null,{"$f":"C38*$N$10","v":39950},null,{"$f":"N38/2","v":19975},null,{"$f":"C38*$R$10","v":59411.600000000006},null,{"$f":"R38/2","v":29705.800000000003},null,{"$f":"C38*$V$10","v":60139.200000000004},null,{"$f":"V38/2","v":30069.600000000002}]
[null,"25(21)",360000,null,12000,null,350000,"～",370000,{"$f":"C39*$J$10","v":36108},null,{"$f":"J39/2","v":18054},null,{"$f":"C39*$N$10","v":42300},null,{"$f":"N39/2","v":21150},null,{"$f":"C39*$R$10","v":62906.400000000001},null,{"$f":"R39/2","v":31453.200000000001},null,{"$f":"C39*$V$10","v":63676.800000000003},null,{"$f":"V39/2","v":31838.400000000001}]
[null,"26(22)",380000,null,12670,null,370000,"～",395000,{"$f":"C40*$J$10","v":38114},null,{"$f":"J40/2","v":19057},null,{"$f":"C40*$N$10","v":44650},null,{"$f":"N40/2","v":22325},null,{"$f":"C40*$R$10","v":66401.2},null,{"$f":"R40/2","v":33200.6},null,{"$f":"C40*$V$10","v":67214.400000000009},null,{"$f":"V40/2","v":33607.200000000004}]
[null,"27(23)",410000,null,13670,null,395000,"～",425000,{"$f":"C41*$J$10","v":41123},null,{"$f":"J41/2","v":20561.5},null,{"$f":"C41*$N$10","v":48175},null,{"$f":"N41/2","v":24087.5},null,{"$f":"C41*$R$10","v":71643.400000000009},null,{"$f":"R41/2","v":35821.700000000004},null,{"$f":"C41*$V$10","v":72520.800000000003},null,{"$f":"V41/2","v":36260.400000000001}]
[null,"28(24)",440000,null,14670,null,425000,"～",455000,{"$f":"C42*$J$10","v":44132},null,{"$f":"J42/2","v":22066},null,{"$f":"C42*$N$10","v":51700},null,{"$f":"N42/2","v":25850},null,{"$f":"C42*$R$10","v":76885.600000000006},null,{"$f":"R42/2","v":38442.800000000003},null,{"$f":"C42*$V$10","v":77827.199999999997},null,{"$f":"V42/2","v":38913.599999999999}]
[null,"29(25)",470000,null,15670,null,455000,"～",485000,{"$f":"C43*$J$10","v":47141},null,{"$f":"J43/2","v":23570.5},null,{"$f":"C43*$N$10","v":55225},null,{"$f":"N43/2","v":27612.5},null,{"$f":"C43*$R$10","v":82127.8},null,{"$f":"R43/2","v":41063.9},null,{"$f":"C43*$V$10","v":83133.600000000006},null,{"$f":"V43/2","v":41566.800000000003}]
[null,"30(26)",500000,null,16670,null,485000,"～",515000,{"$f":"C44*$J$10","v":50150},null,{"$f":"J44/2","v":25075},null,{"$f":"C44*$N$10","v":58750},null,{"$f":"N44/2","v":29375},null,{"$f":"C44*$R$10","v":87370},null,{"$f":"R44/2","v":43685},null,{"$f":"C44*$V$10","v":88440},null,{"$f":"V44/2","v":44220}]
[null,"31(27)",530000,null,17670,null,515000,"～",545000,{"$f":"C45*$J$10","v":53159},null,{"$f":"J45/2","v":26579.5},null,{"$f":"C45*$N$10","v":62275},null,{"$f":"N45/2","v":31137.5},null,{"$f":"C45*$R$10","v":92612.2},null,{"$f":"R45/2","v":46306.1},null,{"$f":"C45*$V$10","v":93746.400000000009},null,{"$f":"V45/2","v":46873.200000000004}]
[null,"32(28)",560000,null,18670,null,545000,"～",575000,{"$f":"C46*$J$10","v":56168},null,{"$f":"J46/2","v":28084},null,{"$f":"C46*$N$10","v":65800},null,{"$f":"N46/2","v":32900},null,{"$f":"C46*$R$10","v":97854.400000000009},null,{"$f":"R46/2","v":48927.200000000004},null,{"$f":"C46*$V$10","v":99052.800000000003},null,{"$f":"V46/2","v":49526.400000000001}]
[null,"33(29)",590000,null,19670,null,575000,"～",605000,{"$f":"C47*$J$10","v":59177},null,{"$f":"J47/2","v":29588.5},null,{"$f":"C47*$N$10","v":69325},null,{"$f":"N47/2","v":34662.5},null,{"$f":"C47*$R$10","v":103096.6},null,{"$f":"R47/2","v":51548.3},null,{"$f":"C47*$V$10","v":104359.20000000001},null,{"$f":"V47/2","v":52179.600000000006}]
[null,"34(30)",620000,null,20670,null,605000,"～",635000,{"$f":"C48*$J$10","v":62186},null,{"$f":"J48/2","v":31093},null,{"$f":"C48*$N$10","v":72850},null,{"$f":"N48/2","v":36425},null,{"$f":"C48*$R$10","v":108338.8},null,{"$f":"R48/2","v":54169.4},null,{"$f":"C48*$V$10","v":109665.60000000001},null,{"$f":"V48/2","v":54832.800000000003}]
[null,35,650000,null,21670,null,635000,"～",665000,{"$f":"C49*$J$10","v":65195},null,{"$f":"J49/2","v":32597.5},null,{"$f":"C49*$N$10","v":76375},null,{"$f":"N49/2","v":38187.5},null,"※厚生年金基金に加入している方の厚生年金保険\n　料率は、基金ごとに定められている免除保険料\n　率(2.4%～5.0%)を控除した率となります。\n\n　●一般の被保険者の方　…12.474%～15.074%\n　●坑内員の被保険者の方…12.688%～15.288%\n\n　加入する基金ごとに異なりますので、免除保険\n　料率および厚生年金基金の掛金については、加\n　入する厚生年金基金にお問い合わせください。\n"]
[null,36,680000,null,22670,null,665000,"～",695000,{"$f":"C50*$J$10","v":68204},null,{"$f":"J50/2","v":34102},null,{"$f":"C50*$N$10","v":79900},null,{"$f":"N50/2","v":39950}]
[null,37,710000,null,23670,null,695000,"～",730000,{"$f":"C51*$J$10","v":71213},null,{"$f":"J51/2","v":35606.5},null,{"$f":"C51*$N$10","v":83425},null,{"$f":"N51/2","v":41712.5}]
[null,38,750000,null,25000,null,730000,"～",770000,{"$f":"C52*$J$10","v":75225},null,{"$f":"J52/2","v":37612.5},null,{"$f":"C52*$N$10","v":88125},null,{"$f":"N52/2","v":44062.5}]
[null,39,790000,null,26330,null,770000,"～",810000,{"$f":"C53*$J$10","v":79237},null,{"$f":"J53/2","v":39618.5},null,{"$f":"C53*$N$10","v":92825},null,{"$f":"N53/2","v":46412.5}]
[null,40,830000,null,27670,null,810000,"～",855000,{"$f":"C54*$J$10","v":83249},null,{"$f":"J54/2","v":41624.5},null,{"$f":"C54*$N$10","v":97525},null,{"$f":"N54/2","v":48762.5}]
[null,41,880000,null,29330,null,855000,"～",905000,{"$f":"C55*$J$10","v":88264},null,{"$f":"J55/2","v":44132},null,{"$f":"C55*$N$10","v":103400},null,{"$f":"N55/2","v":51700}]
[null,42,930000,null,31000,null,905000,"～",955000,{"$f":"C56*$J$10","v":93279},null,{"$f":"J56/2","v":46639.5},null,{"$f":"C56*$N$10","v":109275},null,{"$f":"N56/2","v":54637.5}]
[null,43,980000,null,32670,null,955000,"～",1005000,{"$f":"C57*$J$10","v":98294},null,{"$f":"J57/2","v":49147},null,{"$f":"C57*$N$10","v":115150},null,{"$f":"N57/2","v":57575}]
[null,44,1030000,null,34330,null,1005000,"～",1055000,{"$f":"C58*$J$10","v":103309},null,{"$f":"J58/2","v":51654.5},null,{"$f":"C58*$N$10","v":121025},null,{"$f":"N58/2","v":60512.5}]
[null,45,1090000,null,36330,null,1055000,"～",1115000,{"$f":"C59*$J$10","v":109327},null,{"$f":"J59/2","v":54663.5},null,{"$f":"C59*$N$10","v":128075},null,{"$f":"N59/2","v":64037.5}]
[null,46,1150000,null,38330,null,1115000,"～",1175000,{"$f":"C60*$J$10","v":115345},null,{"$f":"J60/2","v":57672.5},null,{"$f":"C60*$N$10","v":135125},null,{"$f":"N60/2","v":67562.5}]
[null,47,1210000,null,40330,null,1175000,"～",null,{"$f":"C61*$J$10","v":121363},null,{"$f":"J61/2","v":60681.5},null,{"$f":"C61*$N$10","v":142175},null,{"$f":"N61/2","v":71087.5}]
[]
[0.1003]
[null,""]
["◆等級欄の（　）内の数字は、厚生年金保険の標準報酬月額等級です。"]
["　5(1)等級の「報酬月額」欄は、厚生年金保険の場合「101,000円未満」と読み替えてください。"]
["　34(30)等級の「報酬月額」欄は、厚生年金保険の場合「605,000円以上」と読み替えてください。"]
[null,""]
["◆平成26年度における全国健康保険協会の任意継続被保険者について、標準報酬月額の上限は、280,000円です。"]
[]
[]
["　○被保険者負担分（表の折半額の欄）に円未満の端数がある場合"]
["　　　①事業主が、給与から被保険者負担分を控除する場合、被保険者負担分の端数が50銭以下の場合は切り捨て、50銭を超える場合は切り上げて1円となります。"]
["　　　②被保険者が、被保険者負担分を事業主へ現金で支払う場合、被保険者負担分の端数が50銭未満の場合は切り捨て、50銭以上の場合は切り上げて1円となります。"]
["　　　（注）①、②にかかわらず、事業主と被保険者の間で特約がある場合には、特約に基づき端数処理をすることができます。"]
[]
["　○納入告知書の保険料額"]
["　　　 納入告知書の保険料額は、被保険者個々の保険料額を合算した金額になります。ただし、合算した金額に円未満の端数がある場合は、その端数を切り捨てた額となります。"]
[]
["　○賞与に係る保険料"]
["　　　 賞与に係る保険料額は、賞与額から1,000円未満の端数を切り捨てた額（標準賞与額）に、保険料率を乗じた額となります。"]
[" 　　　また、標準賞与額の上限は、健康保険は年間540万円（毎年4月1日から翌年3月31日までの累計額）となり、厚生年金保険と児童手当拠出金の場合は月間150万円となります。"]
[]
["　○児童手当拠出金"]
["　　　 厚生年金保険の被保険者を使用する事業主の方は、児童手当等の支給に要する費用の一部として児童手当拠出金を全額負担いただくことになります。この児童手当"]
["　　　 拠出金の額は、被保険者個々の厚生年金保険の標準報酬月額および標準賞与額に、拠出金率（0.15%）を乗じて得た額の総額となります。"]

{"sheet":"徳島","index":45,"n_rows":86,"n_cols":24,"rows_kept":86,"cut":false,"hidden":true,"merged":[[74,0,74,24],[75,0,75,16],[85,0,85,24],[86,0,86,16],[77,0,77,23],[79,0,79,16],[80,0,80,21],[81,0,81,24],[83,0,83,21],[84,0,84,24],[76,0,76,23],[48,17,60,24],[62,0,62,25],[64,0,64,24],[65,0,65,24],[66,0,66,24],[68,0,68,24],[71,0,71,16],[72,0,72,24],[73,0,73,24],[6,21,8,24],[9,9,10,12],[9,13,10,16],[9,17,10,20],[9,21,10,24],[11,13,12,14],[11,15,12,16],[11,17,12,18],[11,19,12,20],[11,21,12,22],[11,1,12,1],[11,2,12,3],[11,4,12,5],[11,9,12,10],[11,11,12,12],[11,23,12,24],[0,1,1,24],[2,1,3,23],[4,1,4,16],[5,1,10,5],[5,6,12,8],[5,9,5,16],[5,17,5,24],[6,9,8,12],[6,13,8,16],[6,17,8,20]]}
[null,"平成26年9月分(10月納付分)からの健康保険・厚生年金保険の保険料額表"]
[]
[null,"     ‣健康保険料率：平成24年3月分～　適用　　‣厚生年金保険料率：平成26年9月分～平成27年8月分　適用\n     ‣介護保険料率：平成26年3月分～　適用　　‣児童手当拠出金率：平成24年4月分～　適用\n"]
[]
[null,"（徳島県）",null,null,null,null,null,null,null,null,null,null,null,null,null,null,null,null,null,null,null,null,null,"（単位：円）"]
[null,"標　準　報　酬",null,null,null,null,"報　酬　月　額",null,null,"全国健康保険協会管掌健康保険料",null,null,null,null,null,null,null,"厚生年金保険料（厚生年金基金加入員を除く）"]
[null,null,null,null,null,null,null,null,null,"介護保険第２号被保険者\nに該当しない場合",null,null,null,"介護保険第２号被保険者\nに該当する場合",null,null,null,"一般の被保険者",null,null,null,"坑内員・船員"]
[]
[]
[null,null,null,null,null,null,null,null,null,0.1008,null,null,null,{"$f":"J10+0.0172","v":0.11799999999999999},null,null,null,0.17474000000000001,null,null,null,0.17688000000000001]
[]
[null,"等級","月　額",null,"日　額",null,null,null,null,"全　額",null,"折半額",null,"全　額",null,"折半額",null,"全　額",null,"折半額",null,"全　額",null,"折半額"]
[]
[null,null,null,null,null,null,"円以上",null,"円未満"]
[null,1,58000,null,1930,null,null,"～",63000,{"$f":"C15*$J$10","v":5846.4},null,{"$f":"J15/2","v":2923.2},null,{"$f":"C15*$N$10","v":6844},null,{"$f":"N15/2","v":3422}]
[null,2,68000,null,2270,null,63000,"～",73000,{"$f":"C16*$J$10","v":6854.4},null,{"$f":"J16/2","v":3427.2},null,{"$f":"C16*$N$10","v":8024},null,{"$f":"N16/2","v":4012}]
[null,3,78000,null,2600,null,73000,"～",83000,{"$f":"C17*$J$10","v":7862.4},null,{"$f":"J17/2","v":3931.2},null,{"$f":"C17*$N$10","v":9204},null,{"$f":"N17/2","v":4602}]
[null,4,88000,null,2930,null,83000,"～",93000,{"$f":"C18*$J$10","v":8870.4},null,{"$f":"J18/2","v":4435.2},null,{"$f":"C18*$N$10","v":10384},null,{"$f":"N18/2","v":5192}]
[null,"5(1)",98000,null,3270,null,93000,"～",101000,{"$f":"C19*$J$10","v":9878.4},null,{"$f":"J19/2","v":4939.2},null,{"$f":"C19*$N$10","v":11564},null,{"$f":"N19/2","v":5782},null,{"$f":"C19*$R$10","v":17124.52},null,{"$f":"R19/2","v":8562.26},null,{"$f":"C19*$V$10","v":17334.240000000002},null,{"$f":"V19/2","v":8667.1200000000008}]
[null,"6(2)",104000,null,3470,null,101000,"～",107000,{"$f":"C20*$J$10","v":10483.200000000001},null,{"$f":"J20/2","v":5241.6000000000004},null,{"$f":"C20*$N$10","v":12272},null,{"$f":"N20/2","v":6136},null,{"$f":"C20*$R$10","v":18172.96},null,{"$f":"R20/2","v":9086.48},null,{"$f":"C20*$V$10","v":18395.52},null,{"$f":"V20/2","v":9197.76}]
[null,"7(3)",110000,null,3670,null,107000,"～",114000,{"$f":"C21*$J$10","v":11088},null,{"$f":"J21/2","v":5544},null,{"$f":"C21*$N$10","v":12980},null,{"$f":"N21/2","v":6490},null,{"$f":"C21*$R$10","v":19221.400000000001},null,{"$f":"R21/2","v":9610.7000000000007},null,{"$f":"C21*$V$10","v":19456.8},null,{"$f":"V21/2","v":9728.4}]
[null,"8(4)",118000,null,3930,null,114000,"～",122000,{"$f":"C22*$J$10","v":11894.4},null,{"$f":"J22/2","v":5947.2},null,{"$f":"C22*$N$10","v":13924},null,{"$f":"N22/2","v":6962},null,{"$f":"C22*$R$10","v":20619.32},null,{"$f":"R22/2","v":10309.66},null,{"$f":"C22*$V$10","v":20871.84},null,{"$f":"V22/2","v":10435.92}]
[null,"9(5)",126000,null,4200,null,122000,"～",130000,{"$f":"C23*$J$10","v":12700.8},null,{"$f":"J23/2","v":6350.4},null,{"$f":"C23*$N$10","v":14868},null,{"$f":"N23/2","v":7434},null,{"$f":"C23*$R$10","v":22017.24},null,{"$f":"R23/2","v":11008.62},null,{"$f":"C23*$V$10","v":22286.880000000001},null,{"$f":"V23/2","v":11143.44}]
[null,"10(6)",134000,null,4470,null,130000,"～",138000,{"$f":"C24*$J$10","v":13507.2},null,{"$f":"J24/2","v":6753.6},null,{"$f":"C24*$N$10","v":15812},null,{"$f":"N24/2","v":7906},null,{"$f":"C24*$R$10","v":23415.16},null,{"$f":"R24/2","v":11707.58},null,{"$f":"C24*$V$10","v":23701.920000000002},null,{"$f":"V24/2","v":11850.960000000001}]
[null,"11(7)",142000,null,4730,null,138000,"～",146000,{"$f":"C25*$J$10","v":14313.6},null,{"$f":"J25/2","v":7156.8},null,{"$f":"C25*$N$10","v":16756},null,{"$f":"N25/2","v":8378},null,{"$f":"C25*$R$10","v":24813.08},null,{"$f":"R25/2","v":12406.54},null,{"$f":"C25*$V$10","v":25116.960000000003},null,{"$f":"V25/2","v":12558.480000000001}]
[null,"12(8)",150000,null,5000,null,146000,"～",155000,{"$f":"C26*$J$10","v":15120},null,{"$f":"J26/2","v":7560},null,{"$f":"C26*$N$10","v":17700},null,{"$f":"N26/2","v":8850},null,{"$f":"C26*$R$10","v":26211},null,{"$f":"R26/2","v":13105.5},null,{"$f":"C26*$V$10","v":26532},null,{"$f":"V26/2","v":13266}]
[null,"13(9)",160000,null,5330,null,155000,"～",165000,{"$f":"C27*$J$10","v":16128},null,{"$f":"J27/2","v":8064},null,{"$f":"C27*$N$10","v":18880},null,{"$f":"N27/2","v":9440},null,{"$f":"C27*$R$10","v":27958.400000000001},null,{"$f":"R27/2","v":13979.2},null,{"$f":"C27*$V$10","v":28300.800000000003},null,{"$f":"V27/2","v":14150.400000000001}]
[null,"14(10)",170000,null,5670,null,165000,"～",175000,{"$f":"C28*$J$10","v":17136},null,{"$f":"J28/2","v":8568},null,{"$f":"C28*$N$10","v":20060},null,{"$f":"N28/2","v":10030},null,{"$f":"C28*$R$10","v":29705.800000000003},null,{"$f":"R28/2","v":14852.900000000001},null,{"$f":"C28*$V$10","v":30069.600000000002},null,{"$f":"V28/2","v":15034.800000000001}]
[null,"15(11)",180000,null,6000,null,175000,"～",185000,{"$f":"C29*$J$10","v":18144},null,{"$f":"J29/2","v":9072},null,{"$f":"C29*$N$10","v":21240},null,{"$f":"N29/2","v":10620},null,{"$f":"C29*$R$10","v":31453.200000000001},null,{"$f":"R29/2","v":15726.6},null,{"$f":"C29*$V$10","v":31838.400000000001},null,{"$f":"V29/2","v":15919.2}]
[null,"16(12)",190000,null,6330,null,185000,"～",195000,{"$f":"C30*$J$10","v":19152},null,{"$f":"J30/2","v":9576},null,{"$f":"C30*$N$10","v":22420},null,{"$f":"N30/2","v":11210},null,{"$f":"C30*$R$10","v":33200.6},null,{"$f":"R30/2","v":16600.3},null,{"$f":"C30*$V$10","v":33607.200000000004},null,{"$f":"V30/2","v":16803.600000000002}]
[null,"17(13)",200000,null,6670,null,195000,"～",210000,{"$f":"C31*$J$10","v":20160},null,{"$f":"J31/2","v":10080},null,{"$f":"C31*$N$10","v":23600},null,{"$f":"N31/2","v":11800},null,{"$f":"C31*$R$10","v":34948},null,{"$f":"R31/2","v":17474},null,{"$f":"C31*$V$10","v":35376},null,{"$f":"V31/2","v":17688}]
[null,"18(14)",220000,null,7330,null,210000,"～",230000,{"$f":"C32*$J$10","v":22176},null,{"$f":"J32/2","v":11088},null,{"$f":"C32*$N$10","v":25960},null,{"$f":"N32/2","v":12980},null,{"$f":"C32*$R$10","v":38442.800000000003},null,{"$f":"R32/2","v":19221.400000000001},null,{"$f":"C32*$V$10","v":38913.599999999999},null,{"$f":"V32/2","v":19456.8}]
[null,"19(15)",240000,null,8000,null,230000,"～",250000,{"$f":"C33*$J$10","v":24192},null,{"$f":"J33/2","v":12096},null,{"$f":"C33*$N$10","v":28320},null,{"$f":"N33/2","v":14160},null,{"$f":"C33*$R$10","v":41937.599999999999},null,{"$f":"R33/2","v":20968.8},null,{"$f":"C33*$V$10","v":42451.200000000004},null,{"$f":"V33/2","v":21225.600000000002}]
[null,"20(16)",260000,null,8670,null,250000,"～",270000,{"$f":"C34*$J$10","v":26208},null,{"$f":"J34/2","v":13104},null,{"$f":"C34*$N$10","v":30680},null,{"$f":"N34/2","v":15340},null,{"$f":"C34*$R$10","v":45432.4},null,{"$f":"R34/2","v":22716.2},null,{"$f":"C34*$V$10","v":45988.800000000003},null,{"$f":"V34/2","v":22994.400000000001}]
[null,"21(17)",280000,null,9330,null,270000,"～",290000,{"$f":"C35*$J$10","v":28224},null,{"$f":"J35/2","v":14112},null,{"$f":"C35*$N$10","v":33040},null,{"$f":"N35/2","v":16520},null,{"$f":"C35*$R$10","v":48927.200000000004},null,{"$f":"R35/2","v":24463.600000000002},null,{"$f":"C35*$V$10","v":49526.400000000001},null,{"$f":"V35/2","v":24763.200000000001}]
[null,"22(18)",300000,null,10000,null,290000,"～",310000,{"$f":"C36*$J$10","v":30240},null,{"$f":"J36/2","v":15120},null,{"$f":"C36*$N$10","v":35400},null,{"$f":"N36/2","v":17700},null,{"$f":"C36*$R$10","v":52422},null,{"$f":"R36/2","v":26211},null,{"$f":"C36*$V$10","v":53064},null,{"$f":"V36/2","v":26532}]
[null,"23(19)",320000,null,10670,null,310000,"～",330000,{"$f":"C37*$J$10","v":32256},null,{"$f":"J37/2","v":16128},null,{"$f":"C37*$N$10","v":37760},null,{"$f":"N37/2","v":18880},null,{"$f":"C37*$R$10","v":55916.800000000003},null,{"$f":"R37/2","v":27958.400000000001},null,{"$f":"C37*$V$10","v":56601.600000000006},null,{"$f":"V37/2","v":28300.800000000003}]
[null,"24(20)",340000,null,11330,null,330000,"～",350000,{"$f":"C38*$J$10","v":34272},null,{"$f":"J38/2","v":17136},null,{"$f":"C38*$N$10","v":40120},null,{"$f":"N38/2","v":20060},null,{"$f":"C38*$R$10","v":59411.600000000006},null,{"$f":"R38/2","v":29705.800000000003},null,{"$f":"C38*$V$10","v":60139.200000000004},null,{"$f":"V38/2","v":30069.600000000002}]
[null,"25(21)",360000,null,12000,null,350000,"～",370000,{"$f":"C39*$J$10","v":36288},null,{"$f":"J39/2","v":18144},null,{"$f":"C39*$N$10","v":42480},null,{"$f":"N39/2","v":21240},null,{"$f":"C39*$R$10","v":62906.400000000001},null,{"$f":"R39/2","v":31453.200000000001},null,{"$f":"C39*$V$10","v":63676.800000000003},null,{"$f":"V39/2","v":31838.400000000001}]
[null,"26(22)",380000,null,12670,null,370000,"～",395000,{"$f":"C40*$J$10","v":38304},null,{"$f":"J40/2","v":19152},null,{"$f":"C40*$N$10","v":44840},null,{"$f":"N40/2","v":22420},null,{"$f":"C40*$R$10","v":66401.2},null,{"$f":"R40/2","v":33200.6},null,{"$f":"C40*$V$10","v":67214.400000000009},null,{"$f":"V40/2","v":33607.200000000004}]
[null,"27(23)",410000,null,13670,null,395000,"～",425000,{"$f":"C41*$J$10","v":41328},null,{"$f":"J41/2","v":20664},null,{"$f":"C41*$N$10","v":48380},null,{"$f":"N41/2","v":24190},null,{"$f":"C41*$R$10","v":71643.400000000009},null,{"$f":"R41/2","v":35821.700000000004},null,{"$f":"C41*$V$10","v":72520.800000000003},null,{"$f":"V41/2","v":36260.400000000001}]
[null,"28(24)",440000,null,14670,null,425000,"～",455000,{"$f":"C42*$J$10","v":44352},null,{"$f":"J42/2","v":22176},null,{"$f":"C42*$N$10","v":51920},null,{"$f":"N42/2","v":25960},null,{"$f":"C42*$R$10","v":76885.600000000006},null,{"$f":"R42/2","v":38442.800000000003},null,{"$f":"C42*$V$10","v":77827.199999999997},null,{"$f":"V42/2","v":38913.599999999999}]
[null,"29(25)",470000,null,15670,null,455000,"～",485000,{"$f":"C43*$J$10","v":47376},null,{"$f":"J43/2","v":23688},null,{"$f":"C43*$N$10","v":55460},null,{"$f":"N43/2","v":27730},null,{"$f":"C43*$R$10","v":82127.8},null,{"$f":"R43/2","v":41063.9},null,{"$f":"C43*$V$10","v":83133.600000000006},null,{"$f":"V43/2","v":41566.800000000003}]
[null,"30(26)",500000,null,16670,null,485000,"～",515000,{"$f":"C44*$J$10","v":50400},null,{"$f":"J44/2","v":25200},null,{"$f":"C44*$N$10","v":59000},null,{"$f":"N44/2","v":29500},null,{"$f":"C44*$R$10","v":87370},null,{"$f":"R44/2","v":43685},null,{"$f":"C44*$V$10","v":88440},null,{"$f":"V44/2","v":44220}]
[null,"31(27)",530000,null,17670,null,515000,"～",545000,{"$f":"C45*$J$10","v":53424},null,{"$f":"J45/2","v":26712},null,{"$f":"C45*$N$10","v":62540},null,{"$f":"N45/2","v":31270},null,{"$f":"C45*$R$10","v":92612.2},null,{"$f":"R45/2","v":46306.1},null,{"$f":"C45*$V$10","v":93746.400000000009},null,{"$f":"V45/2","v":46873.200000000004}]
[null,"32(28)",560000,null,18670,null,545000,"～",575000,{"$f":"C46*$J$10","v":56448},null,{"$f":"J46/2","v":28224},null,{"$f":"C46*$N$10","v":66080},null,{"$f":"N46/2","v":33040},null,{"$f":"C46*$R$10","v":97854.400000000009},null,{"$f":"R46/2","v":48927.200000000004},null,{"$f":"C46*$V$10","v":99052.800000000003},null,{"$f":"V46/2","v":49526.400000000001}]
[null,"33(29)",590000,null,19670,null,575000,"～",605000,{"$f":"C47*$J$10","v":59472},null,{"$f":"J47/2","v":29736},null,{"$f":"C47*$N$10","v":69620},null,{"$f":"N47/2","v":34810},null,{"$f":"C47*$R$10","v":103096.6},null,{"$f":"R47/2","v":51548.3},null,{"$f":"C47*$V$10","v":104359.20000000001},null,{"$f":"V47/2","v":52179.600000000006}]
[null,"34(30)",620000,null,20670,null,605000,"～",635000,{"$f":"C48*$J$10","v":62496},null,{"$f":"J48/2","v":31248},null,{"$f":"C48*$N$10","v":73160},null,{"$f":"N48/2","v":36580},null,{"$f":"C48*$R$10","v":108338.8},null,{"$f":"R48/2","v":54169.4},null,{"$f":"C48*$V$10","v":109665.60000000001},null,{"$f":"V48/2","v":54832.800000000003}]
[null,35,650000,null,21670,null,635000,"～",665000,{"$f":"C49*$J$10","v":65520},null,{"$f":"J49/2","v":32760},null,{"$f":"C49*$N$10","v":76700},null,{"$f":"N49/2","v":38350},null,"※厚生年金基金に加入している方の厚生年金保険\n　料率は、基金ごとに定められている免除保険料\n　率(2.4%～5.0%)を控除した率となります。\n\n　●一般の被保険者の方　…12.474%～15.074%\n　●坑内員の被保険者の方…12.688%～15.288%\n\n　加入する基金ごとに異なりますので、免除保険\n　料率および厚生年金基金の掛金については、加\n　入する厚生年金基金にお問い合わせください。\n"]
[null,36,680000,null,22670,null,665000,"～",695000,{"$f":"C50*$J$10","v":68544},null,{"$f":"J50/2","v":34272},null,{"$f":"C50*$N$10","v":80240},null,{"$f":"N50/2","v":40120}]
[null,37,710000,null,23670,null,695000,"～",730000,{"$f":"C51*$J$10","v":71568},null,{"$f":"J51/2","v":35784},null,{"$f":"C51*$N$10","v":83780},null,{"$f":"N51/2","v":41890}]
[null,38,750000,null,25000,null,730000,"～",770000,{"$f":"C52*$J$10","v":75600},null,{"$f":"J52/2","v":37800},null,{"$f":"C52*$N$10","v":88500},null,{"$f":"N52/2","v":44250}]
[null,39,790000,null,26330,null,770000,"～",810000,{"$f":"C53*$J$10","v":79632},null,{"$f":"J53/2","v":39816},null,{"$f":"C53*$N$10","v":93220},null,{"$f":"N53/2","v":46610}]
[null,40,830000,null,27670,null,810000,"～",855000,{"$f":"C54*$J$10","v":83664},null,{"$f":"J54/2","v":41832},null,{"$f":"C54*$N$10","v":97940},null,{"$f":"N54/2","v":48970}]
[null,41,880000,null,29330,null,855000,"～",905000,{"$f":"C55*$J$10","v":88704},null,{"$f":"J55/2","v":44352},null,{"$f":"C55*$N$10","v":103840},null,{"$f":"N55/2","v":51920}]
[null,42,930000,null,31000,null,905000,"～",955000,{"$f":"C56*$J$10","v":93744},null,{"$f":"J56/2","v":46872},null,{"$f":"C56*$N$10","v":109740},null,{"$f":"N56/2","v":54870}]
[null,43,980000,null,32670,null,955000,"～",1005000,{"$f":"C57*$J$10","v":98784},null,{"$f":"J57/2","v":49392},null,{"$f":"C57*$N$10","v":115640},null,{"$f":"N57/2","v":57820}]
[null,44,1030000,null,34330,null,1005000,"～",1055000,{"$f":"C58*$J$10","v":103824},null,{"$f":"J58/2","v":51912},null,{"$f":"C58*$N$10","v":121540},null,{"$f":"N58/2","v":60770}]
[null,45,1090000,null,36330,null,1055000,"～",1115000,{"$f":"C59*$J$10","v":109872},null,{"$f":"J59/2","v":54936},null,{"$f":"C59*$N$10","v":128620},null,{"$f":"N59/2","v":64310}]
[null,46,1150000,null,38330,null,1115000,"～",1175000,{"$f":"C60*$J$10","v":115920},null,{"$f":"J60/2","v":57960},null,{"$f":"C60*$N$10","v":135700},null,{"$f":"N60/2","v":67850}]
[null,47,1210000,null,40330,null,1175000,"～",null,{"$f":"C61*$J$10","v":121968},null,{"$f":"J61/2","v":60984},null,{"$f":"C61*$N$10","v":142780},null,{"$f":"N61/2","v":71390}]
[]
[{"$f":"J10","v":0.1008}]
[null,""]
["◆等級欄の（　）内の数字は、厚生年金保険の標準報酬月額等級です。"]
["　5(1)等級の「報酬月額」欄は、厚生年金保険の場合「101,000円未満」と読み替えてください。"]
["　34(30)等級の「報酬月額」欄は、厚生年金保険の場合「605,000円以上」と読み替えてください。"]
[null,""]
["◆平成26年度における全国健康保険協会の任意継続被保険者について、標準報酬月額の上限は、280,000円です。"]
[]
[]
["　○被保険者負担分（表の折半額の欄）に円未満の端数がある場合"]
["　　　①事業主が、給与から被保険者負担分を控除する場合、被保険者負担分の端数が50銭以下の場合は切り捨て、50銭を超える場合は切り上げて1円となります。"]
["　　　②被保険者が、被保険者負担分を事業主へ現金で支払う場合、被保険者負担分の端数が50銭未満の場合は切り捨て、50銭以上の場合は切り上げて1円となります。"]
["　　　（注）①、②にかかわらず、事業主と被保険者の間で特約がある場合には、特約に基づき端数処理をすることができます。"]
[]
["　○納入告知書の保険料額"]
["　　　 納入告知書の保険料額は、被保険者個々の保険料額を合算した金額になります。ただし、合算した金額に円未満の端数がある場合は、その端数を切り捨てた額となります。"]
[]
["　○賞与に係る保険料"]
["　　　 賞与に係る保険料額は、賞与額から1,000円未満の端数を切り捨てた額（標準賞与額）に、保険料率を乗じた額となります。"]
[" 　　　また、標準賞与額の上限は、健康保険は年間540万円（毎年4月1日から翌年3月31日までの累計額）となり、厚生年金保険と児童手当拠出金の場合は月間150万円となります。"]
[]
["　○児童手当拠出金"]
["　　　 厚生年金保険の被保険者を使用する事業主の方は、児童手当等の支給に要する費用の一部として児童手当拠出金を全額負担いただくことになります。この児童手当"]
["　　　 拠出金の額は、被保険者個々の厚生年金保険の標準報酬月額および標準賞与額に、拠出金率（0.15%）を乗じて得た額の総額となります。"]

{"sheet":"香川","index":46,"n_rows":86,"n_cols":24,"rows_kept":86,"cut":false,"hidden":true,"merged":[[74,0,74,24],[75,0,75,16],[85,0,85,24],[86,0,86,16],[77,0,77,23],[79,0,79,16],[80,0,80,21],[81,0,81,24],[83,0,83,21],[84,0,84,24],[76,0,76,23],[48,17,60,24],[62,0,62,25],[64,0,64,24],[65,0,65,24],[66,0,66,24],[68,0,68,24],[71,0,71,16],[72,0,72,24],[73,0,73,24],[6,21,8,24],[9,9,10,12],[9,13,10,16],[9,17,10,20],[9,21,10,24],[11,13,12,14],[11,15,12,16],[11,17,12,18],[11,19,12,20],[11,21,12,22],[11,1,12,1],[11,2,12,3],[11,4,12,5],[11,9,12,10],[11,11,12,12],[11,23,12,24],[0,1,1,24],[2,1,3,23],[4,1,4,16],[5,1,10,5],[5,6,12,8],[5,9,5,16],[5,17,5,24],[6,9,8,12],[6,13,8,16],[6,17,8,20]]}
[null,"平成26年9月分(10月納付分)からの健康保険・厚生年金保険の保険料額表"]
[]
[null,"     ‣健康保険料率：平成24年3月分～　適用　　‣厚生年金保険料率：平成26年9月分～平成27年8月分　適用\n     ‣介護保険料率：平成26年3月分～　適用　　‣児童手当拠出金率：平成24年4月分～　適用\n"]
[]
[null,"（香川県）",null,null,null,null,null,null,null,null,null,null,null,null,null,null,null,null,null,null,null,null,null,"（単位：円）"]
[null,"標　準　報　酬",null,null,null,null,"報　酬　月　額",null,null,"全国健康保険協会管掌健康保険料",null,null,null,null,null,null,null,"厚生年金保険料（厚生年金基金加入員を除く）"]
[null,null,null,null,null,null,null,null,null,"介護保険第２号被保険者\nに該当しない場合",null,null,null,"介護保険第２号被保険者\nに該当する場合",null,null,null,"一般の被保険者",null,null,null,"坑内員・船員"]
[]
[]
[null,null,null,null,null,null,null,null,null,0.1009,null,null,null,{"$f":"J10+0.0172","v":0.11810000000000001},null,null,null,0.17474000000000001,null,null,null,0.17688000000000001]
[]
[null,"等級","月　額",null,"日　額",null,null,null,null,"全　額",null,"折半額",null,"全　額",null,"折半額",null,"全　額",null,"折半額",null,"全　額",null,"折半額"]
[]
[null,null,null,null,null,null,"円以上",null,"円未満"]
[null,1,58000,null,1930,null,null,"～",63000,{"$f":"C15*$J$10","v":5852.2},null,{"$f":"J15/2","v":2926.1},null,{"$f":"C15*$N$10","v":6849.8},null,{"$f":"N15/2","v":3424.9}]
[null,2,68000,null,2270,null,63000,"～",73000,{"$f":"C16*$J$10","v":6861.2},null,{"$f":"J16/2","v":3430.6},null,{"$f":"C16*$N$10","v":8030.8000000000011},null,{"$f":"N16/2","v":4015.4000000000005}]
[null,3,78000,null,2600,null,73000,"～",83000,{"$f":"C17*$J$10","v":7870.2000000000007},null,{"$f":"J17/2","v":3935.1000000000004},null,{"$f":"C17*$N$10","v":9211.8000000000011},null,{"$f":"N17/2","v":4605.9000000000005}]
[null,4,88000,null,2930,null,83000,"～",93000,{"$f":"C18*$J$10","v":8879.2000000000007},null,{"$f":"J18/2","v":4439.6000000000004},null,{"$f":"C18*$N$10","v":10392.800000000001},null,{"$f":"N18/2","v":5196.4000000000005}]
[null,"5(1)",98000,null,3270,null,93000,"～",101000,{"$f":"C19*$J$10","v":9888.2000000000007},null,{"$f":"J19/2","v":4944.1000000000004},null,{"$f":"C19*$N$10","v":11573.800000000001},null,{"$f":"N19/2","v":5786.9000000000005},null,{"$f":"C19*$R$10","v":17124.52},null,{"$f":"R19/2","v":8562.26},null,{"$f":"C19*$V$10","v":17334.240000000002},null,{"$f":"V19/2","v":8667.1200000000008}]
[null,"6(2)",104000,null,3470,null,101000,"～",107000,{"$f":"C20*$J$10","v":10493.6},null,{"$f":"J20/2","v":5246.8},null,{"$f":"C20*$N$10","v":12282.400000000001},null,{"$f":"N20/2","v":6141.2000000000007},null,{"$f":"C20*$R$10","v":18172.96},null,{"$f":"R20/2","v":9086.48},null,{"$f":"C20*$V$10","v":18395.52},null,{"$f":"V20/2","v":9197.76}]
[null,"7(3)",110000,null,3670,null,107000,"～",114000,{"$f":"C21*$J$10","v":11099},null,{"$f":"J21/2","v":5549.5},null,{"$f":"C21*$N$10","v":12991.000000000002},null,{"$f":"N21/2","v":6495.5000000000009},null,{"$f":"C21*$R$10","v":19221.400000000001},null,{"$f":"R21/2","v":9610.7000000000007},null,{"$f":"C21*$V$10","v":19456.8},null,{"$f":"V21/2","v":9728.4}]
[null,"8(4)",118000,null,3930,null,114000,"～",122000,{"$f":"C22*$J$10","v":11906.2},null,{"$f":"J22/2","v":5953.1},null,{"$f":"C22*$N$10","v":13935.800000000001},null,{"$f":"N22/2","v":6967.9000000000005},null,{"$f":"C22*$R$10","v":20619.32},null,{"$f":"R22/2","v":10309.66},null,{"$f":"C22*$V$10","v":20871.84},null,{"$f":"V22/2","v":10435.92}]
[null,"9(5)",126000,null,4200,null,122000,"～",130000,{"$f":"C23*$J$10","v":12713.4},null,{"$f":"J23/2","v":6356.7},null,{"$f":"C23*$N$10","v":14880.600000000002},null,{"$f":"N23/2","v":7440.3000000000011},null,{"$f":"C23*$R$10","v":22017.24},null,{"$f":"R23/2","v":11008.62},null,{"$f":"C23*$V$10","v":22286.880000000001},null,{"$f":"V23/2","v":11143.44}]
[null,"10(6)",134000,null,4470,null,130000,"～",138000,{"$f":"C24*$J$10","v":13520.6},null,{"$f":"J24/2","v":6760.3},null,{"$f":"C24*$N$10","v":15825.400000000001},null,{"$f":"N24/2","v":7912.7000000000007},null,{"$f":"C24*$R$10","v":23415.16},null,{"$f":"R24/2","v":11707.58},null,{"$f":"C24*$V$10","v":23701.920000000002},null,{"$f":"V24/2","v":11850.960000000001}]
[null,"11(7)",142000,null,4730,null,138000,"～",146000,{"$f":"C25*$J$10","v":14327.800000000001},null,{"$f":"J25/2","v":7163.9000000000005},null,{"$f":"C25*$N$10","v":16770.2},null,{"$f":"N25/2","v":8385.1},null,{"$f":"C25*$R$10","v":24813.08},null,{"$f":"R25/2","v":12406.54},null,{"$f":"C25*$V$10","v":25116.960000000003},null,{"$f":"V25/2","v":12558.480000000001}]
[null,"12(8)",150000,null,5000,null,146000,"～",155000,{"$f":"C26*$J$10","v":15135},null,{"$f":"J26/2","v":7567.5},null,{"$f":"C26*$N$10","v":17715},null,{"$f":"N26/2","v":8857.5},null,{"$f":"C26*$R$10","v":26211},null,{"$f":"R26/2","v":13105.5},null,{"$f":"C26*$V$10","v":26532},null,{"$f":"V26/2","v":13266}]
[null,"13(9)",160000,null,5330,null,155000,"～",165000,{"$f":"C27*$J$10","v":16144},null,{"$f":"J27/2","v":8072},null,{"$f":"C27*$N$10","v":18896},null,{"$f":"N27/2","v":9448},null,{"$f":"C27*$R$10","v":27958.400000000001},null,{"$f":"R27/2","v":13979.2},null,{"$f":"C27*$V$10","v":28300.800000000003},null,{"$f":"V27/2","v":14150.400000000001}]
[null,"14(10)",170000,null,5670,null,165000,"～",175000,{"$f":"C28*$J$10","v":17153},null,{"$f":"J28/2","v":8576.5},null,{"$f":"C28*$N$10","v":20077},null,{"$f":"N28/2","v":10038.5},null,{"$f":"C28*$R$10","v":29705.800000000003},null,{"$f":"R28/2","v":14852.900000000001},null,{"$f":"C28*$V$10","v":30069.600000000002},null,{"$f":"V28/2","v":15034.800000000001}]
[null,"15(11)",180000,null,6000,null,175000,"～",185000,{"$f":"C29*$J$10","v":18162},null,{"$f":"J29/2","v":9081},null,{"$f":"C29*$N$10","v":21258.000000000004},null,{"$f":"N29/2","v":10629.000000000002},null,{"$f":"C29*$R$10","v":31453.200000000001},null,{"$f":"R29/2","v":15726.6},null,{"$f":"C29*$V$10","v":31838.400000000001},null,{"$f":"V29/2","v":15919.2}]
[null,"16(12)",190000,null,6330,null,185000,"～",195000,{"$f":"C30*$J$10","v":19171},null,{"$f":"J30/2","v":9585.5},null,{"$f":"C30*$N$10","v":22439.000000000004},null,{"$f":"N30/2","v":11219.500000000002},null,{"$f":"C30*$R$10","v":33200.6},null,{"$f":"R30/2","v":16600.3},null,{"$f":"C30*$V$10","v":33607.200000000004},null,{"$f":"V30/2","v":16803.600000000002}]
[null,"17(13)",200000,null,6670,null,195000,"～",210000,{"$f":"C31*$J$10","v":20180},null,{"$f":"J31/2","v":10090},null,{"$f":"C31*$N$10","v":23620.000000000004},null,{"$f":"N31/2","v":11810.000000000002},null,{"$f":"C31*$R$10","v":34948},null,{"$f":"R31/2","v":17474},null,{"$f":"C31*$V$10","v":35376},null,{"$f":"V31/2","v":17688}]
[null,"18(14)",220000,null,7330,null,210000,"～",230000,{"$f":"C32*$J$10","v":22198},null,{"$f":"J32/2","v":11099},null,{"$f":"C32*$N$10","v":25982.000000000004},null,{"$f":"N32/2","v":12991.000000000002},null,{"$f":"C32*$R$10","v":38442.800000000003},null,{"$f":"R32/2","v":19221.400000000001},null,{"$f":"C32*$V$10","v":38913.599999999999},null,{"$f":"V32/2","v":19456.8}]
[null,"19(15)",240000,null,8000,null,230000,"～",250000,{"$f":"C33*$J$10","v":24216},null,{"$f":"J33/2","v":12108},null,{"$f":"C33*$N$10","v":28344.000000000004},null,{"$f":"N33/2","v":14172.000000000002},null,{"$f":"C33*$R$10","v":41937.599999999999},null,{"$f":"R33/2","v":20968.8},null,{"$f":"C33*$V$10","v":42451.200000000004},null,{"$f":"V33/2","v":21225.600000000002}]
[null,"20(16)",260000,null,8670,null,250000,"～",270000,{"$f":"C34*$J$10","v":26234},null,{"$f":"J34/2","v":13117},null,{"$f":"C34*$N$10","v":30706.000000000004},null,{"$f":"N34/2","v":15353.000000000002},null,{"$f":"C34*$R$10","v":45432.4},null,{"$f":"R34/2","v":22716.2},null,{"$f":"C34*$V$10","v":45988.800000000003},null,{"$f":"V34/2","v":22994.400000000001}]
[null,"21(17)",280000,null,9330,null,270000,"～",290000,{"$f":"C35*$J$10","v":28252},null,{"$f":"J35/2","v":14126},null,{"$f":"C35*$N$10","v":33068},null,{"$f":"N35/2","v":16534},null,{"$f":"C35*$R$10","v":48927.200000000004},null,{"$f":"R35/2","v":24463.600000000002},null,{"$f":"C35*$V$10","v":49526.400000000001},null,{"$f":"V35/2","v":24763.200000000001}]
[null,"22(18)",300000,null,10000,null,290000,"～",310000,{"$f":"C36*$J$10","v":30270},null,{"$f":"J36/2","v":15135},null,{"$f":"C36*$N$10","v":35430},null,{"$f":"N36/2","v":17715},null,{"$f":"C36*$R$10","v":52422},null,{"$f":"R36/2","v":26211},null,{"$f":"C36*$V$10","v":53064},null,{"$f":"V36/2","v":26532}]
[null,"23(19)",320000,null,10670,null,310000,"～",330000,{"$f":"C37*$J$10","v":32288},null,{"$f":"J37/2","v":16144},null,{"$f":"C37*$N$10","v":37792},null,{"$f":"N37/2","v":18896},null,{"$f":"C37*$R$10","v":55916.800000000003},null,{"$f":"R37/2","v":27958.400000000001},null,{"$f":"C37*$V$10","v":56601.600000000006},null,{"$f":"V37/2","v":28300.800000000003}]
[null,"24(20)",340000,null,11330,null,330000,"～",350000,{"$f":"C38*$J$10","v":34306},null,{"$f":"J38/2","v":17153},null,{"$f":"C38*$N$10","v":40154},null,{"$f":"N38/2","v":20077},null,{"$f":"C38*$R$10","v":59411.600000000006},null,{"$f":"R38/2","v":29705.800000000003},null,{"$f":"C38*$V$10","v":60139.200000000004},null,{"$f":"V38/2","v":30069.600000000002}]
[null,"25(21)",360000,null,12000,null,350000,"～",370000,{"$f":"C39*$J$10","v":36324},null,{"$f":"J39/2","v":18162},null,{"$f":"C39*$N$10","v":42516.000000000007},null,{"$f":"N39/2","v":21258.000000000004},null,{"$f":"C39*$R$10","v":62906.400000000001},null,{"$f":"R39/2","v":31453.200000000001},null,{"$f":"C39*$V$10","v":63676.800000000003},null,{"$f":"V39/2","v":31838.400000000001}]
[null,"26(22)",380000,null,12670,null,370000,"～",395000,{"$f":"C40*$J$10","v":38342},null,{"$f":"J40/2","v":19171},null,{"$f":"C40*$N$10","v":44878.000000000007},null,{"$f":"N40/2","v":22439.000000000004},null,{"$f":"C40*$R$10","v":66401.2},null,{"$f":"R40/2","v":33200.6},null,{"$f":"C40*$V$10","v":67214.400000000009},null,{"$f":"V40/2","v":33607.200000000004}]
[null,"27(23)",410000,null,13670,null,395000,"～",425000,{"$f":"C41*$J$10","v":41369},null,{"$f":"J41/2","v":20684.5},null,{"$f":"C41*$N$10","v":48421.000000000007},null,{"$f":"N41/2","v":24210.500000000004},null,{"$f":"C41*$R$10","v":71643.400000000009},null,{"$f":"R41/2","v":35821.700000000004},null,{"$f":"C41*$V$10","v":72520.800000000003},null,{"$f":"V41/2","v":36260.400000000001}]
[null,"28(24)",440000,null,14670,null,425000,"～",455000,{"$f":"C42*$J$10","v":44396},null,{"$f":"J42/2","v":22198},null,{"$f":"C42*$N$10","v":51964.000000000007},null,{"$f":"N42/2","v":25982.000000000004},null,{"$f":"C42*$R$10","v":76885.600000000006},null,{"$f":"R42/2","v":38442.800000000003},null,{"$f":"C42*$V$10","v":77827.199999999997},null,{"$f":"V42/2","v":38913.599999999999}]
[null,"29(25)",470000,null,15670,null,455000,"～",485000,{"$f":"C43*$J$10","v":47423},null,{"$f":"J43/2","v":23711.5},null,{"$f":"C43*$N$10","v":55507.000000000007},null,{"$f":"N43/2","v":27753.500000000004},null,{"$f":"C43*$R$10","v":82127.8},null,{"$f":"R43/2","v":41063.9},null,{"$f":"C43*$V$10","v":83133.600000000006},null,{"$f":"V43/2","v":41566.800000000003}]
[null,"30(26)",500000,null,16670,null,485000,"～",515000,{"$f":"C44*$J$10","v":50450},null,{"$f":"J44/2","v":25225},null,{"$f":"C44*$N$10","v":59050.000000000007},null,{"$f":"N44/2","v":29525.000000000004},null,{"$f":"C44*$R$10","v":87370},null,{"$f":"R44/2","v":43685},null,{"$f":"C44*$V$10","v":88440},null,{"$f":"V44/2","v":44220}]
[null,"31(27)",530000,null,17670,null,515000,"～",545000,{"$f":"C45*$J$10","v":53477},null,{"$f":"J45/2","v":26738.5},null,{"$f":"C45*$N$10","v":62593.000000000007},null,{"$f":"N45/2","v":31296.500000000004},null,{"$f":"C45*$R$10","v":92612.2},null,{"$f":"R45/2","v":46306.1},null,{"$f":"C45*$V$10","v":93746.400000000009},null,{"$f":"V45/2","v":46873.200000000004}]
[null,"32(28)",560000,null,18670,null,545000,"～",575000,{"$f":"C46*$J$10","v":56504},null,{"$f":"J46/2","v":28252},null,{"$f":"C46*$N$10","v":66136},null,{"$f":"N46/2","v":33068},null,{"$f":"C46*$R$10","v":97854.400000000009},null,{"$f":"R46/2","v":48927.200000000004},null,{"$f":"C46*$V$10","v":99052.800000000003},null,{"$f":"V46/2","v":49526.400000000001}]
[null,"33(29)",590000,null,19670,null,575000,"～",605000,{"$f":"C47*$J$10","v":59531},null,{"$f":"J47/2","v":29765.5},null,{"$f":"C47*$N$10","v":69679},null,{"$f":"N47/2","v":34839.5},null,{"$f":"C47*$R$10","v":103096.6},null,{"$f":"R47/2","v":51548.3},null,{"$f":"C47*$V$10","v":104359.20000000001},null,{"$f":"V47/2","v":52179.600000000006}]
[null,"34(30)",620000,null,20670,null,605000,"～",635000,{"$f":"C48*$J$10","v":62558},null,{"$f":"J48/2","v":31279},null,{"$f":"C48*$N$10","v":73222},null,{"$f":"N48/2","v":36611},null,{"$f":"C48*$R$10","v":108338.8},null,{"$f":"R48/2","v":54169.4},null,{"$f":"C48*$V$10","v":109665.60000000001},null,{"$f":"V48/2","v":54832.800000000003}]
[null,35,650000,null,21670,null,635000,"～",665000,{"$f":"C49*$J$10","v":65585},null,{"$f":"J49/2","v":32792.5},null,{"$f":"C49*$N$10","v":76765},null,{"$f":"N49/2","v":38382.5},null,"※厚生年金基金に加入している方の厚生年金保険\n　料率は、基金ごとに定められている免除保険料\n　率(2.4%～5.0%)を控除した率となります。\n\n　●一般の被保険者の方　…12.474%～15.074%\n　●坑内員の被保険者の方…12.688%～15.288%\n\n　加入する基金ごとに異なりますので、免除保険\n　料率および厚生年金基金の掛金については、加\n　入する厚生年金基金にお問い合わせください。\n"]
[null,36,680000,null,22670,null,665000,"～",695000,{"$f":"C50*$J$10","v":68612},null,{"$f":"J50/2","v":34306},null,{"$f":"C50*$N$10","v":80308},null,{"$f":"N50/2","v":40154}]
[null,37,710000,null,23670,null,695000,"～",730000,{"$f":"C51*$J$10","v":71639},null,{"$f":"J51/2","v":35819.5},null,{"$f":"C51*$N$10","v":83851.000000000015},null,{"$f":"N51/2","v":41925.500000000007}]
[null,38,750000,null,25000,null,730000,"～",770000,{"$f":"C52*$J$10","v":75675},null,{"$f":"J52/2","v":37837.5},null,{"$f":"C52*$N$10","v":88575.000000000015},null,{"$f":"N52/2","v":44287.500000000007}]
[null,39,790000,null,26330,null,770000,"～",810000,{"$f":"C53*$J$10","v":79711},null,{"$f":"J53/2","v":39855.5},null,{"$f":"C53*$N$10","v":93299.000000000015},null,{"$f":"N53/2","v":46649.500000000007}]
[null,40,830000,null,27670,null,810000,"～",855000,{"$f":"C54*$J$10","v":83747},null,{"$f":"J54/2","v":41873.5},null,{"$f":"C54*$N$10","v":98023.000000000015},null,{"$f":"N54/2","v":49011.500000000007}]
[null,41,880000,null,29330,null,855000,"～",905000,{"$f":"C55*$J$10","v":88792},null,{"$f":"J55/2","v":44396},null,{"$f":"C55*$N$10","v":103928.00000000001},null,{"$f":"N55/2","v":51964.000000000007}]
[null,42,930000,null,31000,null,905000,"～",955000,{"$f":"C56*$J$10","v":93837},null,{"$f":"J56/2","v":46918.5},null,{"$f":"C56*$N$10","v":109833.00000000001},null,{"$f":"N56/2","v":54916.500000000007}]
[null,43,980000,null,32670,null,955000,"～",1005000,{"$f":"C57*$J$10","v":98882},null,{"$f":"J57/2","v":49441},null,{"$f":"C57*$N$10","v":115738.00000000001},null,{"$f":"N57/2","v":57869.000000000007}]
[null,44,1030000,null,34330,null,1005000,"～",1055000,{"$f":"C58*$J$10","v":103927},null,{"$f":"J58/2","v":51963.5},null,{"$f":"C58*$N$10","v":121643.00000000001},null,{"$f":"N58/2","v":60821.500000000007}]
[null,45,1090000,null,36330,null,1055000,"～",1115000,{"$f":"C59*$J$10","v":109981},null,{"$f":"J59/2","v":54990.5},null,{"$f":"C59*$N$10","v":128729.00000000001},null,{"$f":"N59/2","v":64364.500000000007}]
[null,46,1150000,null,38330,null,1115000,"～",1175000,{"$f":"C60*$J$10","v":116035},null,{"$f":"J60/2","v":58017.5},null,{"$f":"C60*$N$10","v":135815},null,{"$f":"N60/2","v":67907.5}]
[null,47,1210000,null,40330,null,1175000,"～",null,{"$f":"C61*$J$10","v":122089},null,{"$f":"J61/2","v":61044.5},null,{"$f":"C61*$N$10","v":142901},null,{"$f":"N61/2","v":71450.5}]
[]
[{"$f":"J10","v":0.1009}]
[null,""]
["◆等級欄の（　）内の数字は、厚生年金保険の標準報酬月額等級です。"]
["　5(1)等級の「報酬月額」欄は、厚生年金保険の場合「101,000円未満」と読み替えてください。"]
["　34(30)等級の「報酬月額」欄は、厚生年金保険の場合「605,000円以上」と読み替えてください。"]
[null,""]
["◆平成26年度における全国健康保険協会の任意継続被保険者について、標準報酬月額の上限は、280,000円です。"]
[]
[]
["　○被保険者負担分（表の折半額の欄）に円未満の端数がある場合"]
["　　　①事業主が、給与から被保険者負担分を控除する場合、被保険者負担分の端数が50銭以下の場合は切り捨て、50銭を超える場合は切り上げて1円となります。"]
["　　　②被保険者が、被保険者負担分を事業主へ現金で支払う場合、被保険者負担分の端数が50銭未満の場合は切り捨て、50銭以上の場合は切り上げて1円となります。"]
["　　　（注）①、②にかかわらず、事業主と被保険者の間で特約がある場合には、特約に基づき端数処理をすることができます。"]
[]
["　○納入告知書の保険料額"]
["　　　 納入告知書の保険料額は、被保険者個々の保険料額を合算した金額になります。ただし、合算した金額に円未満の端数がある場合は、その端数を切り捨てた額となります。"]
[]
["　○賞与に係る保険料"]
["　　　 賞与に係る保険料額は、賞与額から1,000円未満の端数を切り捨てた額（標準賞与額）に、保険料率を乗じた額となります。"]
[" 　　　また、標準賞与額の上限は、健康保険は年間540万円（毎年4月1日から翌年3月31日までの累計額）となり、厚生年金保険と児童手当拠出金の場合は月間150万円となります。"]
[]
["　○児童手当拠出金"]
["　　　 厚生年金保険の被保険者を使用する事業主の方は、児童手当等の支給に要する費用の一部として児童手当拠出金を全額負担いただくことになります。この児童手当"]
["　　　 拠出金の額は、被保険者個々の厚生年金保険の標準報酬月額および標準賞与額に、拠出金率（0.15%）を乗じて得た額の総額となります。"]

{"sheet":"愛媛","index":47,"n_rows":86,"n_cols":24,"rows_kept":86,"cut":false,"hidden":true,"merged":[[74,0,74,24],[75,0,75,16],[85,0,85,24],[86,0,86,16],[77,0,77,23],[79,0,79,16],[80,0,80,21],[81,0,81,24],[83,0,83,21],[84,0,84,24],[76,0,76,23],[48,17,60,24],[62,0,62,25],[64,0,64,24],[65,0,65,24],[66,0,66,24],[68,0,68,24],[71,0,71,16],[72,0,72,24],[73,0,73,24],[6,21,8,24],[9,9,10,12],[9,13,10,16],[9,17,10,20],[9,21,10,24],[11,13,12,14],[11,15,12,16],[11,17,12,18],[11,19,12,20],[11,21,12,22],[11,1,12,1],[11,2,12,3],[11,4,12,5],[11,9,12,10],[11,11,12,12],[11,23,12,24],[0,1,1,24],[2,1,3,23],[4,1,4,16],[5,1,10,5],[5,6,12,8],[5,9,5,16],[5,17,5,24],[6,9,8,12],[6,13,8,16],[6,17,8,20]]}
[null,"平成26年9月分(10月納付分)からの健康保険・厚生年金保険の保険料額表"]
[]
[null,"     ‣健康保険料率：平成24年3月分～　適用　　‣厚生年金保険料率：平成26年9月分～平成27年8月分　適用\n     ‣介護保険料率：平成26年3月分～　適用　　‣児童手当拠出金率：平成24年4月分～　適用\n"]
[]
[null,"（愛媛県）",null,null,null,null,null,null,null,null,null,null,null,null,null,null,null,null,null,null,null,null,null,"（単位：円）"]
[null,"標　準　報　酬",null,null,null,null,"報　酬　月　額",null,null,"全国健康保険協会管掌健康保険料",null,null,null,null,null,null,null,"厚生年金保険料（厚生年金基金加入員を除く）"]
[null,null,null,null,null,null,null,null,null,"介護保険第２号被保険者\nに該当しない場合",null,null,null,"介護保険第２号被保険者\nに該当する場合",null,null,null,"一般の被保険者",null,null,null,"坑内員・船員"]
[]
[]
[null,null,null,null,null,null,null,null,null,0.1003,null,null,null,{"$f":"J10+0.0172","v":0.11749999999999999},null,null,null,0.17474000000000001,null,null,null,0.17688000000000001]
[]
[null,"等級","月　額",null,"日　額",null,null,null,null,"全　額",null,"折半額",null,"全　額",null,"折半額",null,"全　額",null,"折半額",null,"全　額",null,"折半額"]
[]
[null,null,null,null,null,null,"円以上",null,"円未満"]
[null,1,58000,null,1930,null,null,"～",63000,{"$f":"C15*$J$10","v":5817.4},null,{"$f":"J15/2","v":2908.7},null,{"$f":"C15*$N$10","v":6815},null,{"$f":"N15/2","v":3407.5}]
[null,2,68000,null,2270,null,63000,"～",73000,{"$f":"C16*$J$10","v":6820.4},null,{"$f":"J16/2","v":3410.2},null,{"$f":"C16*$N$10","v":7990},null,{"$f":"N16/2","v":3995}]
[null,3,78000,null,2600,null,73000,"～",83000,{"$f":"C17*$J$10","v":7823.4},null,{"$f":"J17/2","v":3911.7},null,{"$f":"C17*$N$10","v":9165},null,{"$f":"N17/2","v":4582.5}]
[null,4,88000,null,2930,null,83000,"～",93000,{"$f":"C18*$J$10","v":8826.4},null,{"$f":"J18/2","v":4413.2},null,{"$f":"C18*$N$10","v":10340},null,{"$f":"N18/2","v":5170}]
[null,"5(1)",98000,null,3270,null,93000,"～",101000,{"$f":"C19*$J$10","v":9829.4},null,{"$f":"J19/2","v":4914.7},null,{"$f":"C19*$N$10","v":11515},null,{"$f":"N19/2","v":5757.5},null,{"$f":"C19*$R$10","v":17124.52},null,{"$f":"R19/2","v":8562.26},null,{"$f":"C19*$V$10","v":17334.240000000002},null,{"$f":"V19/2","v":8667.1200000000008}]
[null,"6(2)",104000,null,3470,null,101000,"～",107000,{"$f":"C20*$J$10","v":10431.200000000001},null,{"$f":"J20/2","v":5215.6000000000004},null,{"$f":"C20*$N$10","v":12220},null,{"$f":"N20/2","v":6110},null,{"$f":"C20*$R$10","v":18172.96},null,{"$f":"R20/2","v":9086.48},null,{"$f":"C20*$V$10","v":18395.52},null,{"$f":"V20/2","v":9197.76}]
[null,"7(3)",110000,null,3670,null,107000,"～",114000,{"$f":"C21*$J$10","v":11033},null,{"$f":"J21/2","v":5516.5},null,{"$f":"C21*$N$10","v":12925},null,{"$f":"N21/2","v":6462.5},null,{"$f":"C21*$R$10","v":19221.400000000001},null,{"$f":"R21/2","v":9610.7000000000007},null,{"$f":"C21*$V$10","v":19456.8},null,{"$f":"V21/2","v":9728.4}]
[null,"8(4)",118000,null,3930,null,114000,"～",122000,{"$f":"C22*$J$10","v":11835.4},null,{"$f":"J22/2","v":5917.7},null,{"$f":"C22*$N$10","v":13865},null,{"$f":"N22/2","v":6932.5},null,{"$f":"C22*$R$10","v":20619.32},null,{"$f":"R22/2","v":10309.66},null,{"$f":"C22*$V$10","v":20871.84},null,{"$f":"V22/2","v":10435.92}]
[null,"9(5)",126000,null,4200,null,122000,"～",130000,{"$f":"C23*$J$10","v":12637.8},null,{"$f":"J23/2","v":6318.9},null,{"$f":"C23*$N$10","v":14805},null,{"$f":"N23/2","v":7402.5},null,{"$f":"C23*$R$10","v":22017.24},null,{"$f":"R23/2","v":11008.62},null,{"$f":"C23*$V$10","v":22286.880000000001},null,{"$f":"V23/2","v":11143.44}]
[null,"10(6)",134000,null,4470,null,130000,"～",138000,{"$f":"C24*$J$10","v":13440.2},null,{"$f":"J24/2","v":6720.1},null,{"$f":"C24*$N$10","v":15745},null,{"$f":"N24/2","v":7872.5},null,{"$f":"C24*$R$10","v":23415.16},null,{"$f":"R24/2","v":11707.58},null,{"$f":"C24*$V$10","v":23701.920000000002},null,{"$f":"V24/2","v":11850.960000000001}]
[null,"11(7)",142000,null,4730,null,138000,"～",146000,{"$f":"C25*$J$10","v":14242.6},null,{"$f":"J25/2","v":7121.3},null,{"$f":"C25*$N$10","v":16685},null,{"$f":"N25/2","v":8342.5},null,{"$f":"C25*$R$10","v":24813.08},null,{"$f":"R25/2","v":12406.54},null,{"$f":"C25*$V$10","v":25116.960000000003},null,{"$f":"V25/2","v":12558.480000000001}]
[null,"12(8)",150000,null,5000,null,146000,"～",155000,{"$f":"C26*$J$10","v":15045},null,{"$f":"J26/2","v":7522.5},null,{"$f":"C26*$N$10","v":17625},null,{"$f":"N26/2","v":8812.5},null,{"$f":"C26*$R$10","v":26211},null,{"$f":"R26/2","v":13105.5},null,{"$f":"C26*$V$10","v":26532},null,{"$f":"V26/2","v":13266}]
[null,"13(9)",160000,null,5330,null,155000,"～",165000,{"$f":"C27*$J$10","v":16048},null,{"$f":"J27/2","v":8024},null,{"$f":"C27*$N$10","v":18800},null,{"$f":"N27/2","v":9400},null,{"$f":"C27*$R$10","v":27958.400000000001},null,{"$f":"R27/2","v":13979.2},null,{"$f":"C27*$V$10","v":28300.800000000003},null,{"$f":"V27/2","v":14150.400000000001}]
[null,"14(10)",170000,null,5670,null,165000,"～",175000,{"$f":"C28*$J$10","v":17051},null,{"$f":"J28/2","v":8525.5},null,{"$f":"C28*$N$10","v":19975},null,{"$f":"N28/2","v":9987.5},null,{"$f":"C28*$R$10","v":29705.800000000003},null,{"$f":"R28/2","v":14852.900000000001},null,{"$f":"C28*$V$10","v":30069.600000000002},null,{"$f":"V28/2","v":15034.800000000001}]
[null,"15(11)",180000,null,6000,null,175000,"～",185000,{"$f":"C29*$J$10","v":18054},null,{"$f":"J29/2","v":9027},null,{"$f":"C29*$N$10","v":21150},null,{"$f":"N29/2","v":10575},null,{"$f":"C29*$R$10","v":31453.200000000001},null,{"$f":"R29/2","v":15726.6},null,{"$f":"C29*$V$10","v":31838.400000000001},null,{"$f":"V29/2","v":15919.2}]
[null,"16(12)",190000,null,6330,null,185000,"～",195000,{"$f":"C30*$J$10","v":19057},null,{"$f":"J30/2","v":9528.5},null,{"$f":"C30*$N$10","v":22325},null,{"$f":"N30/2","v":11162.5},null,{"$f":"C30*$R$10","v":33200.6},null,{"$f":"R30/2","v":16600.3},null,{"$f":"C30*$V$10","v":33607.200000000004},null,{"$f":"V30/2","v":16803.600000000002}]
[null,"17(13)",200000,null,6670,null,195000,"～",210000,{"$f":"C31*$J$10","v":20060},null,{"$f":"J31/2","v":10030},null,{"$f":"C31*$N$10","v":23500},null,{"$f":"N31/2","v":11750},null,{"$f":"C31*$R$10","v":34948},null,{"$f":"R31/2","v":17474},null,{"$f":"C31*$V$10","v":35376},null,{"$f":"V31/2","v":17688}]
[null,"18(14)",220000,null,7330,null,210000,"～",230000,{"$f":"C32*$J$10","v":22066},null,{"$f":"J32/2","v":11033},null,{"$f":"C32*$N$10","v":25850},null,{"$f":"N32/2","v":12925},null,{"$f":"C32*$R$10","v":38442.800000000003},null,{"$f":"R32/2","v":19221.400000000001},null,{"$f":"C32*$V$10","v":38913.599999999999},null,{"$f":"V32/2","v":19456.8}]
[null,"19(15)",240000,null,8000,null,230000,"～",250000,{"$f":"C33*$J$10","v":24072},null,{"$f":"J33/2","v":12036},null,{"$f":"C33*$N$10","v":28200},null,{"$f":"N33/2","v":14100},null,{"$f":"C33*$R$10","v":41937.599999999999},null,{"$f":"R33/2","v":20968.8},null,{"$f":"C33*$V$10","v":42451.200000000004},null,{"$f":"V33/2","v":21225.600000000002}]
[null,"20(16)",260000,null,8670,null,250000,"～",270000,{"$f":"C34*$J$10","v":26078},null,{"$f":"J34/2","v":13039},null,{"$f":"C34*$N$10","v":30550},null,{"$f":"N34/2","v":15275},null,{"$f":"C34*$R$10","v":45432.4},null,{"$f":"R34/2","v":22716.2},null,{"$f":"C34*$V$10","v":45988.800000000003},null,{"$f":"V34/2","v":22994.400000000001}]
[null,"21(17)",280000,null,9330,null,270000,"～",290000,{"$f":"C35*$J$10","v":28084},null,{"$f":"J35/2","v":14042},null,{"$f":"C35*$N$10","v":32900},null,{"$f":"N35/2","v":16450},null,{"$f":"C35*$R$10","v":48927.200000000004},null,{"$f":"R35/2","v":24463.600000000002},null,{"$f":"C35*$V$10","v":49526.400000000001},null,{"$f":"V35/2","v":24763.200000000001}]
[null,"22(18)",300000,null,10000,null,290000,"～",310000,{"$f":"C36*$J$10","v":30090},null,{"$f":"J36/2","v":15045},null,{"$f":"C36*$N$10","v":35250},null,{"$f":"N36/2","v":17625},null,{"$f":"C36*$R$10","v":52422},null,{"$f":"R36/2","v":26211},null,{"$f":"C36*$V$10","v":53064},null,{"$f":"V36/2","v":26532}]
[null,"23(19)",320000,null,10670,null,310000,"～",330000,{"$f":"C37*$J$10","v":32096},null,{"$f":"J37/2","v":16048},null,{"$f":"C37*$N$10","v":37600},null,{"$f":"N37/2","v":18800},null,{"$f":"C37*$R$10","v":55916.800000000003},null,{"$f":"R37/2","v":27958.400000000001},null,{"$f":"C37*$V$10","v":56601.600000000006},null,{"$f":"V37/2","v":28300.800000000003}]
[null,"24(20)",340000,null,11330,null,330000,"～",350000,{"$f":"C38*$J$10","v":34102},null,{"$f":"J38/2","v":17051},null,{"$f":"C38*$N$10","v":39950},null,{"$f":"N38/2","v":19975},null,{"$f":"C38*$R$10","v":59411.600000000006},null,{"$f":"R38/2","v":29705.800000000003},null,{"$f":"C38*$V$10","v":60139.200000000004},null,{"$f":"V38/2","v":30069.600000000002}]
[null,"25(21)",360000,null,12000,null,350000,"～",370000,{"$f":"C39*$J$10","v":36108},null,{"$f":"J39/2","v":18054},null,{"$f":"C39*$N$10","v":42300},null,{"$f":"N39/2","v":21150},null,{"$f":"C39*$R$10","v":62906.400000000001},null,{"$f":"R39/2","v":31453.200000000001},null,{"$f":"C39*$V$10","v":63676.800000000003},null,{"$f":"V39/2","v":31838.400000000001}]
[null,"26(22)",380000,null,12670,null,370000,"～",395000,{"$f":"C40*$J$10","v":38114},null,{"$f":"J40/2","v":19057},null,{"$f":"C40*$N$10","v":44650},null,{"$f":"N40/2","v":22325},null,{"$f":"C40*$R$10","v":66401.2},null,{"$f":"R40/2","v":33200.6},null,{"$f":"C40*$V$10","v":67214.400000000009},null,{"$f":"V40/2","v":33607.200000000004}]
[null,"27(23)",410000,null,13670,null,395000,"～",425000,{"$f":"C41*$J$10","v":41123},null,{"$f":"J41/2","v":20561.5},null,{"$f":"C41*$N$10","v":48175},null,{"$f":"N41/2","v":24087.5},null,{"$f":"C41*$R$10","v":71643.400000000009},null,{"$f":"R41/2","v":35821.700000000004},null,{"$f":"C41*$V$10","v":72520.800000000003},null,{"$f":"V41/2","v":36260.400000000001}]
[null,"28(24)",440000,null,14670,null,425000,"～",455000,{"$f":"C42*$J$10","v":44132},null,{"$f":"J42/2","v":22066},null,{"$f":"C42*$N$10","v":51700},null,{"$f":"N42/2","v":25850},null,{"$f":"C42*$R$10","v":76885.600000000006},null,{"$f":"R42/2","v":38442.800000000003},null,{"$f":"C42*$V$10","v":77827.199999999997},null,{"$f":"V42/2","v":38913.599999999999}]
[null,"29(25)",470000,null,15670,null,455000,"～",485000,{"$f":"C43*$J$10","v":47141},null,{"$f":"J43/2","v":23570.5},null,{"$f":"C43*$N$10","v":55225},null,{"$f":"N43/2","v":27612.5},null,{"$f":"C43*$R$10","v":82127.8},null,{"$f":"R43/2","v":41063.9},null,{"$f":"C43*$V$10","v":83133.600000000006},null,{"$f":"V43/2","v":41566.800000000003}]
[null,"30(26)",500000,null,16670,null,485000,"～",515000,{"$f":"C44*$J$10","v":50150},null,{"$f":"J44/2","v":25075},null,{"$f":"C44*$N$10","v":58750},null,{"$f":"N44/2","v":29375},null,{"$f":"C44*$R$10","v":87370},null,{"$f":"R44/2","v":43685},null,{"$f":"C44*$V$10","v":88440},null,{"$f":"V44/2","v":44220}]
[null,"31(27)",530000,null,17670,null,515000,"～",545000,{"$f":"C45*$J$10","v":53159},null,{"$f":"J45/2","v":26579.5},null,{"$f":"C45*$N$10","v":62275},null,{"$f":"N45/2","v":31137.5},null,{"$f":"C45*$R$10","v":92612.2},null,{"$f":"R45/2","v":46306.1},null,{"$f":"C45*$V$10","v":93746.400000000009},null,{"$f":"V45/2","v":46873.200000000004}]
[null,"32(28)",560000,null,18670,null,545000,"～",575000,{"$f":"C46*$J$10","v":56168},null,{"$f":"J46/2","v":28084},null,{"$f":"C46*$N$10","v":65800},null,{"$f":"N46/2","v":32900},null,{"$f":"C46*$R$10","v":97854.400000000009},null,{"$f":"R46/2","v":48927.200000000004},null,{"$f":"C46*$V$10","v":99052.800000000003},null,{"$f":"V46/2","v":49526.400000000001}]
[null,"33(29)",590000,null,19670,null,575000,"～",605000,{"$f":"C47*$J$10","v":59177},null,{"$f":"J47/2","v":29588.5},null,{"$f":"C47*$N$10","v":69325},null,{"$f":"N47/2","v":34662.5},null,{"$f":"C47*$R$10","v":103096.6},null,{"$f":"R47/2","v":51548.3},null,{"$f":"C47*$V$10","v":104359.20000000001},null,{"$f":"V47/2","v":52179.600000000006}]
[null,"34(30)",620000,null,20670,null,605000,"～",635000,{"$f":"C48*$J$10","v":62186},null,{"$f":"J48/2","v":31093},null,{"$f":"C48*$N$10","v":72850},null,{"$f":"N48/2","v":36425},null,{"$f":"C48*$R$10","v":108338.8},null,{"$f":"R48/2","v":54169.4},null,{"$f":"C48*$V$10","v":109665.60000000001},null,{"$f":"V48/2","v":54832.800000000003}]
[null,35,650000,null,21670,null,635000,"～",665000,{"$f":"C49*$J$10","v":65195},null,{"$f":"J49/2","v":32597.5},null,{"$f":"C49*$N$10","v":76375},null,{"$f":"N49/2","v":38187.5},null,"※厚生年金基金に加入している方の厚生年金保険\n　料率は、基金ごとに定められている免除保険料\n　率(2.4%～5.0%)を控除した率となります。\n\n　●一般の被保険者の方　…12.474%～15.074%\n　●坑内員の被保険者の方…12.688%～15.288%\n\n　加入する基金ごとに異なりますので、免除保険\n　料率および厚生年金基金の掛金については、加\n　入する厚生年金基金にお問い合わせください。\n"]
[null,36,680000,null,22670,null,665000,"～",695000,{"$f":"C50*$J$10","v":68204},null,{"$f":"J50/2","v":34102},null,{"$f":"C50*$N$10","v":79900},null,{"$f":"N50/2","v":39950}]
[null,37,710000,null,23670,null,695000,"～",730000,{"$f":"C51*$J$10","v":71213},null,{"$f":"J51/2","v":35606.5},null,{"$f":"C51*$N$10","v":83425},null,{"$f":"N51/2","v":41712.5}]
[null,38,750000,null,25000,null,730000,"～",770000,{"$f":"C52*$J$10","v":75225},null,{"$f":"J52/2","v":37612.5},null,{"$f":"C52*$N$10","v":88125},null,{"$f":"N52/2","v":44062.5}]
[null,39,790000,null,26330,null,770000,"～",810000,{"$f":"C53*$J$10","v":79237},null,{"$f":"J53/2","v":39618.5},null,{"$f":"C53*$N$10","v":92825},null,{"$f":"N53/2","v":46412.5}]
[null,40,830000,null,27670,null,810000,"～",855000,{"$f":"C54*$J$10","v":83249},null,{"$f":"J54/2","v":41624.5},null,{"$f":"C54*$N$10","v":97525},null,{"$f":"N54/2","v":48762.5}]
[null,41,880000,null,29330,null,855000,"～",905000,{"$f":"C55*$J$10","v":88264},null,{"$f":"J55/2","v":44132},null,{"$f":"C55*$N$10","v":103400},null,{"$f":"N55/2","v":51700}]
[null,42,930000,null,31000,null,905000,"～",955000,{"$f":"C56*$J$10","v":93279},null,{"$f":"J56/2","v":46639.5},null,{"$f":"C56*$N$10","v":109275},null,{"$f":"N56/2","v":54637.5}]
[null,43,980000,null,32670,null,955000,"～",1005000,{"$f":"C57*$J$10","v":98294},null,{"$f":"J57/2","v":49147},null,{"$f":"C57*$N$10","v":115150},null,{"$f":"N57/2","v":57575}]
[null,44,1030000,null,34330,null,1005000,"～",1055000,{"$f":"C58*$J$10","v":103309},null,{"$f":"J58/2","v":51654.5},null,{"$f":"C58*$N$10","v":121025},null,{"$f":"N58/2","v":60512.5}]
[null,45,1090000,null,36330,null,1055000,"～",1115000,{"$f":"C59*$J$10","v":109327},null,{"$f":"J59/2","v":54663.5},null,{"$f":"C59*$N$10","v":128075},null,{"$f":"N59/2","v":64037.5}]
[null,46,1150000,null,38330,null,1115000,"～",1175000,{"$f":"C60*$J$10","v":115345},null,{"$f":"J60/2","v":57672.5},null,{"$f":"C60*$N$10","v":135125},null,{"$f":"N60/2","v":67562.5}]
[null,47,1210000,null,40330,null,1175000,"～",null,{"$f":"C61*$J$10","v":121363},null,{"$f":"J61/2","v":60681.5},null,{"$f":"C61*$N$10","v":142175},null,{"$f":"N61/2","v":71087.5}]
[]
[{"$f":"J10","v":0.1003}]
[null,""]
["◆等級欄の（　）内の数字は、厚生年金保険の標準報酬月額等級です。"]
["　5(1)等級の「報酬月額」欄は、厚生年金保険の場合「101,000円未満」と読み替えてください。"]
["　34(30)等級の「報酬月額」欄は、厚生年金保険の場合「605,000円以上」と読み替えてください。"]
[null,""]
["◆平成26年度における全国健康保険協会の任意継続被保険者について、標準報酬月額の上限は、280,000円です。"]
[]
[]
["　○被保険者負担分（表の折半額の欄）に円未満の端数がある場合"]
["　　　①事業主が、給与から被保険者負担分を控除する場合、被保険者負担分の端数が50銭以下の場合は切り捨て、50銭を超える場合は切り上げて1円となります。"]
["　　　②被保険者が、被保険者負担分を事業主へ現金で支払う場合、被保険者負担分の端数が50銭未満の場合は切り捨て、50銭以上の場合は切り上げて1円となります。"]
["　　　（注）①、②にかかわらず、事業主と被保険者の間で特約がある場合には、特約に基づき端数処理をすることができます。"]
[]
["　○納入告知書の保険料額"]
["　　　 納入告知書の保険料額は、被保険者個々の保険料額を合算した金額になります。ただし、合算した金額に円未満の端数がある場合は、その端数を切り捨てた額となります。"]
[]
["　○賞与に係る保険料"]
["　　　 賞与に係る保険料額は、賞与額から1,000円未満の端数を切り捨てた額（標準賞与額）に、保険料率を乗じた額となります。"]
[" 　　　また、標準賞与額の上限は、健康保険は年間540万円（毎年4月1日から翌年3月31日までの累計額）となり、厚生年金保険と児童手当拠出金の場合は月間150万円となります。"]
[]
["　○児童手当拠出金"]
["　　　 厚生年金保険の被保険者を使用する事業主の方は、児童手当等の支給に要する費用の一部として児童手当拠出金を全額負担いただくことになります。この児童手当"]
["　　　 拠出金の額は、被保険者個々の厚生年金保険の標準報酬月額および標準賞与額に、拠出金率（0.15%）を乗じて得た額の総額となります。"]

{"sheet":"高知","index":48,"n_rows":86,"n_cols":24,"rows_kept":86,"cut":false,"hidden":true,"merged":[[74,0,74,24],[75,0,75,16],[85,0,85,24],[86,0,86,16],[77,0,77,23],[79,0,79,16],[80,0,80,21],[81,0,81,24],[83,0,83,21],[84,0,84,24],[76,0,76,23],[48,17,60,24],[62,0,62,25],[64,0,64,24],[65,0,65,24],[66,0,66,24],[68,0,68,24],[71,0,71,16],[72,0,72,24],[73,0,73,24],[6,21,8,24],[9,9,10,12],[9,13,10,16],[9,17,10,20],[9,21,10,24],[11,13,12,14],[11,15,12,16],[11,17,12,18],[11,19,12,20],[11,21,12,22],[11,1,12,1],[11,2,12,3],[11,4,12,5],[11,9,12,10],[11,11,12,12],[11,23,12,24],[0,1,1,24],[2,1,3,23],[4,1,4,16],[5,1,10,5],[5,6,12,8],[5,9,5,16],[5,17,5,24],[6,9,8,12],[6,13,8,16],[6,17,8,20]]}
[null,"平成26年9月分(10月納付分)からの健康保険・厚生年金保険の保険料額表"]
[]
[null,"     ‣健康保険料率：平成24年3月分～　適用　　‣厚生年金保険料率：平成26年9月分～平成27年8月分　適用\n     ‣介護保険料率：平成26年3月分～　適用　　‣児童手当拠出金率：平成24年4月分～　適用\n"]
[]
[null,"（高知県）",null,null,null,null,null,null,null,null,null,null,null,null,null,null,null,null,null,null,null,null,null,"（単位：円）"]
[null,"標　準　報　酬",null,null,null,null,"報　酬　月　額",null,null,"全国健康保険協会管掌健康保険料",null,null,null,null,null,null,null,"厚生年金保険料（厚生年金基金加入員を除く）"]
[null,null,null,null,null,null,null,null,null,"介護保険第２号被保険者\nに該当しない場合",null,null,null,"介護保険第２号被保険者\nに該当する場合",null,null,null,"一般の被保険者",null,null,null,"坑内員・船員"]
[]
[]
[null,null,null,null,null,null,null,null,null,0.1004,null,null,null,{"$f":"J10+0.0172","v":0.11760000000000001},null,null,null,0.17474000000000001,null,null,null,0.17688000000000001]
[]
[null,"等級","月　額",null,"日　額",null,null,null,null,"全　額",null,"折半額",null,"全　額",null,"折半額",null,"全　額",null,"折半額",null,"全　額",null,"折半額"]
[]
[null,null,null,null,null,null,"円以上",null,"円未満"]
[null,1,58000,null,1930,null,null,"～",63000,{"$f":"C15*$J$10","v":5823.2},null,{"$f":"J15/2","v":2911.6},null,{"$f":"C15*$N$10","v":6820.8},null,{"$f":"N15/2","v":3410.4}]
[null,2,68000,null,2270,null,63000,"～",73000,{"$f":"C16*$J$10","v":6827.2},null,{"$f":"J16/2","v":3413.6},null,{"$f":"C16*$N$10","v":7996.8000000000011},null,{"$f":"N16/2","v":3998.4000000000005}]
[null,3,78000,null,2600,null,73000,"～",83000,{"$f":"C17*$J$10","v":7831.2},null,{"$f":"J17/2","v":3915.6},null,{"$f":"C17*$N$10","v":9172.8000000000011},null,{"$f":"N17/2","v":4586.4000000000005}]
[null,4,88000,null,2930,null,83000,"～",93000,{"$f":"C18*$J$10","v":8835.2000000000007},null,{"$f":"J18/2","v":4417.6000000000004},null,{"$f":"C18*$N$10","v":10348.800000000001},null,{"$f":"N18/2","v":5174.4000000000005}]
[null,"5(1)",98000,null,3270,null,93000,"～",101000,{"$f":"C19*$J$10","v":9839.2000000000007},null,{"$f":"J19/2","v":4919.6000000000004},null,{"$f":"C19*$N$10","v":11524.800000000001},null,{"$f":"N19/2","v":5762.4000000000005},null,{"$f":"C19*$R$10","v":17124.52},null,{"$f":"R19/2","v":8562.26},null,{"$f":"C19*$V$10","v":17334.240000000002},null,{"$f":"V19/2","v":8667.1200000000008}]
[null,"6(2)",104000,null,3470,null,101000,"～",107000,{"$f":"C20*$J$10","v":10441.6},null,{"$f":"J20/2","v":5220.8},null,{"$f":"C20*$N$10","v":12230.400000000001},null,{"$f":"N20/2","v":6115.2000000000007},null,{"$f":"C20*$R$10","v":18172.96},null,{"$f":"R20/2","v":9086.48},null,{"$f":"C20*$V$10","v":18395.52},null,{"$f":"V20/2","v":9197.76}]
[null,"7(3)",110000,null,3670,null,107000,"～",114000,{"$f":"C21*$J$10","v":11044},null,{"$f":"J21/2","v":5522},null,{"$f":"C21*$N$10","v":12936.000000000002},null,{"$f":"N21/2","v":6468.0000000000009},null,{"$f":"C21*$R$10","v":19221.400000000001},null,{"$f":"R21/2","v":9610.7000000000007},null,{"$f":"C21*$V$10","v":19456.8},null,{"$f":"V21/2","v":9728.4}]
[null,"8(4)",118000,null,3930,null,114000,"～",122000,{"$f":"C22*$J$10","v":11847.2},null,{"$f":"J22/2","v":5923.6},null,{"$f":"C22*$N$10","v":13876.800000000001},null,{"$f":"N22/2","v":6938.4000000000005},null,{"$f":"C22*$R$10","v":20619.32},null,{"$f":"R22/2","v":10309.66},null,{"$f":"C22*$V$10","v":20871.84},null,{"$f":"V22/2","v":10435.92}]
[null,"9(5)",126000,null,4200,null,122000,"～",130000,{"$f":"C23*$J$10","v":12650.4},null,{"$f":"J23/2","v":6325.2},null,{"$f":"C23*$N$10","v":14817.6},null,{"$f":"N23/2","v":7408.8},null,{"$f":"C23*$R$10","v":22017.24},null,{"$f":"R23/2","v":11008.62},null,{"$f":"C23*$V$10","v":22286.880000000001},null,{"$f":"V23/2","v":11143.44}]
[null,"10(6)",134000,null,4470,null,130000,"～",138000,{"$f":"C24*$J$10","v":13453.6},null,{"$f":"J24/2","v":6726.8},null,{"$f":"C24*$N$10","v":15758.400000000001},null,{"$f":"N24/2","v":7879.2000000000007},null,{"$f":"C24*$R$10","v":23415.16},null,{"$f":"R24/2","v":11707.58},null,{"$f":"C24*$V$10","v":23701.920000000002},null,{"$f":"V24/2","v":11850.960000000001}]
[null,"11(7)",142000,null,4730,null,138000,"～",146000,{"$f":"C25*$J$10","v":14256.800000000001},null,{"$f":"J25/2","v":7128.4000000000005},null,{"$f":"C25*$N$10","v":16699.2},null,{"$f":"N25/2","v":8349.6},null,{"$f":"C25*$R$10","v":24813.08},null,{"$f":"R25/2","v":12406.54},null,{"$f":"C25*$V$10","v":25116.960000000003},null,{"$f":"V25/2","v":12558.480000000001}]
[null,"12(8)",150000,null,5000,null,146000,"～",155000,{"$f":"C26*$J$10","v":15060},null,{"$f":"J26/2","v":7530},null,{"$f":"C26*$N$10","v":17640},null,{"$f":"N26/2","v":8820},null,{"$f":"C26*$R$10","v":26211},null,{"$f":"R26/2","v":13105.5},null,{"$f":"C26*$V$10","v":26532},null,{"$f":"V26/2","v":13266}]
[null,"13(9)",160000,null,5330,null,155000,"～",165000,{"$f":"C27*$J$10","v":16064},null,{"$f":"J27/2","v":8032},null,{"$f":"C27*$N$10","v":18816},null,{"$f":"N27/2","v":9408},null,{"$f":"C27*$R$10","v":27958.400000000001},null,{"$f":"R27/2","v":13979.2},null,{"$f":"C27*$V$10","v":28300.800000000003},null,{"$f":"V27/2","v":14150.400000000001}]
[null,"14(10)",170000,null,5670,null,165000,"～",175000,{"$f":"C28*$J$10","v":17068},null,{"$f":"J28/2","v":8534},null,{"$f":"C28*$N$10","v":19992},null,{"$f":"N28/2","v":9996},null,{"$f":"C28*$R$10","v":29705.800000000003},null,{"$f":"R28/2","v":14852.900000000001},null,{"$f":"C28*$V$10","v":30069.600000000002},null,{"$f":"V28/2","v":15034.800000000001}]
[null,"15(11)",180000,null,6000,null,175000,"～",185000,{"$f":"C29*$J$10","v":18072},null,{"$f":"J29/2","v":9036},null,{"$f":"C29*$N$10","v":21168},null,{"$f":"N29/2","v":10584},null,{"$f":"C29*$R$10","v":31453.200000000001},null,{"$f":"R29/2","v":15726.6},null,{"$f":"C29*$V$10","v":31838.400000000001},null,{"$f":"V29/2","v":15919.2}]
[null,"16(12)",190000,null,6330,null,185000,"～",195000,{"$f":"C30*$J$10","v":19076},null,{"$f":"J30/2","v":9538},null,{"$f":"C30*$N$10","v":22344.000000000004},null,{"$f":"N30/2","v":11172.000000000002},null,{"$f":"C30*$R$10","v":33200.6},null,{"$f":"R30/2","v":16600.3},null,{"$f":"C30*$V$10","v":33607.200000000004},null,{"$f":"V30/2","v":16803.600000000002}]
[null,"17(13)",200000,null,6670,null,195000,"～",210000,{"$f":"C31*$J$10","v":20080},null,{"$f":"J31/2","v":10040},null,{"$f":"C31*$N$10","v":23520.000000000004},null,{"$f":"N31/2","v":11760.000000000002},null,{"$f":"C31*$R$10","v":34948},null,{"$f":"R31/2","v":17474},null,{"$f":"C31*$V$10","v":35376},null,{"$f":"V31/2","v":17688}]
[null,"18(14)",220000,null,7330,null,210000,"～",230000,{"$f":"C32*$J$10","v":22088},null,{"$f":"J32/2","v":11044},null,{"$f":"C32*$N$10","v":25872.000000000004},null,{"$f":"N32/2","v":12936.000000000002},null,{"$f":"C32*$R$10","v":38442.800000000003},null,{"$f":"R32/2","v":19221.400000000001},null,{"$f":"C32*$V$10","v":38913.599999999999},null,{"$f":"V32/2","v":19456.8}]
[null,"19(15)",240000,null,8000,null,230000,"～",250000,{"$f":"C33*$J$10","v":24096},null,{"$f":"J33/2","v":12048},null,{"$f":"C33*$N$10","v":28224.000000000004},null,{"$f":"N33/2","v":14112.000000000002},null,{"$f":"C33*$R$10","v":41937.599999999999},null,{"$f":"R33/2","v":20968.8},null,{"$f":"C33*$V$10","v":42451.200000000004},null,{"$f":"V33/2","v":21225.600000000002}]
[null,"20(16)",260000,null,8670,null,250000,"～",270000,{"$f":"C34*$J$10","v":26104},null,{"$f":"J34/2","v":13052},null,{"$f":"C34*$N$10","v":30576.000000000004},null,{"$f":"N34/2","v":15288.000000000002},null,{"$f":"C34*$R$10","v":45432.4},null,{"$f":"R34/2","v":22716.2},null,{"$f":"C34*$V$10","v":45988.800000000003},null,{"$f":"V34/2","v":22994.400000000001}]
[null,"21(17)",280000,null,9330,null,270000,"～",290000,{"$f":"C35*$J$10","v":28112},null,{"$f":"J35/2","v":14056},null,{"$f":"C35*$N$10","v":32928},null,{"$f":"N35/2","v":16464},null,{"$f":"C35*$R$10","v":48927.200000000004},null,{"$f":"R35/2","v":24463.600000000002},null,{"$f":"C35*$V$10","v":49526.400000000001},null,{"$f":"V35/2","v":24763.200000000001}]
[null,"22(18)",300000,null,10000,null,290000,"～",310000,{"$f":"C36*$J$10","v":30120},null,{"$f":"J36/2","v":15060},null,{"$f":"C36*$N$10","v":35280},null,{"$f":"N36/2","v":17640},null,{"$f":"C36*$R$10","v":52422},null,{"$f":"R36/2","v":26211},null,{"$f":"C36*$V$10","v":53064},null,{"$f":"V36/2","v":26532}]
[null,"23(19)",320000,null,10670,null,310000,"～",330000,{"$f":"C37*$J$10","v":32128},null,{"$f":"J37/2","v":16064},null,{"$f":"C37*$N$10","v":37632},null,{"$f":"N37/2","v":18816},null,{"$f":"C37*$R$10","v":55916.800000000003},null,{"$f":"R37/2","v":27958.400000000001},null,{"$f":"C37*$V$10","v":56601.600000000006},null,{"$f":"V37/2","v":28300.800000000003}]
[null,"24(20)",340000,null,11330,null,330000,"～",350000,{"$f":"C38*$J$10","v":34136},null,{"$f":"J38/2","v":17068},null,{"$f":"C38*$N$10","v":39984},null,{"$f":"N38/2","v":19992},null,{"$f":"C38*$R$10","v":59411.600000000006},null,{"$f":"R38/2","v":29705.800000000003},null,{"$f":"C38*$V$10","v":60139.200000000004},null,{"$f":"V38/2","v":30069.600000000002}]
[null,"25(21)",360000,null,12000,null,350000,"～",370000,{"$f":"C39*$J$10","v":36144},null,{"$f":"J39/2","v":18072},null,{"$f":"C39*$N$10","v":42336},null,{"$f":"N39/2","v":21168},null,{"$f":"C39*$R$10","v":62906.400000000001},null,{"$f":"R39/2","v":31453.200000000001},null,{"$f":"C39*$V$10","v":63676.800000000003},null,{"$f":"V39/2","v":31838.400000000001}]
[null,"26(22)",380000,null,12670,null,370000,"～",395000,{"$f":"C40*$J$10","v":38152},null,{"$f":"J40/2","v":19076},null,{"$f":"C40*$N$10","v":44688.000000000007},null,{"$f":"N40/2","v":22344.000000000004},null,{"$f":"C40*$R$10","v":66401.2},null,{"$f":"R40/2","v":33200.6},null,{"$f":"C40*$V$10","v":67214.400000000009},null,{"$f":"V40/2","v":33607.200000000004}]
[null,"27(23)",410000,null,13670,null,395000,"～",425000,{"$f":"C41*$J$10","v":41164},null,{"$f":"J41/2","v":20582},null,{"$f":"C41*$N$10","v":48216.000000000007},null,{"$f":"N41/2","v":24108.000000000004},null,{"$f":"C41*$R$10","v":71643.400000000009},null,{"$f":"R41/2","v":35821.700000000004},null,{"$f":"C41*$V$10","v":72520.800000000003},null,{"$f":"V41/2","v":36260.400000000001}]
[null,"28(24)",440000,null,14670,null,425000,"～",455000,{"$f":"C42*$J$10","v":44176},null,{"$f":"J42/2","v":22088},null,{"$f":"C42*$N$10","v":51744.000000000007},null,{"$f":"N42/2","v":25872.000000000004},null,{"$f":"C42*$R$10","v":76885.600000000006},null,{"$f":"R42/2","v":38442.800000000003},null,{"$f":"C42*$V$10","v":77827.199999999997},null,{"$f":"V42/2","v":38913.599999999999}]
[null,"29(25)",470000,null,15670,null,455000,"～",485000,{"$f":"C43*$J$10","v":47188},null,{"$f":"J43/2","v":23594},null,{"$f":"C43*$N$10","v":55272.000000000007},null,{"$f":"N43/2","v":27636.000000000004},null,{"$f":"C43*$R$10","v":82127.8},null,{"$f":"R43/2","v":41063.9},null,{"$f":"C43*$V$10","v":83133.600000000006},null,{"$f":"V43/2","v":41566.800000000003}]
[null,"30(26)",500000,null,16670,null,485000,"～",515000,{"$f":"C44*$J$10","v":50200},null,{"$f":"J44/2","v":25100},null,{"$f":"C44*$N$10","v":58800.000000000007},null,{"$f":"N44/2","v":29400.000000000004},null,{"$f":"C44*$R$10","v":87370},null,{"$f":"R44/2","v":43685},null,{"$f":"C44*$V$10","v":88440},null,{"$f":"V44/2","v":44220}]
[null,"31(27)",530000,null,17670,null,515000,"～",545000,{"$f":"C45*$J$10","v":53212},null,{"$f":"J45/2","v":26606},null,{"$f":"C45*$N$10","v":62328.000000000007},null,{"$f":"N45/2","v":31164.000000000004},null,{"$f":"C45*$R$10","v":92612.2},null,{"$f":"R45/2","v":46306.1},null,{"$f":"C45*$V$10","v":93746.400000000009},null,{"$f":"V45/2","v":46873.200000000004}]
[null,"32(28)",560000,null,18670,null,545000,"～",575000,{"$f":"C46*$J$10","v":56224},null,{"$f":"J46/2","v":28112},null,{"$f":"C46*$N$10","v":65856},null,{"$f":"N46/2","v":32928},null,{"$f":"C46*$R$10","v":97854.400000000009},null,{"$f":"R46/2","v":48927.200000000004},null,{"$f":"C46*$V$10","v":99052.800000000003},null,{"$f":"V46/2","v":49526.400000000001}]
[null,"33(29)",590000,null,19670,null,575000,"～",605000,{"$f":"C47*$J$10","v":59236},null,{"$f":"J47/2","v":29618},null,{"$f":"C47*$N$10","v":69384},null,{"$f":"N47/2","v":34692},null,{"$f":"C47*$R$10","v":103096.6},null,{"$f":"R47/2","v":51548.3},null,{"$f":"C47*$V$10","v":104359.20000000001},null,{"$f":"V47/2","v":52179.600000000006}]
[null,"34(30)",620000,null,20670,null,605000,"～",635000,{"$f":"C48*$J$10","v":62248},null,{"$f":"J48/2","v":31124},null,{"$f":"C48*$N$10","v":72912},null,{"$f":"N48/2","v":36456},null,{"$f":"C48*$R$10","v":108338.8},null,{"$f":"R48/2","v":54169.4},null,{"$f":"C48*$V$10","v":109665.60000000001},null,{"$f":"V48/2","v":54832.800000000003}]
[null,35,650000,null,21670,null,635000,"～",665000,{"$f":"C49*$J$10","v":65260},null,{"$f":"J49/2","v":32630},null,{"$f":"C49*$N$10","v":76440},null,{"$f":"N49/2","v":38220},null,"※厚生年金基金に加入している方の厚生年金保険\n　料率は、基金ごとに定められている免除保険料\n　率(2.4%～5.0%)を控除した率となります。\n\n　●一般の被保険者の方　…12.474%～15.074%\n　●坑内員の被保険者の方…12.688%～15.288%\n\n　加入する基金ごとに異なりますので、免除保険\n　料率および厚生年金基金の掛金については、加\n　入する厚生年金基金にお問い合わせください。\n"]
[null,36,680000,null,22670,null,665000,"～",695000,{"$f":"C50*$J$10","v":68272},null,{"$f":"J50/2","v":34136},null,{"$f":"C50*$N$10","v":79968},null,{"$f":"N50/2","v":39984}]
[null,37,710000,null,23670,null,695000,"～",730000,{"$f":"C51*$J$10","v":71284},null,{"$f":"J51/2","v":35642},null,{"$f":"C51*$N$10","v":83496},null,{"$f":"N51/2","v":41748}]
[null,38,750000,null,25000,null,730000,"～",770000,{"$f":"C52*$J$10","v":75300},null,{"$f":"J52/2","v":37650},null,{"$f":"C52*$N$10","v":88200.000000000015},null,{"$f":"N52/2","v":44100.000000000007}]
[null,39,790000,null,26330,null,770000,"～",810000,{"$f":"C53*$J$10","v":79316},null,{"$f":"J53/2","v":39658},null,{"$f":"C53*$N$10","v":92904.000000000015},null,{"$f":"N53/2","v":46452.000000000007}]
[null,40,830000,null,27670,null,810000,"～",855000,{"$f":"C54*$J$10","v":83332},null,{"$f":"J54/2","v":41666},null,{"$f":"C54*$N$10","v":97608.000000000015},null,{"$f":"N54/2","v":48804.000000000007}]
[null,41,880000,null,29330,null,855000,"～",905000,{"$f":"C55*$J$10","v":88352},null,{"$f":"J55/2","v":44176},null,{"$f":"C55*$N$10","v":103488.00000000001},null,{"$f":"N55/2","v":51744.000000000007}]
[null,42,930000,null,31000,null,905000,"～",955000,{"$f":"C56*$J$10","v":93372},null,{"$f":"J56/2","v":46686},null,{"$f":"C56*$N$10","v":109368.00000000001},null,{"$f":"N56/2","v":54684.000000000007}]
[null,43,980000,null,32670,null,955000,"～",1005000,{"$f":"C57*$J$10","v":98392},null,{"$f":"J57/2","v":49196},null,{"$f":"C57*$N$10","v":115248.00000000001},null,{"$f":"N57/2","v":57624.000000000007}]
[null,44,1030000,null,34330,null,1005000,"～",1055000,{"$f":"C58*$J$10","v":103412},null,{"$f":"J58/2","v":51706},null,{"$f":"C58*$N$10","v":121128.00000000001},null,{"$f":"N58/2","v":60564.000000000007}]
[null,45,1090000,null,36330,null,1055000,"～",1115000,{"$f":"C59*$J$10","v":109436},null,{"$f":"J59/2","v":54718},null,{"$f":"C59*$N$10","v":128184.00000000001},null,{"$f":"N59/2","v":64092.000000000007}]
[null,46,1150000,null,38330,null,1115000,"～",1175000,{"$f":"C60*$J$10","v":115460},null,{"$f":"J60/2","v":57730},null,{"$f":"C60*$N$10","v":135240},null,{"$f":"N60/2","v":67620}]
[null,47,1210000,null,40330,null,1175000,"～",null,{"$f":"C61*$J$10","v":121484},null,{"$f":"J61/2","v":60742},null,{"$f":"C61*$N$10","v":142296},null,{"$f":"N61/2","v":71148}]
[]
[{"$f":"J10","v":0.1004}]
[null,""]
["◆等級欄の（　）内の数字は、厚生年金保険の標準報酬月額等級です。"]
["　5(1)等級の「報酬月額」欄は、厚生年金保険の場合「101,000円未満」と読み替えてください。"]
["　34(30)等級の「報酬月額」欄は、厚生年金保険の場合「605,000円以上」と読み替えてください。"]
[null,""]
["◆平成26年度における全国健康保険協会の任意継続被保険者について、標準報酬月額の上限は、280,000円です。"]
[]
[]
["　○被保険者負担分（表の折半額の欄）に円未満の端数がある場合"]
["　　　①事業主が、給与から被保険者負担分を控除する場合、被保険者負担分の端数が50銭以下の場合は切り捨て、50銭を超える場合は切り上げて1円となります。"]
["　　　②被保険者が、被保険者負担分を事業主へ現金で支払う場合、被保険者負担分の端数が50銭未満の場合は切り捨て、50銭以上の場合は切り上げて1円となります。"]
["　　　（注）①、②にかかわらず、事業主と被保険者の間で特約がある場合には、特約に基づき端数処理をすることができます。"]
[]
["　○納入告知書の保険料額"]
["　　　 納入告知書の保険料額は、被保険者個々の保険料額を合算した金額になります。ただし、合算した金額に円未満の端数がある場合は、その端数を切り捨てた額となります。"]
[]
["　○賞与に係る保険料"]
["　　　 賞与に係る保険料額は、賞与額から1,000円未満の端数を切り捨てた額（標準賞与額）に、保険料率を乗じた額となります。"]
[" 　　　また、標準賞与額の上限は、健康保険は年間540万円（毎年4月1日から翌年3月31日までの累計額）となり、厚生年金保険と児童手当拠出金の場合は月間150万円となります。"]
[]
["　○児童手当拠出金"]
["　　　 厚生年金保険の被保険者を使用する事業主の方は、児童手当等の支給に要する費用の一部として児童手当拠出金を全額負担いただくことになります。この児童手当"]
["　　　 拠出金の額は、被保険者個々の厚生年金保険の標準報酬月額および標準賞与額に、拠出金率（0.15%）を乗じて得た額の総額となります。"]

{"sheet":"福岡","index":49,"n_rows":86,"n_cols":24,"rows_kept":86,"cut":false,"hidden":true,"merged":[[74,0,74,24],[75,0,75,16],[85,0,85,24],[86,0,86,16],[77,0,77,23],[79,0,79,16],[80,0,80,21],[81,0,81,24],[83,0,83,21],[84,0,84,24],[76,0,76,23],[48,17,60,24],[62,0,62,25],[64,0,64,24],[65,0,65,24],[66,0,66,24],[68,0,68,24],[71,0,71,16],[72,0,72,24],[73,0,73,24],[6,21,8,24],[9,9,10,12],[9,13,10,16],[9,17,10,20],[9,21,10,24],[11,13,12,14],[11,15,12,16],[11,17,12,18],[11,19,12,20],[11,21,12,22],[11,1,12,1],[11,2,12,3],[11,4,12,5],[11,9,12,10],[11,11,12,12],[11,23,12,24],[0,1,1,24],[2,1,3,23],[4,1,4,16],[5,1,10,5],[5,6,12,8],[5,9,5,16],[5,17,5,24],[6,9,8,12],[6,13,8,16],[6,17,8,20]]}
[null,"平成26年9月分(10月納付分)からの健康保険・厚生年金保険の保険料額表"]
[]
[null,"     ‣健康保険料率：平成24年3月分～　適用　　‣厚生年金保険料率：平成26年9月分～平成27年8月分　適用\n     ‣介護保険料率：平成26年3月分～　適用　　‣児童手当拠出金率：平成24年4月分～　適用\n"]
[]
[null,"（福岡県）",null,null,null,null,null,null,null,null,null,null,null,null,null,null,null,null,null,null,null,null,null,"（単位：円）"]
[null,"標　準　報　酬",null,null,null,null,"報　酬　月　額",null,null,"全国健康保険協会管掌健康保険料",null,null,null,null,null,null,null,"厚生年金保険料（厚生年金基金加入員を除く）"]
[null,null,null,null,null,null,null,null,null,"介護保険第２号被保険者\nに該当しない場合",null,null,null,"介護保険第２号被保険者\nに該当する場合",null,null,null,"一般の被保険者",null,null,null,"坑内員・船員"]
[]
[]
[null,null,null,null,null,null,null,null,null,0.1012,null,null,null,{"$f":"J10+0.0172","v":0.11840000000000001},null,null,null,0.17474000000000001,null,null,null,0.17688000000000001]
[]
[null,"等級","月　額",null,"日　額",null,null,null,null,"全　額",null,"折半額",null,"全　額",null,"折半額",null,"全　額",null,"折半額",null,"全　額",null,"折半額"]
[]
[null,null,null,null,null,null,"円以上",null,"円未満"]
[null,1,58000,null,1930,null,null,"～",63000,{"$f":"C15*$J$10","v":5869.5999999999995},null,{"$f":"J15/2","v":2934.7999999999997},null,{"$f":"C15*$N$10","v":6867.2000000000007},null,{"$f":"N15/2","v":3433.6000000000004}]
[null,2,68000,null,2270,null,63000,"～",73000,{"$f":"C16*$J$10","v":6881.5999999999995},null,{"$f":"J16/2","v":3440.7999999999997},null,{"$f":"C16*$N$10","v":8051.2000000000007},null,{"$f":"N16/2","v":4025.6000000000004}]
[null,3,78000,null,2600,null,73000,"～",83000,{"$f":"C17*$J$10","v":7893.5999999999995},null,{"$f":"J17/2","v":3946.7999999999997},null,{"$f":"C17*$N$10","v":9235.2000000000007},null,{"$f":"N17/2","v":4617.6000000000004}]
[null,4,88000,null,2930,null,83000,"～",93000,{"$f":"C18*$J$10","v":8905.6},null,{"$f":"J18/2","v":4452.8},null,{"$f":"C18*$N$10","v":10419.200000000001},null,{"$f":"N18/2","v":5209.6000000000004}]
[null,"5(1)",98000,null,3270,null,93000,"～",101000,{"$f":"C19*$J$10","v":9917.6},null,{"$f":"J19/2","v":4958.8},null,{"$f":"C19*$N$10","v":11603.2},null,{"$f":"N19/2","v":5801.6},null,{"$f":"C19*$R$10","v":17124.52},null,{"$f":"R19/2","v":8562.26},null,{"$f":"C19*$V$10","v":17334.240000000002},null,{"$f":"V19/2","v":8667.1200000000008}]
[null,"6(2)",104000,null,3470,null,101000,"～",107000,{"$f":"C20*$J$10","v":10524.8},null,{"$f":"J20/2","v":5262.4},null,{"$f":"C20*$N$10","v":12313.6},null,{"$f":"N20/2","v":6156.8},null,{"$f":"C20*$R$10","v":18172.96},null,{"$f":"R20/2","v":9086.48},null,{"$f":"C20*$V$10","v":18395.52},null,{"$f":"V20/2","v":9197.76}]
[null,"7(3)",110000,null,3670,null,107000,"～",114000,{"$f":"C21*$J$10","v":11132},null,{"$f":"J21/2","v":5566},null,{"$f":"C21*$N$10","v":13024},null,{"$f":"N21/2","v":6512},null,{"$f":"C21*$R$10","v":19221.400000000001},null,{"$f":"R21/2","v":9610.7000000000007},null,{"$f":"C21*$V$10","v":19456.8},null,{"$f":"V21/2","v":9728.4}]
[null,"8(4)",118000,null,3930,null,114000,"～",122000,{"$f":"C22*$J$10","v":11941.6},null,{"$f":"J22/2","v":5970.8},null,{"$f":"C22*$N$10","v":13971.2},null,{"$f":"N22/2","v":6985.6},null,{"$f":"C22*$R$10","v":20619.32},null,{"$f":"R22/2","v":10309.66},null,{"$f":"C22*$V$10","v":20871.84},null,{"$f":"V22/2","v":10435.92}]
[null,"9(5)",126000,null,4200,null,122000,"～",130000,{"$f":"C23*$J$10","v":12751.199999999999},null,{"$f":"J23/2","v":6375.5999999999995},null,{"$f":"C23*$N$10","v":14918.400000000001},null,{"$f":"N23/2","v":7459.2000000000007},null,{"$f":"C23*$R$10","v":22017.24},null,{"$f":"R23/2","v":11008.62},null,{"$f":"C23*$V$10","v":22286.880000000001},null,{"$f":"V23/2","v":11143.44}]
[null,"10(6)",134000,null,4470,null,130000,"～",138000,{"$f":"C24*$J$10","v":13560.8},null,{"$f":"J24/2","v":6780.4},null,{"$f":"C24*$N$10","v":15865.6},null,{"$f":"N24/2","v":7932.8},null,{"$f":"C24*$R$10","v":23415.16},null,{"$f":"R24/2","v":11707.58},null,{"$f":"C24*$V$10","v":23701.920000000002},null,{"$f":"V24/2","v":11850.960000000001}]
[null,"11(7)",142000,null,4730,null,138000,"～",146000,{"$f":"C25*$J$10","v":14370.4},null,{"$f":"J25/2","v":7185.2},null,{"$f":"C25*$N$10","v":16812.8},null,{"$f":"N25/2","v":8406.4},null,{"$f":"C25*$R$10","v":24813.08},null,{"$f":"R25/2","v":12406.54},null,{"$f":"C25*$V$10","v":25116.960000000003},null,{"$f":"V25/2","v":12558.480000000001}]
[null,"12(8)",150000,null,5000,null,146000,"～",155000,{"$f":"C26*$J$10","v":15180},null,{"$f":"J26/2","v":7590},null,{"$f":"C26*$N$10","v":17760},null,{"$f":"N26/2","v":8880},null,{"$f":"C26*$R$10","v":26211},null,{"$f":"R26/2","v":13105.5},null,{"$f":"C26*$V$10","v":26532},null,{"$f":"V26/2","v":13266}]
[null,"13(9)",160000,null,5330,null,155000,"～",165000,{"$f":"C27*$J$10","v":16192},null,{"$f":"J27/2","v":8096},null,{"$f":"C27*$N$10","v":18944},null,{"$f":"N27/2","v":9472},null,{"$f":"C27*$R$10","v":27958.400000000001},null,{"$f":"R27/2","v":13979.2},null,{"$f":"C27*$V$10","v":28300.800000000003},null,{"$f":"V27/2","v":14150.400000000001}]
[null,"14(10)",170000,null,5670,null,165000,"～",175000,{"$f":"C28*$J$10","v":17204},null,{"$f":"J28/2","v":8602},null,{"$f":"C28*$N$10","v":20128},null,{"$f":"N28/2","v":10064},null,{"$f":"C28*$R$10","v":29705.800000000003},null,{"$f":"R28/2","v":14852.900000000001},null,{"$f":"C28*$V$10","v":30069.600000000002},null,{"$f":"V28/2","v":15034.800000000001}]
[null,"15(11)",180000,null,6000,null,175000,"～",185000,{"$f":"C29*$J$10","v":18216},null,{"$f":"J29/2","v":9108},null,{"$f":"C29*$N$10","v":21312},null,{"$f":"N29/2","v":10656},null,{"$f":"C29*$R$10","v":31453.200000000001},null,{"$f":"R29/2","v":15726.6},null,{"$f":"C29*$V$10","v":31838.400000000001},null,{"$f":"V29/2","v":15919.2}]
[null,"16(12)",190000,null,6330,null,185000,"～",195000,{"$f":"C30*$J$10","v":19228},null,{"$f":"J30/2","v":9614},null,{"$f":"C30*$N$10","v":22496},null,{"$f":"N30/2","v":11248},null,{"$f":"C30*$R$10","v":33200.6},null,{"$f":"R30/2","v":16600.3},null,{"$f":"C30*$V$10","v":33607.200000000004},null,{"$f":"V30/2","v":16803.600000000002}]
[null,"17(13)",200000,null,6670,null,195000,"～",210000,{"$f":"C31*$J$10","v":20240},null,{"$f":"J31/2","v":10120},null,{"$f":"C31*$N$10","v":23680},null,{"$f":"N31/2","v":11840},null,{"$f":"C31*$R$10","v":34948},null,{"$f":"R31/2","v":17474},null,{"$f":"C31*$V$10","v":35376},null,{"$f":"V31/2","v":17688}]
[null,"18(14)",220000,null,7330,null,210000,"～",230000,{"$f":"C32*$J$10","v":22264},null,{"$f":"J32/2","v":11132},null,{"$f":"C32*$N$10","v":26048},null,{"$f":"N32/2","v":13024},null,{"$f":"C32*$R$10","v":38442.800000000003},null,{"$f":"R32/2","v":19221.400000000001},null,{"$f":"C32*$V$10","v":38913.599999999999},null,{"$f":"V32/2","v":19456.8}]
[null,"19(15)",240000,null,8000,null,230000,"～",250000,{"$f":"C33*$J$10","v":24288},null,{"$f":"J33/2","v":12144},null,{"$f":"C33*$N$10","v":28416},null,{"$f":"N33/2","v":14208},null,{"$f":"C33*$R$10","v":41937.599999999999},null,{"$f":"R33/2","v":20968.8},null,{"$f":"C33*$V$10","v":42451.200000000004},null,{"$f":"V33/2","v":21225.600000000002}]
[null,"20(16)",260000,null,8670,null,250000,"～",270000,{"$f":"C34*$J$10","v":26312},null,{"$f":"J34/2","v":13156},null,{"$f":"C34*$N$10","v":30784},null,{"$f":"N34/2","v":15392},null,{"$f":"C34*$R$10","v":45432.4},null,{"$f":"R34/2","v":22716.2},null,{"$f":"C34*$V$10","v":45988.800000000003},null,{"$f":"V34/2","v":22994.400000000001}]
[null,"21(17)",280000,null,9330,null,270000,"～",290000,{"$f":"C35*$J$10","v":28336},null,{"$f":"J35/2","v":14168},null,{"$f":"C35*$N$10","v":33152},null,{"$f":"N35/2","v":16576},null,{"$f":"C35*$R$10","v":48927.200000000004},null,{"$f":"R35/2","v":24463.600000000002},null,{"$f":"C35*$V$10","v":49526.400000000001},null,{"$f":"V35/2","v":24763.200000000001}]
[null,"22(18)",300000,null,10000,null,290000,"～",310000,{"$f":"C36*$J$10","v":30360},null,{"$f":"J36/2","v":15180},null,{"$f":"C36*$N$10","v":35520},null,{"$f":"N36/2","v":17760},null,{"$f":"C36*$R$10","v":52422},null,{"$f":"R36/2","v":26211},null,{"$f":"C36*$V$10","v":53064},null,{"$f":"V36/2","v":26532}]
[null,"23(19)",320000,null,10670,null,310000,"～",330000,{"$f":"C37*$J$10","v":32384},null,{"$f":"J37/2","v":16192},null,{"$f":"C37*$N$10","v":37888},null,{"$f":"N37/2","v":18944},null,{"$f":"C37*$R$10","v":55916.800000000003},null,{"$f":"R37/2","v":27958.400000000001},null,{"$f":"C37*$V$10","v":56601.600000000006},null,{"$f":"V37/2","v":28300.800000000003}]
[null,"24(20)",340000,null,11330,null,330000,"～",350000,{"$f":"C38*$J$10","v":34408},null,{"$f":"J38/2","v":17204},null,{"$f":"C38*$N$10","v":40256},null,{"$f":"N38/2","v":20128},null,{"$f":"C38*$R$10","v":59411.600000000006},null,{"$f":"R38/2","v":29705.800000000003},null,{"$f":"C38*$V$10","v":60139.200000000004},null,{"$f":"V38/2","v":30069.600000000002}]
[null,"25(21)",360000,null,12000,null,350000,"～",370000,{"$f":"C39*$J$10","v":36432},null,{"$f":"J39/2","v":18216},null,{"$f":"C39*$N$10","v":42624},null,{"$f":"N39/2","v":21312},null,{"$f":"C39*$R$10","v":62906.400000000001},null,{"$f":"R39/2","v":31453.200000000001},null,{"$f":"C39*$V$10","v":63676.800000000003},null,{"$f":"V39/2","v":31838.400000000001}]
[null,"26(22)",380000,null,12670,null,370000,"～",395000,{"$f":"C40*$J$10","v":38456},null,{"$f":"J40/2","v":19228},null,{"$f":"C40*$N$10","v":44992},null,{"$f":"N40/2","v":22496},null,{"$f":"C40*$R$10","v":66401.2},null,{"$f":"R40/2","v":33200.6},null,{"$f":"C40*$V$10","v":67214.400000000009},null,{"$f":"V40/2","v":33607.200000000004}]
[null,"27(23)",410000,null,13670,null,395000,"～",425000,{"$f":"C41*$J$10","v":41492},null,{"$f":"J41/2","v":20746},null,{"$f":"C41*$N$10","v":48544},null,{"$f":"N41/2","v":24272},null,{"$f":"C41*$R$10","v":71643.400000000009},null,{"$f":"R41/2","v":35821.700000000004},null,{"$f":"C41*$V$10","v":72520.800000000003},null,{"$f":"V41/2","v":36260.400000000001}]
[null,"28(24)",440000,null,14670,null,425000,"～",455000,{"$f":"C42*$J$10","v":44528},null,{"$f":"J42/2","v":22264},null,{"$f":"C42*$N$10","v":52096},null,{"$f":"N42/2","v":26048},null,{"$f":"C42*$R$10","v":76885.600000000006},null,{"$f":"R42/2","v":38442.800000000003},null,{"$f":"C42*$V$10","v":77827.199999999997},null,{"$f":"V42/2","v":38913.599999999999}]
[null,"29(25)",470000,null,15670,null,455000,"～",485000,{"$f":"C43*$J$10","v":47564},null,{"$f":"J43/2","v":23782},null,{"$f":"C43*$N$10","v":55648},null,{"$f":"N43/2","v":27824},null,{"$f":"C43*$R$10","v":82127.8},null,{"$f":"R43/2","v":41063.9},null,{"$f":"C43*$V$10","v":83133.600000000006},null,{"$f":"V43/2","v":41566.800000000003}]
[null,"30(26)",500000,null,16670,null,485000,"～",515000,{"$f":"C44*$J$10","v":50600},null,{"$f":"J44/2","v":25300},null,{"$f":"C44*$N$10","v":59200},null,{"$f":"N44/2","v":29600},null,{"$f":"C44*$R$10","v":87370},null,{"$f":"R44/2","v":43685},null,{"$f":"C44*$V$10","v":88440},null,{"$f":"V44/2","v":44220}]
[null,"31(27)",530000,null,17670,null,515000,"～",545000,{"$f":"C45*$J$10","v":53636},null,{"$f":"J45/2","v":26818},null,{"$f":"C45*$N$10","v":62752},null,{"$f":"N45/2","v":31376},null,{"$f":"C45*$R$10","v":92612.2},null,{"$f":"R45/2","v":46306.1},null,{"$f":"C45*$V$10","v":93746.400000000009},null,{"$f":"V45/2","v":46873.200000000004}]
[null,"32(28)",560000,null,18670,null,545000,"～",575000,{"$f":"C46*$J$10","v":56672},null,{"$f":"J46/2","v":28336},null,{"$f":"C46*$N$10","v":66304},null,{"$f":"N46/2","v":33152},null,{"$f":"C46*$R$10","v":97854.400000000009},null,{"$f":"R46/2","v":48927.200000000004},null,{"$f":"C46*$V$10","v":99052.800000000003},null,{"$f":"V46/2","v":49526.400000000001}]
[null,"33(29)",590000,null,19670,null,575000,"～",605000,{"$f":"C47*$J$10","v":59708},null,{"$f":"J47/2","v":29854},null,{"$f":"C47*$N$10","v":69856},null,{"$f":"N47/2","v":34928},null,{"$f":"C47*$R$10","v":103096.6},null,{"$f":"R47/2","v":51548.3},null,{"$f":"C47*$V$10","v":104359.20000000001},null,{"$f":"V47/2","v":52179.600000000006}]
[null,"34(30)",620000,null,20670,null,605000,"～",635000,{"$f":"C48*$J$10","v":62744},null,{"$f":"J48/2","v":31372},null,{"$f":"C48*$N$10","v":73408},null,{"$f":"N48/2","v":36704},null,{"$f":"C48*$R$10","v":108338.8},null,{"$f":"R48/2","v":54169.4},null,{"$f":"C48*$V$10","v":109665.60000000001},null,{"$f":"V48/2","v":54832.800000000003}]
[null,35,650000,null,21670,null,635000,"～",665000,{"$f":"C49*$J$10","v":65780},null,{"$f":"J49/2","v":32890},null,{"$f":"C49*$N$10","v":76960},null,{"$f":"N49/2","v":38480},null,"※厚生年金基金に加入している方の厚生年金保険\n　料率は、基金ごとに定められている免除保険料\n　率(2.4%～5.0%)を控除した率となります。\n\n　●一般の被保険者の方　…12.474%～15.074%\n　●坑内員の被保険者の方…12.688%～15.288%\n\n　加入する基金ごとに異なりますので、免除保険\n　料率および厚生年金基金の掛金については、加\n　入する厚生年金基金にお問い合わせください。\n"]
[null,36,680000,null,22670,null,665000,"～",695000,{"$f":"C50*$J$10","v":68816},null,{"$f":"J50/2","v":34408},null,{"$f":"C50*$N$10","v":80512},null,{"$f":"N50/2","v":40256}]
[null,37,710000,null,23670,null,695000,"～",730000,{"$f":"C51*$J$10","v":71852},null,{"$f":"J51/2","v":35926},null,{"$f":"C51*$N$10","v":84064},null,{"$f":"N51/2","v":42032}]
[null,38,750000,null,25000,null,730000,"～",770000,{"$f":"C52*$J$10","v":75900},null,{"$f":"J52/2","v":37950},null,{"$f":"C52*$N$10","v":88800},null,{"$f":"N52/2","v":44400}]
[null,39,790000,null,26330,null,770000,"～",810000,{"$f":"C53*$J$10","v":79948},null,{"$f":"J53/2","v":39974},null,{"$f":"C53*$N$10","v":93536},null,{"$f":"N53/2","v":46768}]
[null,40,830000,null,27670,null,810000,"～",855000,{"$f":"C54*$J$10","v":83996},null,{"$f":"J54/2","v":41998},null,{"$f":"C54*$N$10","v":98272},null,{"$f":"N54/2","v":49136}]
[null,41,880000,null,29330,null,855000,"～",905000,{"$f":"C55*$J$10","v":89056},null,{"$f":"J55/2","v":44528},null,{"$f":"C55*$N$10","v":104192},null,{"$f":"N55/2","v":52096}]
[null,42,930000,null,31000,null,905000,"～",955000,{"$f":"C56*$J$10","v":94116},null,{"$f":"J56/2","v":47058},null,{"$f":"C56*$N$10","v":110112},null,{"$f":"N56/2","v":55056}]
[null,43,980000,null,32670,null,955000,"～",1005000,{"$f":"C57*$J$10","v":99176},null,{"$f":"J57/2","v":49588},null,{"$f":"C57*$N$10","v":116032},null,{"$f":"N57/2","v":58016}]
[null,44,1030000,null,34330,null,1005000,"～",1055000,{"$f":"C58*$J$10","v":104236},null,{"$f":"J58/2","v":52118},null,{"$f":"C58*$N$10","v":121952},null,{"$f":"N58/2","v":60976}]
[null,45,1090000,null,36330,null,1055000,"～",1115000,{"$f":"C59*$J$10","v":110308},null,{"$f":"J59/2","v":55154},null,{"$f":"C59*$N$10","v":129056},null,{"$f":"N59/2","v":64528}]
[null,46,1150000,null,38330,null,1115000,"～",1175000,{"$f":"C60*$J$10","v":116380},null,{"$f":"J60/2","v":58190},null,{"$f":"C60*$N$10","v":136160},null,{"$f":"N60/2","v":68080}]
[null,47,1210000,null,40330,null,1175000,"～",null,{"$f":"C61*$J$10","v":122452},null,{"$f":"J61/2","v":61226},null,{"$f":"C61*$N$10","v":143264},null,{"$f":"N61/2","v":71632}]
[]
[{"$f":"J10","v":0.1012}]
[null,""]
["◆等級欄の（　）内の数字は、厚生年金保険の標準報酬月額等級です。"]
["　5(1)等級の「報酬月額」欄は、厚生年金保険の場合「101,000円未満」と読み替えてください。"]
["　34(30)等級の「報酬月額」欄は、厚生年金保険の場合「605,000円以上」と読み替えてください。"]
[null,""]
["◆平成26年度における全国健康保険協会の任意継続被保険者について、標準報酬月額の上限は、280,000円です。"]
[]
[]
["　○被保険者負担分（表の折半額の欄）に円未満の端数がある場合"]
["　　　①事業主が、給与から被保険者負担分を控除する場合、被保険者負担分の端数が50銭以下の場合は切り捨て、50銭を超える場合は切り上げて1円となります。"]
["　　　②被保険者が、被保険者負担分を事業主へ現金で支払う場合、被保険者負担分の端数が50銭未満の場合は切り捨て、50銭以上の場合は切り上げて1円となります。"]
["　　　（注）①、②にかかわらず、事業主と被保険者の間で特約がある場合には、特約に基づき端数処理をすることができます。"]
[]
["　○納入告知書の保険料額"]
["　　　 納入告知書の保険料額は、被保険者個々の保険料額を合算した金額になります。ただし、合算した金額に円未満の端数がある場合は、その端数を切り捨てた額となります。"]
[]
["　○賞与に係る保険料"]
["　　　 賞与に係る保険料額は、賞与額から1,000円未満の端数を切り捨てた額（標準賞与額）に、保険料率を乗じた額となります。"]
[" 　　　また、標準賞与額の上限は、健康保険は年間540万円（毎年4月1日から翌年3月31日までの累計額）となり、厚生年金保険と児童手当拠出金の場合は月間150万円となります。"]
[]
["　○児童手当拠出金"]
["　　　 厚生年金保険の被保険者を使用する事業主の方は、児童手当等の支給に要する費用の一部として児童手当拠出金を全額負担いただくことになります。この児童手当"]
["　　　 拠出金の額は、被保険者個々の厚生年金保険の標準報酬月額および標準賞与額に、拠出金率（0.15%）を乗じて得た額の総額となります。"]

{"sheet":"佐賀","index":50,"n_rows":86,"n_cols":24,"rows_kept":86,"cut":false,"hidden":true,"merged":[[74,0,74,24],[75,0,75,16],[85,0,85,24],[86,0,86,16],[77,0,77,23],[79,0,79,16],[80,0,80,21],[81,0,81,24],[83,0,83,21],[84,0,84,24],[76,0,76,23],[48,17,60,24],[62,0,62,25],[64,0,64,24],[65,0,65,24],[66,0,66,24],[68,0,68,24],[71,0,71,16],[72,0,72,24],[73,0,73,24],[6,21,8,24],[9,9,10,12],[9,13,10,16],[9,17,10,20],[9,21,10,24],[11,13,12,14],[11,15,12,16],[11,17,12,18],[11,19,12,20],[11,21,12,22],[11,1,12,1],[11,2,12,3],[11,4,12,5],[11,9,12,10],[11,11,12,12],[11,23,12,24],[0,1,1,24],[2,1,3,23],[4,1,4,16],[5,1,10,5],[5,6,12,8],[5,9,5,16],[5,17,5,24],[6,9,8,12],[6,13,8,16],[6,17,8,20]]}
[null,"平成26年9月分(10月納付分)からの健康保険・厚生年金保険の保険料額表"]
[]
[null,"     ‣健康保険料率：平成24年3月分～　適用　　‣厚生年金保険料率：平成26年9月分～平成27年8月分　適用\n     ‣介護保険料率：平成26年3月分～　適用　　‣児童手当拠出金率：平成24年4月分～　適用\n"]
[]
[null,"（佐賀県）",null,null,null,null,null,null,null,null,null,null,null,null,null,null,null,null,null,null,null,null,null,"（単位：円）"]
[null,"標　準　報　酬",null,null,null,null,"報　酬　月　額",null,null,"全国健康保険協会管掌健康保険料",null,null,null,null,null,null,null,"厚生年金保険料（厚生年金基金加入員を除く）"]
[null,null,null,null,null,null,null,null,null,"介護保険第２号被保険者\nに該当しない場合",null,null,null,"介護保険第２号被保険者\nに該当する場合",null,null,null,"一般の被保険者",null,null,null,"坑内員・船員"]
[]
[]
[null,null,null,null,null,null,null,null,null,0.1016,null,null,null,{"$f":"J10+0.0172","v":0.11879999999999999},null,null,null,0.17474000000000001,null,null,null,0.17688000000000001]
[]
[null,"等級","月　額",null,"日　額",null,null,null,null,"全　額",null,"折半額",null,"全　額",null,"折半額",null,"全　額",null,"折半額",null,"全　額",null,"折半額"]
[]
[null,null,null,null,null,null,"円以上",null,"円未満"]
[null,1,58000,null,1930,null,null,"～",63000,{"$f":"C15*$J$10","v":5892.8},null,{"$f":"J15/2","v":2946.4},null,{"$f":"C15*$N$10","v":6890.4},null,{"$f":"N15/2","v":3445.2}]
[null,2,68000,null,2270,null,63000,"～",73000,{"$f":"C16*$J$10","v":6908.7999999999993},null,{"$f":"J16/2","v":3454.3999999999996},null,{"$f":"C16*$N$10","v":8078.4},null,{"$f":"N16/2","v":4039.2}]
[null,3,78000,null,2600,null,73000,"～",83000,{"$f":"C17*$J$10","v":7924.7999999999993},null,{"$f":"J17/2","v":3962.3999999999996},null,{"$f":"C17*$N$10","v":9266.4},null,{"$f":"N17/2","v":4633.2}]
[null,4,88000,null,2930,null,83000,"～",93000,{"$f":"C18*$J$10","v":8940.7999999999993},null,{"$f":"J18/2","v":4470.3999999999996},null,{"$f":"C18*$N$10","v":10454.4},null,{"$f":"N18/2","v":5227.2}]
[null,"5(1)",98000,null,3270,null,93000,"～",101000,{"$f":"C19*$J$10","v":9956.7999999999993},null,{"$f":"J19/2","v":4978.3999999999996},null,{"$f":"C19*$N$10","v":11642.4},null,{"$f":"N19/2","v":5821.2},null,{"$f":"C19*$R$10","v":17124.52},null,{"$f":"R19/2","v":8562.26},null,{"$f":"C19*$V$10","v":17334.240000000002},null,{"$f":"V19/2","v":8667.1200000000008}]
[null,"6(2)",104000,null,3470,null,101000,"～",107000,{"$f":"C20*$J$10","v":10566.4},null,{"$f":"J20/2","v":5283.2},null,{"$f":"C20*$N$10","v":12355.199999999999},null,{"$f":"N20/2","v":6177.5999999999995},null,{"$f":"C20*$R$10","v":18172.96},null,{"$f":"R20/2","v":9086.48},null,{"$f":"C20*$V$10","v":18395.52},null,{"$f":"V20/2","v":9197.76}]
[null,"7(3)",110000,null,3670,null,107000,"～",114000,{"$f":"C21*$J$10","v":11176},null,{"$f":"J21/2","v":5588},null,{"$f":"C21*$N$10","v":13067.999999999998},null,{"$f":"N21/2","v":6533.9999999999991},null,{"$f":"C21*$R$10","v":19221.400000000001},null,{"$f":"R21/2","v":9610.7000000000007},null,{"$f":"C21*$V$10","v":19456.8},null,{"$f":"V21/2","v":9728.4}]
[null,"8(4)",118000,null,3930,null,114000,"～",122000,{"$f":"C22*$J$10","v":11988.8},null,{"$f":"J22/2","v":5994.4},null,{"$f":"C22*$N$10","v":14018.399999999998},null,{"$f":"N22/2","v":7009.1999999999989},null,{"$f":"C22*$R$10","v":20619.32},null,{"$f":"R22/2","v":10309.66},null,{"$f":"C22*$V$10","v":20871.84},null,{"$f":"V22/2","v":10435.92}]
[null,"9(5)",126000,null,4200,null,122000,"～",130000,{"$f":"C23*$J$10","v":12801.6},null,{"$f":"J23/2","v":6400.8},null,{"$f":"C23*$N$10","v":14968.8},null,{"$f":"N23/2","v":7484.4},null,{"$f":"C23*$R$10","v":22017.24},null,{"$f":"R23/2","v":11008.62},null,{"$f":"C23*$V$10","v":22286.880000000001},null,{"$f":"V23/2","v":11143.44}]
[null,"10(6)",134000,null,4470,null,130000,"～",138000,{"$f":"C24*$J$10","v":13614.4},null,{"$f":"J24/2","v":6807.2},null,{"$f":"C24*$N$10","v":15919.199999999999},null,{"$f":"N24/2","v":7959.5999999999995},null,{"$f":"C24*$R$10","v":23415.16},null,{"$f":"R24/2","v":11707.58},null,{"$f":"C24*$V$10","v":23701.920000000002},null,{"$f":"V24/2","v":11850.960000000001}]
[null,"11(7)",142000,null,4730,null,138000,"～",146000,{"$f":"C25*$J$10","v":14427.199999999999},null,{"$f":"J25/2","v":7213.5999999999995},null,{"$f":"C25*$N$10","v":16869.599999999999},null,{"$f":"N25/2","v":8434.7999999999993},null,{"$f":"C25*$R$10","v":24813.08},null,{"$f":"R25/2","v":12406.54},null,{"$f":"C25*$V$10","v":25116.960000000003},null,{"$f":"V25/2","v":12558.480000000001}]
[null,"12(8)",150000,null,5000,null,146000,"～",155000,{"$f":"C26*$J$10","v":15240},null,{"$f":"J26/2","v":7620},null,{"$f":"C26*$N$10","v":17820},null,{"$f":"N26/2","v":8910},null,{"$f":"C26*$R$10","v":26211},null,{"$f":"R26/2","v":13105.5},null,{"$f":"C26*$V$10","v":26532},null,{"$f":"V26/2","v":13266}]
[null,"13(9)",160000,null,5330,null,155000,"～",165000,{"$f":"C27*$J$10","v":16256},null,{"$f":"J27/2","v":8128},null,{"$f":"C27*$N$10","v":19008},null,{"$f":"N27/2","v":9504},null,{"$f":"C27*$R$10","v":27958.400000000001},null,{"$f":"R27/2","v":13979.2},null,{"$f":"C27*$V$10","v":28300.800000000003},null,{"$f":"V27/2","v":14150.400000000001}]
[null,"14(10)",170000,null,5670,null,165000,"～",175000,{"$f":"C28*$J$10","v":17272},null,{"$f":"J28/2","v":8636},null,{"$f":"C28*$N$10","v":20195.999999999996},null,{"$f":"N28/2","v":10097.999999999998},null,{"$f":"C28*$R$10","v":29705.800000000003},null,{"$f":"R28/2","v":14852.900000000001},null,{"$f":"C28*$V$10","v":30069.600000000002},null,{"$f":"V28/2","v":15034.800000000001}]
[null,"15(11)",180000,null,6000,null,175000,"～",185000,{"$f":"C29*$J$10","v":18288},null,{"$f":"J29/2","v":9144},null,{"$f":"C29*$N$10","v":21383.999999999996},null,{"$f":"N29/2","v":10691.999999999998},null,{"$f":"C29*$R$10","v":31453.200000000001},null,{"$f":"R29/2","v":15726.6},null,{"$f":"C29*$V$10","v":31838.400000000001},null,{"$f":"V29/2","v":15919.2}]
[null,"16(12)",190000,null,6330,null,185000,"～",195000,{"$f":"C30*$J$10","v":19304},null,{"$f":"J30/2","v":9652},null,{"$f":"C30*$N$10","v":22571.999999999996},null,{"$f":"N30/2","v":11285.999999999998},null,{"$f":"C30*$R$10","v":33200.6},null,{"$f":"R30/2","v":16600.3},null,{"$f":"C30*$V$10","v":33607.200000000004},null,{"$f":"V30/2","v":16803.600000000002}]
[null,"17(13)",200000,null,6670,null,195000,"～",210000,{"$f":"C31*$J$10","v":20320},null,{"$f":"J31/2","v":10160},null,{"$f":"C31*$N$10","v":23759.999999999996},null,{"$f":"N31/2","v":11879.999999999998},null,{"$f":"C31*$R$10","v":34948},null,{"$f":"R31/2","v":17474},null,{"$f":"C31*$V$10","v":35376},null,{"$f":"V31/2","v":17688}]
[null,"18(14)",220000,null,7330,null,210000,"～",230000,{"$f":"C32*$J$10","v":22352},null,{"$f":"J32/2","v":11176},null,{"$f":"C32*$N$10","v":26135.999999999996},null,{"$f":"N32/2","v":13067.999999999998},null,{"$f":"C32*$R$10","v":38442.800000000003},null,{"$f":"R32/2","v":19221.400000000001},null,{"$f":"C32*$V$10","v":38913.599999999999},null,{"$f":"V32/2","v":19456.8}]
[null,"19(15)",240000,null,8000,null,230000,"～",250000,{"$f":"C33*$J$10","v":24384},null,{"$f":"J33/2","v":12192},null,{"$f":"C33*$N$10","v":28511.999999999996},null,{"$f":"N33/2","v":14255.999999999998},null,{"$f":"C33*$R$10","v":41937.599999999999},null,{"$f":"R33/2","v":20968.8},null,{"$f":"C33*$V$10","v":42451.200000000004},null,{"$f":"V33/2","v":21225.600000000002}]
[null,"20(16)",260000,null,8670,null,250000,"～",270000,{"$f":"C34*$J$10","v":26416},null,{"$f":"J34/2","v":13208},null,{"$f":"C34*$N$10","v":30887.999999999996},null,{"$f":"N34/2","v":15443.999999999998},null,{"$f":"C34*$R$10","v":45432.4},null,{"$f":"R34/2","v":22716.2},null,{"$f":"C34*$V$10","v":45988.800000000003},null,{"$f":"V34/2","v":22994.400000000001}]
[null,"21(17)",280000,null,9330,null,270000,"～",290000,{"$f":"C35*$J$10","v":28448},null,{"$f":"J35/2","v":14224},null,{"$f":"C35*$N$10","v":33264},null,{"$f":"N35/2","v":16632},null,{"$f":"C35*$R$10","v":48927.200000000004},null,{"$f":"R35/2","v":24463.600000000002},null,{"$f":"C35*$V$10","v":49526.400000000001},null,{"$f":"V35/2","v":24763.200000000001}]
[null,"22(18)",300000,null,10000,null,290000,"～",310000,{"$f":"C36*$J$10","v":30480},null,{"$f":"J36/2","v":15240},null,{"$f":"C36*$N$10","v":35640},null,{"$f":"N36/2","v":17820},null,{"$f":"C36*$R$10","v":52422},null,{"$f":"R36/2","v":26211},null,{"$f":"C36*$V$10","v":53064},null,{"$f":"V36/2","v":26532}]
[null,"23(19)",320000,null,10670,null,310000,"～",330000,{"$f":"C37*$J$10","v":32512},null,{"$f":"J37/2","v":16256},null,{"$f":"C37*$N$10","v":38016},null,{"$f":"N37/2","v":19008},null,{"$f":"C37*$R$10","v":55916.800000000003},null,{"$f":"R37/2","v":27958.400000000001},null,{"$f":"C37*$V$10","v":56601.600000000006},null,{"$f":"V37/2","v":28300.800000000003}]
[null,"24(20)",340000,null,11330,null,330000,"～",350000,{"$f":"C38*$J$10","v":34544},null,{"$f":"J38/2","v":17272},null,{"$f":"C38*$N$10","v":40391.999999999993},null,{"$f":"N38/2","v":20195.999999999996},null,{"$f":"C38*$R$10","v":59411.600000000006},null,{"$f":"R38/2","v":29705.800000000003},null,{"$f":"C38*$V$10","v":60139.200000000004},null,{"$f":"V38/2","v":30069.600000000002}]
[null,"25(21)",360000,null,12000,null,350000,"～",370000,{"$f":"C39*$J$10","v":36576},null,{"$f":"J39/2","v":18288},null,{"$f":"C39*$N$10","v":42767.999999999993},null,{"$f":"N39/2","v":21383.999999999996},null,{"$f":"C39*$R$10","v":62906.400000000001},null,{"$f":"R39/2","v":31453.200000000001},null,{"$f":"C39*$V$10","v":63676.800000000003},null,{"$f":"V39/2","v":31838.400000000001}]
[null,"26(22)",380000,null,12670,null,370000,"～",395000,{"$f":"C40*$J$10","v":38608},null,{"$f":"J40/2","v":19304},null,{"$f":"C40*$N$10","v":45143.999999999993},null,{"$f":"N40/2","v":22571.999999999996},null,{"$f":"C40*$R$10","v":66401.2},null,{"$f":"R40/2","v":33200.6},null,{"$f":"C40*$V$10","v":67214.400000000009},null,{"$f":"V40/2","v":33607.200000000004}]
[null,"27(23)",410000,null,13670,null,395000,"～",425000,{"$f":"C41*$J$10","v":41656},null,{"$f":"J41/2","v":20828},null,{"$f":"C41*$N$10","v":48707.999999999993},null,{"$f":"N41/2","v":24353.999999999996},null,{"$f":"C41*$R$10","v":71643.400000000009},null,{"$f":"R41/2","v":35821.700000000004},null,{"$f":"C41*$V$10","v":72520.800000000003},null,{"$f":"V41/2","v":36260.400000000001}]
[null,"28(24)",440000,null,14670,null,425000,"～",455000,{"$f":"C42*$J$10","v":44704},null,{"$f":"J42/2","v":22352},null,{"$f":"C42*$N$10","v":52271.999999999993},null,{"$f":"N42/2","v":26135.999999999996},null,{"$f":"C42*$R$10","v":76885.600000000006},null,{"$f":"R42/2","v":38442.800000000003},null,{"$f":"C42*$V$10","v":77827.199999999997},null,{"$f":"V42/2","v":38913.599999999999}]
[null,"29(25)",470000,null,15670,null,455000,"～",485000,{"$f":"C43*$J$10","v":47752},null,{"$f":"J43/2","v":23876},null,{"$f":"C43*$N$10","v":55835.999999999993},null,{"$f":"N43/2","v":27917.999999999996},null,{"$f":"C43*$R$10","v":82127.8},null,{"$f":"R43/2","v":41063.9},null,{"$f":"C43*$V$10","v":83133.600000000006},null,{"$f":"V43/2","v":41566.800000000003}]
[null,"30(26)",500000,null,16670,null,485000,"～",515000,{"$f":"C44*$J$10","v":50800},null,{"$f":"J44/2","v":25400},null,{"$f":"C44*$N$10","v":59399.999999999993},null,{"$f":"N44/2","v":29699.999999999996},null,{"$f":"C44*$R$10","v":87370},null,{"$f":"R44/2","v":43685},null,{"$f":"C44*$V$10","v":88440},null,{"$f":"V44/2","v":44220}]
[null,"31(27)",530000,null,17670,null,515000,"～",545000,{"$f":"C45*$J$10","v":53848},null,{"$f":"J45/2","v":26924},null,{"$f":"C45*$N$10","v":62963.999999999993},null,{"$f":"N45/2","v":31481.999999999996},null,{"$f":"C45*$R$10","v":92612.2},null,{"$f":"R45/2","v":46306.1},null,{"$f":"C45*$V$10","v":93746.400000000009},null,{"$f":"V45/2","v":46873.200000000004}]
[null,"32(28)",560000,null,18670,null,545000,"～",575000,{"$f":"C46*$J$10","v":56896},null,{"$f":"J46/2","v":28448},null,{"$f":"C46*$N$10","v":66528},null,{"$f":"N46/2","v":33264},null,{"$f":"C46*$R$10","v":97854.400000000009},null,{"$f":"R46/2","v":48927.200000000004},null,{"$f":"C46*$V$10","v":99052.800000000003},null,{"$f":"V46/2","v":49526.400000000001}]
[null,"33(29)",590000,null,19670,null,575000,"～",605000,{"$f":"C47*$J$10","v":59944},null,{"$f":"J47/2","v":29972},null,{"$f":"C47*$N$10","v":70092},null,{"$f":"N47/2","v":35046},null,{"$f":"C47*$R$10","v":103096.6},null,{"$f":"R47/2","v":51548.3},null,{"$f":"C47*$V$10","v":104359.20000000001},null,{"$f":"V47/2","v":52179.600000000006}]
[null,"34(30)",620000,null,20670,null,605000,"～",635000,{"$f":"C48*$J$10","v":62992},null,{"$f":"J48/2","v":31496},null,{"$f":"C48*$N$10","v":73656},null,{"$f":"N48/2","v":36828},null,{"$f":"C48*$R$10","v":108338.8},null,{"$f":"R48/2","v":54169.4},null,{"$f":"C48*$V$10","v":109665.60000000001},null,{"$f":"V48/2","v":54832.800000000003}]
[null,35,650000,null,21670,null,635000,"～",665000,{"$f":"C49*$J$10","v":66040},null,{"$f":"J49/2","v":33020},null,{"$f":"C49*$N$10","v":77220},null,{"$f":"N49/2","v":38610},null,"※厚生年金基金に加入している方の厚生年金保険\n　料率は、基金ごとに定められている免除保険料\n　率(2.4%～5.0%)を控除した率となります。\n\n　●一般の被保険者の方　…12.474%～15.074%\n　●坑内員の被保険者の方…12.688%～15.288%\n\n　加入する基金ごとに異なりますので、免除保険\n　料率および厚生年金基金の掛金については、加\n　入する厚生年金基金にお問い合わせください。\n"]
[null,36,680000,null,22670,null,665000,"～",695000,{"$f":"C50*$J$10","v":69088},null,{"$f":"J50/2","v":34544},null,{"$f":"C50*$N$10","v":80783.999999999985},null,{"$f":"N50/2","v":40391.999999999993}]
[null,37,710000,null,23670,null,695000,"～",730000,{"$f":"C51*$J$10","v":72136},null,{"$f":"J51/2","v":36068},null,{"$f":"C51*$N$10","v":84347.999999999985},null,{"$f":"N51/2","v":42173.999999999993}]
[null,38,750000,null,25000,null,730000,"～",770000,{"$f":"C52*$J$10","v":76200},null,{"$f":"J52/2","v":38100},null,{"$f":"C52*$N$10","v":89099.999999999985},null,{"$f":"N52/2","v":44549.999999999993}]
[null,39,790000,null,26330,null,770000,"～",810000,{"$f":"C53*$J$10","v":80264},null,{"$f":"J53/2","v":40132},null,{"$f":"C53*$N$10","v":93851.999999999985},null,{"$f":"N53/2","v":46925.999999999993}]
[null,40,830000,null,27670,null,810000,"～",855000,{"$f":"C54*$J$10","v":84328},null,{"$f":"J54/2","v":42164},null,{"$f":"C54*$N$10","v":98603.999999999985},null,{"$f":"N54/2","v":49301.999999999993}]
[null,41,880000,null,29330,null,855000,"～",905000,{"$f":"C55*$J$10","v":89408},null,{"$f":"J55/2","v":44704},null,{"$f":"C55*$N$10","v":104543.99999999999},null,{"$f":"N55/2","v":52271.999999999993}]
[null,42,930000,null,31000,null,905000,"～",955000,{"$f":"C56*$J$10","v":94488},null,{"$f":"J56/2","v":47244},null,{"$f":"C56*$N$10","v":110483.99999999999},null,{"$f":"N56/2","v":55241.999999999993}]
[null,43,980000,null,32670,null,955000,"～",1005000,{"$f":"C57*$J$10","v":99568},null,{"$f":"J57/2","v":49784},null,{"$f":"C57*$N$10","v":116423.99999999999},null,{"$f":"N57/2","v":58211.999999999993}]
[null,44,1030000,null,34330,null,1005000,"～",1055000,{"$f":"C58*$J$10","v":104648},null,{"$f":"J58/2","v":52324},null,{"$f":"C58*$N$10","v":122363.99999999999},null,{"$f":"N58/2","v":61181.999999999993}]
[null,45,1090000,null,36330,null,1055000,"～",1115000,{"$f":"C59*$J$10","v":110744},null,{"$f":"J59/2","v":55372},null,{"$f":"C59*$N$10","v":129491.99999999999},null,{"$f":"N59/2","v":64745.999999999993}]
[null,46,1150000,null,38330,null,1115000,"～",1175000,{"$f":"C60*$J$10","v":116840},null,{"$f":"J60/2","v":58420},null,{"$f":"C60*$N$10","v":136620},null,{"$f":"N60/2","v":68310}]
[null,47,1210000,null,40330,null,1175000,"～",null,{"$f":"C61*$J$10","v":122936},null,{"$f":"J61/2","v":61468},null,{"$f":"C61*$N$10","v":143748},null,{"$f":"N61/2","v":71874}]
[]
[{"$f":"J10","v":0.1016}]
[null,""]
["◆等級欄の（　）内の数字は、厚生年金保険の標準報酬月額等級です。"]
["　5(1)等級の「報酬月額」欄は、厚生年金保険の場合「101,000円未満」と読み替えてください。"]
["　34(30)等級の「報酬月額」欄は、厚生年金保険の場合「605,000円以上」と読み替えてください。"]
[null,""]
["◆平成26年度における全国健康保険協会の任意継続被保険者について、標準報酬月額の上限は、280,000円です。"]
[]
[]
["　○被保険者負担分（表の折半額の欄）に円未満の端数がある場合"]
["　　　①事業主が、給与から被保険者負担分を控除する場合、被保険者負担分の端数が50銭以下の場合は切り捨て、50銭を超える場合は切り上げて1円となります。"]
["　　　②被保険者が、被保険者負担分を事業主へ現金で支払う場合、被保険者負担分の端数が50銭未満の場合は切り捨て、50銭以上の場合は切り上げて1円となります。"]
["　　　（注）①、②にかかわらず、事業主と被保険者の間で特約がある場合には、特約に基づき端数処理をすることができます。"]
[]
["　○納入告知書の保険料額"]
["　　　 納入告知書の保険料額は、被保険者個々の保険料額を合算した金額になります。ただし、合算した金額に円未満の端数がある場合は、その端数を切り捨てた額となります。"]
[]
["　○賞与に係る保険料"]
["　　　 賞与に係る保険料額は、賞与額から1,000円未満の端数を切り捨てた額（標準賞与額）に、保険料率を乗じた額となります。"]
[" 　　　また、標準賞与額の上限は、健康保険は年間540万円（毎年4月1日から翌年3月31日までの累計額）となり、厚生年金保険と児童手当拠出金の場合は月間150万円となります。"]
[]
["　○児童手当拠出金"]
["　　　 厚生年金保険の被保険者を使用する事業主の方は、児童手当等の支給に要する費用の一部として児童手当拠出金を全額負担いただくことになります。この児童手当"]
["　　　 拠出金の額は、被保険者個々の厚生年金保険の標準報酬月額および標準賞与額に、拠出金率（0.15%）を乗じて得た額の総額となります。"]

{"sheet":"長崎","index":51,"n_rows":86,"n_cols":24,"rows_kept":86,"cut":false,"hidden":true,"merged":[[74,0,74,24],[75,0,75,16],[85,0,85,24],[86,0,86,16],[77,0,77,23],[79,0,79,16],[80,0,80,21],[81,0,81,24],[83,0,83,21],[84,0,84,24],[76,0,76,23],[48,17,60,24],[62,0,62,25],[64,0,64,24],[65,0,65,24],[66,0,66,24],[68,0,68,24],[71,0,71,16],[72,0,72,24],[73,0,73,24],[6,21,8,24],[9,9,10,12],[9,13,10,16],[9,17,10,20],[9,21,10,24],[11,13,12,14],[11,15,12,16],[11,17,12,18],[11,19,12,20],[11,21,12,22],[11,1,12,1],[11,2,12,3],[11,4,12,5],[11,9,12,10],[11,11,12,12],[11,23,12,24],[0,1,1,24],[2,1,3,23],[4,1,4,16],[5,1,10,5],[5,6,12,8],[5,9,5,16],[5,17,5,24],[6,9,8,12],[6,13,8,16],[6,17,8,20]]}
[null,"平成26年9月分(10月納付分)からの健康保険・厚生年金保険の保険料額表"]
[]
[null,"     ‣健康保険料率：平成24年3月分～　適用　　‣厚生年金保険料率：平成26年9月分～平成27年8月分　適用\n     ‣介護保険料率：平成26年3月分～　適用　　‣児童手当拠出金率：平成24年4月分～　適用\n"]
[]
[null,"（長崎県）",null,null,null,null,null,null,null,null,null,null,null,null,null,null,null,null,null,null,null,null,null,"（単位：円）"]
[null,"標　準　報　酬",null,null,null,null,"報　酬　月　額",null,null,"全国健康保険協会管掌健康保険料",null,null,null,null,null,null,null,"厚生年金保険料（厚生年金基金加入員を除く）"]
[null,null,null,null,null,null,null,null,null,"介護保険第２号被保険者\nに該当しない場合",null,null,null,"介護保険第２号被保険者\nに該当する場合",null,null,null,"一般の被保険者",null,null,null,"坑内員・船員"]
[]
[]
[null,null,null,null,null,null,null,null,null,0.10059999999999999,null,null,null,{"$f":"J10+0.0172","v":0.11779999999999999},null,null,null,0.17474000000000001,null,null,null,0.17688000000000001]
[]
[null,"等級","月　額",null,"日　額",null,null,null,null,"全　額",null,"折半額",null,"全　額",null,"折半額",null,"全　額",null,"折半額",null,"全　額",null,"折半額"]
[]
[null,null,null,null,null,null,"円以上",null,"円未満"]
[null,1,58000,null,1930,null,null,"～",63000,{"$f":"C15*$J$10","v":5834.7999999999993},null,{"$f":"J15/2","v":2917.3999999999996},null,{"$f":"C15*$N$10","v":6832.4},null,{"$f":"N15/2","v":3416.2}]
[null,2,68000,null,2270,null,63000,"～",73000,{"$f":"C16*$J$10","v":6840.7999999999993},null,{"$f":"J16/2","v":3420.3999999999996},null,{"$f":"C16*$N$10","v":8010.4},null,{"$f":"N16/2","v":4005.2}]
[null,3,78000,null,2600,null,73000,"～",83000,{"$f":"C17*$J$10","v":7846.7999999999993},null,{"$f":"J17/2","v":3923.3999999999996},null,{"$f":"C17*$N$10","v":9188.4},null,{"$f":"N17/2","v":4594.2}]
[null,4,88000,null,2930,null,83000,"～",93000,{"$f":"C18*$J$10","v":8852.7999999999993},null,{"$f":"J18/2","v":4426.3999999999996},null,{"$f":"C18*$N$10","v":10366.4},null,{"$f":"N18/2","v":5183.2}]
[null,"5(1)",98000,null,3270,null,93000,"～",101000,{"$f":"C19*$J$10","v":9858.7999999999993},null,{"$f":"J19/2","v":4929.3999999999996},null,{"$f":"C19*$N$10","v":11544.4},null,{"$f":"N19/2","v":5772.2},null,{"$f":"C19*$R$10","v":17124.52},null,{"$f":"R19/2","v":8562.26},null,{"$f":"C19*$V$10","v":17334.240000000002},null,{"$f":"V19/2","v":8667.1200000000008}]
[null,"6(2)",104000,null,3470,null,101000,"～",107000,{"$f":"C20*$J$10","v":10462.4},null,{"$f":"J20/2","v":5231.2},null,{"$f":"C20*$N$10","v":12251.199999999999},null,{"$f":"N20/2","v":6125.5999999999995},null,{"$f":"C20*$R$10","v":18172.96},null,{"$f":"R20/2","v":9086.48},null,{"$f":"C20*$V$10","v":18395.52},null,{"$f":"V20/2","v":9197.76}]
[null,"7(3)",110000,null,3670,null,107000,"～",114000,{"$f":"C21*$J$10","v":11066},null,{"$f":"J21/2","v":5533},null,{"$f":"C21*$N$10","v":12957.999999999998},null,{"$f":"N21/2","v":6478.9999999999991},null,{"$f":"C21*$R$10","v":19221.400000000001},null,{"$f":"R21/2","v":9610.7000000000007},null,{"$f":"C21*$V$10","v":19456.8},null,{"$f":"V21/2","v":9728.4}]
[null,"8(4)",118000,null,3930,null,114000,"～",122000,{"$f":"C22*$J$10","v":11870.8},null,{"$f":"J22/2","v":5935.4},null,{"$f":"C22*$N$10","v":13900.399999999998},null,{"$f":"N22/2","v":6950.1999999999989},null,{"$f":"C22*$R$10","v":20619.32},null,{"$f":"R22/2","v":10309.66},null,{"$f":"C22*$V$10","v":20871.84},null,{"$f":"V22/2","v":10435.92}]
[null,"9(5)",126000,null,4200,null,122000,"～",130000,{"$f":"C23*$J$10","v":12675.599999999999},null,{"$f":"J23/2","v":6337.7999999999993},null,{"$f":"C23*$N$10","v":14842.8},null,{"$f":"N23/2","v":7421.4},null,{"$f":"C23*$R$10","v":22017.24},null,{"$f":"R23/2","v":11008.62},null,{"$f":"C23*$V$10","v":22286.880000000001},null,{"$f":"V23/2","v":11143.44}]
[null,"10(6)",134000,null,4470,null,130000,"～",138000,{"$f":"C24*$J$10","v":13480.4},null,{"$f":"J24/2","v":6740.2},null,{"$f":"C24*$N$10","v":15785.199999999999},null,{"$f":"N24/2","v":7892.5999999999995},null,{"$f":"C24*$R$10","v":23415.16},null,{"$f":"R24/2","v":11707.58},null,{"$f":"C24*$V$10","v":23701.920000000002},null,{"$f":"V24/2","v":11850.960000000001}]
[null,"11(7)",142000,null,4730,null,138000,"～",146000,{"$f":"C25*$J$10","v":14285.199999999999},null,{"$f":"J25/2","v":7142.5999999999995},null,{"$f":"C25*$N$10","v":16727.599999999999},null,{"$f":"N25/2","v":8363.7999999999993},null,{"$f":"C25*$R$10","v":24813.08},null,{"$f":"R25/2","v":12406.54},null,{"$f":"C25*$V$10","v":25116.960000000003},null,{"$f":"V25/2","v":12558.480000000001}]
[null,"12(8)",150000,null,5000,null,146000,"～",155000,{"$f":"C26*$J$10","v":15090},null,{"$f":"J26/2","v":7545},null,{"$f":"C26*$N$10","v":17670},null,{"$f":"N26/2","v":8835},null,{"$f":"C26*$R$10","v":26211},null,{"$f":"R26/2","v":13105.5},null,{"$f":"C26*$V$10","v":26532},null,{"$f":"V26/2","v":13266}]
[null,"13(9)",160000,null,5330,null,155000,"～",165000,{"$f":"C27*$J$10","v":16096},null,{"$f":"J27/2","v":8048},null,{"$f":"C27*$N$10","v":18847.999999999996},null,{"$f":"N27/2","v":9423.9999999999982},null,{"$f":"C27*$R$10","v":27958.400000000001},null,{"$f":"R27/2","v":13979.2},null,{"$f":"C27*$V$10","v":28300.800000000003},null,{"$f":"V27/2","v":14150.400000000001}]
[null,"14(10)",170000,null,5670,null,165000,"～",175000,{"$f":"C28*$J$10","v":17102},null,{"$f":"J28/2","v":8551},null,{"$f":"C28*$N$10","v":20025.999999999996},null,{"$f":"N28/2","v":10012.999999999998},null,{"$f":"C28*$R$10","v":29705.800000000003},null,{"$f":"R28/2","v":14852.900000000001},null,{"$f":"C28*$V$10","v":30069.600000000002},null,{"$f":"V28/2","v":15034.800000000001}]
[null,"15(11)",180000,null,6000,null,175000,"～",185000,{"$f":"C29*$J$10","v":18108},null,{"$f":"J29/2","v":9054},null,{"$f":"C29*$N$10","v":21203.999999999996},null,{"$f":"N29/2","v":10601.999999999998},null,{"$f":"C29*$R$10","v":31453.200000000001},null,{"$f":"R29/2","v":15726.6},null,{"$f":"C29*$V$10","v":31838.400000000001},null,{"$f":"V29/2","v":15919.2}]
[null,"16(12)",190000,null,6330,null,185000,"～",195000,{"$f":"C30*$J$10","v":19114},null,{"$f":"J30/2","v":9557},null,{"$f":"C30*$N$10","v":22381.999999999996},null,{"$f":"N30/2","v":11190.999999999998},null,{"$f":"C30*$R$10","v":33200.6},null,{"$f":"R30/2","v":16600.3},null,{"$f":"C30*$V$10","v":33607.200000000004},null,{"$f":"V30/2","v":16803.600000000002}]
[null,"17(13)",200000,null,6670,null,195000,"～",210000,{"$f":"C31*$J$10","v":20120},null,{"$f":"J31/2","v":10060},null,{"$f":"C31*$N$10","v":23559.999999999996},null,{"$f":"N31/2","v":11779.999999999998},null,{"$f":"C31*$R$10","v":34948},null,{"$f":"R31/2","v":17474},null,{"$f":"C31*$V$10","v":35376},null,{"$f":"V31/2","v":17688}]
[null,"18(14)",220000,null,7330,null,210000,"～",230000,{"$f":"C32*$J$10","v":22132},null,{"$f":"J32/2","v":11066},null,{"$f":"C32*$N$10","v":25915.999999999996},null,{"$f":"N32/2","v":12957.999999999998},null,{"$f":"C32*$R$10","v":38442.800000000003},null,{"$f":"R32/2","v":19221.400000000001},null,{"$f":"C32*$V$10","v":38913.599999999999},null,{"$f":"V32/2","v":19456.8}]
[null,"19(15)",240000,null,8000,null,230000,"～",250000,{"$f":"C33*$J$10","v":24144},null,{"$f":"J33/2","v":12072},null,{"$f":"C33*$N$10","v":28271.999999999996},null,{"$f":"N33/2","v":14135.999999999998},null,{"$f":"C33*$R$10","v":41937.599999999999},null,{"$f":"R33/2","v":20968.8},null,{"$f":"C33*$V$10","v":42451.200000000004},null,{"$f":"V33/2","v":21225.600000000002}]
[null,"20(16)",260000,null,8670,null,250000,"～",270000,{"$f":"C34*$J$10","v":26156},null,{"$f":"J34/2","v":13078},null,{"$f":"C34*$N$10","v":30627.999999999996},null,{"$f":"N34/2","v":15313.999999999998},null,{"$f":"C34*$R$10","v":45432.4},null,{"$f":"R34/2","v":22716.2},null,{"$f":"C34*$V$10","v":45988.800000000003},null,{"$f":"V34/2","v":22994.400000000001}]
[null,"21(17)",280000,null,9330,null,270000,"～",290000,{"$f":"C35*$J$10","v":28168},null,{"$f":"J35/2","v":14084},null,{"$f":"C35*$N$10","v":32984},null,{"$f":"N35/2","v":16492},null,{"$f":"C35*$R$10","v":48927.200000000004},null,{"$f":"R35/2","v":24463.600000000002},null,{"$f":"C35*$V$10","v":49526.400000000001},null,{"$f":"V35/2","v":24763.200000000001}]
[null,"22(18)",300000,null,10000,null,290000,"～",310000,{"$f":"C36*$J$10","v":30180},null,{"$f":"J36/2","v":15090},null,{"$f":"C36*$N$10","v":35340},null,{"$f":"N36/2","v":17670},null,{"$f":"C36*$R$10","v":52422},null,{"$f":"R36/2","v":26211},null,{"$f":"C36*$V$10","v":53064},null,{"$f":"V36/2","v":26532}]
[null,"23(19)",320000,null,10670,null,310000,"～",330000,{"$f":"C37*$J$10","v":32192},null,{"$f":"J37/2","v":16096},null,{"$f":"C37*$N$10","v":37695.999999999993},null,{"$f":"N37/2","v":18847.999999999996},null,{"$f":"C37*$R$10","v":55916.800000000003},null,{"$f":"R37/2","v":27958.400000000001},null,{"$f":"C37*$V$10","v":56601.600000000006},null,{"$f":"V37/2","v":28300.800000000003}]
[null,"24(20)",340000,null,11330,null,330000,"～",350000,{"$f":"C38*$J$10","v":34204},null,{"$f":"J38/2","v":17102},null,{"$f":"C38*$N$10","v":40051.999999999993},null,{"$f":"N38/2","v":20025.999999999996},null,{"$f":"C38*$R$10","v":59411.600000000006},null,{"$f":"R38/2","v":29705.800000000003},null,{"$f":"C38*$V$10","v":60139.200000000004},null,{"$f":"V38/2","v":30069.600000000002}]
[null,"25(21)",360000,null,12000,null,350000,"～",370000,{"$f":"C39*$J$10","v":36216},null,{"$f":"J39/2","v":18108},null,{"$f":"C39*$N$10","v":42407.999999999993},null,{"$f":"N39/2","v":21203.999999999996},null,{"$f":"C39*$R$10","v":62906.400000000001},null,{"$f":"R39/2","v":31453.200000000001},null,{"$f":"C39*$V$10","v":63676.800000000003},null,{"$f":"V39/2","v":31838.400000000001}]
[null,"26(22)",380000,null,12670,null,370000,"～",395000,{"$f":"C40*$J$10","v":38228},null,{"$f":"J40/2","v":19114},null,{"$f":"C40*$N$10","v":44763.999999999993},null,{"$f":"N40/2","v":22381.999999999996},null,{"$f":"C40*$R$10","v":66401.2},null,{"$f":"R40/2","v":33200.6},null,{"$f":"C40*$V$10","v":67214.400000000009},null,{"$f":"V40/2","v":33607.200000000004}]
[null,"27(23)",410000,null,13670,null,395000,"～",425000,{"$f":"C41*$J$10","v":41246},null,{"$f":"J41/2","v":20623},null,{"$f":"C41*$N$10","v":48297.999999999993},null,{"$f":"N41/2","v":24148.999999999996},null,{"$f":"C41*$R$10","v":71643.400000000009},null,{"$f":"R41/2","v":35821.700000000004},null,{"$f":"C41*$V$10","v":72520.800000000003},null,{"$f":"V41/2","v":36260.400000000001}]
[null,"28(24)",440000,null,14670,null,425000,"～",455000,{"$f":"C42*$J$10","v":44264},null,{"$f":"J42/2","v":22132},null,{"$f":"C42*$N$10","v":51831.999999999993},null,{"$f":"N42/2","v":25915.999999999996},null,{"$f":"C42*$R$10","v":76885.600000000006},null,{"$f":"R42/2","v":38442.800000000003},null,{"$f":"C42*$V$10","v":77827.199999999997},null,{"$f":"V42/2","v":38913.599999999999}]
[null,"29(25)",470000,null,15670,null,455000,"～",485000,{"$f":"C43*$J$10","v":47282},null,{"$f":"J43/2","v":23641},null,{"$f":"C43*$N$10","v":55365.999999999993},null,{"$f":"N43/2","v":27682.999999999996},null,{"$f":"C43*$R$10","v":82127.8},null,{"$f":"R43/2","v":41063.9},null,{"$f":"C43*$V$10","v":83133.600000000006},null,{"$f":"V43/2","v":41566.800000000003}]
[null,"30(26)",500000,null,16670,null,485000,"～",515000,{"$f":"C44*$J$10","v":50300},null,{"$f":"J44/2","v":25150},null,{"$f":"C44*$N$10","v":58899.999999999993},null,{"$f":"N44/2","v":29449.999999999996},null,{"$f":"C44*$R$10","v":87370},null,{"$f":"R44/2","v":43685},null,{"$f":"C44*$V$10","v":88440},null,{"$f":"V44/2","v":44220}]
[null,"31(27)",530000,null,17670,null,515000,"～",545000,{"$f":"C45*$J$10","v":53318},null,{"$f":"J45/2","v":26659},null,{"$f":"C45*$N$10","v":62433.999999999993},null,{"$f":"N45/2","v":31216.999999999996},null,{"$f":"C45*$R$10","v":92612.2},null,{"$f":"R45/2","v":46306.1},null,{"$f":"C45*$V$10","v":93746.400000000009},null,{"$f":"V45/2","v":46873.200000000004}]
[null,"32(28)",560000,null,18670,null,545000,"～",575000,{"$f":"C46*$J$10","v":56336},null,{"$f":"J46/2","v":28168},null,{"$f":"C46*$N$10","v":65968},null,{"$f":"N46/2","v":32984},null,{"$f":"C46*$R$10","v":97854.400000000009},null,{"$f":"R46/2","v":48927.200000000004},null,{"$f":"C46*$V$10","v":99052.800000000003},null,{"$f":"V46/2","v":49526.400000000001}]
[null,"33(29)",590000,null,19670,null,575000,"～",605000,{"$f":"C47*$J$10","v":59354},null,{"$f":"J47/2","v":29677},null,{"$f":"C47*$N$10","v":69502},null,{"$f":"N47/2","v":34751},null,{"$f":"C47*$R$10","v":103096.6},null,{"$f":"R47/2","v":51548.3},null,{"$f":"C47*$V$10","v":104359.20000000001},null,{"$f":"V47/2","v":52179.600000000006}]
[null,"34(30)",620000,null,20670,null,605000,"～",635000,{"$f":"C48*$J$10","v":62372},null,{"$f":"J48/2","v":31186},null,{"$f":"C48*$N$10","v":73035.999999999985},null,{"$f":"N48/2","v":36517.999999999993},null,{"$f":"C48*$R$10","v":108338.8},null,{"$f":"R48/2","v":54169.4},null,{"$f":"C48*$V$10","v":109665.60000000001},null,{"$f":"V48/2","v":54832.800000000003}]
[null,35,650000,null,21670,null,635000,"～",665000,{"$f":"C49*$J$10","v":65390},null,{"$f":"J49/2","v":32695},null,{"$f":"C49*$N$10","v":76569.999999999985},null,{"$f":"N49/2","v":38284.999999999993},null,"※厚生年金基金に加入している方の厚生年金保険\n　料率は、基金ごとに定められている免除保険料\n　率(2.4%～5.0%)を控除した率となります。\n\n　●一般の被保険者の方　…12.474%～15.074%\n　●坑内員の被保険者の方…12.688%～15.288%\n\n　加入する基金ごとに異なりますので、免除保険\n　料率および厚生年金基金の掛金については、加\n　入する厚生年金基金にお問い合わせください。\n"]
[null,36,680000,null,22670,null,665000,"～",695000,{"$f":"C50*$J$10","v":68408},null,{"$f":"J50/2","v":34204},null,{"$f":"C50*$N$10","v":80103.999999999985},null,{"$f":"N50/2","v":40051.999999999993}]
[null,37,710000,null,23670,null,695000,"～",730000,{"$f":"C51*$J$10","v":71426},null,{"$f":"J51/2","v":35713},null,{"$f":"C51*$N$10","v":83637.999999999985},null,{"$f":"N51/2","v":41818.999999999993}]
[null,38,750000,null,25000,null,730000,"～",770000,{"$f":"C52*$J$10","v":75450},null,{"$f":"J52/2","v":37725},null,{"$f":"C52*$N$10","v":88349.999999999985},null,{"$f":"N52/2","v":44174.999999999993}]
[null,39,790000,null,26330,null,770000,"～",810000,{"$f":"C53*$J$10","v":79474},null,{"$f":"J53/2","v":39737},null,{"$f":"C53*$N$10","v":93061.999999999985},null,{"$f":"N53/2","v":46530.999999999993}]
[null,40,830000,null,27670,null,810000,"～",855000,{"$f":"C54*$J$10","v":83498},null,{"$f":"J54/2","v":41749},null,{"$f":"C54*$N$10","v":97773.999999999985},null,{"$f":"N54/2","v":48886.999999999993}]
[null,41,880000,null,29330,null,855000,"～",905000,{"$f":"C55*$J$10","v":88528},null,{"$f":"J55/2","v":44264},null,{"$f":"C55*$N$10","v":103663.99999999999},null,{"$f":"N55/2","v":51831.999999999993}]
[null,42,930000,null,31000,null,905000,"～",955000,{"$f":"C56*$J$10","v":93558},null,{"$f":"J56/2","v":46779},null,{"$f":"C56*$N$10","v":109553.99999999999},null,{"$f":"N56/2","v":54776.999999999993}]
[null,43,980000,null,32670,null,955000,"～",1005000,{"$f":"C57*$J$10","v":98588},null,{"$f":"J57/2","v":49294},null,{"$f":"C57*$N$10","v":115443.99999999999},null,{"$f":"N57/2","v":57721.999999999993}]
[null,44,1030000,null,34330,null,1005000,"～",1055000,{"$f":"C58*$J$10","v":103618},null,{"$f":"J58/2","v":51809},null,{"$f":"C58*$N$10","v":121333.99999999999},null,{"$f":"N58/2","v":60666.999999999993}]
[null,45,1090000,null,36330,null,1055000,"～",1115000,{"$f":"C59*$J$10","v":109654},null,{"$f":"J59/2","v":54827},null,{"$f":"C59*$N$10","v":128401.99999999999},null,{"$f":"N59/2","v":64200.999999999993}]
[null,46,1150000,null,38330,null,1115000,"～",1175000,{"$f":"C60*$J$10","v":115690},null,{"$f":"J60/2","v":57845},null,{"$f":"C60*$N$10","v":135470},null,{"$f":"N60/2","v":67735}]
[null,47,1210000,null,40330,null,1175000,"～",null,{"$f":"C61*$J$10","v":121726},null,{"$f":"J61/2","v":60863},null,{"$f":"C61*$N$10","v":142538},null,{"$f":"N61/2","v":71269}]
[]
[{"$f":"J10","v":0.10059999999999999}]
[null,""]
["◆等級欄の（　）内の数字は、厚生年金保険の標準報酬月額等級です。"]
["　5(1)等級の「報酬月額」欄は、厚生年金保険の場合「101,000円未満」と読み替えてください。"]
["　34(30)等級の「報酬月額」欄は、厚生年金保険の場合「605,000円以上」と読み替えてください。"]
[null,""]
["◆平成26年度における全国健康保険協会の任意継続被保険者について、標準報酬月額の上限は、280,000円です。"]
[]
[]
["　○被保険者負担分（表の折半額の欄）に円未満の端数がある場合"]
["　　　①事業主が、給与から被保険者負担分を控除する場合、被保険者負担分の端数が50銭以下の場合は切り捨て、50銭を超える場合は切り上げて1円となります。"]
["　　　②被保険者が、被保険者負担分を事業主へ現金で支払う場合、被保険者負担分の端数が50銭未満の場合は切り捨て、50銭以上の場合は切り上げて1円となります。"]
["　　　（注）①、②にかかわらず、事業主と被保険者の間で特約がある場合には、特約に基づき端数処理をすることができます。"]
[]
["　○納入告知書の保険料額"]
["　　　 納入告知書の保険料額は、被保険者個々の保険料額を合算した金額になります。ただし、合算した金額に円未満の端数がある場合は、その端数を切り捨てた額となります。"]
[]
["　○賞与に係る保険料"]
["　　　 賞与に係る保険料額は、賞与額から1,000円未満の端数を切り捨てた額（標準賞与額）に、保険料率を乗じた額となります。"]
[" 　　　また、標準賞与額の上限は、健康保険は年間540万円（毎年4月1日から翌年3月31日までの累計額）となり、厚生年金保険と児童手当拠出金の場合は月間150万円となります。"]
[]
["　○児童手当拠出金"]
["　　　 厚生年金保険の被保険者を使用する事業主の方は、児童手当等の支給に要する費用の一部として児童手当拠出金を全額負担いただくことになります。この児童手当"]
["　　　 拠出金の額は、被保険者個々の厚生年金保険の標準報酬月額および標準賞与額に、拠出金率（0.15%）を乗じて得た額の総額となります。"]

{"sheet":"熊本","index":52,"n_rows":86,"n_cols":24,"rows_kept":86,"cut":false,"hidden":true,"merged":[[74,0,74,24],[75,0,75,16],[85,0,85,24],[86,0,86,16],[77,0,77,23],[79,0,79,16],[80,0,80,21],[81,0,81,24],[83,0,83,21],[84,0,84,24],[76,0,76,23],[48,17,60,24],[62,0,62,25],[64,0,64,24],[65,0,65,24],[66,0,66,24],[68,0,68,24],[71,0,71,16],[72,0,72,24],[73,0,73,24],[6,21,8,24],[9,9,10,12],[9,13,10,16],[9,17,10,20],[9,21,10,24],[11,13,12,14],[11,15,12,16],[11,17,12,18],[11,19,12,20],[11,21,12,22],[11,1,12,1],[11,2,12,3],[11,4,12,5],[11,9,12,10],[11,11,12,12],[11,23,12,24],[0,1,1,24],[2,1,3,23],[4,1,4,16],[5,1,10,5],[5,6,12,8],[5,9,5,16],[5,17,5,24],[6,9,8,12],[6,13,8,16],[6,17,8,20]]}
[null,"平成26年9月分(10月納付分)からの健康保険・厚生年金保険の保険料額表"]
[]
[null,"     ‣健康保険料率：平成24年3月分～　適用　　‣厚生年金保険料率：平成26年9月分～平成27年8月分　適用\n     ‣介護保険料率：平成26年3月分～　適用　　‣児童手当拠出金率：平成24年4月分～　適用\n"]
[]
[null,"（熊本県）",null,null,null,null,null,null,null,null,null,null,null,null,null,null,null,null,null,null,null,null,null,"（単位：円）"]
[null,"標　準　報　酬",null,null,null,null,"報　酬　月　額",null,null,"全国健康保険協会管掌健康保険料",null,null,null,null,null,null,null,"厚生年金保険料（厚生年金基金加入員を除く）"]
[null,null,null,null,null,null,null,null,null,"介護保険第２号被保険者\nに該当しない場合",null,null,null,"介護保険第２号被保険者\nに該当する場合",null,null,null,"一般の被保険者",null,null,null,"坑内員・船員"]
[]
[]
[null,null,null,null,null,null,null,null,null,0.1007,null,null,null,{"$f":"J10+0.0172","v":0.1179},null,null,null,0.17474000000000001,null,null,null,0.17688000000000001]
[]
[null,"等級","月　額",null,"日　額",null,null,null,null,"全　額",null,"折半額",null,"全　額",null,"折半額",null,"全　額",null,"折半額",null,"全　額",null,"折半額"]
[]
[null,null,null,null,null,null,"円以上",null,"円未満"]
[null,1,58000,null,1930,null,null,"～",63000,{"$f":"C15*$J$10","v":5840.5999999999995},null,{"$f":"J15/2","v":2920.2999999999997},null,{"$f":"C15*$N$10","v":6838.2000000000007},null,{"$f":"N15/2","v":3419.1000000000004}]
[null,2,68000,null,2270,null,63000,"～",73000,{"$f":"C16*$J$10","v":6847.5999999999995},null,{"$f":"J16/2","v":3423.7999999999997},null,{"$f":"C16*$N$10","v":8017.2000000000007},null,{"$f":"N16/2","v":4008.6000000000004}]
[null,3,78000,null,2600,null,73000,"～",83000,{"$f":"C17*$J$10","v":7854.5999999999995},null,{"$f":"J17/2","v":3927.2999999999997},null,{"$f":"C17*$N$10","v":9196.2000000000007},null,{"$f":"N17/2","v":4598.1000000000004}]
[null,4,88000,null,2930,null,83000,"～",93000,{"$f":"C18*$J$10","v":8861.6},null,{"$f":"J18/2","v":4430.8},null,{"$f":"C18*$N$10","v":10375.200000000001},null,{"$f":"N18/2","v":5187.6000000000004}]
[null,"5(1)",98000,null,3270,null,93000,"～",101000,{"$f":"C19*$J$10","v":9868.6},null,{"$f":"J19/2","v":4934.3},null,{"$f":"C19*$N$10","v":11554.2},null,{"$f":"N19/2","v":5777.1},null,{"$f":"C19*$R$10","v":17124.52},null,{"$f":"R19/2","v":8562.26},null,{"$f":"C19*$V$10","v":17334.240000000002},null,{"$f":"V19/2","v":8667.1200000000008}]
[null,"6(2)",104000,null,3470,null,101000,"～",107000,{"$f":"C20*$J$10","v":10472.799999999999},null,{"$f":"J20/2","v":5236.3999999999996},null,{"$f":"C20*$N$10","v":12261.6},null,{"$f":"N20/2","v":6130.8},null,{"$f":"C20*$R$10","v":18172.96},null,{"$f":"R20/2","v":9086.48},null,{"$f":"C20*$V$10","v":18395.52},null,{"$f":"V20/2","v":9197.76}]
[null,"7(3)",110000,null,3670,null,107000,"～",114000,{"$f":"C21*$J$10","v":11077},null,{"$f":"J21/2","v":5538.5},null,{"$f":"C21*$N$10","v":12969},null,{"$f":"N21/2","v":6484.5},null,{"$f":"C21*$R$10","v":19221.400000000001},null,{"$f":"R21/2","v":9610.7000000000007},null,{"$f":"C21*$V$10","v":19456.8},null,{"$f":"V21/2","v":9728.4}]
[null,"8(4)",118000,null,3930,null,114000,"～",122000,{"$f":"C22*$J$10","v":11882.6},null,{"$f":"J22/2","v":5941.3},null,{"$f":"C22*$N$10","v":13912.2},null,{"$f":"N22/2","v":6956.1},null,{"$f":"C22*$R$10","v":20619.32},null,{"$f":"R22/2","v":10309.66},null,{"$f":"C22*$V$10","v":20871.84},null,{"$f":"V22/2","v":10435.92}]
[null,"9(5)",126000,null,4200,null,122000,"～",130000,{"$f":"C23*$J$10","v":12688.199999999999},null,{"$f":"J23/2","v":6344.0999999999995},null,{"$f":"C23*$N$10","v":14855.400000000001},null,{"$f":"N23/2","v":7427.7000000000007},null,{"$f":"C23*$R$10","v":22017.24},null,{"$f":"R23/2","v":11008.62},null,{"$f":"C23*$V$10","v":22286.880000000001},null,{"$f":"V23/2","v":11143.44}]
[null,"10(6)",134000,null,4470,null,130000,"～",138000,{"$f":"C24*$J$10","v":13493.8},null,{"$f":"J24/2","v":6746.9},null,{"$f":"C24*$N$10","v":15798.6},null,{"$f":"N24/2","v":7899.3},null,{"$f":"C24*$R$10","v":23415.16},null,{"$f":"R24/2","v":11707.58},null,{"$f":"C24*$V$10","v":23701.920000000002},null,{"$f":"V24/2","v":11850.960000000001}]
[null,"11(7)",142000,null,4730,null,138000,"～",146000,{"$f":"C25*$J$10","v":14299.4},null,{"$f":"J25/2","v":7149.7},null,{"$f":"C25*$N$10","v":16741.8},null,{"$f":"N25/2","v":8370.9},null,{"$f":"C25*$R$10","v":24813.08},null,{"$f":"R25/2","v":12406.54},null,{"$f":"C25*$V$10","v":25116.960000000003},null,{"$f":"V25/2","v":12558.480000000001}]
[null,"12(8)",150000,null,5000,null,146000,"～",155000,{"$f":"C26*$J$10","v":15105},null,{"$f":"J26/2","v":7552.5},null,{"$f":"C26*$N$10","v":17685},null,{"$f":"N26/2","v":8842.5},null,{"$f":"C26*$R$10","v":26211},null,{"$f":"R26/2","v":13105.5},null,{"$f":"C26*$V$10","v":26532},null,{"$f":"V26/2","v":13266}]
[null,"13(9)",160000,null,5330,null,155000,"～",165000,{"$f":"C27*$J$10","v":16112},null,{"$f":"J27/2","v":8056},null,{"$f":"C27*$N$10","v":18864},null,{"$f":"N27/2","v":9432},null,{"$f":"C27*$R$10","v":27958.400000000001},null,{"$f":"R27/2","v":13979.2},null,{"$f":"C27*$V$10","v":28300.800000000003},null,{"$f":"V27/2","v":14150.400000000001}]
[null,"14(10)",170000,null,5670,null,165000,"～",175000,{"$f":"C28*$J$10","v":17119},null,{"$f":"J28/2","v":8559.5},null,{"$f":"C28*$N$10","v":20043},null,{"$f":"N28/2","v":10021.5},null,{"$f":"C28*$R$10","v":29705.800000000003},null,{"$f":"R28/2","v":14852.900000000001},null,{"$f":"C28*$V$10","v":30069.600000000002},null,{"$f":"V28/2","v":15034.800000000001}]
[null,"15(11)",180000,null,6000,null,175000,"～",185000,{"$f":"C29*$J$10","v":18126},null,{"$f":"J29/2","v":9063},null,{"$f":"C29*$N$10","v":21222},null,{"$f":"N29/2","v":10611},null,{"$f":"C29*$R$10","v":31453.200000000001},null,{"$f":"R29/2","v":15726.6},null,{"$f":"C29*$V$10","v":31838.400000000001},null,{"$f":"V29/2","v":15919.2}]
[null,"16(12)",190000,null,6330,null,185000,"～",195000,{"$f":"C30*$J$10","v":19133},null,{"$f":"J30/2","v":9566.5},null,{"$f":"C30*$N$10","v":22401},null,{"$f":"N30/2","v":11200.5},null,{"$f":"C30*$R$10","v":33200.6},null,{"$f":"R30/2","v":16600.3},null,{"$f":"C30*$V$10","v":33607.200000000004},null,{"$f":"V30/2","v":16803.600000000002}]
[null,"17(13)",200000,null,6670,null,195000,"～",210000,{"$f":"C31*$J$10","v":20140},null,{"$f":"J31/2","v":10070},null,{"$f":"C31*$N$10","v":23580},null,{"$f":"N31/2","v":11790},null,{"$f":"C31*$R$10","v":34948},null,{"$f":"R31/2","v":17474},null,{"$f":"C31*$V$10","v":35376},null,{"$f":"V31/2","v":17688}]
[null,"18(14)",220000,null,7330,null,210000,"～",230000,{"$f":"C32*$J$10","v":22154},null,{"$f":"J32/2","v":11077},null,{"$f":"C32*$N$10","v":25938},null,{"$f":"N32/2","v":12969},null,{"$f":"C32*$R$10","v":38442.800000000003},null,{"$f":"R32/2","v":19221.400000000001},null,{"$f":"C32*$V$10","v":38913.599999999999},null,{"$f":"V32/2","v":19456.8}]
[null,"19(15)",240000,null,8000,null,230000,"～",250000,{"$f":"C33*$J$10","v":24168},null,{"$f":"J33/2","v":12084},null,{"$f":"C33*$N$10","v":28296},null,{"$f":"N33/2","v":14148},null,{"$f":"C33*$R$10","v":41937.599999999999},null,{"$f":"R33/2","v":20968.8},null,{"$f":"C33*$V$10","v":42451.200000000004},null,{"$f":"V33/2","v":21225.600000000002}]
[null,"20(16)",260000,null,8670,null,250000,"～",270000,{"$f":"C34*$J$10","v":26182},null,{"$f":"J34/2","v":13091},null,{"$f":"C34*$N$10","v":30654},null,{"$f":"N34/2","v":15327},null,{"$f":"C34*$R$10","v":45432.4},null,{"$f":"R34/2","v":22716.2},null,{"$f":"C34*$V$10","v":45988.800000000003},null,{"$f":"V34/2","v":22994.400000000001}]
[null,"21(17)",280000,null,9330,null,270000,"～",290000,{"$f":"C35*$J$10","v":28196},null,{"$f":"J35/2","v":14098},null,{"$f":"C35*$N$10","v":33012},null,{"$f":"N35/2","v":16506},null,{"$f":"C35*$R$10","v":48927.200000000004},null,{"$f":"R35/2","v":24463.600000000002},null,{"$f":"C35*$V$10","v":49526.400000000001},null,{"$f":"V35/2","v":24763.200000000001}]
[null,"22(18)",300000,null,10000,null,290000,"～",310000,{"$f":"C36*$J$10","v":30210},null,{"$f":"J36/2","v":15105},null,{"$f":"C36*$N$10","v":35370},null,{"$f":"N36/2","v":17685},null,{"$f":"C36*$R$10","v":52422},null,{"$f":"R36/2","v":26211},null,{"$f":"C36*$V$10","v":53064},null,{"$f":"V36/2","v":26532}]
[null,"23(19)",320000,null,10670,null,310000,"～",330000,{"$f":"C37*$J$10","v":32224},null,{"$f":"J37/2","v":16112},null,{"$f":"C37*$N$10","v":37728},null,{"$f":"N37/2","v":18864},null,{"$f":"C37*$R$10","v":55916.800000000003},null,{"$f":"R37/2","v":27958.400000000001},null,{"$f":"C37*$V$10","v":56601.600000000006},null,{"$f":"V37/2","v":28300.800000000003}]
[null,"24(20)",340000,null,11330,null,330000,"～",350000,{"$f":"C38*$J$10","v":34238},null,{"$f":"J38/2","v":17119},null,{"$f":"C38*$N$10","v":40086},null,{"$f":"N38/2","v":20043},null,{"$f":"C38*$R$10","v":59411.600000000006},null,{"$f":"R38/2","v":29705.800000000003},null,{"$f":"C38*$V$10","v":60139.200000000004},null,{"$f":"V38/2","v":30069.600000000002}]
[null,"25(21)",360000,null,12000,null,350000,"～",370000,{"$f":"C39*$J$10","v":36252},null,{"$f":"J39/2","v":18126},null,{"$f":"C39*$N$10","v":42444},null,{"$f":"N39/2","v":21222},null,{"$f":"C39*$R$10","v":62906.400000000001},null,{"$f":"R39/2","v":31453.200000000001},null,{"$f":"C39*$V$10","v":63676.800000000003},null,{"$f":"V39/2","v":31838.400000000001}]
[null,"26(22)",380000,null,12670,null,370000,"～",395000,{"$f":"C40*$J$10","v":38266},null,{"$f":"J40/2","v":19133},null,{"$f":"C40*$N$10","v":44802},null,{"$f":"N40/2","v":22401},null,{"$f":"C40*$R$10","v":66401.2},null,{"$f":"R40/2","v":33200.6},null,{"$f":"C40*$V$10","v":67214.400000000009},null,{"$f":"V40/2","v":33607.200000000004}]
[null,"27(23)",410000,null,13670,null,395000,"～",425000,{"$f":"C41*$J$10","v":41287},null,{"$f":"J41/2","v":20643.5},null,{"$f":"C41*$N$10","v":48339},null,{"$f":"N41/2","v":24169.5},null,{"$f":"C41*$R$10","v":71643.400000000009},null,{"$f":"R41/2","v":35821.700000000004},null,{"$f":"C41*$V$10","v":72520.800000000003},null,{"$f":"V41/2","v":36260.400000000001}]
[null,"28(24)",440000,null,14670,null,425000,"～",455000,{"$f":"C42*$J$10","v":44308},null,{"$f":"J42/2","v":22154},null,{"$f":"C42*$N$10","v":51876},null,{"$f":"N42/2","v":25938},null,{"$f":"C42*$R$10","v":76885.600000000006},null,{"$f":"R42/2","v":38442.800000000003},null,{"$f":"C42*$V$10","v":77827.199999999997},null,{"$f":"V42/2","v":38913.599999999999}]
[null,"29(25)",470000,null,15670,null,455000,"～",485000,{"$f":"C43*$J$10","v":47329},null,{"$f":"J43/2","v":23664.5},null,{"$f":"C43*$N$10","v":55413},null,{"$f":"N43/2","v":27706.5},null,{"$f":"C43*$R$10","v":82127.8},null,{"$f":"R43/2","v":41063.9},null,{"$f":"C43*$V$10","v":83133.600000000006},null,{"$f":"V43/2","v":41566.800000000003}]
[null,"30(26)",500000,null,16670,null,485000,"～",515000,{"$f":"C44*$J$10","v":50350},null,{"$f":"J44/2","v":25175},null,{"$f":"C44*$N$10","v":58950},null,{"$f":"N44/2","v":29475},null,{"$f":"C44*$R$10","v":87370},null,{"$f":"R44/2","v":43685},null,{"$f":"C44*$V$10","v":88440},null,{"$f":"V44/2","v":44220}]
[null,"31(27)",530000,null,17670,null,515000,"～",545000,{"$f":"C45*$J$10","v":53371},null,{"$f":"J45/2","v":26685.5},null,{"$f":"C45*$N$10","v":62487},null,{"$f":"N45/2","v":31243.5},null,{"$f":"C45*$R$10","v":92612.2},null,{"$f":"R45/2","v":46306.1},null,{"$f":"C45*$V$10","v":93746.400000000009},null,{"$f":"V45/2","v":46873.200000000004}]
[null,"32(28)",560000,null,18670,null,545000,"～",575000,{"$f":"C46*$J$10","v":56392},null,{"$f":"J46/2","v":28196},null,{"$f":"C46*$N$10","v":66024},null,{"$f":"N46/2","v":33012},null,{"$f":"C46*$R$10","v":97854.400000000009},null,{"$f":"R46/2","v":48927.200000000004},null,{"$f":"C46*$V$10","v":99052.800000000003},null,{"$f":"V46/2","v":49526.400000000001}]
[null,"33(29)",590000,null,19670,null,575000,"～",605000,{"$f":"C47*$J$10","v":59413},null,{"$f":"J47/2","v":29706.5},null,{"$f":"C47*$N$10","v":69561},null,{"$f":"N47/2","v":34780.5},null,{"$f":"C47*$R$10","v":103096.6},null,{"$f":"R47/2","v":51548.3},null,{"$f":"C47*$V$10","v":104359.20000000001},null,{"$f":"V47/2","v":52179.600000000006}]
[null,"34(30)",620000,null,20670,null,605000,"～",635000,{"$f":"C48*$J$10","v":62434},null,{"$f":"J48/2","v":31217},null,{"$f":"C48*$N$10","v":73098},null,{"$f":"N48/2","v":36549},null,{"$f":"C48*$R$10","v":108338.8},null,{"$f":"R48/2","v":54169.4},null,{"$f":"C48*$V$10","v":109665.60000000001},null,{"$f":"V48/2","v":54832.800000000003}]
[null,35,650000,null,21670,null,635000,"～",665000,{"$f":"C49*$J$10","v":65455},null,{"$f":"J49/2","v":32727.5},null,{"$f":"C49*$N$10","v":76635},null,{"$f":"N49/2","v":38317.5},null,"※厚生年金基金に加入している方の厚生年金保険\n　料率は、基金ごとに定められている免除保険料\n　率(2.4%～5.0%)を控除した率となります。\n\n　●一般の被保険者の方　…12.474%～15.074%\n　●坑内員の被保険者の方…12.688%～15.288%\n\n　加入する基金ごとに異なりますので、免除保険\n　料率および厚生年金基金の掛金については、加\n　入する厚生年金基金にお問い合わせください。\n"]
[null,36,680000,null,22670,null,665000,"～",695000,{"$f":"C50*$J$10","v":68476},null,{"$f":"J50/2","v":34238},null,{"$f":"C50*$N$10","v":80172},null,{"$f":"N50/2","v":40086}]
[null,37,710000,null,23670,null,695000,"～",730000,{"$f":"C51*$J$10","v":71497},null,{"$f":"J51/2","v":35748.5},null,{"$f":"C51*$N$10","v":83709},null,{"$f":"N51/2","v":41854.5}]
[null,38,750000,null,25000,null,730000,"～",770000,{"$f":"C52*$J$10","v":75525},null,{"$f":"J52/2","v":37762.5},null,{"$f":"C52*$N$10","v":88425},null,{"$f":"N52/2","v":44212.5}]
[null,39,790000,null,26330,null,770000,"～",810000,{"$f":"C53*$J$10","v":79553},null,{"$f":"J53/2","v":39776.5},null,{"$f":"C53*$N$10","v":93141},null,{"$f":"N53/2","v":46570.5}]
[null,40,830000,null,27670,null,810000,"～",855000,{"$f":"C54*$J$10","v":83581},null,{"$f":"J54/2","v":41790.5},null,{"$f":"C54*$N$10","v":97857},null,{"$f":"N54/2","v":48928.5}]
[null,41,880000,null,29330,null,855000,"～",905000,{"$f":"C55*$J$10","v":88616},null,{"$f":"J55/2","v":44308},null,{"$f":"C55*$N$10","v":103752},null,{"$f":"N55/2","v":51876}]
[null,42,930000,null,31000,null,905000,"～",955000,{"$f":"C56*$J$10","v":93651},null,{"$f":"J56/2","v":46825.5},null,{"$f":"C56*$N$10","v":109647},null,{"$f":"N56/2","v":54823.5}]
[null,43,980000,null,32670,null,955000,"～",1005000,{"$f":"C57*$J$10","v":98686},null,{"$f":"J57/2","v":49343},null,{"$f":"C57*$N$10","v":115542},null,{"$f":"N57/2","v":57771}]
[null,44,1030000,null,34330,null,1005000,"～",1055000,{"$f":"C58*$J$10","v":103721},null,{"$f":"J58/2","v":51860.5},null,{"$f":"C58*$N$10","v":121437},null,{"$f":"N58/2","v":60718.5}]
[null,45,1090000,null,36330,null,1055000,"～",1115000,{"$f":"C59*$J$10","v":109763},null,{"$f":"J59/2","v":54881.5},null,{"$f":"C59*$N$10","v":128511},null,{"$f":"N59/2","v":64255.5}]
[null,46,1150000,null,38330,null,1115000,"～",1175000,{"$f":"C60*$J$10","v":115805},null,{"$f":"J60/2","v":57902.5},null,{"$f":"C60*$N$10","v":135585},null,{"$f":"N60/2","v":67792.5}]
[null,47,1210000,null,40330,null,1175000,"～",null,{"$f":"C61*$J$10","v":121847},null,{"$f":"J61/2","v":60923.5},null,{"$f":"C61*$N$10","v":142659},null,{"$f":"N61/2","v":71329.5}]
[]
[{"$f":"J10","v":0.1007}]
[null,""]
["◆等級欄の（　）内の数字は、厚生年金保険の標準報酬月額等級です。"]
["　5(1)等級の「報酬月額」欄は、厚生年金保険の場合「101,000円未満」と読み替えてください。"]
["　34(30)等級の「報酬月額」欄は、厚生年金保険の場合「605,000円以上」と読み替えてください。"]
[null,""]
["◆平成26年度における全国健康保険協会の任意継続被保険者について、標準報酬月額の上限は、280,000円です。"]
[]
[]
["　○被保険者負担分（表の折半額の欄）に円未満の端数がある場合"]
["　　　①事業主が、給与から被保険者負担分を控除する場合、被保険者負担分の端数が50銭以下の場合は切り捨て、50銭を超える場合は切り上げて1円となります。"]
["　　　②被保険者が、被保険者負担分を事業主へ現金で支払う場合、被保険者負担分の端数が50銭未満の場合は切り捨て、50銭以上の場合は切り上げて1円となります。"]
["　　　（注）①、②にかかわらず、事業主と被保険者の間で特約がある場合には、特約に基づき端数処理をすることができます。"]
[]
["　○納入告知書の保険料額"]
["　　　 納入告知書の保険料額は、被保険者個々の保険料額を合算した金額になります。ただし、合算した金額に円未満の端数がある場合は、その端数を切り捨てた額となります。"]
[]
["　○賞与に係る保険料"]
["　　　 賞与に係る保険料額は、賞与額から1,000円未満の端数を切り捨てた額（標準賞与額）に、保険料率を乗じた額となります。"]
[" 　　　また、標準賞与額の上限は、健康保険は年間540万円（毎年4月1日から翌年3月31日までの累計額）となり、厚生年金保険と児童手当拠出金の場合は月間150万円となります。"]
[]
["　○児童手当拠出金"]
["　　　 厚生年金保険の被保険者を使用する事業主の方は、児童手当等の支給に要する費用の一部として児童手当拠出金を全額負担いただくことになります。この児童手当"]
["　　　 拠出金の額は、被保険者個々の厚生年金保険の標準報酬月額および標準賞与額に、拠出金率（0.15%）を乗じて得た額の総額となります。"]

{"sheet":"大分","index":53,"n_rows":86,"n_cols":24,"rows_kept":86,"cut":false,"hidden":true,"merged":[[74,0,74,24],[75,0,75,16],[85,0,85,24],[86,0,86,16],[77,0,77,23],[79,0,79,16],[80,0,80,21],[81,0,81,24],[83,0,83,21],[84,0,84,24],[76,0,76,23],[48,17,60,24],[62,0,62,25],[64,0,64,24],[65,0,65,24],[66,0,66,24],[68,0,68,24],[71,0,71,16],[72,0,72,24],[73,0,73,24],[6,21,8,24],[9,9,10,12],[9,13,10,16],[9,17,10,20],[9,21,10,24],[11,13,12,14],[11,15,12,16],[11,17,12,18],[11,19,12,20],[11,21,12,22],[11,1,12,1],[11,2,12,3],[11,4,12,5],[11,9,12,10],[11,11,12,12],[11,23,12,24],[0,1,1,24],[2,1,3,23],[4,1,4,16],[5,1,10,5],[5,6,12,8],[5,9,5,16],[5,17,5,24],[6,9,8,12],[6,13,8,16],[6,17,8,20]]}
[null,"平成26年9月分(10月納付分)からの健康保険・厚生年金保険の保険料額表"]
[]
[null,"     ‣健康保険料率：平成24年3月分～　適用　　‣厚生年金保険料率：平成26年9月分～平成27年8月分　適用\n     ‣介護保険料率：平成26年3月分～　適用　　‣児童手当拠出金率：平成24年4月分～　適用\n"]
[]
[null,"（大分県）",null,null,null,null,null,null,null,null,null,null,null,null,null,null,null,null,null,null,null,null,null,"（単位：円）"]
[null,"標　準　報　酬",null,null,null,null,"報　酬　月　額",null,null,"全国健康保険協会管掌健康保険料",null,null,null,null,null,null,null,"厚生年金保険料（厚生年金基金加入員を除く）"]
[null,null,null,null,null,null,null,null,null,"介護保険第２号被保険者\nに該当しない場合",null,null,null,"介護保険第２号被保険者\nに該当する場合",null,null,null,"一般の被保険者",null,null,null,"坑内員・船員"]
[]
[]
[null,null,null,null,null,null,null,null,null,0.1008,null,null,null,{"$f":"J10+0.0172","v":0.11799999999999999},null,null,null,0.17474000000000001,null,null,null,0.17688000000000001]
[]
[null,"等級","月　額",null,"日　額",null,null,null,null,"全　額",null,"折半額",null,"全　額",null,"折半額",null,"全　額",null,"折半額",null,"全　額",null,"折半額"]
[]
[null,null,null,null,null,null,"円以上",null,"円未満"]
[null,1,58000,null,1930,null,null,"～",63000,{"$f":"C15*$J$10","v":5846.4},null,{"$f":"J15/2","v":2923.2},null,{"$f":"C15*$N$10","v":6844},null,{"$f":"N15/2","v":3422}]
[null,2,68000,null,2270,null,63000,"～",73000,{"$f":"C16*$J$10","v":6854.4},null,{"$f":"J16/2","v":3427.2},null,{"$f":"C16*$N$10","v":8024},null,{"$f":"N16/2","v":4012}]
[null,3,78000,null,2600,null,73000,"～",83000,{"$f":"C17*$J$10","v":7862.4},null,{"$f":"J17/2","v":3931.2},null,{"$f":"C17*$N$10","v":9204},null,{"$f":"N17/2","v":4602}]
[null,4,88000,null,2930,null,83000,"～",93000,{"$f":"C18*$J$10","v":8870.4},null,{"$f":"J18/2","v":4435.2},null,{"$f":"C18*$N$10","v":10384},null,{"$f":"N18/2","v":5192}]
[null,"5(1)",98000,null,3270,null,93000,"～",101000,{"$f":"C19*$J$10","v":9878.4},null,{"$f":"J19/2","v":4939.2},null,{"$f":"C19*$N$10","v":11564},null,{"$f":"N19/2","v":5782},null,{"$f":"C19*$R$10","v":17124.52},null,{"$f":"R19/2","v":8562.26},null,{"$f":"C19*$V$10","v":17334.240000000002},null,{"$f":"V19/2","v":8667.1200000000008}]
[null,"6(2)",104000,null,3470,null,101000,"～",107000,{"$f":"C20*$J$10","v":10483.200000000001},null,{"$f":"J20/2","v":5241.6000000000004},null,{"$f":"C20*$N$10","v":12272},null,{"$f":"N20/2","v":6136},null,{"$f":"C20*$R$10","v":18172.96},null,{"$f":"R20/2","v":9086.48},null,{"$f":"C20*$V$10","v":18395.52},null,{"$f":"V20/2","v":9197.76}]
[null,"7(3)",110000,null,3670,null,107000,"～",114000,{"$f":"C21*$J$10","v":11088},null,{"$f":"J21/2","v":5544},null,{"$f":"C21*$N$10","v":12980},null,{"$f":"N21/2","v":6490},null,{"$f":"C21*$R$10","v":19221.400000000001},null,{"$f":"R21/2","v":9610.7000000000007},null,{"$f":"C21*$V$10","v":19456.8},null,{"$f":"V21/2","v":9728.4}]
[null,"8(4)",118000,null,3930,null,114000,"～",122000,{"$f":"C22*$J$10","v":11894.4},null,{"$f":"J22/2","v":5947.2},null,{"$f":"C22*$N$10","v":13924},null,{"$f":"N22/2","v":6962},null,{"$f":"C22*$R$10","v":20619.32},null,{"$f":"R22/2","v":10309.66},null,{"$f":"C22*$V$10","v":20871.84},null,{"$f":"V22/2","v":10435.92}]
[null,"9(5)",126000,null,4200,null,122000,"～",130000,{"$f":"C23*$J$10","v":12700.8},null,{"$f":"J23/2","v":6350.4},null,{"$f":"C23*$N$10","v":14868},null,{"$f":"N23/2","v":7434},null,{"$f":"C23*$R$10","v":22017.24},null,{"$f":"R23/2","v":11008.62},null,{"$f":"C23*$V$10","v":22286.880000000001},null,{"$f":"V23/2","v":11143.44}]
[null,"10(6)",134000,null,4470,null,130000,"～",138000,{"$f":"C24*$J$10","v":13507.2},null,{"$f":"J24/2","v":6753.6},null,{"$f":"C24*$N$10","v":15812},null,{"$f":"N24/2","v":7906},null,{"$f":"C24*$R$10","v":23415.16},null,{"$f":"R24/2","v":11707.58},null,{"$f":"C24*$V$10","v":23701.920000000002},null,{"$f":"V24/2","v":11850.960000000001}]
[null,"11(7)",142000,null,4730,null,138000,"～",146000,{"$f":"C25*$J$10","v":14313.6},null,{"$f":"J25/2","v":7156.8},null,{"$f":"C25*$N$10","v":16756},null,{"$f":"N25/2","v":8378},null,{"$f":"C25*$R$10","v":24813.08},null,{"$f":"R25/2","v":12406.54},null,{"$f":"C25*$V$10","v":25116.960000000003},null,{"$f":"V25/2","v":12558.480000000001}]
[null,"12(8)",150000,null,5000,null,146000,"～",155000,{"$f":"C26*$J$10","v":15120},null,{"$f":"J26/2","v":7560},null,{"$f":"C26*$N$10","v":17700},null,{"$f":"N26/2","v":8850},null,{"$f":"C26*$R$10","v":26211},null,{"$f":"R26/2","v":13105.5},null,{"$f":"C26*$V$10","v":26532},null,{"$f":"V26/2","v":13266}]
[null,"13(9)",160000,null,5330,null,155000,"～",165000,{"$f":"C27*$J$10","v":16128},null,{"$f":"J27/2","v":8064},null,{"$f":"C27*$N$10","v":18880},null,{"$f":"N27/2","v":9440},null,{"$f":"C27*$R$10","v":27958.400000000001},null,{"$f":"R27/2","v":13979.2},null,{"$f":"C27*$V$10","v":28300.800000000003},null,{"$f":"V27/2","v":14150.400000000001}]
[null,"14(10)",170000,null,5670,null,165000,"～",175000,{"$f":"C28*$J$10","v":17136},null,{"$f":"J28/2","v":8568},null,{"$f":"C28*$N$10","v":20060},null,{"$f":"N28/2","v":10030},null,{"$f":"C28*$R$10","v":29705.800000000003},null,{"$f":"R28/2","v":14852.900000000001},null,{"$f":"C28*$V$10","v":30069.600000000002},null,{"$f":"V28/2","v":15034.800000000001}]
[null,"15(11)",180000,null,6000,null,175000,"～",185000,{"$f":"C29*$J$10","v":18144},null,{"$f":"J29/2","v":9072},null,{"$f":"C29*$N$10","v":21240},null,{"$f":"N29/2","v":10620},null,{"$f":"C29*$R$10","v":31453.200000000001},null,{"$f":"R29/2","v":15726.6},null,{"$f":"C29*$V$10","v":31838.400000000001},null,{"$f":"V29/2","v":15919.2}]
[null,"16(12)",190000,null,6330,null,185000,"～",195000,{"$f":"C30*$J$10","v":19152},null,{"$f":"J30/2","v":9576},null,{"$f":"C30*$N$10","v":22420},null,{"$f":"N30/2","v":11210},null,{"$f":"C30*$R$10","v":33200.6},null,{"$f":"R30/2","v":16600.3},null,{"$f":"C30*$V$10","v":33607.200000000004},null,{"$f":"V30/2","v":16803.600000000002}]
[null,"17(13)",200000,null,6670,null,195000,"～",210000,{"$f":"C31*$J$10","v":20160},null,{"$f":"J31/2","v":10080},null,{"$f":"C31*$N$10","v":23600},null,{"$f":"N31/2","v":11800},null,{"$f":"C31*$R$10","v":34948},null,{"$f":"R31/2","v":17474},null,{"$f":"C31*$V$10","v":35376},null,{"$f":"V31/2","v":17688}]
[null,"18(14)",220000,null,7330,null,210000,"～",230000,{"$f":"C32*$J$10","v":22176},null,{"$f":"J32/2","v":11088},null,{"$f":"C32*$N$10","v":25960},null,{"$f":"N32/2","v":12980},null,{"$f":"C32*$R$10","v":38442.800000000003},null,{"$f":"R32/2","v":19221.400000000001},null,{"$f":"C32*$V$10","v":38913.599999999999},null,{"$f":"V32/2","v":19456.8}]
[null,"19(15)",240000,null,8000,null,230000,"～",250000,{"$f":"C33*$J$10","v":24192},null,{"$f":"J33/2","v":12096},null,{"$f":"C33*$N$10","v":28320},null,{"$f":"N33/2","v":14160},null,{"$f":"C33*$R$10","v":41937.599999999999},null,{"$f":"R33/2","v":20968.8},null,{"$f":"C33*$V$10","v":42451.200000000004},null,{"$f":"V33/2","v":21225.600000000002}]
[null,"20(16)",260000,null,8670,null,250000,"～",270000,{"$f":"C34*$J$10","v":26208},null,{"$f":"J34/2","v":13104},null,{"$f":"C34*$N$10","v":30680},null,{"$f":"N34/2","v":15340},null,{"$f":"C34*$R$10","v":45432.4},null,{"$f":"R34/2","v":22716.2},null,{"$f":"C34*$V$10","v":45988.800000000003},null,{"$f":"V34/2","v":22994.400000000001}]
[null,"21(17)",280000,null,9330,null,270000,"～",290000,{"$f":"C35*$J$10","v":28224},null,{"$f":"J35/2","v":14112},null,{"$f":"C35*$N$10","v":33040},null,{"$f":"N35/2","v":16520},null,{"$f":"C35*$R$10","v":48927.200000000004},null,{"$f":"R35/2","v":24463.600000000002},null,{"$f":"C35*$V$10","v":49526.400000000001},null,{"$f":"V35/2","v":24763.200000000001}]
[null,"22(18)",300000,null,10000,null,290000,"～",310000,{"$f":"C36*$J$10","v":30240},null,{"$f":"J36/2","v":15120},null,{"$f":"C36*$N$10","v":35400},null,{"$f":"N36/2","v":17700},null,{"$f":"C36*$R$10","v":52422},null,{"$f":"R36/2","v":26211},null,{"$f":"C36*$V$10","v":53064},null,{"$f":"V36/2","v":26532}]
[null,"23(19)",320000,null,10670,null,310000,"～",330000,{"$f":"C37*$J$10","v":32256},null,{"$f":"J37/2","v":16128},null,{"$f":"C37*$N$10","v":37760},null,{"$f":"N37/2","v":18880},null,{"$f":"C37*$R$10","v":55916.800000000003},null,{"$f":"R37/2","v":27958.400000000001},null,{"$f":"C37*$V$10","v":56601.600000000006},null,{"$f":"V37/2","v":28300.800000000003}]
[null,"24(20)",340000,null,11330,null,330000,"～",350000,{"$f":"C38*$J$10","v":34272},null,{"$f":"J38/2","v":17136},null,{"$f":"C38*$N$10","v":40120},null,{"$f":"N38/2","v":20060},null,{"$f":"C38*$R$10","v":59411.600000000006},null,{"$f":"R38/2","v":29705.800000000003},null,{"$f":"C38*$V$10","v":60139.200000000004},null,{"$f":"V38/2","v":30069.600000000002}]
[null,"25(21)",360000,null,12000,null,350000,"～",370000,{"$f":"C39*$J$10","v":36288},null,{"$f":"J39/2","v":18144},null,{"$f":"C39*$N$10","v":42480},null,{"$f":"N39/2","v":21240},null,{"$f":"C39*$R$10","v":62906.400000000001},null,{"$f":"R39/2","v":31453.200000000001},null,{"$f":"C39*$V$10","v":63676.800000000003},null,{"$f":"V39/2","v":31838.400000000001}]
[null,"26(22)",380000,null,12670,null,370000,"～",395000,{"$f":"C40*$J$10","v":38304},null,{"$f":"J40/2","v":19152},null,{"$f":"C40*$N$10","v":44840},null,{"$f":"N40/2","v":22420},null,{"$f":"C40*$R$10","v":66401.2},null,{"$f":"R40/2","v":33200.6},null,{"$f":"C40*$V$10","v":67214.400000000009},null,{"$f":"V40/2","v":33607.200000000004}]
[null,"27(23)",410000,null,13670,null,395000,"～",425000,{"$f":"C41*$J$10","v":41328},null,{"$f":"J41/2","v":20664},null,{"$f":"C41*$N$10","v":48380},null,{"$f":"N41/2","v":24190},null,{"$f":"C41*$R$10","v":71643.400000000009},null,{"$f":"R41/2","v":35821.700000000004},null,{"$f":"C41*$V$10","v":72520.800000000003},null,{"$f":"V41/2","v":36260.400000000001}]
[null,"28(24)",440000,null,14670,null,425000,"～",455000,{"$f":"C42*$J$10","v":44352},null,{"$f":"J42/2","v":22176},null,{"$f":"C42*$N$10","v":51920},null,{"$f":"N42/2","v":25960},null,{"$f":"C42*$R$10","v":76885.600000000006},null,{"$f":"R42/2","v":38442.800000000003},null,{"$f":"C42*$V$10","v":77827.199999999997},null,{"$f":"V42/2","v":38913.599999999999}]
[null,"29(25)",470000,null,15670,null,455000,"～",485000,{"$f":"C43*$J$10","v":47376},null,{"$f":"J43/2","v":23688},null,{"$f":"C43*$N$10","v":55460},null,{"$f":"N43/2","v":27730},null,{"$f":"C43*$R$10","v":82127.8},null,{"$f":"R43/2","v":41063.9},null,{"$f":"C43*$V$10","v":83133.600000000006},null,{"$f":"V43/2","v":41566.800000000003}]
[null,"30(26)",500000,null,16670,null,485000,"～",515000,{"$f":"C44*$J$10","v":50400},null,{"$f":"J44/2","v":25200},null,{"$f":"C44*$N$10","v":59000},null,{"$f":"N44/2","v":29500},null,{"$f":"C44*$R$10","v":87370},null,{"$f":"R44/2","v":43685},null,{"$f":"C44*$V$10","v":88440},null,{"$f":"V44/2","v":44220}]
[null,"31(27)",530000,null,17670,null,515000,"～",545000,{"$f":"C45*$J$10","v":53424},null,{"$f":"J45/2","v":26712},null,{"$f":"C45*$N$10","v":62540},null,{"$f":"N45/2","v":31270},null,{"$f":"C45*$R$10","v":92612.2},null,{"$f":"R45/2","v":46306.1},null,{"$f":"C45*$V$10","v":93746.400000000009},null,{"$f":"V45/2","v":46873.200000000004}]
[null,"32(28)",560000,null,18670,null,545000,"～",575000,{"$f":"C46*$J$10","v":56448},null,{"$f":"J46/2","v":28224},null,{"$f":"C46*$N$10","v":66080},null,{"$f":"N46/2","v":33040},null,{"$f":"C46*$R$10","v":97854.400000000009},null,{"$f":"R46/2","v":48927.200000000004},null,{"$f":"C46*$V$10","v":99052.800000000003},null,{"$f":"V46/2","v":49526.400000000001}]
[null,"33(29)",590000,null,19670,null,575000,"～",605000,{"$f":"C47*$J$10","v":59472},null,{"$f":"J47/2","v":29736},null,{"$f":"C47*$N$10","v":69620},null,{"$f":"N47/2","v":34810},null,{"$f":"C47*$R$10","v":103096.6},null,{"$f":"R47/2","v":51548.3},null,{"$f":"C47*$V$10","v":104359.20000000001},null,{"$f":"V47/2","v":52179.600000000006}]
[null,"34(30)",620000,null,20670,null,605000,"～",635000,{"$f":"C48*$J$10","v":62496},null,{"$f":"J48/2","v":31248},null,{"$f":"C48*$N$10","v":73160},null,{"$f":"N48/2","v":36580},null,{"$f":"C48*$R$10","v":108338.8},null,{"$f":"R48/2","v":54169.4},null,{"$f":"C48*$V$10","v":109665.60000000001},null,{"$f":"V48/2","v":54832.800000000003}]
[null,35,650000,null,21670,null,635000,"～",665000,{"$f":"C49*$J$10","v":65520},null,{"$f":"J49/2","v":32760},null,{"$f":"C49*$N$10","v":76700},null,{"$f":"N49/2","v":38350},null,"※厚生年金基金に加入している方の厚生年金保険\n　料率は、基金ごとに定められている免除保険料\n　率(2.4%～5.0%)を控除した率となります。\n\n　●一般の被保険者の方　…12.474%～15.074%\n　●坑内員の被保険者の方…12.688%～15.288%\n\n　加入する基金ごとに異なりますので、免除保険\n　料率および厚生年金基金の掛金については、加\n　入する厚生年金基金にお問い合わせください。\n"]
[null,36,680000,null,22670,null,665000,"～",695000,{"$f":"C50*$J$10","v":68544},null,{"$f":"J50/2","v":34272},null,{"$f":"C50*$N$10","v":80240},null,{"$f":"N50/2","v":40120}]
[null,37,710000,null,23670,null,695000,"～",730000,{"$f":"C51*$J$10","v":71568},null,{"$f":"J51/2","v":35784},null,{"$f":"C51*$N$10","v":83780},null,{"$f":"N51/2","v":41890}]
[null,38,750000,null,25000,null,730000,"～",770000,{"$f":"C52*$J$10","v":75600},null,{"$f":"J52/2","v":37800},null,{"$f":"C52*$N$10","v":88500},null,{"$f":"N52/2","v":44250}]
[null,39,790000,null,26330,null,770000,"～",810000,{"$f":"C53*$J$10","v":79632},null,{"$f":"J53/2","v":39816},null,{"$f":"C53*$N$10","v":93220},null,{"$f":"N53/2","v":46610}]
[null,40,830000,null,27670,null,810000,"～",855000,{"$f":"C54*$J$10","v":83664},null,{"$f":"J54/2","v":41832},null,{"$f":"C54*$N$10","v":97940},null,{"$f":"N54/2","v":48970}]
[null,41,880000,null,29330,null,855000,"～",905000,{"$f":"C55*$J$10","v":88704},null,{"$f":"J55/2","v":44352},null,{"$f":"C55*$N$10","v":103840},null,{"$f":"N55/2","v":51920}]
[null,42,930000,null,31000,null,905000,"～",955000,{"$f":"C56*$J$10","v":93744},null,{"$f":"J56/2","v":46872},null,{"$f":"C56*$N$10","v":109740},null,{"$f":"N56/2","v":54870}]
[null,43,980000,null,32670,null,955000,"～",1005000,{"$f":"C57*$J$10","v":98784},null,{"$f":"J57/2","v":49392},null,{"$f":"C57*$N$10","v":115640},null,{"$f":"N57/2","v":57820}]
[null,44,1030000,null,34330,null,1005000,"～",1055000,{"$f":"C58*$J$10","v":103824},null,{"$f":"J58/2","v":51912},null,{"$f":"C58*$N$10","v":121540},null,{"$f":"N58/2","v":60770}]
[null,45,1090000,null,36330,null,1055000,"～",1115000,{"$f":"C59*$J$10","v":109872},null,{"$f":"J59/2","v":54936},null,{"$f":"C59*$N$10","v":128620},null,{"$f":"N59/2","v":64310}]
[null,46,1150000,null,38330,null,1115000,"～",1175000,{"$f":"C60*$J$10","v":115920},null,{"$f":"J60/2","v":57960},null,{"$f":"C60*$N$10","v":135700},null,{"$f":"N60/2","v":67850}]
[null,47,1210000,null,40330,null,1175000,"～",null,{"$f":"C61*$J$10","v":121968},null,{"$f":"J61/2","v":60984},null,{"$f":"C61*$N$10","v":142780},null,{"$f":"N61/2","v":71390}]
[]
[{"$f":"J10","v":0.1008}]
[null,""]
["◆等級欄の（　）内の数字は、厚生年金保険の標準報酬月額等級です。"]
["　5(1)等級の「報酬月額」欄は、厚生年金保険の場合「101,000円未満」と読み替えてください。"]
["　34(30)等級の「報酬月額」欄は、厚生年金保険の場合「605,000円以上」と読み替えてください。"]
[null,""]
["◆平成26年度における全国健康保険協会の任意継続被保険者について、標準報酬月額の上限は、280,000円です。"]
[]
[]
["　○被保険者負担分（表の折半額の欄）に円未満の端数がある場合"]
["　　　①事業主が、給与から被保険者負担分を控除する場合、被保険者負担分の端数が50銭以下の場合は切り捨て、50銭を超える場合は切り上げて1円となります。"]
["　　　②被保険者が、被保険者負担分を事業主へ現金で支払う場合、被保険者負担分の端数が50銭未満の場合は切り捨て、50銭以上の場合は切り上げて1円となります。"]
["　　　（注）①、②にかかわらず、事業主と被保険者の間で特約がある場合には、特約に基づき端数処理をすることができます。"]
[]
["　○納入告知書の保険料額"]
["　　　 納入告知書の保険料額は、被保険者個々の保険料額を合算した金額になります。ただし、合算した金額に円未満の端数がある場合は、その端数を切り捨てた額となります。"]
[]
["　○賞与に係る保険料"]
["　　　 賞与に係る保険料額は、賞与額から1,000円未満の端数を切り捨てた額（標準賞与額）に、保険料率を乗じた額となります。"]
[" 　　　また、標準賞与額の上限は、健康保険は年間540万円（毎年4月1日から翌年3月31日までの累計額）となり、厚生年金保険と児童手当拠出金の場合は月間150万円となります。"]
[]
["　○児童手当拠出金"]
["　　　 厚生年金保険の被保険者を使用する事業主の方は、児童手当等の支給に要する費用の一部として児童手当拠出金を全額負担いただくことになります。この児童手当"]
["　　　 拠出金の額は、被保険者個々の厚生年金保険の標準報酬月額および標準賞与額に、拠出金率（0.15%）を乗じて得た額の総額となります。"]

{"sheet":"宮崎","index":54,"n_rows":86,"n_cols":24,"rows_kept":86,"cut":false,"hidden":true,"merged":[[74,0,74,24],[75,0,75,16],[85,0,85,24],[86,0,86,16],[77,0,77,23],[79,0,79,16],[80,0,80,21],[81,0,81,24],[83,0,83,21],[84,0,84,24],[76,0,76,23],[48,17,60,24],[62,0,62,25],[64,0,64,24],[65,0,65,24],[66,0,66,24],[68,0,68,24],[71,0,71,16],[72,0,72,24],[73,0,73,24],[6,21,8,24],[9,9,10,12],[9,13,10,16],[9,17,10,20],[9,21,10,24],[11,13,12,14],[11,15,12,16],[11,17,12,18],[11,19,12,20],[11,21,12,22],[11,1,12,1],[11,2,12,3],[11,4,12,5],[11,9,12,10],[11,11,12,12],[11,23,12,24],[0,1,1,24],[2,1,3,23],[4,1,4,16],[5,1,10,5],[5,6,12,8],[5,9,5,16],[5,17,5,24],[6,9,8,12],[6,13,8,16],[6,17,8,20]]}
[null,"平成26年9月分(10月納付分)からの健康保険・厚生年金保険の保険料額表"]
[]
[null,"     ‣健康保険料率：平成24年3月分～　適用　　‣厚生年金保険料率：平成26年9月分～平成27年8月分　適用\n     ‣介護保険料率：平成26年3月分～　適用　　‣児童手当拠出金率：平成24年4月分～　適用\n"]
[]
[null,"（宮崎県）",null,null,null,null,null,null,null,null,null,null,null,null,null,null,null,null,null,null,null,null,null,"（単位：円）"]
[null,"標　準　報　酬",null,null,null,null,"報　酬　月　額",null,null,"全国健康保険協会管掌健康保険料",null,null,null,null,null,null,null,"厚生年金保険料（厚生年金基金加入員を除く）"]
[null,null,null,null,null,null,null,null,null,"介護保険第２号被保険者\nに該当しない場合",null,null,null,"介護保険第２号被保険者\nに該当する場合",null,null,null,"一般の被保険者",null,null,null,"坑内員・船員"]
[]
[]
[null,null,null,null,null,null,null,null,null,0.10009999999999999,null,null,null,{"$f":"J10+0.0172","v":0.11729999999999999},null,null,null,0.17474000000000001,null,null,null,0.17688000000000001]
[]
[null,"等級","月　額",null,"日　額",null,null,null,null,"全　額",null,"折半額",null,"全　額",null,"折半額",null,"全　額",null,"折半額",null,"全　額",null,"折半額"]
[]
[null,null,null,null,null,null,"円以上",null,"円未満"]
[null,1,58000,null,1930,null,null,"～",63000,{"$f":"C15*$J$10","v":5805.7999999999993},null,{"$f":"J15/2","v":2902.8999999999996},null,{"$f":"C15*$N$10","v":6803.4},null,{"$f":"N15/2","v":3401.7}]
[null,2,68000,null,2270,null,63000,"～",73000,{"$f":"C16*$J$10","v":6806.7999999999993},null,{"$f":"J16/2","v":3403.3999999999996},null,{"$f":"C16*$N$10","v":7976.3999999999987},null,{"$f":"N16/2","v":3988.1999999999994}]
[null,3,78000,null,2600,null,73000,"～",83000,{"$f":"C17*$J$10","v":7807.7999999999993},null,{"$f":"J17/2","v":3903.8999999999996},null,{"$f":"C17*$N$10","v":9149.4},null,{"$f":"N17/2","v":4574.7}]
[null,4,88000,null,2930,null,83000,"～",93000,{"$f":"C18*$J$10","v":8808.7999999999993},null,{"$f":"J18/2","v":4404.3999999999996},null,{"$f":"C18*$N$10","v":10322.4},null,{"$f":"N18/2","v":5161.2}]
[null,"5(1)",98000,null,3270,null,93000,"～",101000,{"$f":"C19*$J$10","v":9809.7999999999993},null,{"$f":"J19/2","v":4904.8999999999996},null,{"$f":"C19*$N$10","v":11495.4},null,{"$f":"N19/2","v":5747.7},null,{"$f":"C19*$R$10","v":17124.52},null,{"$f":"R19/2","v":8562.26},null,{"$f":"C19*$V$10","v":17334.240000000002},null,{"$f":"V19/2","v":8667.1200000000008}]
[null,"6(2)",104000,null,3470,null,101000,"～",107000,{"$f":"C20*$J$10","v":10410.4},null,{"$f":"J20/2","v":5205.2},null,{"$f":"C20*$N$10","v":12199.199999999999},null,{"$f":"N20/2","v":6099.5999999999995},null,{"$f":"C20*$R$10","v":18172.96},null,{"$f":"R20/2","v":9086.48},null,{"$f":"C20*$V$10","v":18395.52},null,{"$f":"V20/2","v":9197.76}]
[null,"7(3)",110000,null,3670,null,107000,"～",114000,{"$f":"C21*$J$10","v":11011},null,{"$f":"J21/2","v":5505.5},null,{"$f":"C21*$N$10","v":12902.999999999998},null,{"$f":"N21/2","v":6451.4999999999991},null,{"$f":"C21*$R$10","v":19221.400000000001},null,{"$f":"R21/2","v":9610.7000000000007},null,{"$f":"C21*$V$10","v":19456.8},null,{"$f":"V21/2","v":9728.4}]
[null,"8(4)",118000,null,3930,null,114000,"～",122000,{"$f":"C22*$J$10","v":11811.8},null,{"$f":"J22/2","v":5905.9},null,{"$f":"C22*$N$10","v":13841.399999999998},null,{"$f":"N22/2","v":6920.6999999999989},null,{"$f":"C22*$R$10","v":20619.32},null,{"$f":"R22/2","v":10309.66},null,{"$f":"C22*$V$10","v":20871.84},null,{"$f":"V22/2","v":10435.92}]
[null,"9(5)",126000,null,4200,null,122000,"～",130000,{"$f":"C23*$J$10","v":12612.599999999999},null,{"$f":"J23/2","v":6306.2999999999993},null,{"$f":"C23*$N$10","v":14779.8},null,{"$f":"N23/2","v":7389.9},null,{"$f":"C23*$R$10","v":22017.24},null,{"$f":"R23/2","v":11008.62},null,{"$f":"C23*$V$10","v":22286.880000000001},null,{"$f":"V23/2","v":11143.44}]
[null,"10(6)",134000,null,4470,null,130000,"～",138000,{"$f":"C24*$J$10","v":13413.4},null,{"$f":"J24/2","v":6706.7},null,{"$f":"C24*$N$10","v":15718.199999999999},null,{"$f":"N24/2","v":7859.0999999999995},null,{"$f":"C24*$R$10","v":23415.16},null,{"$f":"R24/2","v":11707.58},null,{"$f":"C24*$V$10","v":23701.920000000002},null,{"$f":"V24/2","v":11850.960000000001}]
[null,"11(7)",142000,null,4730,null,138000,"～",146000,{"$f":"C25*$J$10","v":14214.199999999999},null,{"$f":"J25/2","v":7107.0999999999995},null,{"$f":"C25*$N$10","v":16656.599999999999},null,{"$f":"N25/2","v":8328.2999999999993},null,{"$f":"C25*$R$10","v":24813.08},null,{"$f":"R25/2","v":12406.54},null,{"$f":"C25*$V$10","v":25116.960000000003},null,{"$f":"V25/2","v":12558.480000000001}]
[null,"12(8)",150000,null,5000,null,146000,"～",155000,{"$f":"C26*$J$10","v":15015},null,{"$f":"J26/2","v":7507.5},null,{"$f":"C26*$N$10","v":17594.999999999996},null,{"$f":"N26/2","v":8797.4999999999982},null,{"$f":"C26*$R$10","v":26211},null,{"$f":"R26/2","v":13105.5},null,{"$f":"C26*$V$10","v":26532},null,{"$f":"V26/2","v":13266}]
[null,"13(9)",160000,null,5330,null,155000,"～",165000,{"$f":"C27*$J$10","v":16016},null,{"$f":"J27/2","v":8008},null,{"$f":"C27*$N$10","v":18767.999999999996},null,{"$f":"N27/2","v":9383.9999999999982},null,{"$f":"C27*$R$10","v":27958.400000000001},null,{"$f":"R27/2","v":13979.2},null,{"$f":"C27*$V$10","v":28300.800000000003},null,{"$f":"V27/2","v":14150.400000000001}]
[null,"14(10)",170000,null,5670,null,165000,"～",175000,{"$f":"C28*$J$10","v":17017},null,{"$f":"J28/2","v":8508.5},null,{"$f":"C28*$N$10","v":19940.999999999996},null,{"$f":"N28/2","v":9970.4999999999982},null,{"$f":"C28*$R$10","v":29705.800000000003},null,{"$f":"R28/2","v":14852.900000000001},null,{"$f":"C28*$V$10","v":30069.600000000002},null,{"$f":"V28/2","v":15034.800000000001}]
[null,"15(11)",180000,null,6000,null,175000,"～",185000,{"$f":"C29*$J$10","v":18018},null,{"$f":"J29/2","v":9009},null,{"$f":"C29*$N$10","v":21113.999999999996},null,{"$f":"N29/2","v":10556.999999999998},null,{"$f":"C29*$R$10","v":31453.200000000001},null,{"$f":"R29/2","v":15726.6},null,{"$f":"C29*$V$10","v":31838.400000000001},null,{"$f":"V29/2","v":15919.2}]
[null,"16(12)",190000,null,6330,null,185000,"～",195000,{"$f":"C30*$J$10","v":19019},null,{"$f":"J30/2","v":9509.5},null,{"$f":"C30*$N$10","v":22286.999999999996},null,{"$f":"N30/2","v":11143.499999999998},null,{"$f":"C30*$R$10","v":33200.6},null,{"$f":"R30/2","v":16600.3},null,{"$f":"C30*$V$10","v":33607.200000000004},null,{"$f":"V30/2","v":16803.600000000002}]
[null,"17(13)",200000,null,6670,null,195000,"～",210000,{"$f":"C31*$J$10","v":20020},null,{"$f":"J31/2","v":10010},null,{"$f":"C31*$N$10","v":23459.999999999996},null,{"$f":"N31/2","v":11729.999999999998},null,{"$f":"C31*$R$10","v":34948},null,{"$f":"R31/2","v":17474},null,{"$f":"C31*$V$10","v":35376},null,{"$f":"V31/2","v":17688}]
[null,"18(14)",220000,null,7330,null,210000,"～",230000,{"$f":"C32*$J$10","v":22022},null,{"$f":"J32/2","v":11011},null,{"$f":"C32*$N$10","v":25805.999999999996},null,{"$f":"N32/2","v":12902.999999999998},null,{"$f":"C32*$R$10","v":38442.800000000003},null,{"$f":"R32/2","v":19221.400000000001},null,{"$f":"C32*$V$10","v":38913.599999999999},null,{"$f":"V32/2","v":19456.8}]
[null,"19(15)",240000,null,8000,null,230000,"～",250000,{"$f":"C33*$J$10","v":24024},null,{"$f":"J33/2","v":12012},null,{"$f":"C33*$N$10","v":28151.999999999996},null,{"$f":"N33/2","v":14075.999999999998},null,{"$f":"C33*$R$10","v":41937.599999999999},null,{"$f":"R33/2","v":20968.8},null,{"$f":"C33*$V$10","v":42451.200000000004},null,{"$f":"V33/2","v":21225.600000000002}]
[null,"20(16)",260000,null,8670,null,250000,"～",270000,{"$f":"C34*$J$10","v":26026},null,{"$f":"J34/2","v":13013},null,{"$f":"C34*$N$10","v":30497.999999999996},null,{"$f":"N34/2","v":15248.999999999998},null,{"$f":"C34*$R$10","v":45432.4},null,{"$f":"R34/2","v":22716.2},null,{"$f":"C34*$V$10","v":45988.800000000003},null,{"$f":"V34/2","v":22994.400000000001}]
[null,"21(17)",280000,null,9330,null,270000,"～",290000,{"$f":"C35*$J$10","v":28028},null,{"$f":"J35/2","v":14014},null,{"$f":"C35*$N$10","v":32844},null,{"$f":"N35/2","v":16422},null,{"$f":"C35*$R$10","v":48927.200000000004},null,{"$f":"R35/2","v":24463.600000000002},null,{"$f":"C35*$V$10","v":49526.400000000001},null,{"$f":"V35/2","v":24763.200000000001}]
[null,"22(18)",300000,null,10000,null,290000,"～",310000,{"$f":"C36*$J$10","v":30030},null,{"$f":"J36/2","v":15015},null,{"$f":"C36*$N$10","v":35189.999999999993},null,{"$f":"N36/2","v":17594.999999999996},null,{"$f":"C36*$R$10","v":52422},null,{"$f":"R36/2","v":26211},null,{"$f":"C36*$V$10","v":53064},null,{"$f":"V36/2","v":26532}]
[null,"23(19)",320000,null,10670,null,310000,"～",330000,{"$f":"C37*$J$10","v":32032},null,{"$f":"J37/2","v":16016},null,{"$f":"C37*$N$10","v":37535.999999999993},null,{"$f":"N37/2","v":18767.999999999996},null,{"$f":"C37*$R$10","v":55916.800000000003},null,{"$f":"R37/2","v":27958.400000000001},null,{"$f":"C37*$V$10","v":56601.600000000006},null,{"$f":"V37/2","v":28300.800000000003}]
[null,"24(20)",340000,null,11330,null,330000,"～",350000,{"$f":"C38*$J$10","v":34034},null,{"$f":"J38/2","v":17017},null,{"$f":"C38*$N$10","v":39881.999999999993},null,{"$f":"N38/2","v":19940.999999999996},null,{"$f":"C38*$R$10","v":59411.600000000006},null,{"$f":"R38/2","v":29705.800000000003},null,{"$f":"C38*$V$10","v":60139.200000000004},null,{"$f":"V38/2","v":30069.600000000002}]
[null,"25(21)",360000,null,12000,null,350000,"～",370000,{"$f":"C39*$J$10","v":36036},null,{"$f":"J39/2","v":18018},null,{"$f":"C39*$N$10","v":42227.999999999993},null,{"$f":"N39/2","v":21113.999999999996},null,{"$f":"C39*$R$10","v":62906.400000000001},null,{"$f":"R39/2","v":31453.200000000001},null,{"$f":"C39*$V$10","v":63676.800000000003},null,{"$f":"V39/2","v":31838.400000000001}]
[null,"26(22)",380000,null,12670,null,370000,"～",395000,{"$f":"C40*$J$10","v":38038},null,{"$f":"J40/2","v":19019},null,{"$f":"C40*$N$10","v":44573.999999999993},null,{"$f":"N40/2","v":22286.999999999996},null,{"$f":"C40*$R$10","v":66401.2},null,{"$f":"R40/2","v":33200.6},null,{"$f":"C40*$V$10","v":67214.400000000009},null,{"$f":"V40/2","v":33607.200000000004}]
[null,"27(23)",410000,null,13670,null,395000,"～",425000,{"$f":"C41*$J$10","v":41041},null,{"$f":"J41/2","v":20520.5},null,{"$f":"C41*$N$10","v":48092.999999999993},null,{"$f":"N41/2","v":24046.499999999996},null,{"$f":"C41*$R$10","v":71643.400000000009},null,{"$f":"R41/2","v":35821.700000000004},null,{"$f":"C41*$V$10","v":72520.800000000003},null,{"$f":"V41/2","v":36260.400000000001}]
[null,"28(24)",440000,null,14670,null,425000,"～",455000,{"$f":"C42*$J$10","v":44044},null,{"$f":"J42/2","v":22022},null,{"$f":"C42*$N$10","v":51611.999999999993},null,{"$f":"N42/2","v":25805.999999999996},null,{"$f":"C42*$R$10","v":76885.600000000006},null,{"$f":"R42/2","v":38442.800000000003},null,{"$f":"C42*$V$10","v":77827.199999999997},null,{"$f":"V42/2","v":38913.599999999999}]
[null,"29(25)",470000,null,15670,null,455000,"～",485000,{"$f":"C43*$J$10","v":47047},null,{"$f":"J43/2","v":23523.5},null,{"$f":"C43*$N$10","v":55130.999999999993},null,{"$f":"N43/2","v":27565.499999999996},null,{"$f":"C43*$R$10","v":82127.8},null,{"$f":"R43/2","v":41063.9},null,{"$f":"C43*$V$10","v":83133.600000000006},null,{"$f":"V43/2","v":41566.800000000003}]
[null,"30(26)",500000,null,16670,null,485000,"～",515000,{"$f":"C44*$J$10","v":50050},null,{"$f":"J44/2","v":25025},null,{"$f":"C44*$N$10","v":58649.999999999993},null,{"$f":"N44/2","v":29324.999999999996},null,{"$f":"C44*$R$10","v":87370},null,{"$f":"R44/2","v":43685},null,{"$f":"C44*$V$10","v":88440},null,{"$f":"V44/2","v":44220}]
[null,"31(27)",530000,null,17670,null,515000,"～",545000,{"$f":"C45*$J$10","v":53053},null,{"$f":"J45/2","v":26526.5},null,{"$f":"C45*$N$10","v":62168.999999999993},null,{"$f":"N45/2","v":31084.499999999996},null,{"$f":"C45*$R$10","v":92612.2},null,{"$f":"R45/2","v":46306.1},null,{"$f":"C45*$V$10","v":93746.400000000009},null,{"$f":"V45/2","v":46873.200000000004}]
[null,"32(28)",560000,null,18670,null,545000,"～",575000,{"$f":"C46*$J$10","v":56056},null,{"$f":"J46/2","v":28028},null,{"$f":"C46*$N$10","v":65688},null,{"$f":"N46/2","v":32844},null,{"$f":"C46*$R$10","v":97854.400000000009},null,{"$f":"R46/2","v":48927.200000000004},null,{"$f":"C46*$V$10","v":99052.800000000003},null,{"$f":"V46/2","v":49526.400000000001}]
[null,"33(29)",590000,null,19670,null,575000,"～",605000,{"$f":"C47*$J$10","v":59059},null,{"$f":"J47/2","v":29529.5},null,{"$f":"C47*$N$10","v":69206.999999999985},null,{"$f":"N47/2","v":34603.499999999993},null,{"$f":"C47*$R$10","v":103096.6},null,{"$f":"R47/2","v":51548.3},null,{"$f":"C47*$V$10","v":104359.20000000001},null,{"$f":"V47/2","v":52179.600000000006}]
[null,"34(30)",620000,null,20670,null,605000,"～",635000,{"$f":"C48*$J$10","v":62062},null,{"$f":"J48/2","v":31031},null,{"$f":"C48*$N$10","v":72725.999999999985},null,{"$f":"N48/2","v":36362.999999999993},null,{"$f":"C48*$R$10","v":108338.8},null,{"$f":"R48/2","v":54169.4},null,{"$f":"C48*$V$10","v":109665.60000000001},null,{"$f":"V48/2","v":54832.800000000003}]
[null,35,650000,null,21670,null,635000,"～",665000,{"$f":"C49*$J$10","v":65065},null,{"$f":"J49/2","v":32532.5},null,{"$f":"C49*$N$10","v":76244.999999999985},null,{"$f":"N49/2","v":38122.499999999993},null,"※厚生年金基金に加入している方の厚生年金保険\n　料率は、基金ごとに定められている免除保険料\n　率(2.4%～5.0%)を控除した率となります。\n\n　●一般の被保険者の方　…12.474%～15.074%\n　●坑内員の被保険者の方…12.688%～15.288%\n\n　加入する基金ごとに異なりますので、免除保険\n　料率および厚生年金基金の掛金については、加\n　入する厚生年金基金にお問い合わせください。\n"]
[null,36,680000,null,22670,null,665000,"～",695000,{"$f":"C50*$J$10","v":68068},null,{"$f":"J50/2","v":34034},null,{"$f":"C50*$N$10","v":79763.999999999985},null,{"$f":"N50/2","v":39881.999999999993}]
[null,37,710000,null,23670,null,695000,"～",730000,{"$f":"C51*$J$10","v":71071},null,{"$f":"J51/2","v":35535.5},null,{"$f":"C51*$N$10","v":83282.999999999985},null,{"$f":"N51/2","v":41641.499999999993}]
[null,38,750000,null,25000,null,730000,"～",770000,{"$f":"C52*$J$10","v":75075},null,{"$f":"J52/2","v":37537.5},null,{"$f":"C52*$N$10","v":87974.999999999985},null,{"$f":"N52/2","v":43987.499999999993}]
[null,39,790000,null,26330,null,770000,"～",810000,{"$f":"C53*$J$10","v":79079},null,{"$f":"J53/2","v":39539.5},null,{"$f":"C53*$N$10","v":92666.999999999985},null,{"$f":"N53/2","v":46333.499999999993}]
[null,40,830000,null,27670,null,810000,"～",855000,{"$f":"C54*$J$10","v":83083},null,{"$f":"J54/2","v":41541.5},null,{"$f":"C54*$N$10","v":97358.999999999985},null,{"$f":"N54/2","v":48679.499999999993}]
[null,41,880000,null,29330,null,855000,"～",905000,{"$f":"C55*$J$10","v":88088},null,{"$f":"J55/2","v":44044},null,{"$f":"C55*$N$10","v":103223.99999999999},null,{"$f":"N55/2","v":51611.999999999993}]
[null,42,930000,null,31000,null,905000,"～",955000,{"$f":"C56*$J$10","v":93093},null,{"$f":"J56/2","v":46546.5},null,{"$f":"C56*$N$10","v":109088.99999999999},null,{"$f":"N56/2","v":54544.499999999993}]
[null,43,980000,null,32670,null,955000,"～",1005000,{"$f":"C57*$J$10","v":98098},null,{"$f":"J57/2","v":49049},null,{"$f":"C57*$N$10","v":114953.99999999999},null,{"$f":"N57/2","v":57476.999999999993}]
[null,44,1030000,null,34330,null,1005000,"～",1055000,{"$f":"C58*$J$10","v":103103},null,{"$f":"J58/2","v":51551.5},null,{"$f":"C58*$N$10","v":120818.99999999999},null,{"$f":"N58/2","v":60409.499999999993}]
[null,45,1090000,null,36330,null,1055000,"～",1115000,{"$f":"C59*$J$10","v":109109},null,{"$f":"J59/2","v":54554.5},null,{"$f":"C59*$N$10","v":127856.99999999999},null,{"$f":"N59/2","v":63928.499999999993}]
[null,46,1150000,null,38330,null,1115000,"～",1175000,{"$f":"C60*$J$10","v":115115},null,{"$f":"J60/2","v":57557.5},null,{"$f":"C60*$N$10","v":134895},null,{"$f":"N60/2","v":67447.5}]
[null,47,1210000,null,40330,null,1175000,"～",null,{"$f":"C61*$J$10","v":121121},null,{"$f":"J61/2","v":60560.5},null,{"$f":"C61*$N$10","v":141932.99999999997},null,{"$f":"N61/2","v":70966.499999999985}]
[]
[{"$f":"J10","v":0.10009999999999999}]
[null,""]
["◆等級欄の（　）内の数字は、厚生年金保険の標準報酬月額等級です。"]
["　5(1)等級の「報酬月額」欄は、厚生年金保険の場合「101,000円未満」と読み替えてください。"]
["　34(30)等級の「報酬月額」欄は、厚生年金保険の場合「605,000円以上」と読み替えてください。"]
[null,""]
["◆平成26年度における全国健康保険協会の任意継続被保険者について、標準報酬月額の上限は、280,000円です。"]
[]
[]
["　○被保険者負担分（表の折半額の欄）に円未満の端数がある場合"]
["　　　①事業主が、給与から被保険者負担分を控除する場合、被保険者負担分の端数が50銭以下の場合は切り捨て、50銭を超える場合は切り上げて1円となります。"]
["　　　②被保険者が、被保険者負担分を事業主へ現金で支払う場合、被保険者負担分の端数が50銭未満の場合は切り捨て、50銭以上の場合は切り上げて1円となります。"]
["　　　（注）①、②にかかわらず、事業主と被保険者の間で特約がある場合には、特約に基づき端数処理をすることができます。"]
[]
["　○納入告知書の保険料額"]
["　　　 納入告知書の保険料額は、被保険者個々の保険料額を合算した金額になります。ただし、合算した金額に円未満の端数がある場合は、その端数を切り捨てた額となります。"]
[]
["　○賞与に係る保険料"]
["　　　 賞与に係る保険料額は、賞与額から1,000円未満の端数を切り捨てた額（標準賞与額）に、保険料率を乗じた額となります。"]
[" 　　　また、標準賞与額の上限は、健康保険は年間540万円（毎年4月1日から翌年3月31日までの累計額）となり、厚生年金保険と児童手当拠出金の場合は月間150万円となります。"]
[]
["　○児童手当拠出金"]
["　　　 厚生年金保険の被保険者を使用する事業主の方は、児童手当等の支給に要する費用の一部として児童手当拠出金を全額負担いただくことになります。この児童手当"]
["　　　 拠出金の額は、被保険者個々の厚生年金保険の標準報酬月額および標準賞与額に、拠出金率（0.15%）を乗じて得た額の総額となります。"]

{"sheet":"鹿児島","index":55,"n_rows":86,"n_cols":24,"rows_kept":86,"cut":false,"hidden":true,"merged":[[74,0,74,24],[75,0,75,16],[85,0,85,24],[86,0,86,16],[77,0,77,23],[79,0,79,16],[80,0,80,21],[81,0,81,24],[83,0,83,21],[84,0,84,24],[76,0,76,23],[48,17,60,24],[62,0,62,25],[64,0,64,24],[65,0,65,24],[66,0,66,24],[68,0,68,24],[71,0,71,16],[72,0,72,24],[73,0,73,24],[6,21,8,24],[9,9,10,12],[9,13,10,16],[9,17,10,20],[9,21,10,24],[11,13,12,14],[11,15,12,16],[11,17,12,18],[11,19,12,20],[11,21,12,22],[11,1,12,1],[11,2,12,3],[11,4,12,5],[11,9,12,10],[11,11,12,12],[11,23,12,24],[0,1,1,24],[2,1,3,23],[4,1,4,16],[5,1,10,5],[5,6,12,8],[5,9,5,16],[5,17,5,24],[6,9,8,12],[6,13,8,16],[6,17,8,20]]}
[null,"平成26年9月分(10月納付分)からの健康保険・厚生年金保険の保険料額表"]
[]
[null,"     ‣健康保険料率：平成24年3月分～　適用　　‣厚生年金保険料率：平成26年9月分～平成27年8月分　適用\n     ‣介護保険料率：平成26年3月分～　適用　　‣児童手当拠出金率：平成24年4月分～　適用\n"]
[]
[null,"（鹿児島県）",null,null,null,null,null,null,null,null,null,null,null,null,null,null,null,null,null,null,null,null,null,"（単位：円）"]
[null,"標　準　報　酬",null,null,null,null,"報　酬　月　額",null,null,"全国健康保険協会管掌健康保険料",null,null,null,null,null,null,null,"厚生年金保険料（厚生年金基金加入員を除く）"]
[null,null,null,null,null,null,null,null,null,"介護保険第２号被保険者\nに該当しない場合",null,null,null,"介護保険第２号被保険者\nに該当する場合",null,null,null,"一般の被保険者",null,null,null,"坑内員・船員"]
[]
[]
[null,null,null,null,null,null,null,null,null,0.1003,null,null,null,{"$f":"J10+0.0172","v":0.11749999999999999},null,null,null,0.17474000000000001,null,null,null,0.17688000000000001]
[]
[null,"等級","月　額",null,"日　額",null,null,null,null,"全　額",null,"折半額",null,"全　額",null,"折半額",null,"全　額",null,"折半額",null,"全　額",null,"折半額"]
[]
[null,null,null,null,null,null,"円以上",null,"円未満"]
[null,1,58000,null,1930,null,null,"～",63000,{"$f":"C15*$J$10","v":5817.4},null,{"$f":"J15/2","v":2908.7},null,{"$f":"C15*$N$10","v":6815},null,{"$f":"N15/2","v":3407.5}]
[null,2,68000,null,2270,null,63000,"～",73000,{"$f":"C16*$J$10","v":6820.4},null,{"$f":"J16/2","v":3410.2},null,{"$f":"C16*$N$10","v":7990},null,{"$f":"N16/2","v":3995}]
[null,3,78000,null,2600,null,73000,"～",83000,{"$f":"C17*$J$10","v":7823.4},null,{"$f":"J17/2","v":3911.7},null,{"$f":"C17*$N$10","v":9165},null,{"$f":"N17/2","v":4582.5}]
[null,4,88000,null,2930,null,83000,"～",93000,{"$f":"C18*$J$10","v":8826.4},null,{"$f":"J18/2","v":4413.2},null,{"$f":"C18*$N$10","v":10340},null,{"$f":"N18/2","v":5170}]
[null,"5(1)",98000,null,3270,null,93000,"～",101000,{"$f":"C19*$J$10","v":9829.4},null,{"$f":"J19/2","v":4914.7},null,{"$f":"C19*$N$10","v":11515},null,{"$f":"N19/2","v":5757.5},null,{"$f":"C19*$R$10","v":17124.52},null,{"$f":"R19/2","v":8562.26},null,{"$f":"C19*$V$10","v":17334.240000000002},null,{"$f":"V19/2","v":8667.1200000000008}]
[null,"6(2)",104000,null,3470,null,101000,"～",107000,{"$f":"C20*$J$10","v":10431.200000000001},null,{"$f":"J20/2","v":5215.6000000000004},null,{"$f":"C20*$N$10","v":12220},null,{"$f":"N20/2","v":6110},null,{"$f":"C20*$R$10","v":18172.96},null,{"$f":"R20/2","v":9086.48},null,{"$f":"C20*$V$10","v":18395.52},null,{"$f":"V20/2","v":9197.76}]
[null,"7(3)",110000,null,3670,null,107000,"～",114000,{"$f":"C21*$J$10","v":11033},null,{"$f":"J21/2","v":5516.5},null,{"$f":"C21*$N$10","v":12925},null,{"$f":"N21/2","v":6462.5},null,{"$f":"C21*$R$10","v":19221.400000000001},null,{"$f":"R21/2","v":9610.7000000000007},null,{"$f":"C21*$V$10","v":19456.8},null,{"$f":"V21/2","v":9728.4}]
[null,"8(4)",118000,null,3930,null,114000,"～",122000,{"$f":"C22*$J$10","v":11835.4},null,{"$f":"J22/2","v":5917.7},null,{"$f":"C22*$N$10","v":13865},null,{"$f":"N22/2","v":6932.5},null,{"$f":"C22*$R$10","v":20619.32},null,{"$f":"R22/2","v":10309.66},null,{"$f":"C22*$V$10","v":20871.84},null,{"$f":"V22/2","v":10435.92}]
[null,"9(5)",126000,null,4200,null,122000,"～",130000,{"$f":"C23*$J$10","v":12637.8},null,{"$f":"J23/2","v":6318.9},null,{"$f":"C23*$N$10","v":14805},null,{"$f":"N23/2","v":7402.5},null,{"$f":"C23*$R$10","v":22017.24},null,{"$f":"R23/2","v":11008.62},null,{"$f":"C23*$V$10","v":22286.880000000001},null,{"$f":"V23/2","v":11143.44}]
[null,"10(6)",134000,null,4470,null,130000,"～",138000,{"$f":"C24*$J$10","v":13440.2},null,{"$f":"J24/2","v":6720.1},null,{"$f":"C24*$N$10","v":15745},null,{"$f":"N24/2","v":7872.5},null,{"$f":"C24*$R$10","v":23415.16},null,{"$f":"R24/2","v":11707.58},null,{"$f":"C24*$V$10","v":23701.920000000002},null,{"$f":"V24/2","v":11850.960000000001}]
[null,"11(7)",142000,null,4730,null,138000,"～",146000,{"$f":"C25*$J$10","v":14242.6},null,{"$f":"J25/2","v":7121.3},null,{"$f":"C25*$N$10","v":16685},null,{"$f":"N25/2","v":8342.5},null,{"$f":"C25*$R$10","v":24813.08},null,{"$f":"R25/2","v":12406.54},null,{"$f":"C25*$V$10","v":25116.960000000003},null,{"$f":"V25/2","v":12558.480000000001}]
[null,"12(8)",150000,null,5000,null,146000,"～",155000,{"$f":"C26*$J$10","v":15045},null,{"$f":"J26/2","v":7522.5},null,{"$f":"C26*$N$10","v":17625},null,{"$f":"N26/2","v":8812.5},null,{"$f":"C26*$R$10","v":26211},null,{"$f":"R26/2","v":13105.5},null,{"$f":"C26*$V$10","v":26532},null,{"$f":"V26/2","v":13266}]
[null,"13(9)",160000,null,5330,null,155000,"～",165000,{"$f":"C27*$J$10","v":16048},null,{"$f":"J27/2","v":8024},null,{"$f":"C27*$N$10","v":18800},null,{"$f":"N27/2","v":9400},null,{"$f":"C27*$R$10","v":27958.400000000001},null,{"$f":"R27/2","v":13979.2},null,{"$f":"C27*$V$10","v":28300.800000000003},null,{"$f":"V27/2","v":14150.400000000001}]
[null,"14(10)",170000,null,5670,null,165000,"～",175000,{"$f":"C28*$J$10","v":17051},null,{"$f":"J28/2","v":8525.5},null,{"$f":"C28*$N$10","v":19975},null,{"$f":"N28/2","v":9987.5},null,{"$f":"C28*$R$10","v":29705.800000000003},null,{"$f":"R28/2","v":14852.900000000001},null,{"$f":"C28*$V$10","v":30069.600000000002},null,{"$f":"V28/2","v":15034.800000000001}]
[null,"15(11)",180000,null,6000,null,175000,"～",185000,{"$f":"C29*$J$10","v":18054},null,{"$f":"J29/2","v":9027},null,{"$f":"C29*$N$10","v":21150},null,{"$f":"N29/2","v":10575},null,{"$f":"C29*$R$10","v":31453.200000000001},null,{"$f":"R29/2","v":15726.6},null,{"$f":"C29*$V$10","v":31838.400000000001},null,{"$f":"V29/2","v":15919.2}]
[null,"16(12)",190000,null,6330,null,185000,"～",195000,{"$f":"C30*$J$10","v":19057},null,{"$f":"J30/2","v":9528.5},null,{"$f":"C30*$N$10","v":22325},null,{"$f":"N30/2","v":11162.5},null,{"$f":"C30*$R$10","v":33200.6},null,{"$f":"R30/2","v":16600.3},null,{"$f":"C30*$V$10","v":33607.200000000004},null,{"$f":"V30/2","v":16803.600000000002}]
[null,"17(13)",200000,null,6670,null,195000,"～",210000,{"$f":"C31*$J$10","v":20060},null,{"$f":"J31/2","v":10030},null,{"$f":"C31*$N$10","v":23500},null,{"$f":"N31/2","v":11750},null,{"$f":"C31*$R$10","v":34948},null,{"$f":"R31/2","v":17474},null,{"$f":"C31*$V$10","v":35376},null,{"$f":"V31/2","v":17688}]
[null,"18(14)",220000,null,7330,null,210000,"～",230000,{"$f":"C32*$J$10","v":22066},null,{"$f":"J32/2","v":11033},null,{"$f":"C32*$N$10","v":25850},null,{"$f":"N32/2","v":12925},null,{"$f":"C32*$R$10","v":38442.800000000003},null,{"$f":"R32/2","v":19221.400000000001},null,{"$f":"C32*$V$10","v":38913.599999999999},null,{"$f":"V32/2","v":19456.8}]
[null,"19(15)",240000,null,8000,null,230000,"～",250000,{"$f":"C33*$J$10","v":24072},null,{"$f":"J33/2","v":12036},null,{"$f":"C33*$N$10","v":28200},null,{"$f":"N33/2","v":14100},null,{"$f":"C33*$R$10","v":41937.599999999999},null,{"$f":"R33/2","v":20968.8},null,{"$f":"C33*$V$10","v":42451.200000000004},null,{"$f":"V33/2","v":21225.600000000002}]
[null,"20(16)",260000,null,8670,null,250000,"～",270000,{"$f":"C34*$J$10","v":26078},null,{"$f":"J34/2","v":13039},null,{"$f":"C34*$N$10","v":30550},null,{"$f":"N34/2","v":15275},null,{"$f":"C34*$R$10","v":45432.4},null,{"$f":"R34/2","v":22716.2},null,{"$f":"C34*$V$10","v":45988.800000000003},null,{"$f":"V34/2","v":22994.400000000001}]
[null,"21(17)",280000,null,9330,null,270000,"～",290000,{"$f":"C35*$J$10","v":28084},null,{"$f":"J35/2","v":14042},null,{"$f":"C35*$N$10","v":32900},null,{"$f":"N35/2","v":16450},null,{"$f":"C35*$R$10","v":48927.200000000004},null,{"$f":"R35/2","v":24463.600000000002},null,{"$f":"C35*$V$10","v":49526.400000000001},null,{"$f":"V35/2","v":24763.200000000001}]
[null,"22(18)",300000,null,10000,null,290000,"～",310000,{"$f":"C36*$J$10","v":30090},null,{"$f":"J36/2","v":15045},null,{"$f":"C36*$N$10","v":35250},null,{"$f":"N36/2","v":17625},null,{"$f":"C36*$R$10","v":52422},null,{"$f":"R36/2","v":26211},null,{"$f":"C36*$V$10","v":53064},null,{"$f":"V36/2","v":26532}]
[null,"23(19)",320000,null,10670,null,310000,"～",330000,{"$f":"C37*$J$10","v":32096},null,{"$f":"J37/2","v":16048},null,{"$f":"C37*$N$10","v":37600},null,{"$f":"N37/2","v":18800},null,{"$f":"C37*$R$10","v":55916.800000000003},null,{"$f":"R37/2","v":27958.400000000001},null,{"$f":"C37*$V$10","v":56601.600000000006},null,{"$f":"V37/2","v":28300.800000000003}]
[null,"24(20)",340000,null,11330,null,330000,"～",350000,{"$f":"C38*$J$10","v":34102},null,{"$f":"J38/2","v":17051},null,{"$f":"C38*$N$10","v":39950},null,{"$f":"N38/2","v":19975},null,{"$f":"C38*$R$10","v":59411.600000000006},null,{"$f":"R38/2","v":29705.800000000003},null,{"$f":"C38*$V$10","v":60139.200000000004},null,{"$f":"V38/2","v":30069.600000000002}]
[null,"25(21)",360000,null,12000,null,350000,"～",370000,{"$f":"C39*$J$10","v":36108},null,{"$f":"J39/2","v":18054},null,{"$f":"C39*$N$10","v":42300},null,{"$f":"N39/2","v":21150},null,{"$f":"C39*$R$10","v":62906.400000000001},null,{"$f":"R39/2","v":31453.200000000001},null,{"$f":"C39*$V$10","v":63676.800000000003},null,{"$f":"V39/2","v":31838.400000000001}]
[null,"26(22)",380000,null,12670,null,370000,"～",395000,{"$f":"C40*$J$10","v":38114},null,{"$f":"J40/2","v":19057},null,{"$f":"C40*$N$10","v":44650},null,{"$f":"N40/2","v":22325},null,{"$f":"C40*$R$10","v":66401.2},null,{"$f":"R40/2","v":33200.6},null,{"$f":"C40*$V$10","v":67214.400000000009},null,{"$f":"V40/2","v":33607.200000000004}]
[null,"27(23)",410000,null,13670,null,395000,"～",425000,{"$f":"C41*$J$10","v":41123},null,{"$f":"J41/2","v":20561.5},null,{"$f":"C41*$N$10","v":48175},null,{"$f":"N41/2","v":24087.5},null,{"$f":"C41*$R$10","v":71643.400000000009},null,{"$f":"R41/2","v":35821.700000000004},null,{"$f":"C41*$V$10","v":72520.800000000003},null,{"$f":"V41/2","v":36260.400000000001}]
[null,"28(24)",440000,null,14670,null,425000,"～",455000,{"$f":"C42*$J$10","v":44132},null,{"$f":"J42/2","v":22066},null,{"$f":"C42*$N$10","v":51700},null,{"$f":"N42/2","v":25850},null,{"$f":"C42*$R$10","v":76885.600000000006},null,{"$f":"R42/2","v":38442.800000000003},null,{"$f":"C42*$V$10","v":77827.199999999997},null,{"$f":"V42/2","v":38913.599999999999}]
[null,"29(25)",470000,null,15670,null,455000,"～",485000,{"$f":"C43*$J$10","v":47141},null,{"$f":"J43/2","v":23570.5},null,{"$f":"C43*$N$10","v":55225},null,{"$f":"N43/2","v":27612.5},null,{"$f":"C43*$R$10","v":82127.8},null,{"$f":"R43/2","v":41063.9},null,{"$f":"C43*$V$10","v":83133.600000000006},null,{"$f":"V43/2","v":41566.800000000003}]
[null,"30(26)",500000,null,16670,null,485000,"～",515000,{"$f":"C44*$J$10","v":50150},null,{"$f":"J44/2","v":25075},null,{"$f":"C44*$N$10","v":58750},null,{"$f":"N44/2","v":29375},null,{"$f":"C44*$R$10","v":87370},null,{"$f":"R44/2","v":43685},null,{"$f":"C44*$V$10","v":88440},null,{"$f":"V44/2","v":44220}]
[null,"31(27)",530000,null,17670,null,515000,"～",545000,{"$f":"C45*$J$10","v":53159},null,{"$f":"J45/2","v":26579.5},null,{"$f":"C45*$N$10","v":62275},null,{"$f":"N45/2","v":31137.5},null,{"$f":"C45*$R$10","v":92612.2},null,{"$f":"R45/2","v":46306.1},null,{"$f":"C45*$V$10","v":93746.400000000009},null,{"$f":"V45/2","v":46873.200000000004}]
[null,"32(28)",560000,null,18670,null,545000,"～",575000,{"$f":"C46*$J$10","v":56168},null,{"$f":"J46/2","v":28084},null,{"$f":"C46*$N$10","v":65800},null,{"$f":"N46/2","v":32900},null,{"$f":"C46*$R$10","v":97854.400000000009},null,{"$f":"R46/2","v":48927.200000000004},null,{"$f":"C46*$V$10","v":99052.800000000003},null,{"$f":"V46/2","v":49526.400000000001}]
[null,"33(29)",590000,null,19670,null,575000,"～",605000,{"$f":"C47*$J$10","v":59177},null,{"$f":"J47/2","v":29588.5},null,{"$f":"C47*$N$10","v":69325},null,{"$f":"N47/2","v":34662.5},null,{"$f":"C47*$R$10","v":103096.6},null,{"$f":"R47/2","v":51548.3},null,{"$f":"C47*$V$10","v":104359.20000000001},null,{"$f":"V47/2","v":52179.600000000006}]
[null,"34(30)",620000,null,20670,null,605000,"～",635000,{"$f":"C48*$J$10","v":62186},null,{"$f":"J48/2","v":31093},null,{"$f":"C48*$N$10","v":72850},null,{"$f":"N48/2","v":36425},null,{"$f":"C48*$R$10","v":108338.8},null,{"$f":"R48/2","v":54169.4},null,{"$f":"C48*$V$10","v":109665.60000000001},null,{"$f":"V48/2","v":54832.800000000003}]
[null,35,650000,null,21670,null,635000,"～",665000,{"$f":"C49*$J$10","v":65195},null,{"$f":"J49/2","v":32597.5},null,{"$f":"C49*$N$10","v":76375},null,{"$f":"N49/2","v":38187.5},null,"※厚生年金基金に加入している方の厚生年金保険\n　料率は、基金ごとに定められている免除保険料\n　率(2.4%～5.0%)を控除した率となります。\n\n　●一般の被保険者の方　…12.474%～15.074%\n　●坑内員の被保険者の方…12.688%～15.288%\n\n　加入する基金ごとに異なりますので、免除保険\n　料率および厚生年金基金の掛金については、加\n　入する厚生年金基金にお問い合わせください。\n"]
[null,36,680000,null,22670,null,665000,"～",695000,{"$f":"C50*$J$10","v":68204},null,{"$f":"J50/2","v":34102},null,{"$f":"C50*$N$10","v":79900},null,{"$f":"N50/2","v":39950}]
[null,37,710000,null,23670,null,695000,"～",730000,{"$f":"C51*$J$10","v":71213},null,{"$f":"J51/2","v":35606.5},null,{"$f":"C51*$N$10","v":83425},null,{"$f":"N51/2","v":41712.5}]
[null,38,750000,null,25000,null,730000,"～",770000,{"$f":"C52*$J$10","v":75225},null,{"$f":"J52/2","v":37612.5},null,{"$f":"C52*$N$10","v":88125},null,{"$f":"N52/2","v":44062.5}]
[null,39,790000,null,26330,null,770000,"～",810000,{"$f":"C53*$J$10","v":79237},null,{"$f":"J53/2","v":39618.5},null,{"$f":"C53*$N$10","v":92825},null,{"$f":"N53/2","v":46412.5}]
[null,40,830000,null,27670,null,810000,"～",855000,{"$f":"C54*$J$10","v":83249},null,{"$f":"J54/2","v":41624.5},null,{"$f":"C54*$N$10","v":97525},null,{"$f":"N54/2","v":48762.5}]
[null,41,880000,null,29330,null,855000,"～",905000,{"$f":"C55*$J$10","v":88264},null,{"$f":"J55/2","v":44132},null,{"$f":"C55*$N$10","v":103400},null,{"$f":"N55/2","v":51700}]
[null,42,930000,null,31000,null,905000,"～",955000,{"$f":"C56*$J$10","v":93279},null,{"$f":"J56/2","v":46639.5},null,{"$f":"C56*$N$10","v":109275},null,{"$f":"N56/2","v":54637.5}]
[null,43,980000,null,32670,null,955000,"～",1005000,{"$f":"C57*$J$10","v":98294},null,{"$f":"J57/2","v":49147},null,{"$f":"C57*$N$10","v":115150},null,{"$f":"N57/2","v":57575}]
[null,44,1030000,null,34330,null,1005000,"～",1055000,{"$f":"C58*$J$10","v":103309},null,{"$f":"J58/2","v":51654.5},null,{"$f":"C58*$N$10","v":121025},null,{"$f":"N58/2","v":60512.5}]
[null,45,1090000,null,36330,null,1055000,"～",1115000,{"$f":"C59*$J$10","v":109327},null,{"$f":"J59/2","v":54663.5},null,{"$f":"C59*$N$10","v":128075},null,{"$f":"N59/2","v":64037.5}]
[null,46,1150000,null,38330,null,1115000,"～",1175000,{"$f":"C60*$J$10","v":115345},null,{"$f":"J60/2","v":57672.5},null,{"$f":"C60*$N$10","v":135125},null,{"$f":"N60/2","v":67562.5}]
[null,47,1210000,null,40330,null,1175000,"～",null,{"$f":"C61*$J$10","v":121363},null,{"$f":"J61/2","v":60681.5},null,{"$f":"C61*$N$10","v":142175},null,{"$f":"N61/2","v":71087.5}]
[]
[{"$f":"J10","v":0.1003}]
[null,""]
["◆等級欄の（　）内の数字は、厚生年金保険の標準報酬月額等級です。"]
["　5(1)等級の「報酬月額」欄は、厚生年金保険の場合「101,000円未満」と読み替えてください。"]
["　34(30)等級の「報酬月額」欄は、厚生年金保険の場合「605,000円以上」と読み替えてください。"]
[null,""]
["◆平成26年度における全国健康保険協会の任意継続被保険者について、標準報酬月額の上限は、280,000円です。"]
[]
[]
["　○被保険者負担分（表の折半額の欄）に円未満の端数がある場合"]
["　　　①事業主が、給与から被保険者負担分を控除する場合、被保険者負担分の端数が50銭以下の場合は切り捨て、50銭を超える場合は切り上げて1円となります。"]
["　　　②被保険者が、被保険者負担分を事業主へ現金で支払う場合、被保険者負担分の端数が50銭未満の場合は切り捨て、50銭以上の場合は切り上げて1円となります。"]
["　　　（注）①、②にかかわらず、事業主と被保険者の間で特約がある場合には、特約に基づき端数処理をすることができます。"]
[]
["　○納入告知書の保険料額"]
["　　　 納入告知書の保険料額は、被保険者個々の保険料額を合算した金額になります。ただし、合算した金額に円未満の端数がある場合は、その端数を切り捨てた額となります。"]
[]
["　○賞与に係る保険料"]
["　　　 賞与に係る保険料額は、賞与額から1,000円未満の端数を切り捨てた額（標準賞与額）に、保険料率を乗じた額となります。"]
[" 　　　また、標準賞与額の上限は、健康保険は年間540万円（毎年4月1日から翌年3月31日までの累計額）となり、厚生年金保険と児童手当拠出金の場合は月間150万円となります。"]
[]
["　○児童手当拠出金"]
["　　　 厚生年金保険の被保険者を使用する事業主の方は、児童手当等の支給に要する費用の一部として児童手当拠出金を全額負担いただくことになります。この児童手当"]
["　　　 拠出金の額は、被保険者個々の厚生年金保険の標準報酬月額および標準賞与額に、拠出金率（0.15%）を乗じて得た額の総額となります。"]

{"sheet":"沖縄","index":56,"n_rows":86,"n_cols":24,"rows_kept":86,"cut":false,"hidden":true,"merged":[[74,0,74,24],[75,0,75,16],[85,0,85,24],[86,0,86,16],[77,0,77,23],[79,0,79,16],[80,0,80,21],[81,0,81,24],[83,0,83,21],[84,0,84,24],[76,0,76,23],[48,17,60,24],[62,0,62,25],[64,0,64,24],[65,0,65,24],[66,0,66,24],[68,0,68,24],[71,0,71,16],[72,0,72,24],[73,0,73,24],[6,21,8,24],[9,9,10,12],[9,13,10,16],[9,17,10,20],[9,21,10,24],[11,13,12,14],[11,15,12,16],[11,17,12,18],[11,19,12,20],[11,21,12,22],[11,1,12,1],[11,2,12,3],[11,4,12,5],[11,9,12,10],[11,11,12,12],[11,23,12,24],[0,1,1,24],[2,1,3,23],[4,1,4,16],[5,1,10,5],[5,6,12,8],[5,9,5,16],[5,17,5,24],[6,9,8,12],[6,13,8,16],[6,17,8,20]]}
[null,"平成26年9月分(10月納付分)からの健康保険・厚生年金保険の保険料額表"]
[]
[null,"     ‣健康保険料率：平成24年3月分～　適用　　‣厚生年金保険料率：平成26年9月分～平成27年8月分　適用\n     ‣介護保険料率：平成26年3月分～　適用　　‣児童手当拠出金率：平成24年4月分～　適用\n"]
[]
[null,"（沖縄県）",null,null,null,null,null,null,null,null,null,null,null,null,null,null,null,null,null,null,null,null,null,"（単位：円）"]
[null,"標　準　報　酬",null,null,null,null,"報　酬　月　額",null,null,"全国健康保険協会管掌健康保険料",null,null,null,null,null,null,null,"厚生年金保険料（厚生年金基金加入員を除く）"]
[null,null,null,null,null,null,null,null,null,"介護保険第２号被保険者\nに該当しない場合",null,null,null,"介護保険第２号被保険者\nに該当する場合",null,null,null,"一般の被保険者",null,null,null,"坑内員・船員"]
[]
[]
[null,null,null,null,null,null,null,null,null,0.1003,null,null,null,{"$f":"J10+0.0172","v":0.11749999999999999},null,null,null,0.17474000000000001,null,null,null,0.17688000000000001]
[]
[null,"等級","月　額",null,"日　額",null,null,null,null,"全　額",null,"折半額",null,"全　額",null,"折半額",null,"全　額",null,"折半額",null,"全　額",null,"折半額"]
[]
[null,null,null,null,null,null,"円以上",null,"円未満"]
[null,1,58000,null,1930,null,null,"～",63000,{"$f":"C15*$J$10","v":5817.4},null,{"$f":"J15/2","v":2908.7},null,{"$f":"C15*$N$10","v":6815},null,{"$f":"N15/2","v":3407.5}]
[null,2,68000,null,2270,null,63000,"～",73000,{"$f":"C16*$J$10","v":6820.4},null,{"$f":"J16/2","v":3410.2},null,{"$f":"C16*$N$10","v":7990},null,{"$f":"N16/2","v":3995}]
[null,3,78000,null,2600,null,73000,"～",83000,{"$f":"C17*$J$10","v":7823.4},null,{"$f":"J17/2","v":3911.7},null,{"$f":"C17*$N$10","v":9165},null,{"$f":"N17/2","v":4582.5}]
[null,4,88000,null,2930,null,83000,"～",93000,{"$f":"C18*$J$10","v":8826.4},null,{"$f":"J18/2","v":4413.2},null,{"$f":"C18*$N$10","v":10340},null,{"$f":"N18/2","v":5170}]
[null,"5(1)",98000,null,3270,null,93000,"～",101000,{"$f":"C19*$J$10","v":9829.4},null,{"$f":"J19/2","v":4914.7},null,{"$f":"C19*$N$10","v":11515},null,{"$f":"N19/2","v":5757.5},null,{"$f":"C19*$R$10","v":17124.52},null,{"$f":"R19/2","v":8562.26},null,{"$f":"C19*$V$10","v":17334.240000000002},null,{"$f":"V19/2","v":8667.1200000000008}]
[null,"6(2)",104000,null,3470,null,101000,"～",107000,{"$f":"C20*$J$10","v":10431.200000000001},null,{"$f":"J20/2","v":5215.6000000000004},null,{"$f":"C20*$N$10","v":12220},null,{"$f":"N20/2","v":6110},null,{"$f":"C20*$R$10","v":18172.96},null,{"$f":"R20/2","v":9086.48},null,{"$f":"C20*$V$10","v":18395.52},null,{"$f":"V20/2","v":9197.76}]
[null,"7(3)",110000,null,3670,null,107000,"～",114000,{"$f":"C21*$J$10","v":11033},null,{"$f":"J21/2","v":5516.5},null,{"$f":"C21*$N$10","v":12925},null,{"$f":"N21/2","v":6462.5},null,{"$f":"C21*$R$10","v":19221.400000000001},null,{"$f":"R21/2","v":9610.7000000000007},null,{"$f":"C21*$V$10","v":19456.8},null,{"$f":"V21/2","v":9728.4}]
[null,"8(4)",118000,null,3930,null,114000,"～",122000,{"$f":"C22*$J$10","v":11835.4},null,{"$f":"J22/2","v":5917.7},null,{"$f":"C22*$N$10","v":13865},null,{"$f":"N22/2","v":6932.5},null,{"$f":"C22*$R$10","v":20619.32},null,{"$f":"R22/2","v":10309.66},null,{"$f":"C22*$V$10","v":20871.84},null,{"$f":"V22/2","v":10435.92}]
[null,"9(5)",126000,null,4200,null,122000,"～",130000,{"$f":"C23*$J$10","v":12637.8},null,{"$f":"J23/2","v":6318.9},null,{"$f":"C23*$N$10","v":14805},null,{"$f":"N23/2","v":7402.5},null,{"$f":"C23*$R$10","v":22017.24},null,{"$f":"R23/2","v":11008.62},null,{"$f":"C23*$V$10","v":22286.880000000001},null,{"$f":"V23/2","v":11143.44}]
[null,"10(6)",134000,null,4470,null,130000,"～",138000,{"$f":"C24*$J$10","v":13440.2},null,{"$f":"J24/2","v":6720.1},null,{"$f":"C24*$N$10","v":15745},null,{"$f":"N24/2","v":7872.5},null,{"$f":"C24*$R$10","v":23415.16},null,{"$f":"R24/2","v":11707.58},null,{"$f":"C24*$V$10","v":23701.920000000002},null,{"$f":"V24/2","v":11850.960000000001}]
[null,"11(7)",142000,null,4730,null,138000,"～",146000,{"$f":"C25*$J$10","v":14242.6},null,{"$f":"J25/2","v":7121.3},null,{"$f":"C25*$N$10","v":16685},null,{"$f":"N25/2","v":8342.5},null,{"$f":"C25*$R$10","v":24813.08},null,{"$f":"R25/2","v":12406.54},null,{"$f":"C25*$V$10","v":25116.960000000003},null,{"$f":"V25/2","v":12558.480000000001}]
[null,"12(8)",150000,null,5000,null,146000,"～",155000,{"$f":"C26*$J$10","v":15045},null,{"$f":"J26/2","v":7522.5},null,{"$f":"C26*$N$10","v":17625},null,{"$f":"N26/2","v":8812.5},null,{"$f":"C26*$R$10","v":26211},null,{"$f":"R26/2","v":13105.5},null,{"$f":"C26*$V$10","v":26532},null,{"$f":"V26/2","v":13266}]
[null,"13(9)",160000,null,5330,null,155000,"～",165000,{"$f":"C27*$J$10","v":16048},null,{"$f":"J27/2","v":8024},null,{"$f":"C27*$N$10","v":18800},null,{"$f":"N27/2","v":9400},null,{"$f":"C27*$R$10","v":27958.400000000001},null,{"$f":"R27/2","v":13979.2},null,{"$f":"C27*$V$10","v":28300.800000000003},null,{"$f":"V27/2","v":14150.400000000001}]
[null,"14(10)",170000,null,5670,null,165000,"～",175000,{"$f":"C28*$J$10","v":17051},null,{"$f":"J28/2","v":8525.5},null,{"$f":"C28*$N$10","v":19975},null,{"$f":"N28/2","v":9987.5},null,{"$f":"C28*$R$10","v":29705.800000000003},null,{"$f":"R28/2","v":14852.900000000001},null,{"$f":"C28*$V$10","v":30069.600000000002},null,{"$f":"V28/2","v":15034.800000000001}]
[null,"15(11)",180000,null,6000,null,175000,"～",185000,{"$f":"C29*$J$10","v":18054},null,{"$f":"J29/2","v":9027},null,{"$f":"C29*$N$10","v":21150},null,{"$f":"N29/2","v":10575},null,{"$f":"C29*$R$10","v":31453.200000000001},null,{"$f":"R29/2","v":15726.6},null,{"$f":"C29*$V$10","v":31838.400000000001},null,{"$f":"V29/2","v":15919.2}]
[null,"16(12)",190000,null,6330,null,185000,"～",195000,{"$f":"C30*$J$10","v":19057},null,{"$f":"J30/2","v":9528.5},null,{"$f":"C30*$N$10","v":22325},null,{"$f":"N30/2","v":11162.5},null,{"$f":"C30*$R$10","v":33200.6},null,{"$f":"R30/2","v":16600.3},null,{"$f":"C30*$V$10","v":33607.200000000004},null,{"$f":"V30/2","v":16803.600000000002}]
[null,"17(13)",200000,null,6670,null,195000,"～",210000,{"$f":"C31*$J$10","v":20060},null,{"$f":"J31/2","v":10030},null,{"$f":"C31*$N$10","v":23500},null,{"$f":"N31/2","v":11750},null,{"$f":"C31*$R$10","v":34948},null,{"$f":"R31/2","v":17474},null,{"$f":"C31*$V$10","v":35376},null,{"$f":"V31/2","v":17688}]
[null,"18(14)",220000,null,7330,null,210000,"～",230000,{"$f":"C32*$J$10","v":22066},null,{"$f":"J32/2","v":11033},null,{"$f":"C32*$N$10","v":25850},null,{"$f":"N32/2","v":12925},null,{"$f":"C32*$R$10","v":38442.800000000003},null,{"$f":"R32/2","v":19221.400000000001},null,{"$f":"C32*$V$10","v":38913.599999999999},null,{"$f":"V32/2","v":19456.8}]
[null,"19(15)",240000,null,8000,null,230000,"～",250000,{"$f":"C33*$J$10","v":24072},null,{"$f":"J33/2","v":12036},null,{"$f":"C33*$N$10","v":28200},null,{"$f":"N33/2","v":14100},null,{"$f":"C33*$R$10","v":41937.599999999999},null,{"$f":"R33/2","v":20968.8},null,{"$f":"C33*$V$10","v":42451.200000000004},null,{"$f":"V33/2","v":21225.600000000002}]
[null,"20(16)",260000,null,8670,null,250000,"～",270000,{"$f":"C34*$J$10","v":26078},null,{"$f":"J34/2","v":13039},null,{"$f":"C34*$N$10","v":30550},null,{"$f":"N34/2","v":15275},null,{"$f":"C34*$R$10","v":45432.4},null,{"$f":"R34/2","v":22716.2},null,{"$f":"C34*$V$10","v":45988.800000000003},null,{"$f":"V34/2","v":22994.400000000001}]
[null,"21(17)",280000,null,9330,null,270000,"～",290000,{"$f":"C35*$J$10","v":28084},null,{"$f":"J35/2","v":14042},null,{"$f":"C35*$N$10","v":32900},null,{"$f":"N35/2","v":16450},null,{"$f":"C35*$R$10","v":48927.200000000004},null,{"$f":"R35/2","v":24463.600000000002},null,{"$f":"C35*$V$10","v":49526.400000000001},null,{"$f":"V35/2","v":24763.200000000001}]
[null,"22(18)",300000,null,10000,null,290000,"～",310000,{"$f":"C36*$J$10","v":30090},null,{"$f":"J36/2","v":15045},null,{"$f":"C36*$N$10","v":35250},null,{"$f":"N36/2","v":17625},null,{"$f":"C36*$R$10","v":52422},null,{"$f":"R36/2","v":26211},null,{"$f":"C36*$V$10","v":53064},null,{"$f":"V36/2","v":26532}]
[null,"23(19)",320000,null,10670,null,310000,"～",330000,{"$f":"C37*$J$10","v":32096},null,{"$f":"J37/2","v":16048},null,{"$f":"C37*$N$10","v":37600},null,{"$f":"N37/2","v":18800},null,{"$f":"C37*$R$10","v":55916.800000000003},null,{"$f":"R37/2","v":27958.400000000001},null,{"$f":"C37*$V$10","v":56601.600000000006},null,{"$f":"V37/2","v":28300.800000000003}]
[null,"24(20)",340000,null,11330,null,330000,"～",350000,{"$f":"C38*$J$10","v":34102},null,{"$f":"J38/2","v":17051},null,{"$f":"C38*$N$10","v":39950},null,{"$f":"N38/2","v":19975},null,{"$f":"C38*$R$10","v":59411.600000000006},null,{"$f":"R38/2","v":29705.800000000003},null,{"$f":"C38*$V$10","v":60139.200000000004},null,{"$f":"V38/2","v":30069.600000000002}]
[null,"25(21)",360000,null,12000,null,350000,"～",370000,{"$f":"C39*$J$10","v":36108},null,{"$f":"J39/2","v":18054},null,{"$f":"C39*$N$10","v":42300},null,{"$f":"N39/2","v":21150},null,{"$f":"C39*$R$10","v":62906.400000000001},null,{"$f":"R39/2","v":31453.200000000001},null,{"$f":"C39*$V$10","v":63676.800000000003},null,{"$f":"V39/2","v":31838.400000000001}]
[null,"26(22)",380000,null,12670,null,370000,"～",395000,{"$f":"C40*$J$10","v":38114},null,{"$f":"J40/2","v":19057},null,{"$f":"C40*$N$10","v":44650},null,{"$f":"N40/2","v":22325},null,{"$f":"C40*$R$10","v":66401.2},null,{"$f":"R40/2","v":33200.6},null,{"$f":"C40*$V$10","v":67214.400000000009},null,{"$f":"V40/2","v":33607.200000000004}]
[null,"27(23)",410000,null,13670,null,395000,"～",425000,{"$f":"C41*$J$10","v":41123},null,{"$f":"J41/2","v":20561.5},null,{"$f":"C41*$N$10","v":48175},null,{"$f":"N41/2","v":24087.5},null,{"$f":"C41*$R$10","v":71643.400000000009},null,{"$f":"R41/2","v":35821.700000000004},null,{"$f":"C41*$V$10","v":72520.800000000003},null,{"$f":"V41/2","v":36260.400000000001}]
[null,"28(24)",440000,null,14670,null,425000,"～",455000,{"$f":"C42*$J$10","v":44132},null,{"$f":"J42/2","v":22066},null,{"$f":"C42*$N$10","v":51700},null,{"$f":"N42/2","v":25850},null,{"$f":"C42*$R$10","v":76885.600000000006},null,{"$f":"R42/2","v":38442.800000000003},null,{"$f":"C42*$V$10","v":77827.199999999997},null,{"$f":"V42/2","v":38913.599999999999}]
[null,"29(25)",470000,null,15670,null,455000,"～",485000,{"$f":"C43*$J$10","v":47141},null,{"$f":"J43/2","v":23570.5},null,{"$f":"C43*$N$10","v":55225},null,{"$f":"N43/2","v":27612.5},null,{"$f":"C43*$R$10","v":82127.8},null,{"$f":"R43/2","v":41063.9},null,{"$f":"C43*$V$10","v":83133.600000000006},null,{"$f":"V43/2","v":41566.800000000003}]
[null,"30(26)",500000,null,16670,null,485000,"～",515000,{"$f":"C44*$J$10","v":50150},null,{"$f":"J44/2","v":25075},null,{"$f":"C44*$N$10","v":58750},null,{"$f":"N44/2","v":29375},null,{"$f":"C44*$R$10","v":87370},null,{"$f":"R44/2","v":43685},null,{"$f":"C44*$V$10","v":88440},null,{"$f":"V44/2","v":44220}]
[null,"31(27)",530000,null,17670,null,515000,"～",545000,{"$f":"C45*$J$10","v":53159},null,{"$f":"J45/2","v":26579.5},null,{"$f":"C45*$N$10","v":62275},null,{"$f":"N45/2","v":31137.5},null,{"$f":"C45*$R$10","v":92612.2},null,{"$f":"R45/2","v":46306.1},null,{"$f":"C45*$V$10","v":93746.400000000009},null,{"$f":"V45/2","v":46873.200000000004}]
[null,"32(28)",560000,null,18670,null,545000,"～",575000,{"$f":"C46*$J$10","v":56168},null,{"$f":"J46/2","v":28084},null,{"$f":"C46*$N$10","v":65800},null,{"$f":"N46/2","v":32900},null,{"$f":"C46*$R$10","v":97854.400000000009},null,{"$f":"R46/2","v":48927.200000000004},null,{"$f":"C46*$V$10","v":99052.800000000003},null,{"$f":"V46/2","v":49526.400000000001}]
[null,"33(29)",590000,null,19670,null,575000,"～",605000,{"$f":"C47*$J$10","v":59177},null,{"$f":"J47/2","v":29588.5},null,{"$f":"C47*$N$10","v":69325},null,{"$f":"N47/2","v":34662.5},null,{"$f":"C47*$R$10","v":103096.6},null,{"$f":"R47/2","v":51548.3},null,{"$f":"C47*$V$10","v":104359.20000000001},null,{"$f":"V47/2","v":52179.600000000006}]
[null,"34(30)",620000,null,20670,null,605000,"～",635000,{"$f":"C48*$J$10","v":62186},null,{"$f":"J48/2","v":31093},null,{"$f":"C48*$N$10","v":72850},null,{"$f":"N48/2","v":36425},null,{"$f":"C48*$R$10","v":108338.8},null,{"$f":"R48/2","v":54169.4},null,{"$f":"C48*$V$10","v":109665.60000000001},null,{"$f":"V48/2","v":54832.800000000003}]
[null,35,650000,null,21670,null,635000,"～",665000,{"$f":"C49*$J$10","v":65195},null,{"$f":"J49/2","v":32597.5},null,{"$f":"C49*$N$10","v":76375},null,{"$f":"N49/2","v":38187.5},null,"※厚生年金基金に加入している方の厚生年金保険\n　料率は、基金ごとに定められている免除保険料\n　率(2.4%～5.0%)を控除した率となります。\n\n　●一般の被保険者の方　…12.474%～15.074%\n　●坑内員の被保険者の方…12.688%～15.288%\n\n　加入する基金ごとに異なりますので、免除保険\n　料率および厚生年金基金の掛金については、加\n　入する厚生年金基金にお問い合わせください。\n"]
[null,36,680000,null,22670,null,665000,"～",695000,{"$f":"C50*$J$10","v":68204},null,{"$f":"J50/2","v":34102},null,{"$f":"C50*$N$10","v":79900},null,{"$f":"N50/2","v":39950}]
[null,37,710000,null,23670,null,695000,"～",730000,{"$f":"C51*$J$10","v":71213},null,{"$f":"J51/2","v":35606.5},null,{"$f":"C51*$N$10","v":83425},null,{"$f":"N51/2","v":41712.5}]
[null,38,750000,null,25000,null,730000,"～",770000,{"$f":"C52*$J$10","v":75225},null,{"$f":"J52/2","v":37612.5},null,{"$f":"C52*$N$10","v":88125},null,{"$f":"N52/2","v":44062.5}]
[null,39,790000,null,26330,null,770000,"～",810000,{"$f":"C53*$J$10","v":79237},null,{"$f":"J53/2","v":39618.5},null,{"$f":"C53*$N$10","v":92825},null,{"$f":"N53/2","v":46412.5}]
[null,40,830000,null,27670,null,810000,"～",855000,{"$f":"C54*$J$10","v":83249},null,{"$f":"J54/2","v":41624.5},null,{"$f":"C54*$N$10","v":97525},null,{"$f":"N54/2","v":48762.5}]
[null,41,880000,null,29330,null,855000,"～",905000,{"$f":"C55*$J$10","v":88264},null,{"$f":"J55/2","v":44132},null,{"$f":"C55*$N$10","v":103400},null,{"$f":"N55/2","v":51700}]
[null,42,930000,null,31000,null,905000,"～",955000,{"$f":"C56*$J$10","v":93279},null,{"$f":"J56/2","v":46639.5},null,{"$f":"C56*$N$10","v":109275},null,{"$f":"N56/2","v":54637.5}]
[null,43,980000,null,32670,null,955000,"～",1005000,{"$f":"C57*$J$10","v":98294},null,{"$f":"J57/2","v":49147},null,{"$f":"C57*$N$10","v":115150},null,{"$f":"N57/2","v":57575}]
[null,44,1030000,null,34330,null,1005000,"～",1055000,{"$f":"C58*$J$10","v":103309},null,{"$f":"J58/2","v":51654.5},null,{"$f":"C58*$N$10","v":121025},null,{"$f":"N58/2","v":60512.5}]
[null,45,1090000,null,36330,null,1055000,"～",1115000,{"$f":"C59*$J$10","v":109327},null,{"$f":"J59/2","v":54663.5},null,{"$f":"C59*$N$10","v":128075},null,{"$f":"N59/2","v":64037.5}]
[null,46,1150000,null,38330,null,1115000,"～",1175000,{"$f":"C60*$J$10","v":115345},null,{"$f":"J60/2","v":57672.5},null,{"$f":"C60*$N$10","v":135125},null,{"$f":"N60/2","v":67562.5}]
[null,47,1210000,null,40330,null,1175000,"～",null,{"$f":"C61*$J$10","v":121363},null,{"$f":"J61/2","v":60681.5},null,{"$f":"C61*$N$10","v":142175},null,{"$f":"N61/2","v":71087.5}]
[]
[{"$f":"J10","v":0.1003}]
[null,""]
["◆等級欄の（　）内の数字は、厚生年金保険の標準報酬月額等級です。"]
["　5(1)等級の「報酬月額」欄は、厚生年金保険の場合「101,000円未満」と読み替えてください。"]
["　34(30)等級の「報酬月額」欄は、厚生年金保険の場合「605,000円以上」と読み替えてください。"]
[null,""]
["◆平成26年度における全国健康保険協会の任意継続被保険者について、標準報酬月額の上限は、280,000円です。"]
[]
[]
["　○被保険者負担分（表の折半額の欄）に円未満の端数がある場合"]
["　　　①事業主が、給与から被保険者負担分を控除する場合、被保険者負担分の端数が50銭以下の場合は切り捨て、50銭を超える場合は切り上げて1円となります。"]
["　　　②被保険者が、被保険者負担分を事業主へ現金で支払う場合、被保険者負担分の端数が50銭未満の場合は切り捨て、50銭以上の場合は切り上げて1円となります。"]
["　　　（注）①、②にかかわらず、事業主と被保険者の間で特約がある場合には、特約に基づき端数処理をすることができます。"]
[]
["　○納入告知書の保険料額"]
["　　　 納入告知書の保険料額は、被保険者個々の保険料額を合算した金額になります。ただし、合算した金額に円未満の端数がある場合は、その端数を切り捨てた額となります。"]
[]
["　○賞与に係る保険料"]
["　　　 賞与に係る保険料額は、賞与額から1,000円未満の端数を切り捨てた額（標準賞与額）に、保険料率を乗じた額となります。"]
[" 　　　また、標準賞与額の上限は、健康保険は年間540万円（毎年4月1日から翌年3月31日までの累計額）となり、厚生年金保険と児童手当拠出金の場合は月間150万円となります。"]
[]
["　○児童手当拠出金"]
["　　　 厚生年金保険の被保険者を使用する事業主の方は、児童手当等の支給に要する費用の一部として児童手当拠出金を全額負担いただくことになります。この児童手当"]
["　　　 拠出金の額は、被保険者個々の厚生年金保険の標準報酬月額および標準賞与額に、拠出金率（0.15%）を乗じて得た額の総額となります。"]